{"text_format":"1","workbook":"xlsx","n_sheets":4,"sheets":["Input","Lookup","Output","Sorted"],"not_rendered":{"charts":0,"images":0,"macros":1,"external_links":0,"defined_names":4,"comments":0,"pivot_tables":0},"unopened":[],"bounds":{"document_bytes":16777216,"sheet_cells":100000,"rows_first":2000,"rows_last":500,"rows_between":2000,"halvings":0,"cell_chars":16384,"cell_head_chars":4096},"cells_cut":0,"cells_raw":0,"read":"whole","date_system":"1900"}

{"sheet":"Input","index":0,"n_rows":100000,"n_cols":24,"rows_kept":2250,"cut":true,"hidden":false,"merged":[],"bounds":{"rows_first":1000,"rows_last":250,"rows_between":1000,"halvings":1}}
["Species","Code","Paste Columns A-U Here!"]
[{"$f":"IF(C2=\"\",\"\",VLOOKUP(D2,Lookup!$D$1:$E$1051,2,FALSE))","v":""},{"$f":"IF(C2=\"\",\"\",VLOOKUP(U2,Lookup!$A$1:$B$21,2,FALSE))","v":""},null,null,null,null,null,null,null,null,null,null,null,null,null,null,null,null,null,null,null,null,null,"X"]
[{"$f":"IF(C3=\"\",\"\",VLOOKUP(D3,Lookup!$D$1:$E$1051,2,FALSE))","v":""},{"$f":"IF(C3=\"\",\"\",VLOOKUP(U3,Lookup!$A$1:$B$21,2,FALSE))","v":""},null,null,null,null,null,null,null,null,null,null,null,null,null,null,null,null,null,null,null,null,null,"X"]
[{"$f":"IF(C4=\"\",\"\",VLOOKUP(D4,Lookup!$D$1:$E$1051,2,FALSE))","v":""},{"$f":"IF(C4=\"\",\"\",VLOOKUP(U4,Lookup!$A$1:$B$21,2,FALSE))","v":""},null,null,null,null,null,null,null,null,null,null,null,null,null,null,null,null,null,null,null,null,null,"X"]
[{"$f":"IF(C5=\"\",\"\",VLOOKUP(D5,Lookup!$D$1:$E$1051,2,FALSE))","v":""},{"$f":"IF(C5=\"\",\"\",VLOOKUP(U5,Lookup!$A$1:$B$21,2,FALSE))","v":""},null,null,null,null,null,null,null,null,null,null,null,null,null,null,null,null,null,null,null,null,null,"X"]
[{"$f":"IF(C6=\"\",\"\",VLOOKUP(D6,Lookup!$D$1:$E$1051,2,FALSE))","v":""},{"$f":"IF(C6=\"\",\"\",VLOOKUP(U6,Lookup!$A$1:$B$21,2,FALSE))","v":""},null,null,null,null,null,null,null,null,null,null,null,null,null,null,null,null,null,null,null,null,null,"X"]
[{"$f":"IF(C7=\"\",\"\",VLOOKUP(D7,Lookup!$D$1:$E$1051,2,FALSE))","v":""},{"$f":"IF(C7=\"\",\"\",VLOOKUP(U7,Lookup!$A$1:$B$21,2,FALSE))","v":""},null,null,null,null,null,null,null,null,null,null,null,null,null,null,null,null,null,null,null,null,null,"X"]
[{"$f":"IF(C8=\"\",\"\",VLOOKUP(D8,Lookup!$D$1:$E$1051,2,FALSE))","v":""},{"$f":"IF(C8=\"\",\"\",VLOOKUP(U8,Lookup!$A$1:$B$21,2,FALSE))","v":""},null,null,null,null,null,null,null,null,null,null,null,null,null,null,null,null,null,null,null,null,null,"X"]
[{"$f":"IF(C9=\"\",\"\",VLOOKUP(D9,Lookup!$D$1:$E$1051,2,FALSE))","v":""},{"$f":"IF(C9=\"\",\"\",VLOOKUP(U9,Lookup!$A$1:$B$21,2,FALSE))","v":""},null,null,null,null,null,null,null,null,null,null,null,null,null,null,null,null,null,null,null,null,null,"X"]
[{"$f":"IF(C10=\"\",\"\",VLOOKUP(D10,Lookup!$D$1:$E$1051,2,FALSE))","v":""},{"$f":"IF(C10=\"\",\"\",VLOOKUP(U10,Lookup!$A$1:$B$21,2,FALSE))","v":""},null,null,null,null,null,null,null,null,null,null,null,null,null,null,null,null,null,null,null,null,null,"X"]
[{"$f":"IF(C11=\"\",\"\",VLOOKUP(D11,Lookup!$D$1:$E$1051,2,FALSE))","v":""},{"$f":"IF(C11=\"\",\"\",VLOOKUP(U11,Lookup!$A$1:$B$21,2,FALSE))","v":""},null,null,null,null,null,null,null,null,null,null,null,null,null,null,null,null,null,null,null,null,null,"X"]
[{"$f":"IF(C12=\"\",\"\",VLOOKUP(D12,Lookup!$D$1:$E$1051,2,FALSE))","v":""},{"$f":"IF(C12=\"\",\"\",VLOOKUP(U12,Lookup!$A$1:$B$21,2,FALSE))","v":""},null,null,null,null,null,null,null,null,null,null,null,null,null,null,null,null,null,null,null,null,null,"X"]
[{"$f":"IF(C13=\"\",\"\",VLOOKUP(D13,Lookup!$D$1:$E$1051,2,FALSE))","v":""},{"$f":"IF(C13=\"\",\"\",VLOOKUP(U13,Lookup!$A$1:$B$21,2,FALSE))","v":""},null,null,null,null,null,null,null,null,null,null,null,null,null,null,null,null,null,null,null,null,null,"X"]
[{"$f":"IF(C14=\"\",\"\",VLOOKUP(D14,Lookup!$D$1:$E$1051,2,FALSE))","v":""},{"$f":"IF(C14=\"\",\"\",VLOOKUP(U14,Lookup!$A$1:$B$21,2,FALSE))","v":""},null,null,null,null,null,null,null,null,null,null,null,null,null,null,null,null,null,null,null,null,null,"X"]
[{"$f":"IF(C15=\"\",\"\",VLOOKUP(D15,Lookup!$D$1:$E$1051,2,FALSE))","v":""},{"$f":"IF(C15=\"\",\"\",VLOOKUP(U15,Lookup!$A$1:$B$21,2,FALSE))","v":""},null,null,null,null,null,null,null,null,null,null,null,null,null,null,null,null,null,null,null,null,null,"X"]
[{"$f":"IF(C16=\"\",\"\",VLOOKUP(D16,Lookup!$D$1:$E$1051,2,FALSE))","v":""},{"$f":"IF(C16=\"\",\"\",VLOOKUP(U16,Lookup!$A$1:$B$21,2,FALSE))","v":""},null,null,null,null,null,null,null,null,null,null,null,null,null,null,null,null,null,null,null,null,null,"X"]
[{"$f":"IF(C17=\"\",\"\",VLOOKUP(D17,Lookup!$D$1:$E$1051,2,FALSE))","v":""},{"$f":"IF(C17=\"\",\"\",VLOOKUP(U17,Lookup!$A$1:$B$21,2,FALSE))","v":""},null,null,null,null,null,null,null,null,null,null,null,null,null,null,null,null,null,null,null,null,null,"X"]
[{"$f":"IF(C18=\"\",\"\",VLOOKUP(D18,Lookup!$D$1:$E$1051,2,FALSE))","v":""},{"$f":"IF(C18=\"\",\"\",VLOOKUP(U18,Lookup!$A$1:$B$21,2,FALSE))","v":""},null,null,null,null,null,null,null,null,null,null,null,null,null,null,null,null,null,null,null,null,null,"X"]
[{"$f":"IF(C19=\"\",\"\",VLOOKUP(D19,Lookup!$D$1:$E$1051,2,FALSE))","v":""},{"$f":"IF(C19=\"\",\"\",VLOOKUP(U19,Lookup!$A$1:$B$21,2,FALSE))","v":""},null,null,null,null,null,null,null,null,null,null,null,null,null,null,null,null,null,null,null,null,null,"X"]
[{"$f":"IF(C20=\"\",\"\",VLOOKUP(D20,Lookup!$D$1:$E$1051,2,FALSE))","v":""},{"$f":"IF(C20=\"\",\"\",VLOOKUP(U20,Lookup!$A$1:$B$21,2,FALSE))","v":""},null,null,null,null,null,null,null,null,null,null,null,null,null,null,null,null,null,null,null,null,null,"X"]
[{"$f":"IF(C21=\"\",\"\",VLOOKUP(D21,Lookup!$D$1:$E$1051,2,FALSE))","v":""},{"$f":"IF(C21=\"\",\"\",VLOOKUP(U21,Lookup!$A$1:$B$21,2,FALSE))","v":""},null,null,null,null,null,null,null,null,null,null,null,null,null,null,null,null,null,null,null,null,null,"X"]
[{"$f":"IF(C22=\"\",\"\",VLOOKUP(D22,Lookup!$D$1:$E$1051,2,FALSE))","v":""},{"$f":"IF(C22=\"\",\"\",VLOOKUP(U22,Lookup!$A$1:$B$21,2,FALSE))","v":""},null,null,null,null,null,null,null,null,null,null,null,null,null,null,null,null,null,null,null,null,null,"X"]
[{"$f":"IF(C23=\"\",\"\",VLOOKUP(D23,Lookup!$D$1:$E$1051,2,FALSE))","v":""},{"$f":"IF(C23=\"\",\"\",VLOOKUP(U23,Lookup!$A$1:$B$21,2,FALSE))","v":""},null,null,null,null,null,null,null,null,null,null,null,null,null,null,null,null,null,null,null,null,null,"X"]
[{"$f":"IF(C24=\"\",\"\",VLOOKUP(D24,Lookup!$D$1:$E$1051,2,FALSE))","v":""},{"$f":"IF(C24=\"\",\"\",VLOOKUP(U24,Lookup!$A$1:$B$21,2,FALSE))","v":""},null,null,null,null,null,null,null,null,null,null,null,null,null,null,null,null,null,null,null,null,null,"X"]
[{"$f":"IF(C25=\"\",\"\",VLOOKUP(D25,Lookup!$D$1:$E$1051,2,FALSE))","v":""},{"$f":"IF(C25=\"\",\"\",VLOOKUP(U25,Lookup!$A$1:$B$21,2,FALSE))","v":""},null,null,null,null,null,null,null,null,null,null,null,null,null,null,null,null,null,null,null,null,null,"X"]
[{"$f":"IF(C26=\"\",\"\",VLOOKUP(D26,Lookup!$D$1:$E$1051,2,FALSE))","v":""},{"$f":"IF(C26=\"\",\"\",VLOOKUP(U26,Lookup!$A$1:$B$21,2,FALSE))","v":""},null,null,null,null,null,null,null,null,null,null,null,null,null,null,null,null,null,null,null,null,null,"X"]
[{"$f":"IF(C27=\"\",\"\",VLOOKUP(D27,Lookup!$D$1:$E$1051,2,FALSE))","v":""},{"$f":"IF(C27=\"\",\"\",VLOOKUP(U27,Lookup!$A$1:$B$21,2,FALSE))","v":""},null,null,null,null,null,null,null,null,null,null,null,null,null,null,null,null,null,null,null,null,null,"X"]
[{"$f":"IF(C28=\"\",\"\",VLOOKUP(D28,Lookup!$D$1:$E$1051,2,FALSE))","v":""},{"$f":"IF(C28=\"\",\"\",VLOOKUP(U28,Lookup!$A$1:$B$21,2,FALSE))","v":""},null,null,null,null,null,null,null,null,null,null,null,null,null,null,null,null,null,null,null,null,null,"X"]
[{"$f":"IF(C29=\"\",\"\",VLOOKUP(D29,Lookup!$D$1:$E$1051,2,FALSE))","v":""},{"$f":"IF(C29=\"\",\"\",VLOOKUP(U29,Lookup!$A$1:$B$21,2,FALSE))","v":""},null,null,null,null,null,null,null,null,null,null,null,null,null,null,null,null,null,null,null,null,null,"X"]
[{"$f":"IF(C30=\"\",\"\",VLOOKUP(D30,Lookup!$D$1:$E$1051,2,FALSE))","v":""},{"$f":"IF(C30=\"\",\"\",VLOOKUP(U30,Lookup!$A$1:$B$21,2,FALSE))","v":""},null,null,null,null,null,null,null,null,null,null,null,null,null,null,null,null,null,null,null,null,null,"X"]
[{"$f":"IF(C31=\"\",\"\",VLOOKUP(D31,Lookup!$D$1:$E$1051,2,FALSE))","v":""},{"$f":"IF(C31=\"\",\"\",VLOOKUP(U31,Lookup!$A$1:$B$21,2,FALSE))","v":""},null,null,null,null,null,null,null,null,null,null,null,null,null,null,null,null,null,null,null,null,null,"X"]
[{"$f":"IF(C32=\"\",\"\",VLOOKUP(D32,Lookup!$D$1:$E$1051,2,FALSE))","v":""},{"$f":"IF(C32=\"\",\"\",VLOOKUP(U32,Lookup!$A$1:$B$21,2,FALSE))","v":""},null,null,null,null,null,null,null,null,null,null,null,null,null,null,null,null,null,null,null,null,null,"X"]
[{"$f":"IF(C33=\"\",\"\",VLOOKUP(D33,Lookup!$D$1:$E$1051,2,FALSE))","v":""},{"$f":"IF(C33=\"\",\"\",VLOOKUP(U33,Lookup!$A$1:$B$21,2,FALSE))","v":""},null,null,null,null,null,null,null,null,null,null,null,null,null,null,null,null,null,null,null,null,null,"X"]
[{"$f":"IF(C34=\"\",\"\",VLOOKUP(D34,Lookup!$D$1:$E$1051,2,FALSE))","v":""},{"$f":"IF(C34=\"\",\"\",VLOOKUP(U34,Lookup!$A$1:$B$21,2,FALSE))","v":""},null,null,null,null,null,null,null,null,null,null,null,null,null,null,null,null,null,null,null,null,null,"X"]
[{"$f":"IF(C35=\"\",\"\",VLOOKUP(D35,Lookup!$D$1:$E$1051,2,FALSE))","v":""},{"$f":"IF(C35=\"\",\"\",VLOOKUP(U35,Lookup!$A$1:$B$21,2,FALSE))","v":""},null,null,null,null,null,null,null,null,null,null,null,null,null,null,null,null,null,null,null,null,null,"X"]
[{"$f":"IF(C36=\"\",\"\",VLOOKUP(D36,Lookup!$D$1:$E$1051,2,FALSE))","v":""},{"$f":"IF(C36=\"\",\"\",VLOOKUP(U36,Lookup!$A$1:$B$21,2,FALSE))","v":""},null,null,null,null,null,null,null,null,null,null,null,null,null,null,null,null,null,null,null,null,null,"X"]
[{"$f":"IF(C37=\"\",\"\",VLOOKUP(D37,Lookup!$D$1:$E$1051,2,FALSE))","v":""},{"$f":"IF(C37=\"\",\"\",VLOOKUP(U37,Lookup!$A$1:$B$21,2,FALSE))","v":""},null,null,null,null,null,null,null,null,null,null,null,null,null,null,null,null,null,null,null,null,null,"X"]
[{"$f":"IF(C38=\"\",\"\",VLOOKUP(D38,Lookup!$D$1:$E$1051,2,FALSE))","v":""},{"$f":"IF(C38=\"\",\"\",VLOOKUP(U38,Lookup!$A$1:$B$21,2,FALSE))","v":""},null,null,null,null,null,null,null,null,null,null,null,null,null,null,null,null,null,null,null,null,null,"X"]
[{"$f":"IF(C39=\"\",\"\",VLOOKUP(D39,Lookup!$D$1:$E$1051,2,FALSE))","v":""},{"$f":"IF(C39=\"\",\"\",VLOOKUP(U39,Lookup!$A$1:$B$21,2,FALSE))","v":""},null,null,null,null,null,null,null,null,null,null,null,null,null,null,null,null,null,null,null,null,null,"X"]
[{"$f":"IF(C40=\"\",\"\",VLOOKUP(D40,Lookup!$D$1:$E$1051,2,FALSE))","v":""},{"$f":"IF(C40=\"\",\"\",VLOOKUP(U40,Lookup!$A$1:$B$21,2,FALSE))","v":""},null,null,null,null,null,null,null,null,null,null,null,null,null,null,null,null,null,null,null,null,null,"X"]
[{"$f":"IF(C41=\"\",\"\",VLOOKUP(D41,Lookup!$D$1:$E$1051,2,FALSE))","v":""},{"$f":"IF(C41=\"\",\"\",VLOOKUP(U41,Lookup!$A$1:$B$21,2,FALSE))","v":""},null,null,null,null,null,null,null,null,null,null,null,null,null,null,null,null,null,null,null,null,null,"X"]
[{"$f":"IF(C42=\"\",\"\",VLOOKUP(D42,Lookup!$D$1:$E$1051,2,FALSE))","v":""},{"$f":"IF(C42=\"\",\"\",VLOOKUP(U42,Lookup!$A$1:$B$21,2,FALSE))","v":""},null,null,null,null,null,null,null,null,null,null,null,null,null,null,null,null,null,null,null,null,null,"X"]
[{"$f":"IF(C43=\"\",\"\",VLOOKUP(D43,Lookup!$D$1:$E$1051,2,FALSE))","v":""},{"$f":"IF(C43=\"\",\"\",VLOOKUP(U43,Lookup!$A$1:$B$21,2,FALSE))","v":""},null,null,null,null,null,null,null,null,null,null,null,null,null,null,null,null,null,null,null,null,null,"X"]
[{"$f":"IF(C44=\"\",\"\",VLOOKUP(D44,Lookup!$D$1:$E$1051,2,FALSE))","v":""},{"$f":"IF(C44=\"\",\"\",VLOOKUP(U44,Lookup!$A$1:$B$21,2,FALSE))","v":""},null,null,null,null,null,null,null,null,null,null,null,null,null,null,null,null,null,null,null,null,null,"X"]
[{"$f":"IF(C45=\"\",\"\",VLOOKUP(D45,Lookup!$D$1:$E$1051,2,FALSE))","v":""},{"$f":"IF(C45=\"\",\"\",VLOOKUP(U45,Lookup!$A$1:$B$21,2,FALSE))","v":""},null,null,null,null,null,null,null,null,null,null,null,null,null,null,null,null,null,null,null,null,null,"X"]
[{"$f":"IF(C46=\"\",\"\",VLOOKUP(D46,Lookup!$D$1:$E$1051,2,FALSE))","v":""},{"$f":"IF(C46=\"\",\"\",VLOOKUP(U46,Lookup!$A$1:$B$21,2,FALSE))","v":""},null,null,null,null,null,null,null,null,null,null,null,null,null,null,null,null,null,null,null,null,null,"X"]
[{"$f":"IF(C47=\"\",\"\",VLOOKUP(D47,Lookup!$D$1:$E$1051,2,FALSE))","v":""},{"$f":"IF(C47=\"\",\"\",VLOOKUP(U47,Lookup!$A$1:$B$21,2,FALSE))","v":""},null,null,null,null,null,null,null,null,null,null,null,null,null,null,null,null,null,null,null,null,null,"X"]
[{"$f":"IF(C48=\"\",\"\",VLOOKUP(D48,Lookup!$D$1:$E$1051,2,FALSE))","v":""},{"$f":"IF(C48=\"\",\"\",VLOOKUP(U48,Lookup!$A$1:$B$21,2,FALSE))","v":""},null,null,null,null,null,null,null,null,null,null,null,null,null,null,null,null,null,null,null,null,null,"X"]
[{"$f":"IF(C49=\"\",\"\",VLOOKUP(D49,Lookup!$D$1:$E$1051,2,FALSE))","v":""},{"$f":"IF(C49=\"\",\"\",VLOOKUP(U49,Lookup!$A$1:$B$21,2,FALSE))","v":""},null,null,null,null,null,null,null,null,null,null,null,null,null,null,null,null,null,null,null,null,null,"X"]
[{"$f":"IF(C50=\"\",\"\",VLOOKUP(D50,Lookup!$D$1:$E$1051,2,FALSE))","v":""},{"$f":"IF(C50=\"\",\"\",VLOOKUP(U50,Lookup!$A$1:$B$21,2,FALSE))","v":""},null,null,null,null,null,null,null,null,null,null,null,null,null,null,null,null,null,null,null,null,null,"X"]
[{"$f":"IF(C51=\"\",\"\",VLOOKUP(D51,Lookup!$D$1:$E$1051,2,FALSE))","v":""},{"$f":"IF(C51=\"\",\"\",VLOOKUP(U51,Lookup!$A$1:$B$21,2,FALSE))","v":""},null,null,null,null,null,null,null,null,null,null,null,null,null,null,null,null,null,null,null,null,null,"X"]
[{"$f":"IF(C52=\"\",\"\",VLOOKUP(D52,Lookup!$D$1:$E$1051,2,FALSE))","v":""},{"$f":"IF(C52=\"\",\"\",VLOOKUP(U52,Lookup!$A$1:$B$21,2,FALSE))","v":""},null,null,null,null,null,null,null,null,null,null,null,null,null,null,null,null,null,null,null,null,null,"X"]
[{"$f":"IF(C53=\"\",\"\",VLOOKUP(D53,Lookup!$D$1:$E$1051,2,FALSE))","v":""},{"$f":"IF(C53=\"\",\"\",VLOOKUP(U53,Lookup!$A$1:$B$21,2,FALSE))","v":""},null,null,null,null,null,null,null,null,null,null,null,null,null,null,null,null,null,null,null,null,null,"X"]
[{"$f":"IF(C54=\"\",\"\",VLOOKUP(D54,Lookup!$D$1:$E$1051,2,FALSE))","v":""},{"$f":"IF(C54=\"\",\"\",VLOOKUP(U54,Lookup!$A$1:$B$21,2,FALSE))","v":""},null,null,null,null,null,null,null,null,null,null,null,null,null,null,null,null,null,null,null,null,null,"X"]
[{"$f":"IF(C55=\"\",\"\",VLOOKUP(D55,Lookup!$D$1:$E$1051,2,FALSE))","v":""},{"$f":"IF(C55=\"\",\"\",VLOOKUP(U55,Lookup!$A$1:$B$21,2,FALSE))","v":""},null,null,null,null,null,null,null,null,null,null,null,null,null,null,null,null,null,null,null,null,null,"X"]
[{"$f":"IF(C56=\"\",\"\",VLOOKUP(D56,Lookup!$D$1:$E$1051,2,FALSE))","v":""},{"$f":"IF(C56=\"\",\"\",VLOOKUP(U56,Lookup!$A$1:$B$21,2,FALSE))","v":""},null,null,null,null,null,null,null,null,null,null,null,null,null,null,null,null,null,null,null,null,null,"X"]
[{"$f":"IF(C57=\"\",\"\",VLOOKUP(D57,Lookup!$D$1:$E$1051,2,FALSE))","v":""},{"$f":"IF(C57=\"\",\"\",VLOOKUP(U57,Lookup!$A$1:$B$21,2,FALSE))","v":""},null,null,null,null,null,null,null,null,null,null,null,null,null,null,null,null,null,null,null,null,null,"X"]
[{"$f":"IF(C58=\"\",\"\",VLOOKUP(D58,Lookup!$D$1:$E$1051,2,FALSE))","v":""},{"$f":"IF(C58=\"\",\"\",VLOOKUP(U58,Lookup!$A$1:$B$21,2,FALSE))","v":""},null,null,null,null,null,null,null,null,null,null,null,null,null,null,null,null,null,null,null,null,null,"X"]
[{"$f":"IF(C59=\"\",\"\",VLOOKUP(D59,Lookup!$D$1:$E$1051,2,FALSE))","v":""},{"$f":"IF(C59=\"\",\"\",VLOOKUP(U59,Lookup!$A$1:$B$21,2,FALSE))","v":""},null,null,null,null,null,null,null,null,null,null,null,null,null,null,null,null,null,null,null,null,null,"X"]
[{"$f":"IF(C60=\"\",\"\",VLOOKUP(D60,Lookup!$D$1:$E$1051,2,FALSE))","v":""},{"$f":"IF(C60=\"\",\"\",VLOOKUP(U60,Lookup!$A$1:$B$21,2,FALSE))","v":""},null,null,null,null,null,null,null,null,null,null,null,null,null,null,null,null,null,null,null,null,null,"X"]
[{"$f":"IF(C61=\"\",\"\",VLOOKUP(D61,Lookup!$D$1:$E$1051,2,FALSE))","v":""},{"$f":"IF(C61=\"\",\"\",VLOOKUP(U61,Lookup!$A$1:$B$21,2,FALSE))","v":""},null,null,null,null,null,null,null,null,null,null,null,null,null,null,null,null,null,null,null,null,null,"X"]
[{"$f":"IF(C62=\"\",\"\",VLOOKUP(D62,Lookup!$D$1:$E$1051,2,FALSE))","v":""},{"$f":"IF(C62=\"\",\"\",VLOOKUP(U62,Lookup!$A$1:$B$21,2,FALSE))","v":""},null,null,null,null,null,null,null,null,null,null,null,null,null,null,null,null,null,null,null,null,null,"X"]
[{"$f":"IF(C63=\"\",\"\",VLOOKUP(D63,Lookup!$D$1:$E$1051,2,FALSE))","v":""},{"$f":"IF(C63=\"\",\"\",VLOOKUP(U63,Lookup!$A$1:$B$21,2,FALSE))","v":""},null,null,null,null,null,null,null,null,null,null,null,null,null,null,null,null,null,null,null,null,null,"X"]
[{"$f":"IF(C64=\"\",\"\",VLOOKUP(D64,Lookup!$D$1:$E$1051,2,FALSE))","v":""},{"$f":"IF(C64=\"\",\"\",VLOOKUP(U64,Lookup!$A$1:$B$21,2,FALSE))","v":""},null,null,null,null,null,null,null,null,null,null,null,null,null,null,null,null,null,null,null,null,null,"X"]
[{"$f":"IF(C65=\"\",\"\",VLOOKUP(D65,Lookup!$D$1:$E$1051,2,FALSE))","v":""},{"$f":"IF(C65=\"\",\"\",VLOOKUP(U65,Lookup!$A$1:$B$21,2,FALSE))","v":""},null,null,null,null,null,null,null,null,null,null,null,null,null,null,null,null,null,null,null,null,null,"X"]
[{"$f":"IF(C66=\"\",\"\",VLOOKUP(D66,Lookup!$D$1:$E$1051,2,FALSE))","v":""},{"$f":"IF(C66=\"\",\"\",VLOOKUP(U66,Lookup!$A$1:$B$21,2,FALSE))","v":""},null,null,null,null,null,null,null,null,null,null,null,null,null,null,null,null,null,null,null,null,null,"X"]
[{"$f":"IF(C67=\"\",\"\",VLOOKUP(D67,Lookup!$D$1:$E$1051,2,FALSE))","v":""},{"$f":"IF(C67=\"\",\"\",VLOOKUP(U67,Lookup!$A$1:$B$21,2,FALSE))","v":""},null,null,null,null,null,null,null,null,null,null,null,null,null,null,null,null,null,null,null,null,null,"X"]
[{"$f":"IF(C68=\"\",\"\",VLOOKUP(D68,Lookup!$D$1:$E$1051,2,FALSE))","v":""},{"$f":"IF(C68=\"\",\"\",VLOOKUP(U68,Lookup!$A$1:$B$21,2,FALSE))","v":""},null,null,null,null,null,null,null,null,null,null,null,null,null,null,null,null,null,null,null,null,null,"X"]
[{"$f":"IF(C69=\"\",\"\",VLOOKUP(D69,Lookup!$D$1:$E$1051,2,FALSE))","v":""},{"$f":"IF(C69=\"\",\"\",VLOOKUP(U69,Lookup!$A$1:$B$21,2,FALSE))","v":""},null,null,null,null,null,null,null,null,null,null,null,null,null,null,null,null,null,null,null,null,null,"X"]
[{"$f":"IF(C70=\"\",\"\",VLOOKUP(D70,Lookup!$D$1:$E$1051,2,FALSE))","v":""},{"$f":"IF(C70=\"\",\"\",VLOOKUP(U70,Lookup!$A$1:$B$21,2,FALSE))","v":""},null,null,null,null,null,null,null,null,null,null,null,null,null,null,null,null,null,null,null,null,null,"X"]
[{"$f":"IF(C71=\"\",\"\",VLOOKUP(D71,Lookup!$D$1:$E$1051,2,FALSE))","v":""},{"$f":"IF(C71=\"\",\"\",VLOOKUP(U71,Lookup!$A$1:$B$21,2,FALSE))","v":""},null,null,null,null,null,null,null,null,null,null,null,null,null,null,null,null,null,null,null,null,null,"X"]
[{"$f":"IF(C72=\"\",\"\",VLOOKUP(D72,Lookup!$D$1:$E$1051,2,FALSE))","v":""},{"$f":"IF(C72=\"\",\"\",VLOOKUP(U72,Lookup!$A$1:$B$21,2,FALSE))","v":""},null,null,null,null,null,null,null,null,null,null,null,null,null,null,null,null,null,null,null,null,null,"X"]
[{"$f":"IF(C73=\"\",\"\",VLOOKUP(D73,Lookup!$D$1:$E$1051,2,FALSE))","v":""},{"$f":"IF(C73=\"\",\"\",VLOOKUP(U73,Lookup!$A$1:$B$21,2,FALSE))","v":""},null,null,null,null,null,null,null,null,null,null,null,null,null,null,null,null,null,null,null,null,null,"X"]
[{"$f":"IF(C74=\"\",\"\",VLOOKUP(D74,Lookup!$D$1:$E$1051,2,FALSE))","v":""},{"$f":"IF(C74=\"\",\"\",VLOOKUP(U74,Lookup!$A$1:$B$21,2,FALSE))","v":""},null,null,null,null,null,null,null,null,null,null,null,null,null,null,null,null,null,null,null,null,null,"X"]
[{"$f":"IF(C75=\"\",\"\",VLOOKUP(D75,Lookup!$D$1:$E$1051,2,FALSE))","v":""},{"$f":"IF(C75=\"\",\"\",VLOOKUP(U75,Lookup!$A$1:$B$21,2,FALSE))","v":""},null,null,null,null,null,null,null,null,null,null,null,null,null,null,null,null,null,null,null,null,null,"X"]
[{"$f":"IF(C76=\"\",\"\",VLOOKUP(D76,Lookup!$D$1:$E$1051,2,FALSE))","v":""},{"$f":"IF(C76=\"\",\"\",VLOOKUP(U76,Lookup!$A$1:$B$21,2,FALSE))","v":""},null,null,null,null,null,null,null,null,null,null,null,null,null,null,null,null,null,null,null,null,null,"X"]
[{"$f":"IF(C77=\"\",\"\",VLOOKUP(D77,Lookup!$D$1:$E$1051,2,FALSE))","v":""},{"$f":"IF(C77=\"\",\"\",VLOOKUP(U77,Lookup!$A$1:$B$21,2,FALSE))","v":""},null,null,null,null,null,null,null,null,null,null,null,null,null,null,null,null,null,null,null,null,null,"X"]
[{"$f":"IF(C78=\"\",\"\",VLOOKUP(D78,Lookup!$D$1:$E$1051,2,FALSE))","v":""},{"$f":"IF(C78=\"\",\"\",VLOOKUP(U78,Lookup!$A$1:$B$21,2,FALSE))","v":""},null,null,null,null,null,null,null,null,null,null,null,null,null,null,null,null,null,null,null,null,null,"X"]
[{"$f":"IF(C79=\"\",\"\",VLOOKUP(D79,Lookup!$D$1:$E$1051,2,FALSE))","v":""},{"$f":"IF(C79=\"\",\"\",VLOOKUP(U79,Lookup!$A$1:$B$21,2,FALSE))","v":""},null,null,null,null,null,null,null,null,null,null,null,null,null,null,null,null,null,null,null,null,null,"X"]
[{"$f":"IF(C80=\"\",\"\",VLOOKUP(D80,Lookup!$D$1:$E$1051,2,FALSE))","v":""},{"$f":"IF(C80=\"\",\"\",VLOOKUP(U80,Lookup!$A$1:$B$21,2,FALSE))","v":""},null,null,null,null,null,null,null,null,null,null,null,null,null,null,null,null,null,null,null,null,null,"X"]
[{"$f":"IF(C81=\"\",\"\",VLOOKUP(D81,Lookup!$D$1:$E$1051,2,FALSE))","v":""},{"$f":"IF(C81=\"\",\"\",VLOOKUP(U81,Lookup!$A$1:$B$21,2,FALSE))","v":""},null,null,null,null,null,null,null,null,null,null,null,null,null,null,null,null,null,null,null,null,null,"X"]
[{"$f":"IF(C82=\"\",\"\",VLOOKUP(D82,Lookup!$D$1:$E$1051,2,FALSE))","v":""},{"$f":"IF(C82=\"\",\"\",VLOOKUP(U82,Lookup!$A$1:$B$21,2,FALSE))","v":""},null,null,null,null,null,null,null,null,null,null,null,null,null,null,null,null,null,null,null,null,null,"X"]
[{"$f":"IF(C83=\"\",\"\",VLOOKUP(D83,Lookup!$D$1:$E$1051,2,FALSE))","v":""},{"$f":"IF(C83=\"\",\"\",VLOOKUP(U83,Lookup!$A$1:$B$21,2,FALSE))","v":""},null,null,null,null,null,null,null,null,null,null,null,null,null,null,null,null,null,null,null,null,null,"X"]
[{"$f":"IF(C84=\"\",\"\",VLOOKUP(D84,Lookup!$D$1:$E$1051,2,FALSE))","v":""},{"$f":"IF(C84=\"\",\"\",VLOOKUP(U84,Lookup!$A$1:$B$21,2,FALSE))","v":""},null,null,null,null,null,null,null,null,null,null,null,null,null,null,null,null,null,null,null,null,null,"X"]
[{"$f":"IF(C85=\"\",\"\",VLOOKUP(D85,Lookup!$D$1:$E$1051,2,FALSE))","v":""},{"$f":"IF(C85=\"\",\"\",VLOOKUP(U85,Lookup!$A$1:$B$21,2,FALSE))","v":""},null,null,null,null,null,null,null,null,null,null,null,null,null,null,null,null,null,null,null,null,null,"X"]
[{"$f":"IF(C86=\"\",\"\",VLOOKUP(D86,Lookup!$D$1:$E$1051,2,FALSE))","v":""},{"$f":"IF(C86=\"\",\"\",VLOOKUP(U86,Lookup!$A$1:$B$21,2,FALSE))","v":""},null,null,null,null,null,null,null,null,null,null,null,null,null,null,null,null,null,null,null,null,null,"X"]
[{"$f":"IF(C87=\"\",\"\",VLOOKUP(D87,Lookup!$D$1:$E$1051,2,FALSE))","v":""},{"$f":"IF(C87=\"\",\"\",VLOOKUP(U87,Lookup!$A$1:$B$21,2,FALSE))","v":""},null,null,null,null,null,null,null,null,null,null,null,null,null,null,null,null,null,null,null,null,null,"X"]
[{"$f":"IF(C88=\"\",\"\",VLOOKUP(D88,Lookup!$D$1:$E$1051,2,FALSE))","v":""},{"$f":"IF(C88=\"\",\"\",VLOOKUP(U88,Lookup!$A$1:$B$21,2,FALSE))","v":""},null,null,null,null,null,null,null,null,null,null,null,null,null,null,null,null,null,null,null,null,null,"X"]
[{"$f":"IF(C89=\"\",\"\",VLOOKUP(D89,Lookup!$D$1:$E$1051,2,FALSE))","v":""},{"$f":"IF(C89=\"\",\"\",VLOOKUP(U89,Lookup!$A$1:$B$21,2,FALSE))","v":""},null,null,null,null,null,null,null,null,null,null,null,null,null,null,null,null,null,null,null,null,null,"X"]
[{"$f":"IF(C90=\"\",\"\",VLOOKUP(D90,Lookup!$D$1:$E$1051,2,FALSE))","v":""},{"$f":"IF(C90=\"\",\"\",VLOOKUP(U90,Lookup!$A$1:$B$21,2,FALSE))","v":""},null,null,null,null,null,null,null,null,null,null,null,null,null,null,null,null,null,null,null,null,null,"X"]
[{"$f":"IF(C91=\"\",\"\",VLOOKUP(D91,Lookup!$D$1:$E$1051,2,FALSE))","v":""},{"$f":"IF(C91=\"\",\"\",VLOOKUP(U91,Lookup!$A$1:$B$21,2,FALSE))","v":""},null,null,null,null,null,null,null,null,null,null,null,null,null,null,null,null,null,null,null,null,null,"X"]
[{"$f":"IF(C92=\"\",\"\",VLOOKUP(D92,Lookup!$D$1:$E$1051,2,FALSE))","v":""},{"$f":"IF(C92=\"\",\"\",VLOOKUP(U92,Lookup!$A$1:$B$21,2,FALSE))","v":""},null,null,null,null,null,null,null,null,null,null,null,null,null,null,null,null,null,null,null,null,null,"X"]
[{"$f":"IF(C93=\"\",\"\",VLOOKUP(D93,Lookup!$D$1:$E$1051,2,FALSE))","v":""},{"$f":"IF(C93=\"\",\"\",VLOOKUP(U93,Lookup!$A$1:$B$21,2,FALSE))","v":""},null,null,null,null,null,null,null,null,null,null,null,null,null,null,null,null,null,null,null,null,null,"X"]
[{"$f":"IF(C94=\"\",\"\",VLOOKUP(D94,Lookup!$D$1:$E$1051,2,FALSE))","v":""},{"$f":"IF(C94=\"\",\"\",VLOOKUP(U94,Lookup!$A$1:$B$21,2,FALSE))","v":""},null,null,null,null,null,null,null,null,null,null,null,null,null,null,null,null,null,null,null,null,null,"X"]
[{"$f":"IF(C95=\"\",\"\",VLOOKUP(D95,Lookup!$D$1:$E$1051,2,FALSE))","v":""},{"$f":"IF(C95=\"\",\"\",VLOOKUP(U95,Lookup!$A$1:$B$21,2,FALSE))","v":""},null,null,null,null,null,null,null,null,null,null,null,null,null,null,null,null,null,null,null,null,null,"X"]
[{"$f":"IF(C96=\"\",\"\",VLOOKUP(D96,Lookup!$D$1:$E$1051,2,FALSE))","v":""},{"$f":"IF(C96=\"\",\"\",VLOOKUP(U96,Lookup!$A$1:$B$21,2,FALSE))","v":""},null,null,null,null,null,null,null,null,null,null,null,null,null,null,null,null,null,null,null,null,null,"X"]
[{"$f":"IF(C97=\"\",\"\",VLOOKUP(D97,Lookup!$D$1:$E$1051,2,FALSE))","v":""},{"$f":"IF(C97=\"\",\"\",VLOOKUP(U97,Lookup!$A$1:$B$21,2,FALSE))","v":""},null,null,null,null,null,null,null,null,null,null,null,null,null,null,null,null,null,null,null,null,null,"X"]
[{"$f":"IF(C98=\"\",\"\",VLOOKUP(D98,Lookup!$D$1:$E$1051,2,FALSE))","v":""},{"$f":"IF(C98=\"\",\"\",VLOOKUP(U98,Lookup!$A$1:$B$21,2,FALSE))","v":""},null,null,null,null,null,null,null,null,null,null,null,null,null,null,null,null,null,null,null,null,null,"X"]
[{"$f":"IF(C99=\"\",\"\",VLOOKUP(D99,Lookup!$D$1:$E$1051,2,FALSE))","v":""},{"$f":"IF(C99=\"\",\"\",VLOOKUP(U99,Lookup!$A$1:$B$21,2,FALSE))","v":""},null,null,null,null,null,null,null,null,null,null,null,null,null,null,null,null,null,null,null,null,null,"X"]
[{"$f":"IF(C100=\"\",\"\",VLOOKUP(D100,Lookup!$D$1:$E$1051,2,FALSE))","v":""},{"$f":"IF(C100=\"\",\"\",VLOOKUP(U100,Lookup!$A$1:$B$21,2,FALSE))","v":""},null,null,null,null,null,null,null,null,null,null,null,null,null,null,null,null,null,null,null,null,null,"X"]
[{"$f":"IF(C101=\"\",\"\",VLOOKUP(D101,Lookup!$D$1:$E$1051,2,FALSE))","v":""},{"$f":"IF(C101=\"\",\"\",VLOOKUP(U101,Lookup!$A$1:$B$21,2,FALSE))","v":""},null,null,null,null,null,null,null,null,null,null,null,null,null,null,null,null,null,null,null,null,null,"X"]
[{"$f":"IF(C102=\"\",\"\",VLOOKUP(D102,Lookup!$D$1:$E$1051,2,FALSE))","v":""},{"$f":"IF(C102=\"\",\"\",VLOOKUP(U102,Lookup!$A$1:$B$21,2,FALSE))","v":""},null,null,null,null,null,null,null,null,null,null,null,null,null,null,null,null,null,null,null,null,null,"X"]
[{"$f":"IF(C103=\"\",\"\",VLOOKUP(D103,Lookup!$D$1:$E$1051,2,FALSE))","v":""},{"$f":"IF(C103=\"\",\"\",VLOOKUP(U103,Lookup!$A$1:$B$21,2,FALSE))","v":""},null,null,null,null,null,null,null,null,null,null,null,null,null,null,null,null,null,null,null,null,null,"X"]
[{"$f":"IF(C104=\"\",\"\",VLOOKUP(D104,Lookup!$D$1:$E$1051,2,FALSE))","v":""},{"$f":"IF(C104=\"\",\"\",VLOOKUP(U104,Lookup!$A$1:$B$21,2,FALSE))","v":""},null,null,null,null,null,null,null,null,null,null,null,null,null,null,null,null,null,null,null,null,null,"X"]
[{"$f":"IF(C105=\"\",\"\",VLOOKUP(D105,Lookup!$D$1:$E$1051,2,FALSE))","v":""},{"$f":"IF(C105=\"\",\"\",VLOOKUP(U105,Lookup!$A$1:$B$21,2,FALSE))","v":""},null,null,null,null,null,null,null,null,null,null,null,null,null,null,null,null,null,null,null,null,null,"X"]
[{"$f":"IF(C106=\"\",\"\",VLOOKUP(D106,Lookup!$D$1:$E$1051,2,FALSE))","v":""},{"$f":"IF(C106=\"\",\"\",VLOOKUP(U106,Lookup!$A$1:$B$21,2,FALSE))","v":""},null,null,null,null,null,null,null,null,null,null,null,null,null,null,null,null,null,null,null,null,null,"X"]
[{"$f":"IF(C107=\"\",\"\",VLOOKUP(D107,Lookup!$D$1:$E$1051,2,FALSE))","v":""},{"$f":"IF(C107=\"\",\"\",VLOOKUP(U107,Lookup!$A$1:$B$21,2,FALSE))","v":""},null,null,null,null,null,null,null,null,null,null,null,null,null,null,null,null,null,null,null,null,null,"X"]
[{"$f":"IF(C108=\"\",\"\",VLOOKUP(D108,Lookup!$D$1:$E$1051,2,FALSE))","v":""},{"$f":"IF(C108=\"\",\"\",VLOOKUP(U108,Lookup!$A$1:$B$21,2,FALSE))","v":""},null,null,null,null,null,null,null,null,null,null,null,null,null,null,null,null,null,null,null,null,null,"X"]
[{"$f":"IF(C109=\"\",\"\",VLOOKUP(D109,Lookup!$D$1:$E$1051,2,FALSE))","v":""},{"$f":"IF(C109=\"\",\"\",VLOOKUP(U109,Lookup!$A$1:$B$21,2,FALSE))","v":""},null,null,null,null,null,null,null,null,null,null,null,null,null,null,null,null,null,null,null,null,null,"X"]
[{"$f":"IF(C110=\"\",\"\",VLOOKUP(D110,Lookup!$D$1:$E$1051,2,FALSE))","v":""},{"$f":"IF(C110=\"\",\"\",VLOOKUP(U110,Lookup!$A$1:$B$21,2,FALSE))","v":""},null,null,null,null,null,null,null,null,null,null,null,null,null,null,null,null,null,null,null,null,null,"X"]
[{"$f":"IF(C111=\"\",\"\",VLOOKUP(D111,Lookup!$D$1:$E$1051,2,FALSE))","v":""},{"$f":"IF(C111=\"\",\"\",VLOOKUP(U111,Lookup!$A$1:$B$21,2,FALSE))","v":""},null,null,null,null,null,null,null,null,null,null,null,null,null,null,null,null,null,null,null,null,null,"X"]
[{"$f":"IF(C112=\"\",\"\",VLOOKUP(D112,Lookup!$D$1:$E$1051,2,FALSE))","v":""},{"$f":"IF(C112=\"\",\"\",VLOOKUP(U112,Lookup!$A$1:$B$21,2,FALSE))","v":""},null,null,null,null,null,null,null,null,null,null,null,null,null,null,null,null,null,null,null,null,null,"X"]
[{"$f":"IF(C113=\"\",\"\",VLOOKUP(D113,Lookup!$D$1:$E$1051,2,FALSE))","v":""},{"$f":"IF(C113=\"\",\"\",VLOOKUP(U113,Lookup!$A$1:$B$21,2,FALSE))","v":""},null,null,null,null,null,null,null,null,null,null,null,null,null,null,null,null,null,null,null,null,null,"X"]
[{"$f":"IF(C114=\"\",\"\",VLOOKUP(D114,Lookup!$D$1:$E$1051,2,FALSE))","v":""},{"$f":"IF(C114=\"\",\"\",VLOOKUP(U114,Lookup!$A$1:$B$21,2,FALSE))","v":""},null,null,null,null,null,null,null,null,null,null,null,null,null,null,null,null,null,null,null,null,null,"X"]
[{"$f":"IF(C115=\"\",\"\",VLOOKUP(D115,Lookup!$D$1:$E$1051,2,FALSE))","v":""},{"$f":"IF(C115=\"\",\"\",VLOOKUP(U115,Lookup!$A$1:$B$21,2,FALSE))","v":""},null,null,null,null,null,null,null,null,null,null,null,null,null,null,null,null,null,null,null,null,null,"X"]
[{"$f":"IF(C116=\"\",\"\",VLOOKUP(D116,Lookup!$D$1:$E$1051,2,FALSE))","v":""},{"$f":"IF(C116=\"\",\"\",VLOOKUP(U116,Lookup!$A$1:$B$21,2,FALSE))","v":""},null,null,null,null,null,null,null,null,null,null,null,null,null,null,null,null,null,null,null,null,null,"X"]
[{"$f":"IF(C117=\"\",\"\",VLOOKUP(D117,Lookup!$D$1:$E$1051,2,FALSE))","v":""},{"$f":"IF(C117=\"\",\"\",VLOOKUP(U117,Lookup!$A$1:$B$21,2,FALSE))","v":""},null,null,null,null,null,null,null,null,null,null,null,null,null,null,null,null,null,null,null,null,null,"X"]
[{"$f":"IF(C118=\"\",\"\",VLOOKUP(D118,Lookup!$D$1:$E$1051,2,FALSE))","v":""},{"$f":"IF(C118=\"\",\"\",VLOOKUP(U118,Lookup!$A$1:$B$21,2,FALSE))","v":""},null,null,null,null,null,null,null,null,null,null,null,null,null,null,null,null,null,null,null,null,null,"X"]
[{"$f":"IF(C119=\"\",\"\",VLOOKUP(D119,Lookup!$D$1:$E$1051,2,FALSE))","v":""},{"$f":"IF(C119=\"\",\"\",VLOOKUP(U119,Lookup!$A$1:$B$21,2,FALSE))","v":""},null,null,null,null,null,null,null,null,null,null,null,null,null,null,null,null,null,null,null,null,null,"X"]
[{"$f":"IF(C120=\"\",\"\",VLOOKUP(D120,Lookup!$D$1:$E$1051,2,FALSE))","v":""},{"$f":"IF(C120=\"\",\"\",VLOOKUP(U120,Lookup!$A$1:$B$21,2,FALSE))","v":""},null,null,null,null,null,null,null,null,null,null,null,null,null,null,null,null,null,null,null,null,null,"X"]
[{"$f":"IF(C121=\"\",\"\",VLOOKUP(D121,Lookup!$D$1:$E$1051,2,FALSE))","v":""},{"$f":"IF(C121=\"\",\"\",VLOOKUP(U121,Lookup!$A$1:$B$21,2,FALSE))","v":""},null,null,null,null,null,null,null,null,null,null,null,null,null,null,null,null,null,null,null,null,null,"X"]
[{"$f":"IF(C122=\"\",\"\",VLOOKUP(D122,Lookup!$D$1:$E$1051,2,FALSE))","v":""},{"$f":"IF(C122=\"\",\"\",VLOOKUP(U122,Lookup!$A$1:$B$21,2,FALSE))","v":""},null,null,null,null,null,null,null,null,null,null,null,null,null,null,null,null,null,null,null,null,null,"X"]
[{"$f":"IF(C123=\"\",\"\",VLOOKUP(D123,Lookup!$D$1:$E$1051,2,FALSE))","v":""},{"$f":"IF(C123=\"\",\"\",VLOOKUP(U123,Lookup!$A$1:$B$21,2,FALSE))","v":""},null,null,null,null,null,null,null,null,null,null,null,null,null,null,null,null,null,null,null,null,null,"X"]
[{"$f":"IF(C124=\"\",\"\",VLOOKUP(D124,Lookup!$D$1:$E$1051,2,FALSE))","v":""},{"$f":"IF(C124=\"\",\"\",VLOOKUP(U124,Lookup!$A$1:$B$21,2,FALSE))","v":""},null,null,null,null,null,null,null,null,null,null,null,null,null,null,null,null,null,null,null,null,null,"X"]
[{"$f":"IF(C125=\"\",\"\",VLOOKUP(D125,Lookup!$D$1:$E$1051,2,FALSE))","v":""},{"$f":"IF(C125=\"\",\"\",VLOOKUP(U125,Lookup!$A$1:$B$21,2,FALSE))","v":""},null,null,null,null,null,null,null,null,null,null,null,null,null,null,null,null,null,null,null,null,null,"X"]
[{"$f":"IF(C126=\"\",\"\",VLOOKUP(D126,Lookup!$D$1:$E$1051,2,FALSE))","v":""},{"$f":"IF(C126=\"\",\"\",VLOOKUP(U126,Lookup!$A$1:$B$21,2,FALSE))","v":""},null,null,null,null,null,null,null,null,null,null,null,null,null,null,null,null,null,null,null,null,null,"X"]
[{"$f":"IF(C127=\"\",\"\",VLOOKUP(D127,Lookup!$D$1:$E$1051,2,FALSE))","v":""},{"$f":"IF(C127=\"\",\"\",VLOOKUP(U127,Lookup!$A$1:$B$21,2,FALSE))","v":""},null,null,null,null,null,null,null,null,null,null,null,null,null,null,null,null,null,null,null,null,null,"X"]
[{"$f":"IF(C128=\"\",\"\",VLOOKUP(D128,Lookup!$D$1:$E$1051,2,FALSE))","v":""},{"$f":"IF(C128=\"\",\"\",VLOOKUP(U128,Lookup!$A$1:$B$21,2,FALSE))","v":""},null,null,null,null,null,null,null,null,null,null,null,null,null,null,null,null,null,null,null,null,null,"X"]
[{"$f":"IF(C129=\"\",\"\",VLOOKUP(D129,Lookup!$D$1:$E$1051,2,FALSE))","v":""},{"$f":"IF(C129=\"\",\"\",VLOOKUP(U129,Lookup!$A$1:$B$21,2,FALSE))","v":""},null,null,null,null,null,null,null,null,null,null,null,null,null,null,null,null,null,null,null,null,null,"X"]
[{"$f":"IF(C130=\"\",\"\",VLOOKUP(D130,Lookup!$D$1:$E$1051,2,FALSE))","v":""},{"$f":"IF(C130=\"\",\"\",VLOOKUP(U130,Lookup!$A$1:$B$21,2,FALSE))","v":""},null,null,null,null,null,null,null,null,null,null,null,null,null,null,null,null,null,null,null,null,null,"X"]
[{"$f":"IF(C131=\"\",\"\",VLOOKUP(D131,Lookup!$D$1:$E$1051,2,FALSE))","v":""},{"$f":"IF(C131=\"\",\"\",VLOOKUP(U131,Lookup!$A$1:$B$21,2,FALSE))","v":""},null,null,null,null,null,null,null,null,null,null,null,null,null,null,null,null,null,null,null,null,null,"X"]
[{"$f":"IF(C132=\"\",\"\",VLOOKUP(D132,Lookup!$D$1:$E$1051,2,FALSE))","v":""},{"$f":"IF(C132=\"\",\"\",VLOOKUP(U132,Lookup!$A$1:$B$21,2,FALSE))","v":""},null,null,null,null,null,null,null,null,null,null,null,null,null,null,null,null,null,null,null,null,null,"X"]
[{"$f":"IF(C133=\"\",\"\",VLOOKUP(D133,Lookup!$D$1:$E$1051,2,FALSE))","v":""},{"$f":"IF(C133=\"\",\"\",VLOOKUP(U133,Lookup!$A$1:$B$21,2,FALSE))","v":""},null,null,null,null,null,null,null,null,null,null,null,null,null,null,null,null,null,null,null,null,null,"X"]
[{"$f":"IF(C134=\"\",\"\",VLOOKUP(D134,Lookup!$D$1:$E$1051,2,FALSE))","v":""},{"$f":"IF(C134=\"\",\"\",VLOOKUP(U134,Lookup!$A$1:$B$21,2,FALSE))","v":""},null,null,null,null,null,null,null,null,null,null,null,null,null,null,null,null,null,null,null,null,null,"X"]
[{"$f":"IF(C135=\"\",\"\",VLOOKUP(D135,Lookup!$D$1:$E$1051,2,FALSE))","v":""},{"$f":"IF(C135=\"\",\"\",VLOOKUP(U135,Lookup!$A$1:$B$21,2,FALSE))","v":""},null,null,null,null,null,null,null,null,null,null,null,null,null,null,null,null,null,null,null,null,null,"X"]
[{"$f":"IF(C136=\"\",\"\",VLOOKUP(D136,Lookup!$D$1:$E$1051,2,FALSE))","v":""},{"$f":"IF(C136=\"\",\"\",VLOOKUP(U136,Lookup!$A$1:$B$21,2,FALSE))","v":""},null,null,null,null,null,null,null,null,null,null,null,null,null,null,null,null,null,null,null,null,null,"X"]
[{"$f":"IF(C137=\"\",\"\",VLOOKUP(D137,Lookup!$D$1:$E$1051,2,FALSE))","v":""},{"$f":"IF(C137=\"\",\"\",VLOOKUP(U137,Lookup!$A$1:$B$21,2,FALSE))","v":""},null,null,null,null,null,null,null,null,null,null,null,null,null,null,null,null,null,null,null,null,null,"X"]
[{"$f":"IF(C138=\"\",\"\",VLOOKUP(D138,Lookup!$D$1:$E$1051,2,FALSE))","v":""},{"$f":"IF(C138=\"\",\"\",VLOOKUP(U138,Lookup!$A$1:$B$21,2,FALSE))","v":""},null,null,null,null,null,null,null,null,null,null,null,null,null,null,null,null,null,null,null,null,null,"X"]
[{"$f":"IF(C139=\"\",\"\",VLOOKUP(D139,Lookup!$D$1:$E$1051,2,FALSE))","v":""},{"$f":"IF(C139=\"\",\"\",VLOOKUP(U139,Lookup!$A$1:$B$21,2,FALSE))","v":""},null,null,null,null,null,null,null,null,null,null,null,null,null,null,null,null,null,null,null,null,null,"X"]
[{"$f":"IF(C140=\"\",\"\",VLOOKUP(D140,Lookup!$D$1:$E$1051,2,FALSE))","v":""},{"$f":"IF(C140=\"\",\"\",VLOOKUP(U140,Lookup!$A$1:$B$21,2,FALSE))","v":""},null,null,null,null,null,null,null,null,null,null,null,null,null,null,null,null,null,null,null,null,null,"X"]
[{"$f":"IF(C141=\"\",\"\",VLOOKUP(D141,Lookup!$D$1:$E$1051,2,FALSE))","v":""},{"$f":"IF(C141=\"\",\"\",VLOOKUP(U141,Lookup!$A$1:$B$21,2,FALSE))","v":""},null,null,null,null,null,null,null,null,null,null,null,null,null,null,null,null,null,null,null,null,null,"X"]
[{"$f":"IF(C142=\"\",\"\",VLOOKUP(D142,Lookup!$D$1:$E$1051,2,FALSE))","v":""},{"$f":"IF(C142=\"\",\"\",VLOOKUP(U142,Lookup!$A$1:$B$21,2,FALSE))","v":""},null,null,null,null,null,null,null,null,null,null,null,null,null,null,null,null,null,null,null,null,null,"X"]
[{"$f":"IF(C143=\"\",\"\",VLOOKUP(D143,Lookup!$D$1:$E$1051,2,FALSE))","v":""},{"$f":"IF(C143=\"\",\"\",VLOOKUP(U143,Lookup!$A$1:$B$21,2,FALSE))","v":""},null,null,null,null,null,null,null,null,null,null,null,null,null,null,null,null,null,null,null,null,null,"X"]
[{"$f":"IF(C144=\"\",\"\",VLOOKUP(D144,Lookup!$D$1:$E$1051,2,FALSE))","v":""},{"$f":"IF(C144=\"\",\"\",VLOOKUP(U144,Lookup!$A$1:$B$21,2,FALSE))","v":""},null,null,null,null,null,null,null,null,null,null,null,null,null,null,null,null,null,null,null,null,null,"X"]
[{"$f":"IF(C145=\"\",\"\",VLOOKUP(D145,Lookup!$D$1:$E$1051,2,FALSE))","v":""},{"$f":"IF(C145=\"\",\"\",VLOOKUP(U145,Lookup!$A$1:$B$21,2,FALSE))","v":""},null,null,null,null,null,null,null,null,null,null,null,null,null,null,null,null,null,null,null,null,null,"X"]
[{"$f":"IF(C146=\"\",\"\",VLOOKUP(D146,Lookup!$D$1:$E$1051,2,FALSE))","v":""},{"$f":"IF(C146=\"\",\"\",VLOOKUP(U146,Lookup!$A$1:$B$21,2,FALSE))","v":""},null,null,null,null,null,null,null,null,null,null,null,null,null,null,null,null,null,null,null,null,null,"X"]
[{"$f":"IF(C147=\"\",\"\",VLOOKUP(D147,Lookup!$D$1:$E$1051,2,FALSE))","v":""},{"$f":"IF(C147=\"\",\"\",VLOOKUP(U147,Lookup!$A$1:$B$21,2,FALSE))","v":""},null,null,null,null,null,null,null,null,null,null,null,null,null,null,null,null,null,null,null,null,null,"X"]
[{"$f":"IF(C148=\"\",\"\",VLOOKUP(D148,Lookup!$D$1:$E$1051,2,FALSE))","v":""},{"$f":"IF(C148=\"\",\"\",VLOOKUP(U148,Lookup!$A$1:$B$21,2,FALSE))","v":""},null,null,null,null,null,null,null,null,null,null,null,null,null,null,null,null,null,null,null,null,null,"X"]
[{"$f":"IF(C149=\"\",\"\",VLOOKUP(D149,Lookup!$D$1:$E$1051,2,FALSE))","v":""},{"$f":"IF(C149=\"\",\"\",VLOOKUP(U149,Lookup!$A$1:$B$21,2,FALSE))","v":""},null,null,null,null,null,null,null,null,null,null,null,null,null,null,null,null,null,null,null,null,null,"X"]
[{"$f":"IF(C150=\"\",\"\",VLOOKUP(D150,Lookup!$D$1:$E$1051,2,FALSE))","v":""},{"$f":"IF(C150=\"\",\"\",VLOOKUP(U150,Lookup!$A$1:$B$21,2,FALSE))","v":""},null,null,null,null,null,null,null,null,null,null,null,null,null,null,null,null,null,null,null,null,null,"X"]
[{"$f":"IF(C151=\"\",\"\",VLOOKUP(D151,Lookup!$D$1:$E$1051,2,FALSE))","v":""},{"$f":"IF(C151=\"\",\"\",VLOOKUP(U151,Lookup!$A$1:$B$21,2,FALSE))","v":""},null,null,null,null,null,null,null,null,null,null,null,null,null,null,null,null,null,null,null,null,null,"X"]
[{"$f":"IF(C152=\"\",\"\",VLOOKUP(D152,Lookup!$D$1:$E$1051,2,FALSE))","v":""},{"$f":"IF(C152=\"\",\"\",VLOOKUP(U152,Lookup!$A$1:$B$21,2,FALSE))","v":""},null,null,null,null,null,null,null,null,null,null,null,null,null,null,null,null,null,null,null,null,null,"X"]
[{"$f":"IF(C153=\"\",\"\",VLOOKUP(D153,Lookup!$D$1:$E$1051,2,FALSE))","v":""},{"$f":"IF(C153=\"\",\"\",VLOOKUP(U153,Lookup!$A$1:$B$21,2,FALSE))","v":""},null,null,null,null,null,null,null,null,null,null,null,null,null,null,null,null,null,null,null,null,null,"X"]
[{"$f":"IF(C154=\"\",\"\",VLOOKUP(D154,Lookup!$D$1:$E$1051,2,FALSE))","v":""},{"$f":"IF(C154=\"\",\"\",VLOOKUP(U154,Lookup!$A$1:$B$21,2,FALSE))","v":""},null,null,null,null,null,null,null,null,null,null,null,null,null,null,null,null,null,null,null,null,null,"X"]
[{"$f":"IF(C155=\"\",\"\",VLOOKUP(D155,Lookup!$D$1:$E$1051,2,FALSE))","v":""},{"$f":"IF(C155=\"\",\"\",VLOOKUP(U155,Lookup!$A$1:$B$21,2,FALSE))","v":""},null,null,null,null,null,null,null,null,null,null,null,null,null,null,null,null,null,null,null,null,null,"X"]
[{"$f":"IF(C156=\"\",\"\",VLOOKUP(D156,Lookup!$D$1:$E$1051,2,FALSE))","v":""},{"$f":"IF(C156=\"\",\"\",VLOOKUP(U156,Lookup!$A$1:$B$21,2,FALSE))","v":""},null,null,null,null,null,null,null,null,null,null,null,null,null,null,null,null,null,null,null,null,null,"X"]
[{"$f":"IF(C157=\"\",\"\",VLOOKUP(D157,Lookup!$D$1:$E$1051,2,FALSE))","v":""},{"$f":"IF(C157=\"\",\"\",VLOOKUP(U157,Lookup!$A$1:$B$21,2,FALSE))","v":""},null,null,null,null,null,null,null,null,null,null,null,null,null,null,null,null,null,null,null,null,null,"X"]
[{"$f":"IF(C158=\"\",\"\",VLOOKUP(D158,Lookup!$D$1:$E$1051,2,FALSE))","v":""},{"$f":"IF(C158=\"\",\"\",VLOOKUP(U158,Lookup!$A$1:$B$21,2,FALSE))","v":""},null,null,null,null,null,null,null,null,null,null,null,null,null,null,null,null,null,null,null,null,null,"X"]
[{"$f":"IF(C159=\"\",\"\",VLOOKUP(D159,Lookup!$D$1:$E$1051,2,FALSE))","v":""},{"$f":"IF(C159=\"\",\"\",VLOOKUP(U159,Lookup!$A$1:$B$21,2,FALSE))","v":""},null,null,null,null,null,null,null,null,null,null,null,null,null,null,null,null,null,null,null,null,null,"X"]
[{"$f":"IF(C160=\"\",\"\",VLOOKUP(D160,Lookup!$D$1:$E$1051,2,FALSE))","v":""},{"$f":"IF(C160=\"\",\"\",VLOOKUP(U160,Lookup!$A$1:$B$21,2,FALSE))","v":""},null,null,null,null,null,null,null,null,null,null,null,null,null,null,null,null,null,null,null,null,null,"X"]
[{"$f":"IF(C161=\"\",\"\",VLOOKUP(D161,Lookup!$D$1:$E$1051,2,FALSE))","v":""},{"$f":"IF(C161=\"\",\"\",VLOOKUP(U161,Lookup!$A$1:$B$21,2,FALSE))","v":""},null,null,null,null,null,null,null,null,null,null,null,null,null,null,null,null,null,null,null,null,null,"X"]
[{"$f":"IF(C162=\"\",\"\",VLOOKUP(D162,Lookup!$D$1:$E$1051,2,FALSE))","v":""},{"$f":"IF(C162=\"\",\"\",VLOOKUP(U162,Lookup!$A$1:$B$21,2,FALSE))","v":""},null,null,null,null,null,null,null,null,null,null,null,null,null,null,null,null,null,null,null,null,null,"X"]
[{"$f":"IF(C163=\"\",\"\",VLOOKUP(D163,Lookup!$D$1:$E$1051,2,FALSE))","v":""},{"$f":"IF(C163=\"\",\"\",VLOOKUP(U163,Lookup!$A$1:$B$21,2,FALSE))","v":""},null,null,null,null,null,null,null,null,null,null,null,null,null,null,null,null,null,null,null,null,null,"X"]
[{"$f":"IF(C164=\"\",\"\",VLOOKUP(D164,Lookup!$D$1:$E$1051,2,FALSE))","v":""},{"$f":"IF(C164=\"\",\"\",VLOOKUP(U164,Lookup!$A$1:$B$21,2,FALSE))","v":""},null,null,null,null,null,null,null,null,null,null,null,null,null,null,null,null,null,null,null,null,null,"X"]
[{"$f":"IF(C165=\"\",\"\",VLOOKUP(D165,Lookup!$D$1:$E$1051,2,FALSE))","v":""},{"$f":"IF(C165=\"\",\"\",VLOOKUP(U165,Lookup!$A$1:$B$21,2,FALSE))","v":""},null,null,null,null,null,null,null,null,null,null,null,null,null,null,null,null,null,null,null,null,null,"X"]
[{"$f":"IF(C166=\"\",\"\",VLOOKUP(D166,Lookup!$D$1:$E$1051,2,FALSE))","v":""},{"$f":"IF(C166=\"\",\"\",VLOOKUP(U166,Lookup!$A$1:$B$21,2,FALSE))","v":""},null,null,null,null,null,null,null,null,null,null,null,null,null,null,null,null,null,null,null,null,null,"X"]
[{"$f":"IF(C167=\"\",\"\",VLOOKUP(D167,Lookup!$D$1:$E$1051,2,FALSE))","v":""},{"$f":"IF(C167=\"\",\"\",VLOOKUP(U167,Lookup!$A$1:$B$21,2,FALSE))","v":""},null,null,null,null,null,null,null,null,null,null,null,null,null,null,null,null,null,null,null,null,null,"X"]
[{"$f":"IF(C168=\"\",\"\",VLOOKUP(D168,Lookup!$D$1:$E$1051,2,FALSE))","v":""},{"$f":"IF(C168=\"\",\"\",VLOOKUP(U168,Lookup!$A$1:$B$21,2,FALSE))","v":""},null,null,null,null,null,null,null,null,null,null,null,null,null,null,null,null,null,null,null,null,null,"X"]
[{"$f":"IF(C169=\"\",\"\",VLOOKUP(D169,Lookup!$D$1:$E$1051,2,FALSE))","v":""},{"$f":"IF(C169=\"\",\"\",VLOOKUP(U169,Lookup!$A$1:$B$21,2,FALSE))","v":""},null,null,null,null,null,null,null,null,null,null,null,null,null,null,null,null,null,null,null,null,null,"X"]
[{"$f":"IF(C170=\"\",\"\",VLOOKUP(D170,Lookup!$D$1:$E$1051,2,FALSE))","v":""},{"$f":"IF(C170=\"\",\"\",VLOOKUP(U170,Lookup!$A$1:$B$21,2,FALSE))","v":""},null,null,null,null,null,null,null,null,null,null,null,null,null,null,null,null,null,null,null,null,null,"X"]
[{"$f":"IF(C171=\"\",\"\",VLOOKUP(D171,Lookup!$D$1:$E$1051,2,FALSE))","v":""},{"$f":"IF(C171=\"\",\"\",VLOOKUP(U171,Lookup!$A$1:$B$21,2,FALSE))","v":""},null,null,null,null,null,null,null,null,null,null,null,null,null,null,null,null,null,null,null,null,null,"X"]
[{"$f":"IF(C172=\"\",\"\",VLOOKUP(D172,Lookup!$D$1:$E$1051,2,FALSE))","v":""},{"$f":"IF(C172=\"\",\"\",VLOOKUP(U172,Lookup!$A$1:$B$21,2,FALSE))","v":""},null,null,null,null,null,null,null,null,null,null,null,null,null,null,null,null,null,null,null,null,null,"X"]
[{"$f":"IF(C173=\"\",\"\",VLOOKUP(D173,Lookup!$D$1:$E$1051,2,FALSE))","v":""},{"$f":"IF(C173=\"\",\"\",VLOOKUP(U173,Lookup!$A$1:$B$21,2,FALSE))","v":""},null,null,null,null,null,null,null,null,null,null,null,null,null,null,null,null,null,null,null,null,null,"X"]
[{"$f":"IF(C174=\"\",\"\",VLOOKUP(D174,Lookup!$D$1:$E$1051,2,FALSE))","v":""},{"$f":"IF(C174=\"\",\"\",VLOOKUP(U174,Lookup!$A$1:$B$21,2,FALSE))","v":""},null,null,null,null,null,null,null,null,null,null,null,null,null,null,null,null,null,null,null,null,null,"X"]
[{"$f":"IF(C175=\"\",\"\",VLOOKUP(D175,Lookup!$D$1:$E$1051,2,FALSE))","v":""},{"$f":"IF(C175=\"\",\"\",VLOOKUP(U175,Lookup!$A$1:$B$21,2,FALSE))","v":""},null,null,null,null,null,null,null,null,null,null,null,null,null,null,null,null,null,null,null,null,null,"X"]
[{"$f":"IF(C176=\"\",\"\",VLOOKUP(D176,Lookup!$D$1:$E$1051,2,FALSE))","v":""},{"$f":"IF(C176=\"\",\"\",VLOOKUP(U176,Lookup!$A$1:$B$21,2,FALSE))","v":""},null,null,null,null,null,null,null,null,null,null,null,null,null,null,null,null,null,null,null,null,null,"X"]
[{"$f":"IF(C177=\"\",\"\",VLOOKUP(D177,Lookup!$D$1:$E$1051,2,FALSE))","v":""},{"$f":"IF(C177=\"\",\"\",VLOOKUP(U177,Lookup!$A$1:$B$21,2,FALSE))","v":""},null,null,null,null,null,null,null,null,null,null,null,null,null,null,null,null,null,null,null,null,null,"X"]
[{"$f":"IF(C178=\"\",\"\",VLOOKUP(D178,Lookup!$D$1:$E$1051,2,FALSE))","v":""},{"$f":"IF(C178=\"\",\"\",VLOOKUP(U178,Lookup!$A$1:$B$21,2,FALSE))","v":""},null,null,null,null,null,null,null,null,null,null,null,null,null,null,null,null,null,null,null,null,null,"X"]
[{"$f":"IF(C179=\"\",\"\",VLOOKUP(D179,Lookup!$D$1:$E$1051,2,FALSE))","v":""},{"$f":"IF(C179=\"\",\"\",VLOOKUP(U179,Lookup!$A$1:$B$21,2,FALSE))","v":""},null,null,null,null,null,null,null,null,null,null,null,null,null,null,null,null,null,null,null,null,null,"X"]
[{"$f":"IF(C180=\"\",\"\",VLOOKUP(D180,Lookup!$D$1:$E$1051,2,FALSE))","v":""},{"$f":"IF(C180=\"\",\"\",VLOOKUP(U180,Lookup!$A$1:$B$21,2,FALSE))","v":""},null,null,null,null,null,null,null,null,null,null,null,null,null,null,null,null,null,null,null,null,null,"X"]
[{"$f":"IF(C181=\"\",\"\",VLOOKUP(D181,Lookup!$D$1:$E$1051,2,FALSE))","v":""},{"$f":"IF(C181=\"\",\"\",VLOOKUP(U181,Lookup!$A$1:$B$21,2,FALSE))","v":""},null,null,null,null,null,null,null,null,null,null,null,null,null,null,null,null,null,null,null,null,null,"X"]
[{"$f":"IF(C182=\"\",\"\",VLOOKUP(D182,Lookup!$D$1:$E$1051,2,FALSE))","v":""},{"$f":"IF(C182=\"\",\"\",VLOOKUP(U182,Lookup!$A$1:$B$21,2,FALSE))","v":""},null,null,null,null,null,null,null,null,null,null,null,null,null,null,null,null,null,null,null,null,null,"X"]
[{"$f":"IF(C183=\"\",\"\",VLOOKUP(D183,Lookup!$D$1:$E$1051,2,FALSE))","v":""},{"$f":"IF(C183=\"\",\"\",VLOOKUP(U183,Lookup!$A$1:$B$21,2,FALSE))","v":""},null,null,null,null,null,null,null,null,null,null,null,null,null,null,null,null,null,null,null,null,null,"X"]
[{"$f":"IF(C184=\"\",\"\",VLOOKUP(D184,Lookup!$D$1:$E$1051,2,FALSE))","v":""},{"$f":"IF(C184=\"\",\"\",VLOOKUP(U184,Lookup!$A$1:$B$21,2,FALSE))","v":""},null,null,null,null,null,null,null,null,null,null,null,null,null,null,null,null,null,null,null,null,null,"X"]
[{"$f":"IF(C185=\"\",\"\",VLOOKUP(D185,Lookup!$D$1:$E$1051,2,FALSE))","v":""},{"$f":"IF(C185=\"\",\"\",VLOOKUP(U185,Lookup!$A$1:$B$21,2,FALSE))","v":""},null,null,null,null,null,null,null,null,null,null,null,null,null,null,null,null,null,null,null,null,null,"X"]
[{"$f":"IF(C186=\"\",\"\",VLOOKUP(D186,Lookup!$D$1:$E$1051,2,FALSE))","v":""},{"$f":"IF(C186=\"\",\"\",VLOOKUP(U186,Lookup!$A$1:$B$21,2,FALSE))","v":""},null,null,null,null,null,null,null,null,null,null,null,null,null,null,null,null,null,null,null,null,null,"X"]
[{"$f":"IF(C187=\"\",\"\",VLOOKUP(D187,Lookup!$D$1:$E$1051,2,FALSE))","v":""},{"$f":"IF(C187=\"\",\"\",VLOOKUP(U187,Lookup!$A$1:$B$21,2,FALSE))","v":""},null,null,null,null,null,null,null,null,null,null,null,null,null,null,null,null,null,null,null,null,null,"X"]
[{"$f":"IF(C188=\"\",\"\",VLOOKUP(D188,Lookup!$D$1:$E$1051,2,FALSE))","v":""},{"$f":"IF(C188=\"\",\"\",VLOOKUP(U188,Lookup!$A$1:$B$21,2,FALSE))","v":""},null,null,null,null,null,null,null,null,null,null,null,null,null,null,null,null,null,null,null,null,null,"X"]
[{"$f":"IF(C189=\"\",\"\",VLOOKUP(D189,Lookup!$D$1:$E$1051,2,FALSE))","v":""},{"$f":"IF(C189=\"\",\"\",VLOOKUP(U189,Lookup!$A$1:$B$21,2,FALSE))","v":""},null,null,null,null,null,null,null,null,null,null,null,null,null,null,null,null,null,null,null,null,null,"X"]
[{"$f":"IF(C190=\"\",\"\",VLOOKUP(D190,Lookup!$D$1:$E$1051,2,FALSE))","v":""},{"$f":"IF(C190=\"\",\"\",VLOOKUP(U190,Lookup!$A$1:$B$21,2,FALSE))","v":""},null,null,null,null,null,null,null,null,null,null,null,null,null,null,null,null,null,null,null,null,null,"X"]
[{"$f":"IF(C191=\"\",\"\",VLOOKUP(D191,Lookup!$D$1:$E$1051,2,FALSE))","v":""},{"$f":"IF(C191=\"\",\"\",VLOOKUP(U191,Lookup!$A$1:$B$21,2,FALSE))","v":""},null,null,null,null,null,null,null,null,null,null,null,null,null,null,null,null,null,null,null,null,null,"X"]
[{"$f":"IF(C192=\"\",\"\",VLOOKUP(D192,Lookup!$D$1:$E$1051,2,FALSE))","v":""},{"$f":"IF(C192=\"\",\"\",VLOOKUP(U192,Lookup!$A$1:$B$21,2,FALSE))","v":""},null,null,null,null,null,null,null,null,null,null,null,null,null,null,null,null,null,null,null,null,null,"X"]
[{"$f":"IF(C193=\"\",\"\",VLOOKUP(D193,Lookup!$D$1:$E$1051,2,FALSE))","v":""},{"$f":"IF(C193=\"\",\"\",VLOOKUP(U193,Lookup!$A$1:$B$21,2,FALSE))","v":""},null,null,null,null,null,null,null,null,null,null,null,null,null,null,null,null,null,null,null,null,null,"X"]
[{"$f":"IF(C194=\"\",\"\",VLOOKUP(D194,Lookup!$D$1:$E$1051,2,FALSE))","v":""},{"$f":"IF(C194=\"\",\"\",VLOOKUP(U194,Lookup!$A$1:$B$21,2,FALSE))","v":""},null,null,null,null,null,null,null,null,null,null,null,null,null,null,null,null,null,null,null,null,null,"X"]
[{"$f":"IF(C195=\"\",\"\",VLOOKUP(D195,Lookup!$D$1:$E$1051,2,FALSE))","v":""},{"$f":"IF(C195=\"\",\"\",VLOOKUP(U195,Lookup!$A$1:$B$21,2,FALSE))","v":""},null,null,null,null,null,null,null,null,null,null,null,null,null,null,null,null,null,null,null,null,null,"X"]
[{"$f":"IF(C196=\"\",\"\",VLOOKUP(D196,Lookup!$D$1:$E$1051,2,FALSE))","v":""},{"$f":"IF(C196=\"\",\"\",VLOOKUP(U196,Lookup!$A$1:$B$21,2,FALSE))","v":""},null,null,null,null,null,null,null,null,null,null,null,null,null,null,null,null,null,null,null,null,null,"X"]
[{"$f":"IF(C197=\"\",\"\",VLOOKUP(D197,Lookup!$D$1:$E$1051,2,FALSE))","v":""},{"$f":"IF(C197=\"\",\"\",VLOOKUP(U197,Lookup!$A$1:$B$21,2,FALSE))","v":""},null,null,null,null,null,null,null,null,null,null,null,null,null,null,null,null,null,null,null,null,null,"X"]
[{"$f":"IF(C198=\"\",\"\",VLOOKUP(D198,Lookup!$D$1:$E$1051,2,FALSE))","v":""},{"$f":"IF(C198=\"\",\"\",VLOOKUP(U198,Lookup!$A$1:$B$21,2,FALSE))","v":""},null,null,null,null,null,null,null,null,null,null,null,null,null,null,null,null,null,null,null,null,null,"X"]
[{"$f":"IF(C199=\"\",\"\",VLOOKUP(D199,Lookup!$D$1:$E$1051,2,FALSE))","v":""},{"$f":"IF(C199=\"\",\"\",VLOOKUP(U199,Lookup!$A$1:$B$21,2,FALSE))","v":""},null,null,null,null,null,null,null,null,null,null,null,null,null,null,null,null,null,null,null,null,null,"X"]
[{"$f":"IF(C200=\"\",\"\",VLOOKUP(D200,Lookup!$D$1:$E$1051,2,FALSE))","v":""},{"$f":"IF(C200=\"\",\"\",VLOOKUP(U200,Lookup!$A$1:$B$21,2,FALSE))","v":""},null,null,null,null,null,null,null,null,null,null,null,null,null,null,null,null,null,null,null,null,null,"X"]
[{"$f":"IF(C201=\"\",\"\",VLOOKUP(D201,Lookup!$D$1:$E$1051,2,FALSE))","v":""},{"$f":"IF(C201=\"\",\"\",VLOOKUP(U201,Lookup!$A$1:$B$21,2,FALSE))","v":""},null,null,null,null,null,null,null,null,null,null,null,null,null,null,null,null,null,null,null,null,null,"X"]
[{"$f":"IF(C202=\"\",\"\",VLOOKUP(D202,Lookup!$D$1:$E$1051,2,FALSE))","v":""},{"$f":"IF(C202=\"\",\"\",VLOOKUP(U202,Lookup!$A$1:$B$21,2,FALSE))","v":""},null,null,null,null,null,null,null,null,null,null,null,null,null,null,null,null,null,null,null,null,null,"X"]
[{"$f":"IF(C203=\"\",\"\",VLOOKUP(D203,Lookup!$D$1:$E$1051,2,FALSE))","v":""},{"$f":"IF(C203=\"\",\"\",VLOOKUP(U203,Lookup!$A$1:$B$21,2,FALSE))","v":""},null,null,null,null,null,null,null,null,null,null,null,null,null,null,null,null,null,null,null,null,null,"X"]
[{"$f":"IF(C204=\"\",\"\",VLOOKUP(D204,Lookup!$D$1:$E$1051,2,FALSE))","v":""},{"$f":"IF(C204=\"\",\"\",VLOOKUP(U204,Lookup!$A$1:$B$21,2,FALSE))","v":""},null,null,null,null,null,null,null,null,null,null,null,null,null,null,null,null,null,null,null,null,null,"X"]
[{"$f":"IF(C205=\"\",\"\",VLOOKUP(D205,Lookup!$D$1:$E$1051,2,FALSE))","v":""},{"$f":"IF(C205=\"\",\"\",VLOOKUP(U205,Lookup!$A$1:$B$21,2,FALSE))","v":""},null,null,null,null,null,null,null,null,null,null,null,null,null,null,null,null,null,null,null,null,null,"X"]
[{"$f":"IF(C206=\"\",\"\",VLOOKUP(D206,Lookup!$D$1:$E$1051,2,FALSE))","v":""},{"$f":"IF(C206=\"\",\"\",VLOOKUP(U206,Lookup!$A$1:$B$21,2,FALSE))","v":""},null,null,null,null,null,null,null,null,null,null,null,null,null,null,null,null,null,null,null,null,null,"X"]
[{"$f":"IF(C207=\"\",\"\",VLOOKUP(D207,Lookup!$D$1:$E$1051,2,FALSE))","v":""},{"$f":"IF(C207=\"\",\"\",VLOOKUP(U207,Lookup!$A$1:$B$21,2,FALSE))","v":""},null,null,null,null,null,null,null,null,null,null,null,null,null,null,null,null,null,null,null,null,null,"X"]
[{"$f":"IF(C208=\"\",\"\",VLOOKUP(D208,Lookup!$D$1:$E$1051,2,FALSE))","v":""},{"$f":"IF(C208=\"\",\"\",VLOOKUP(U208,Lookup!$A$1:$B$21,2,FALSE))","v":""},null,null,null,null,null,null,null,null,null,null,null,null,null,null,null,null,null,null,null,null,null,"X"]
[{"$f":"IF(C209=\"\",\"\",VLOOKUP(D209,Lookup!$D$1:$E$1051,2,FALSE))","v":""},{"$f":"IF(C209=\"\",\"\",VLOOKUP(U209,Lookup!$A$1:$B$21,2,FALSE))","v":""},null,null,null,null,null,null,null,null,null,null,null,null,null,null,null,null,null,null,null,null,null,"X"]
[{"$f":"IF(C210=\"\",\"\",VLOOKUP(D210,Lookup!$D$1:$E$1051,2,FALSE))","v":""},{"$f":"IF(C210=\"\",\"\",VLOOKUP(U210,Lookup!$A$1:$B$21,2,FALSE))","v":""},null,null,null,null,null,null,null,null,null,null,null,null,null,null,null,null,null,null,null,null,null,"X"]
[{"$f":"IF(C211=\"\",\"\",VLOOKUP(D211,Lookup!$D$1:$E$1051,2,FALSE))","v":""},{"$f":"IF(C211=\"\",\"\",VLOOKUP(U211,Lookup!$A$1:$B$21,2,FALSE))","v":""},null,null,null,null,null,null,null,null,null,null,null,null,null,null,null,null,null,null,null,null,null,"X"]
[{"$f":"IF(C212=\"\",\"\",VLOOKUP(D212,Lookup!$D$1:$E$1051,2,FALSE))","v":""},{"$f":"IF(C212=\"\",\"\",VLOOKUP(U212,Lookup!$A$1:$B$21,2,FALSE))","v":""},null,null,null,null,null,null,null,null,null,null,null,null,null,null,null,null,null,null,null,null,null,"X"]
[{"$f":"IF(C213=\"\",\"\",VLOOKUP(D213,Lookup!$D$1:$E$1051,2,FALSE))","v":""},{"$f":"IF(C213=\"\",\"\",VLOOKUP(U213,Lookup!$A$1:$B$21,2,FALSE))","v":""},null,null,null,null,null,null,null,null,null,null,null,null,null,null,null,null,null,null,null,null,null,"X"]
[{"$f":"IF(C214=\"\",\"\",VLOOKUP(D214,Lookup!$D$1:$E$1051,2,FALSE))","v":""},{"$f":"IF(C214=\"\",\"\",VLOOKUP(U214,Lookup!$A$1:$B$21,2,FALSE))","v":""},null,null,null,null,null,null,null,null,null,null,null,null,null,null,null,null,null,null,null,null,null,"X"]
[{"$f":"IF(C215=\"\",\"\",VLOOKUP(D215,Lookup!$D$1:$E$1051,2,FALSE))","v":""},{"$f":"IF(C215=\"\",\"\",VLOOKUP(U215,Lookup!$A$1:$B$21,2,FALSE))","v":""},null,null,null,null,null,null,null,null,null,null,null,null,null,null,null,null,null,null,null,null,null,"X"]
[{"$f":"IF(C216=\"\",\"\",VLOOKUP(D216,Lookup!$D$1:$E$1051,2,FALSE))","v":""},{"$f":"IF(C216=\"\",\"\",VLOOKUP(U216,Lookup!$A$1:$B$21,2,FALSE))","v":""},null,null,null,null,null,null,null,null,null,null,null,null,null,null,null,null,null,null,null,null,null,"X"]
[{"$f":"IF(C217=\"\",\"\",VLOOKUP(D217,Lookup!$D$1:$E$1051,2,FALSE))","v":""},{"$f":"IF(C217=\"\",\"\",VLOOKUP(U217,Lookup!$A$1:$B$21,2,FALSE))","v":""},null,null,null,null,null,null,null,null,null,null,null,null,null,null,null,null,null,null,null,null,null,"X"]
[{"$f":"IF(C218=\"\",\"\",VLOOKUP(D218,Lookup!$D$1:$E$1051,2,FALSE))","v":""},{"$f":"IF(C218=\"\",\"\",VLOOKUP(U218,Lookup!$A$1:$B$21,2,FALSE))","v":""},null,null,null,null,null,null,null,null,null,null,null,null,null,null,null,null,null,null,null,null,null,"X"]
[{"$f":"IF(C219=\"\",\"\",VLOOKUP(D219,Lookup!$D$1:$E$1051,2,FALSE))","v":""},{"$f":"IF(C219=\"\",\"\",VLOOKUP(U219,Lookup!$A$1:$B$21,2,FALSE))","v":""},null,null,null,null,null,null,null,null,null,null,null,null,null,null,null,null,null,null,null,null,null,"X"]
[{"$f":"IF(C220=\"\",\"\",VLOOKUP(D220,Lookup!$D$1:$E$1051,2,FALSE))","v":""},{"$f":"IF(C220=\"\",\"\",VLOOKUP(U220,Lookup!$A$1:$B$21,2,FALSE))","v":""},null,null,null,null,null,null,null,null,null,null,null,null,null,null,null,null,null,null,null,null,null,"X"]
[{"$f":"IF(C221=\"\",\"\",VLOOKUP(D221,Lookup!$D$1:$E$1051,2,FALSE))","v":""},{"$f":"IF(C221=\"\",\"\",VLOOKUP(U221,Lookup!$A$1:$B$21,2,FALSE))","v":""},null,null,null,null,null,null,null,null,null,null,null,null,null,null,null,null,null,null,null,null,null,"X"]
[{"$f":"IF(C222=\"\",\"\",VLOOKUP(D222,Lookup!$D$1:$E$1051,2,FALSE))","v":""},{"$f":"IF(C222=\"\",\"\",VLOOKUP(U222,Lookup!$A$1:$B$21,2,FALSE))","v":""},null,null,null,null,null,null,null,null,null,null,null,null,null,null,null,null,null,null,null,null,null,"X"]
[{"$f":"IF(C223=\"\",\"\",VLOOKUP(D223,Lookup!$D$1:$E$1051,2,FALSE))","v":""},{"$f":"IF(C223=\"\",\"\",VLOOKUP(U223,Lookup!$A$1:$B$21,2,FALSE))","v":""},null,null,null,null,null,null,null,null,null,null,null,null,null,null,null,null,null,null,null,null,null,"X"]
[{"$f":"IF(C224=\"\",\"\",VLOOKUP(D224,Lookup!$D$1:$E$1051,2,FALSE))","v":""},{"$f":"IF(C224=\"\",\"\",VLOOKUP(U224,Lookup!$A$1:$B$21,2,FALSE))","v":""},null,null,null,null,null,null,null,null,null,null,null,null,null,null,null,null,null,null,null,null,null,"X"]
[{"$f":"IF(C225=\"\",\"\",VLOOKUP(D225,Lookup!$D$1:$E$1051,2,FALSE))","v":""},{"$f":"IF(C225=\"\",\"\",VLOOKUP(U225,Lookup!$A$1:$B$21,2,FALSE))","v":""},null,null,null,null,null,null,null,null,null,null,null,null,null,null,null,null,null,null,null,null,null,"X"]
[{"$f":"IF(C226=\"\",\"\",VLOOKUP(D226,Lookup!$D$1:$E$1051,2,FALSE))","v":""},{"$f":"IF(C226=\"\",\"\",VLOOKUP(U226,Lookup!$A$1:$B$21,2,FALSE))","v":""},null,null,null,null,null,null,null,null,null,null,null,null,null,null,null,null,null,null,null,null,null,"X"]
[{"$f":"IF(C227=\"\",\"\",VLOOKUP(D227,Lookup!$D$1:$E$1051,2,FALSE))","v":""},{"$f":"IF(C227=\"\",\"\",VLOOKUP(U227,Lookup!$A$1:$B$21,2,FALSE))","v":""},null,null,null,null,null,null,null,null,null,null,null,null,null,null,null,null,null,null,null,null,null,"X"]
[{"$f":"IF(C228=\"\",\"\",VLOOKUP(D228,Lookup!$D$1:$E$1051,2,FALSE))","v":""},{"$f":"IF(C228=\"\",\"\",VLOOKUP(U228,Lookup!$A$1:$B$21,2,FALSE))","v":""},null,null,null,null,null,null,null,null,null,null,null,null,null,null,null,null,null,null,null,null,null,"X"]
[{"$f":"IF(C229=\"\",\"\",VLOOKUP(D229,Lookup!$D$1:$E$1051,2,FALSE))","v":""},{"$f":"IF(C229=\"\",\"\",VLOOKUP(U229,Lookup!$A$1:$B$21,2,FALSE))","v":""},null,null,null,null,null,null,null,null,null,null,null,null,null,null,null,null,null,null,null,null,null,"X"]
[{"$f":"IF(C230=\"\",\"\",VLOOKUP(D230,Lookup!$D$1:$E$1051,2,FALSE))","v":""},{"$f":"IF(C230=\"\",\"\",VLOOKUP(U230,Lookup!$A$1:$B$21,2,FALSE))","v":""},null,null,null,null,null,null,null,null,null,null,null,null,null,null,null,null,null,null,null,null,null,"X"]
[{"$f":"IF(C231=\"\",\"\",VLOOKUP(D231,Lookup!$D$1:$E$1051,2,FALSE))","v":""},{"$f":"IF(C231=\"\",\"\",VLOOKUP(U231,Lookup!$A$1:$B$21,2,FALSE))","v":""},null,null,null,null,null,null,null,null,null,null,null,null,null,null,null,null,null,null,null,null,null,"X"]
[{"$f":"IF(C232=\"\",\"\",VLOOKUP(D232,Lookup!$D$1:$E$1051,2,FALSE))","v":""},{"$f":"IF(C232=\"\",\"\",VLOOKUP(U232,Lookup!$A$1:$B$21,2,FALSE))","v":""},null,null,null,null,null,null,null,null,null,null,null,null,null,null,null,null,null,null,null,null,null,"X"]
[{"$f":"IF(C233=\"\",\"\",VLOOKUP(D233,Lookup!$D$1:$E$1051,2,FALSE))","v":""},{"$f":"IF(C233=\"\",\"\",VLOOKUP(U233,Lookup!$A$1:$B$21,2,FALSE))","v":""},null,null,null,null,null,null,null,null,null,null,null,null,null,null,null,null,null,null,null,null,null,"X"]
[{"$f":"IF(C234=\"\",\"\",VLOOKUP(D234,Lookup!$D$1:$E$1051,2,FALSE))","v":""},{"$f":"IF(C234=\"\",\"\",VLOOKUP(U234,Lookup!$A$1:$B$21,2,FALSE))","v":""},null,null,null,null,null,null,null,null,null,null,null,null,null,null,null,null,null,null,null,null,null,"X"]
[{"$f":"IF(C235=\"\",\"\",VLOOKUP(D235,Lookup!$D$1:$E$1051,2,FALSE))","v":""},{"$f":"IF(C235=\"\",\"\",VLOOKUP(U235,Lookup!$A$1:$B$21,2,FALSE))","v":""},null,null,null,null,null,null,null,null,null,null,null,null,null,null,null,null,null,null,null,null,null,"X"]
[{"$f":"IF(C236=\"\",\"\",VLOOKUP(D236,Lookup!$D$1:$E$1051,2,FALSE))","v":""},{"$f":"IF(C236=\"\",\"\",VLOOKUP(U236,Lookup!$A$1:$B$21,2,FALSE))","v":""},null,null,null,null,null,null,null,null,null,null,null,null,null,null,null,null,null,null,null,null,null,"X"]
[{"$f":"IF(C237=\"\",\"\",VLOOKUP(D237,Lookup!$D$1:$E$1051,2,FALSE))","v":""},{"$f":"IF(C237=\"\",\"\",VLOOKUP(U237,Lookup!$A$1:$B$21,2,FALSE))","v":""},null,null,null,null,null,null,null,null,null,null,null,null,null,null,null,null,null,null,null,null,null,"X"]
[{"$f":"IF(C238=\"\",\"\",VLOOKUP(D238,Lookup!$D$1:$E$1051,2,FALSE))","v":""},{"$f":"IF(C238=\"\",\"\",VLOOKUP(U238,Lookup!$A$1:$B$21,2,FALSE))","v":""},null,null,null,null,null,null,null,null,null,null,null,null,null,null,null,null,null,null,null,null,null,"X"]
[{"$f":"IF(C239=\"\",\"\",VLOOKUP(D239,Lookup!$D$1:$E$1051,2,FALSE))","v":""},{"$f":"IF(C239=\"\",\"\",VLOOKUP(U239,Lookup!$A$1:$B$21,2,FALSE))","v":""},null,null,null,null,null,null,null,null,null,null,null,null,null,null,null,null,null,null,null,null,null,"X"]
[{"$f":"IF(C240=\"\",\"\",VLOOKUP(D240,Lookup!$D$1:$E$1051,2,FALSE))","v":""},{"$f":"IF(C240=\"\",\"\",VLOOKUP(U240,Lookup!$A$1:$B$21,2,FALSE))","v":""},null,null,null,null,null,null,null,null,null,null,null,null,null,null,null,null,null,null,null,null,null,"X"]
[{"$f":"IF(C241=\"\",\"\",VLOOKUP(D241,Lookup!$D$1:$E$1051,2,FALSE))","v":""},{"$f":"IF(C241=\"\",\"\",VLOOKUP(U241,Lookup!$A$1:$B$21,2,FALSE))","v":""},null,null,null,null,null,null,null,null,null,null,null,null,null,null,null,null,null,null,null,null,null,"X"]
[{"$f":"IF(C242=\"\",\"\",VLOOKUP(D242,Lookup!$D$1:$E$1051,2,FALSE))","v":""},{"$f":"IF(C242=\"\",\"\",VLOOKUP(U242,Lookup!$A$1:$B$21,2,FALSE))","v":""},null,null,null,null,null,null,null,null,null,null,null,null,null,null,null,null,null,null,null,null,null,"X"]
[{"$f":"IF(C243=\"\",\"\",VLOOKUP(D243,Lookup!$D$1:$E$1051,2,FALSE))","v":""},{"$f":"IF(C243=\"\",\"\",VLOOKUP(U243,Lookup!$A$1:$B$21,2,FALSE))","v":""},null,null,null,null,null,null,null,null,null,null,null,null,null,null,null,null,null,null,null,null,null,"X"]
[{"$f":"IF(C244=\"\",\"\",VLOOKUP(D244,Lookup!$D$1:$E$1051,2,FALSE))","v":""},{"$f":"IF(C244=\"\",\"\",VLOOKUP(U244,Lookup!$A$1:$B$21,2,FALSE))","v":""},null,null,null,null,null,null,null,null,null,null,null,null,null,null,null,null,null,null,null,null,null,"X"]
[{"$f":"IF(C245=\"\",\"\",VLOOKUP(D245,Lookup!$D$1:$E$1051,2,FALSE))","v":""},{"$f":"IF(C245=\"\",\"\",VLOOKUP(U245,Lookup!$A$1:$B$21,2,FALSE))","v":""},null,null,null,null,null,null,null,null,null,null,null,null,null,null,null,null,null,null,null,null,null,"X"]
[{"$f":"IF(C246=\"\",\"\",VLOOKUP(D246,Lookup!$D$1:$E$1051,2,FALSE))","v":""},{"$f":"IF(C246=\"\",\"\",VLOOKUP(U246,Lookup!$A$1:$B$21,2,FALSE))","v":""},null,null,null,null,null,null,null,null,null,null,null,null,null,null,null,null,null,null,null,null,null,"X"]
[{"$f":"IF(C247=\"\",\"\",VLOOKUP(D247,Lookup!$D$1:$E$1051,2,FALSE))","v":""},{"$f":"IF(C247=\"\",\"\",VLOOKUP(U247,Lookup!$A$1:$B$21,2,FALSE))","v":""},null,null,null,null,null,null,null,null,null,null,null,null,null,null,null,null,null,null,null,null,null,"X"]
[{"$f":"IF(C248=\"\",\"\",VLOOKUP(D248,Lookup!$D$1:$E$1051,2,FALSE))","v":""},{"$f":"IF(C248=\"\",\"\",VLOOKUP(U248,Lookup!$A$1:$B$21,2,FALSE))","v":""},null,null,null,null,null,null,null,null,null,null,null,null,null,null,null,null,null,null,null,null,null,"X"]
[{"$f":"IF(C249=\"\",\"\",VLOOKUP(D249,Lookup!$D$1:$E$1051,2,FALSE))","v":""},{"$f":"IF(C249=\"\",\"\",VLOOKUP(U249,Lookup!$A$1:$B$21,2,FALSE))","v":""},null,null,null,null,null,null,null,null,null,null,null,null,null,null,null,null,null,null,null,null,null,"X"]
[{"$f":"IF(C250=\"\",\"\",VLOOKUP(D250,Lookup!$D$1:$E$1051,2,FALSE))","v":""},{"$f":"IF(C250=\"\",\"\",VLOOKUP(U250,Lookup!$A$1:$B$21,2,FALSE))","v":""},null,null,null,null,null,null,null,null,null,null,null,null,null,null,null,null,null,null,null,null,null,"X"]
[{"$f":"IF(C251=\"\",\"\",VLOOKUP(D251,Lookup!$D$1:$E$1051,2,FALSE))","v":""},{"$f":"IF(C251=\"\",\"\",VLOOKUP(U251,Lookup!$A$1:$B$21,2,FALSE))","v":""},null,null,null,null,null,null,null,null,null,null,null,null,null,null,null,null,null,null,null,null,null,"X"]
[{"$f":"IF(C252=\"\",\"\",VLOOKUP(D252,Lookup!$D$1:$E$1051,2,FALSE))","v":""},{"$f":"IF(C252=\"\",\"\",VLOOKUP(U252,Lookup!$A$1:$B$21,2,FALSE))","v":""},null,null,null,null,null,null,null,null,null,null,null,null,null,null,null,null,null,null,null,null,null,"X"]
[{"$f":"IF(C253=\"\",\"\",VLOOKUP(D253,Lookup!$D$1:$E$1051,2,FALSE))","v":""},{"$f":"IF(C253=\"\",\"\",VLOOKUP(U253,Lookup!$A$1:$B$21,2,FALSE))","v":""},null,null,null,null,null,null,null,null,null,null,null,null,null,null,null,null,null,null,null,null,null,"X"]
[{"$f":"IF(C254=\"\",\"\",VLOOKUP(D254,Lookup!$D$1:$E$1051,2,FALSE))","v":""},{"$f":"IF(C254=\"\",\"\",VLOOKUP(U254,Lookup!$A$1:$B$21,2,FALSE))","v":""},null,null,null,null,null,null,null,null,null,null,null,null,null,null,null,null,null,null,null,null,null,"X"]
[{"$f":"IF(C255=\"\",\"\",VLOOKUP(D255,Lookup!$D$1:$E$1051,2,FALSE))","v":""},{"$f":"IF(C255=\"\",\"\",VLOOKUP(U255,Lookup!$A$1:$B$21,2,FALSE))","v":""},null,null,null,null,null,null,null,null,null,null,null,null,null,null,null,null,null,null,null,null,null,"X"]
[{"$f":"IF(C256=\"\",\"\",VLOOKUP(D256,Lookup!$D$1:$E$1051,2,FALSE))","v":""},{"$f":"IF(C256=\"\",\"\",VLOOKUP(U256,Lookup!$A$1:$B$21,2,FALSE))","v":""},null,null,null,null,null,null,null,null,null,null,null,null,null,null,null,null,null,null,null,null,null,"X"]
[{"$f":"IF(C257=\"\",\"\",VLOOKUP(D257,Lookup!$D$1:$E$1051,2,FALSE))","v":""},{"$f":"IF(C257=\"\",\"\",VLOOKUP(U257,Lookup!$A$1:$B$21,2,FALSE))","v":""},null,null,null,null,null,null,null,null,null,null,null,null,null,null,null,null,null,null,null,null,null,"X"]
[{"$f":"IF(C258=\"\",\"\",VLOOKUP(D258,Lookup!$D$1:$E$1051,2,FALSE))","v":""},{"$f":"IF(C258=\"\",\"\",VLOOKUP(U258,Lookup!$A$1:$B$21,2,FALSE))","v":""},null,null,null,null,null,null,null,null,null,null,null,null,null,null,null,null,null,null,null,null,null,"X"]
[{"$f":"IF(C259=\"\",\"\",VLOOKUP(D259,Lookup!$D$1:$E$1051,2,FALSE))","v":""},{"$f":"IF(C259=\"\",\"\",VLOOKUP(U259,Lookup!$A$1:$B$21,2,FALSE))","v":""},null,null,null,null,null,null,null,null,null,null,null,null,null,null,null,null,null,null,null,null,null,"X"]
[{"$f":"IF(C260=\"\",\"\",VLOOKUP(D260,Lookup!$D$1:$E$1051,2,FALSE))","v":""},{"$f":"IF(C260=\"\",\"\",VLOOKUP(U260,Lookup!$A$1:$B$21,2,FALSE))","v":""},null,null,null,null,null,null,null,null,null,null,null,null,null,null,null,null,null,null,null,null,null,"X"]
[{"$f":"IF(C261=\"\",\"\",VLOOKUP(D261,Lookup!$D$1:$E$1051,2,FALSE))","v":""},{"$f":"IF(C261=\"\",\"\",VLOOKUP(U261,Lookup!$A$1:$B$21,2,FALSE))","v":""},null,null,null,null,null,null,null,null,null,null,null,null,null,null,null,null,null,null,null,null,null,"X"]
[{"$f":"IF(C262=\"\",\"\",VLOOKUP(D262,Lookup!$D$1:$E$1051,2,FALSE))","v":""},{"$f":"IF(C262=\"\",\"\",VLOOKUP(U262,Lookup!$A$1:$B$21,2,FALSE))","v":""},null,null,null,null,null,null,null,null,null,null,null,null,null,null,null,null,null,null,null,null,null,"X"]
[{"$f":"IF(C263=\"\",\"\",VLOOKUP(D263,Lookup!$D$1:$E$1051,2,FALSE))","v":""},{"$f":"IF(C263=\"\",\"\",VLOOKUP(U263,Lookup!$A$1:$B$21,2,FALSE))","v":""},null,null,null,null,null,null,null,null,null,null,null,null,null,null,null,null,null,null,null,null,null,"X"]
[{"$f":"IF(C264=\"\",\"\",VLOOKUP(D264,Lookup!$D$1:$E$1051,2,FALSE))","v":""},{"$f":"IF(C264=\"\",\"\",VLOOKUP(U264,Lookup!$A$1:$B$21,2,FALSE))","v":""},null,null,null,null,null,null,null,null,null,null,null,null,null,null,null,null,null,null,null,null,null,"X"]
[{"$f":"IF(C265=\"\",\"\",VLOOKUP(D265,Lookup!$D$1:$E$1051,2,FALSE))","v":""},{"$f":"IF(C265=\"\",\"\",VLOOKUP(U265,Lookup!$A$1:$B$21,2,FALSE))","v":""},null,null,null,null,null,null,null,null,null,null,null,null,null,null,null,null,null,null,null,null,null,"X"]
[{"$f":"IF(C266=\"\",\"\",VLOOKUP(D266,Lookup!$D$1:$E$1051,2,FALSE))","v":""},{"$f":"IF(C266=\"\",\"\",VLOOKUP(U266,Lookup!$A$1:$B$21,2,FALSE))","v":""},null,null,null,null,null,null,null,null,null,null,null,null,null,null,null,null,null,null,null,null,null,"X"]
[{"$f":"IF(C267=\"\",\"\",VLOOKUP(D267,Lookup!$D$1:$E$1051,2,FALSE))","v":""},{"$f":"IF(C267=\"\",\"\",VLOOKUP(U267,Lookup!$A$1:$B$21,2,FALSE))","v":""},null,null,null,null,null,null,null,null,null,null,null,null,null,null,null,null,null,null,null,null,null,"X"]
[{"$f":"IF(C268=\"\",\"\",VLOOKUP(D268,Lookup!$D$1:$E$1051,2,FALSE))","v":""},{"$f":"IF(C268=\"\",\"\",VLOOKUP(U268,Lookup!$A$1:$B$21,2,FALSE))","v":""},null,null,null,null,null,null,null,null,null,null,null,null,null,null,null,null,null,null,null,null,null,"X"]
[{"$f":"IF(C269=\"\",\"\",VLOOKUP(D269,Lookup!$D$1:$E$1051,2,FALSE))","v":""},{"$f":"IF(C269=\"\",\"\",VLOOKUP(U269,Lookup!$A$1:$B$21,2,FALSE))","v":""},null,null,null,null,null,null,null,null,null,null,null,null,null,null,null,null,null,null,null,null,null,"X"]
[{"$f":"IF(C270=\"\",\"\",VLOOKUP(D270,Lookup!$D$1:$E$1051,2,FALSE))","v":""},{"$f":"IF(C270=\"\",\"\",VLOOKUP(U270,Lookup!$A$1:$B$21,2,FALSE))","v":""},null,null,null,null,null,null,null,null,null,null,null,null,null,null,null,null,null,null,null,null,null,"X"]
[{"$f":"IF(C271=\"\",\"\",VLOOKUP(D271,Lookup!$D$1:$E$1051,2,FALSE))","v":""},{"$f":"IF(C271=\"\",\"\",VLOOKUP(U271,Lookup!$A$1:$B$21,2,FALSE))","v":""},null,null,null,null,null,null,null,null,null,null,null,null,null,null,null,null,null,null,null,null,null,"X"]
[{"$f":"IF(C272=\"\",\"\",VLOOKUP(D272,Lookup!$D$1:$E$1051,2,FALSE))","v":""},{"$f":"IF(C272=\"\",\"\",VLOOKUP(U272,Lookup!$A$1:$B$21,2,FALSE))","v":""},null,null,null,null,null,null,null,null,null,null,null,null,null,null,null,null,null,null,null,null,null,"X"]
[{"$f":"IF(C273=\"\",\"\",VLOOKUP(D273,Lookup!$D$1:$E$1051,2,FALSE))","v":""},{"$f":"IF(C273=\"\",\"\",VLOOKUP(U273,Lookup!$A$1:$B$21,2,FALSE))","v":""},null,null,null,null,null,null,null,null,null,null,null,null,null,null,null,null,null,null,null,null,null,"X"]
[{"$f":"IF(C274=\"\",\"\",VLOOKUP(D274,Lookup!$D$1:$E$1051,2,FALSE))","v":""},{"$f":"IF(C274=\"\",\"\",VLOOKUP(U274,Lookup!$A$1:$B$21,2,FALSE))","v":""},null,null,null,null,null,null,null,null,null,null,null,null,null,null,null,null,null,null,null,null,null,"X"]
[{"$f":"IF(C275=\"\",\"\",VLOOKUP(D275,Lookup!$D$1:$E$1051,2,FALSE))","v":""},{"$f":"IF(C275=\"\",\"\",VLOOKUP(U275,Lookup!$A$1:$B$21,2,FALSE))","v":""},null,null,null,null,null,null,null,null,null,null,null,null,null,null,null,null,null,null,null,null,null,"X"]
[{"$f":"IF(C276=\"\",\"\",VLOOKUP(D276,Lookup!$D$1:$E$1051,2,FALSE))","v":""},{"$f":"IF(C276=\"\",\"\",VLOOKUP(U276,Lookup!$A$1:$B$21,2,FALSE))","v":""},null,null,null,null,null,null,null,null,null,null,null,null,null,null,null,null,null,null,null,null,null,"X"]
[{"$f":"IF(C277=\"\",\"\",VLOOKUP(D277,Lookup!$D$1:$E$1051,2,FALSE))","v":""},{"$f":"IF(C277=\"\",\"\",VLOOKUP(U277,Lookup!$A$1:$B$21,2,FALSE))","v":""},null,null,null,null,null,null,null,null,null,null,null,null,null,null,null,null,null,null,null,null,null,"X"]
[{"$f":"IF(C278=\"\",\"\",VLOOKUP(D278,Lookup!$D$1:$E$1051,2,FALSE))","v":""},{"$f":"IF(C278=\"\",\"\",VLOOKUP(U278,Lookup!$A$1:$B$21,2,FALSE))","v":""},null,null,null,null,null,null,null,null,null,null,null,null,null,null,null,null,null,null,null,null,null,"X"]
[{"$f":"IF(C279=\"\",\"\",VLOOKUP(D279,Lookup!$D$1:$E$1051,2,FALSE))","v":""},{"$f":"IF(C279=\"\",\"\",VLOOKUP(U279,Lookup!$A$1:$B$21,2,FALSE))","v":""},null,null,null,null,null,null,null,null,null,null,null,null,null,null,null,null,null,null,null,null,null,"X"]
[{"$f":"IF(C280=\"\",\"\",VLOOKUP(D280,Lookup!$D$1:$E$1051,2,FALSE))","v":""},{"$f":"IF(C280=\"\",\"\",VLOOKUP(U280,Lookup!$A$1:$B$21,2,FALSE))","v":""},null,null,null,null,null,null,null,null,null,null,null,null,null,null,null,null,null,null,null,null,null,"X"]
[{"$f":"IF(C281=\"\",\"\",VLOOKUP(D281,Lookup!$D$1:$E$1051,2,FALSE))","v":""},{"$f":"IF(C281=\"\",\"\",VLOOKUP(U281,Lookup!$A$1:$B$21,2,FALSE))","v":""},null,null,null,null,null,null,null,null,null,null,null,null,null,null,null,null,null,null,null,null,null,"X"]
[{"$f":"IF(C282=\"\",\"\",VLOOKUP(D282,Lookup!$D$1:$E$1051,2,FALSE))","v":""},{"$f":"IF(C282=\"\",\"\",VLOOKUP(U282,Lookup!$A$1:$B$21,2,FALSE))","v":""},null,null,null,null,null,null,null,null,null,null,null,null,null,null,null,null,null,null,null,null,null,"X"]
[{"$f":"IF(C283=\"\",\"\",VLOOKUP(D283,Lookup!$D$1:$E$1051,2,FALSE))","v":""},{"$f":"IF(C283=\"\",\"\",VLOOKUP(U283,Lookup!$A$1:$B$21,2,FALSE))","v":""},null,null,null,null,null,null,null,null,null,null,null,null,null,null,null,null,null,null,null,null,null,"X"]
[{"$f":"IF(C284=\"\",\"\",VLOOKUP(D284,Lookup!$D$1:$E$1051,2,FALSE))","v":""},{"$f":"IF(C284=\"\",\"\",VLOOKUP(U284,Lookup!$A$1:$B$21,2,FALSE))","v":""},null,null,null,null,null,null,null,null,null,null,null,null,null,null,null,null,null,null,null,null,null,"X"]
[{"$f":"IF(C285=\"\",\"\",VLOOKUP(D285,Lookup!$D$1:$E$1051,2,FALSE))","v":""},{"$f":"IF(C285=\"\",\"\",VLOOKUP(U285,Lookup!$A$1:$B$21,2,FALSE))","v":""},null,null,null,null,null,null,null,null,null,null,null,null,null,null,null,null,null,null,null,null,null,"X"]
[{"$f":"IF(C286=\"\",\"\",VLOOKUP(D286,Lookup!$D$1:$E$1051,2,FALSE))","v":""},{"$f":"IF(C286=\"\",\"\",VLOOKUP(U286,Lookup!$A$1:$B$21,2,FALSE))","v":""},null,null,null,null,null,null,null,null,null,null,null,null,null,null,null,null,null,null,null,null,null,"X"]
[{"$f":"IF(C287=\"\",\"\",VLOOKUP(D287,Lookup!$D$1:$E$1051,2,FALSE))","v":""},{"$f":"IF(C287=\"\",\"\",VLOOKUP(U287,Lookup!$A$1:$B$21,2,FALSE))","v":""},null,null,null,null,null,null,null,null,null,null,null,null,null,null,null,null,null,null,null,null,null,"X"]
[{"$f":"IF(C288=\"\",\"\",VLOOKUP(D288,Lookup!$D$1:$E$1051,2,FALSE))","v":""},{"$f":"IF(C288=\"\",\"\",VLOOKUP(U288,Lookup!$A$1:$B$21,2,FALSE))","v":""},null,null,null,null,null,null,null,null,null,null,null,null,null,null,null,null,null,null,null,null,null,"X"]
[{"$f":"IF(C289=\"\",\"\",VLOOKUP(D289,Lookup!$D$1:$E$1051,2,FALSE))","v":""},{"$f":"IF(C289=\"\",\"\",VLOOKUP(U289,Lookup!$A$1:$B$21,2,FALSE))","v":""},null,null,null,null,null,null,null,null,null,null,null,null,null,null,null,null,null,null,null,null,null,"X"]
[{"$f":"IF(C290=\"\",\"\",VLOOKUP(D290,Lookup!$D$1:$E$1051,2,FALSE))","v":""},{"$f":"IF(C290=\"\",\"\",VLOOKUP(U290,Lookup!$A$1:$B$21,2,FALSE))","v":""},null,null,null,null,null,null,null,null,null,null,null,null,null,null,null,null,null,null,null,null,null,"X"]
[{"$f":"IF(C291=\"\",\"\",VLOOKUP(D291,Lookup!$D$1:$E$1051,2,FALSE))","v":""},{"$f":"IF(C291=\"\",\"\",VLOOKUP(U291,Lookup!$A$1:$B$21,2,FALSE))","v":""},null,null,null,null,null,null,null,null,null,null,null,null,null,null,null,null,null,null,null,null,null,"X"]
[{"$f":"IF(C292=\"\",\"\",VLOOKUP(D292,Lookup!$D$1:$E$1051,2,FALSE))","v":""},{"$f":"IF(C292=\"\",\"\",VLOOKUP(U292,Lookup!$A$1:$B$21,2,FALSE))","v":""},null,null,null,null,null,null,null,null,null,null,null,null,null,null,null,null,null,null,null,null,null,"X"]
[{"$f":"IF(C293=\"\",\"\",VLOOKUP(D293,Lookup!$D$1:$E$1051,2,FALSE))","v":""},{"$f":"IF(C293=\"\",\"\",VLOOKUP(U293,Lookup!$A$1:$B$21,2,FALSE))","v":""},null,null,null,null,null,null,null,null,null,null,null,null,null,null,null,null,null,null,null,null,null,"X"]
[{"$f":"IF(C294=\"\",\"\",VLOOKUP(D294,Lookup!$D$1:$E$1051,2,FALSE))","v":""},{"$f":"IF(C294=\"\",\"\",VLOOKUP(U294,Lookup!$A$1:$B$21,2,FALSE))","v":""},null,null,null,null,null,null,null,null,null,null,null,null,null,null,null,null,null,null,null,null,null,"X"]
[{"$f":"IF(C295=\"\",\"\",VLOOKUP(D295,Lookup!$D$1:$E$1051,2,FALSE))","v":""},{"$f":"IF(C295=\"\",\"\",VLOOKUP(U295,Lookup!$A$1:$B$21,2,FALSE))","v":""},null,null,null,null,null,null,null,null,null,null,null,null,null,null,null,null,null,null,null,null,null,"X"]
[{"$f":"IF(C296=\"\",\"\",VLOOKUP(D296,Lookup!$D$1:$E$1051,2,FALSE))","v":""},{"$f":"IF(C296=\"\",\"\",VLOOKUP(U296,Lookup!$A$1:$B$21,2,FALSE))","v":""},null,null,null,null,null,null,null,null,null,null,null,null,null,null,null,null,null,null,null,null,null,"X"]
[{"$f":"IF(C297=\"\",\"\",VLOOKUP(D297,Lookup!$D$1:$E$1051,2,FALSE))","v":""},{"$f":"IF(C297=\"\",\"\",VLOOKUP(U297,Lookup!$A$1:$B$21,2,FALSE))","v":""},null,null,null,null,null,null,null,null,null,null,null,null,null,null,null,null,null,null,null,null,null,"X"]
[{"$f":"IF(C298=\"\",\"\",VLOOKUP(D298,Lookup!$D$1:$E$1051,2,FALSE))","v":""},{"$f":"IF(C298=\"\",\"\",VLOOKUP(U298,Lookup!$A$1:$B$21,2,FALSE))","v":""},null,null,null,null,null,null,null,null,null,null,null,null,null,null,null,null,null,null,null,null,null,"X"]
[{"$f":"IF(C299=\"\",\"\",VLOOKUP(D299,Lookup!$D$1:$E$1051,2,FALSE))","v":""},{"$f":"IF(C299=\"\",\"\",VLOOKUP(U299,Lookup!$A$1:$B$21,2,FALSE))","v":""},null,null,null,null,null,null,null,null,null,null,null,null,null,null,null,null,null,null,null,null,null,"X"]
[{"$f":"IF(C300=\"\",\"\",VLOOKUP(D300,Lookup!$D$1:$E$1051,2,FALSE))","v":""},{"$f":"IF(C300=\"\",\"\",VLOOKUP(U300,Lookup!$A$1:$B$21,2,FALSE))","v":""},null,null,null,null,null,null,null,null,null,null,null,null,null,null,null,null,null,null,null,null,null,"X"]
[{"$f":"IF(C301=\"\",\"\",VLOOKUP(D301,Lookup!$D$1:$E$1051,2,FALSE))","v":""},{"$f":"IF(C301=\"\",\"\",VLOOKUP(U301,Lookup!$A$1:$B$21,2,FALSE))","v":""},null,null,null,null,null,null,null,null,null,null,null,null,null,null,null,null,null,null,null,null,null,"X"]
[{"$f":"IF(C302=\"\",\"\",VLOOKUP(D302,Lookup!$D$1:$E$1051,2,FALSE))","v":""},{"$f":"IF(C302=\"\",\"\",VLOOKUP(U302,Lookup!$A$1:$B$21,2,FALSE))","v":""},null,null,null,null,null,null,null,null,null,null,null,null,null,null,null,null,null,null,null,null,null,"X"]
[{"$f":"IF(C303=\"\",\"\",VLOOKUP(D303,Lookup!$D$1:$E$1051,2,FALSE))","v":""},{"$f":"IF(C303=\"\",\"\",VLOOKUP(U303,Lookup!$A$1:$B$21,2,FALSE))","v":""},null,null,null,null,null,null,null,null,null,null,null,null,null,null,null,null,null,null,null,null,null,"X"]
[{"$f":"IF(C304=\"\",\"\",VLOOKUP(D304,Lookup!$D$1:$E$1051,2,FALSE))","v":""},{"$f":"IF(C304=\"\",\"\",VLOOKUP(U304,Lookup!$A$1:$B$21,2,FALSE))","v":""},null,null,null,null,null,null,null,null,null,null,null,null,null,null,null,null,null,null,null,null,null,"X"]
[{"$f":"IF(C305=\"\",\"\",VLOOKUP(D305,Lookup!$D$1:$E$1051,2,FALSE))","v":""},{"$f":"IF(C305=\"\",\"\",VLOOKUP(U305,Lookup!$A$1:$B$21,2,FALSE))","v":""},null,null,null,null,null,null,null,null,null,null,null,null,null,null,null,null,null,null,null,null,null,"X"]
[{"$f":"IF(C306=\"\",\"\",VLOOKUP(D306,Lookup!$D$1:$E$1051,2,FALSE))","v":""},{"$f":"IF(C306=\"\",\"\",VLOOKUP(U306,Lookup!$A$1:$B$21,2,FALSE))","v":""},null,null,null,null,null,null,null,null,null,null,null,null,null,null,null,null,null,null,null,null,null,"X"]
[{"$f":"IF(C307=\"\",\"\",VLOOKUP(D307,Lookup!$D$1:$E$1051,2,FALSE))","v":""},{"$f":"IF(C307=\"\",\"\",VLOOKUP(U307,Lookup!$A$1:$B$21,2,FALSE))","v":""},null,null,null,null,null,null,null,null,null,null,null,null,null,null,null,null,null,null,null,null,null,"X"]
[{"$f":"IF(C308=\"\",\"\",VLOOKUP(D308,Lookup!$D$1:$E$1051,2,FALSE))","v":""},{"$f":"IF(C308=\"\",\"\",VLOOKUP(U308,Lookup!$A$1:$B$21,2,FALSE))","v":""},null,null,null,null,null,null,null,null,null,null,null,null,null,null,null,null,null,null,null,null,null,"X"]
[{"$f":"IF(C309=\"\",\"\",VLOOKUP(D309,Lookup!$D$1:$E$1051,2,FALSE))","v":""},{"$f":"IF(C309=\"\",\"\",VLOOKUP(U309,Lookup!$A$1:$B$21,2,FALSE))","v":""},null,null,null,null,null,null,null,null,null,null,null,null,null,null,null,null,null,null,null,null,null,"X"]
[{"$f":"IF(C310=\"\",\"\",VLOOKUP(D310,Lookup!$D$1:$E$1051,2,FALSE))","v":""},{"$f":"IF(C310=\"\",\"\",VLOOKUP(U310,Lookup!$A$1:$B$21,2,FALSE))","v":""},null,null,null,null,null,null,null,null,null,null,null,null,null,null,null,null,null,null,null,null,null,"X"]
[{"$f":"IF(C311=\"\",\"\",VLOOKUP(D311,Lookup!$D$1:$E$1051,2,FALSE))","v":""},{"$f":"IF(C311=\"\",\"\",VLOOKUP(U311,Lookup!$A$1:$B$21,2,FALSE))","v":""},null,null,null,null,null,null,null,null,null,null,null,null,null,null,null,null,null,null,null,null,null,"X"]
[{"$f":"IF(C312=\"\",\"\",VLOOKUP(D312,Lookup!$D$1:$E$1051,2,FALSE))","v":""},{"$f":"IF(C312=\"\",\"\",VLOOKUP(U312,Lookup!$A$1:$B$21,2,FALSE))","v":""},null,null,null,null,null,null,null,null,null,null,null,null,null,null,null,null,null,null,null,null,null,"X"]
[{"$f":"IF(C313=\"\",\"\",VLOOKUP(D313,Lookup!$D$1:$E$1051,2,FALSE))","v":""},{"$f":"IF(C313=\"\",\"\",VLOOKUP(U313,Lookup!$A$1:$B$21,2,FALSE))","v":""},null,null,null,null,null,null,null,null,null,null,null,null,null,null,null,null,null,null,null,null,null,"X"]
[{"$f":"IF(C314=\"\",\"\",VLOOKUP(D314,Lookup!$D$1:$E$1051,2,FALSE))","v":""},{"$f":"IF(C314=\"\",\"\",VLOOKUP(U314,Lookup!$A$1:$B$21,2,FALSE))","v":""},null,null,null,null,null,null,null,null,null,null,null,null,null,null,null,null,null,null,null,null,null,"X"]
[{"$f":"IF(C315=\"\",\"\",VLOOKUP(D315,Lookup!$D$1:$E$1051,2,FALSE))","v":""},{"$f":"IF(C315=\"\",\"\",VLOOKUP(U315,Lookup!$A$1:$B$21,2,FALSE))","v":""},null,null,null,null,null,null,null,null,null,null,null,null,null,null,null,null,null,null,null,null,null,"X"]
[{"$f":"IF(C316=\"\",\"\",VLOOKUP(D316,Lookup!$D$1:$E$1051,2,FALSE))","v":""},{"$f":"IF(C316=\"\",\"\",VLOOKUP(U316,Lookup!$A$1:$B$21,2,FALSE))","v":""},null,null,null,null,null,null,null,null,null,null,null,null,null,null,null,null,null,null,null,null,null,"X"]
[{"$f":"IF(C317=\"\",\"\",VLOOKUP(D317,Lookup!$D$1:$E$1051,2,FALSE))","v":""},{"$f":"IF(C317=\"\",\"\",VLOOKUP(U317,Lookup!$A$1:$B$21,2,FALSE))","v":""},null,null,null,null,null,null,null,null,null,null,null,null,null,null,null,null,null,null,null,null,null,"X"]
[{"$f":"IF(C318=\"\",\"\",VLOOKUP(D318,Lookup!$D$1:$E$1051,2,FALSE))","v":""},{"$f":"IF(C318=\"\",\"\",VLOOKUP(U318,Lookup!$A$1:$B$21,2,FALSE))","v":""},null,null,null,null,null,null,null,null,null,null,null,null,null,null,null,null,null,null,null,null,null,"X"]
[{"$f":"IF(C319=\"\",\"\",VLOOKUP(D319,Lookup!$D$1:$E$1051,2,FALSE))","v":""},{"$f":"IF(C319=\"\",\"\",VLOOKUP(U319,Lookup!$A$1:$B$21,2,FALSE))","v":""},null,null,null,null,null,null,null,null,null,null,null,null,null,null,null,null,null,null,null,null,null,"X"]
[{"$f":"IF(C320=\"\",\"\",VLOOKUP(D320,Lookup!$D$1:$E$1051,2,FALSE))","v":""},{"$f":"IF(C320=\"\",\"\",VLOOKUP(U320,Lookup!$A$1:$B$21,2,FALSE))","v":""},null,null,null,null,null,null,null,null,null,null,null,null,null,null,null,null,null,null,null,null,null,"X"]
[{"$f":"IF(C321=\"\",\"\",VLOOKUP(D321,Lookup!$D$1:$E$1051,2,FALSE))","v":""},{"$f":"IF(C321=\"\",\"\",VLOOKUP(U321,Lookup!$A$1:$B$21,2,FALSE))","v":""},null,null,null,null,null,null,null,null,null,null,null,null,null,null,null,null,null,null,null,null,null,"X"]
[{"$f":"IF(C322=\"\",\"\",VLOOKUP(D322,Lookup!$D$1:$E$1051,2,FALSE))","v":""},{"$f":"IF(C322=\"\",\"\",VLOOKUP(U322,Lookup!$A$1:$B$21,2,FALSE))","v":""},null,null,null,null,null,null,null,null,null,null,null,null,null,null,null,null,null,null,null,null,null,"X"]
[{"$f":"IF(C323=\"\",\"\",VLOOKUP(D323,Lookup!$D$1:$E$1051,2,FALSE))","v":""},{"$f":"IF(C323=\"\",\"\",VLOOKUP(U323,Lookup!$A$1:$B$21,2,FALSE))","v":""},null,null,null,null,null,null,null,null,null,null,null,null,null,null,null,null,null,null,null,null,null,"X"]
[{"$f":"IF(C324=\"\",\"\",VLOOKUP(D324,Lookup!$D$1:$E$1051,2,FALSE))","v":""},{"$f":"IF(C324=\"\",\"\",VLOOKUP(U324,Lookup!$A$1:$B$21,2,FALSE))","v":""},null,null,null,null,null,null,null,null,null,null,null,null,null,null,null,null,null,null,null,null,null,"X"]
[{"$f":"IF(C325=\"\",\"\",VLOOKUP(D325,Lookup!$D$1:$E$1051,2,FALSE))","v":""},{"$f":"IF(C325=\"\",\"\",VLOOKUP(U325,Lookup!$A$1:$B$21,2,FALSE))","v":""},null,null,null,null,null,null,null,null,null,null,null,null,null,null,null,null,null,null,null,null,null,"X"]
[{"$f":"IF(C326=\"\",\"\",VLOOKUP(D326,Lookup!$D$1:$E$1051,2,FALSE))","v":""},{"$f":"IF(C326=\"\",\"\",VLOOKUP(U326,Lookup!$A$1:$B$21,2,FALSE))","v":""},null,null,null,null,null,null,null,null,null,null,null,null,null,null,null,null,null,null,null,null,null,"X"]
[{"$f":"IF(C327=\"\",\"\",VLOOKUP(D327,Lookup!$D$1:$E$1051,2,FALSE))","v":""},{"$f":"IF(C327=\"\",\"\",VLOOKUP(U327,Lookup!$A$1:$B$21,2,FALSE))","v":""},null,null,null,null,null,null,null,null,null,null,null,null,null,null,null,null,null,null,null,null,null,"X"]
[{"$f":"IF(C328=\"\",\"\",VLOOKUP(D328,Lookup!$D$1:$E$1051,2,FALSE))","v":""},{"$f":"IF(C328=\"\",\"\",VLOOKUP(U328,Lookup!$A$1:$B$21,2,FALSE))","v":""},null,null,null,null,null,null,null,null,null,null,null,null,null,null,null,null,null,null,null,null,null,"X"]
[{"$f":"IF(C329=\"\",\"\",VLOOKUP(D329,Lookup!$D$1:$E$1051,2,FALSE))","v":""},{"$f":"IF(C329=\"\",\"\",VLOOKUP(U329,Lookup!$A$1:$B$21,2,FALSE))","v":""},null,null,null,null,null,null,null,null,null,null,null,null,null,null,null,null,null,null,null,null,null,"X"]
[{"$f":"IF(C330=\"\",\"\",VLOOKUP(D330,Lookup!$D$1:$E$1051,2,FALSE))","v":""},{"$f":"IF(C330=\"\",\"\",VLOOKUP(U330,Lookup!$A$1:$B$21,2,FALSE))","v":""},null,null,null,null,null,null,null,null,null,null,null,null,null,null,null,null,null,null,null,null,null,"X"]
[{"$f":"IF(C331=\"\",\"\",VLOOKUP(D331,Lookup!$D$1:$E$1051,2,FALSE))","v":""},{"$f":"IF(C331=\"\",\"\",VLOOKUP(U331,Lookup!$A$1:$B$21,2,FALSE))","v":""},null,null,null,null,null,null,null,null,null,null,null,null,null,null,null,null,null,null,null,null,null,"X"]
[{"$f":"IF(C332=\"\",\"\",VLOOKUP(D332,Lookup!$D$1:$E$1051,2,FALSE))","v":""},{"$f":"IF(C332=\"\",\"\",VLOOKUP(U332,Lookup!$A$1:$B$21,2,FALSE))","v":""},null,null,null,null,null,null,null,null,null,null,null,null,null,null,null,null,null,null,null,null,null,"X"]
[{"$f":"IF(C333=\"\",\"\",VLOOKUP(D333,Lookup!$D$1:$E$1051,2,FALSE))","v":""},{"$f":"IF(C333=\"\",\"\",VLOOKUP(U333,Lookup!$A$1:$B$21,2,FALSE))","v":""},null,null,null,null,null,null,null,null,null,null,null,null,null,null,null,null,null,null,null,null,null,"X"]
[{"$f":"IF(C334=\"\",\"\",VLOOKUP(D334,Lookup!$D$1:$E$1051,2,FALSE))","v":""},{"$f":"IF(C334=\"\",\"\",VLOOKUP(U334,Lookup!$A$1:$B$21,2,FALSE))","v":""},null,null,null,null,null,null,null,null,null,null,null,null,null,null,null,null,null,null,null,null,null,"X"]
[{"$f":"IF(C335=\"\",\"\",VLOOKUP(D335,Lookup!$D$1:$E$1051,2,FALSE))","v":""},{"$f":"IF(C335=\"\",\"\",VLOOKUP(U335,Lookup!$A$1:$B$21,2,FALSE))","v":""},null,null,null,null,null,null,null,null,null,null,null,null,null,null,null,null,null,null,null,null,null,"X"]
[{"$f":"IF(C336=\"\",\"\",VLOOKUP(D336,Lookup!$D$1:$E$1051,2,FALSE))","v":""},{"$f":"IF(C336=\"\",\"\",VLOOKUP(U336,Lookup!$A$1:$B$21,2,FALSE))","v":""},null,null,null,null,null,null,null,null,null,null,null,null,null,null,null,null,null,null,null,null,null,"X"]
[{"$f":"IF(C337=\"\",\"\",VLOOKUP(D337,Lookup!$D$1:$E$1051,2,FALSE))","v":""},{"$f":"IF(C337=\"\",\"\",VLOOKUP(U337,Lookup!$A$1:$B$21,2,FALSE))","v":""},null,null,null,null,null,null,null,null,null,null,null,null,null,null,null,null,null,null,null,null,null,"X"]
[{"$f":"IF(C338=\"\",\"\",VLOOKUP(D338,Lookup!$D$1:$E$1051,2,FALSE))","v":""},{"$f":"IF(C338=\"\",\"\",VLOOKUP(U338,Lookup!$A$1:$B$21,2,FALSE))","v":""},null,null,null,null,null,null,null,null,null,null,null,null,null,null,null,null,null,null,null,null,null,"X"]
[{"$f":"IF(C339=\"\",\"\",VLOOKUP(D339,Lookup!$D$1:$E$1051,2,FALSE))","v":""},{"$f":"IF(C339=\"\",\"\",VLOOKUP(U339,Lookup!$A$1:$B$21,2,FALSE))","v":""},null,null,null,null,null,null,null,null,null,null,null,null,null,null,null,null,null,null,null,null,null,"X"]
[{"$f":"IF(C340=\"\",\"\",VLOOKUP(D340,Lookup!$D$1:$E$1051,2,FALSE))","v":""},{"$f":"IF(C340=\"\",\"\",VLOOKUP(U340,Lookup!$A$1:$B$21,2,FALSE))","v":""},null,null,null,null,null,null,null,null,null,null,null,null,null,null,null,null,null,null,null,null,null,"X"]
[{"$f":"IF(C341=\"\",\"\",VLOOKUP(D341,Lookup!$D$1:$E$1051,2,FALSE))","v":""},{"$f":"IF(C341=\"\",\"\",VLOOKUP(U341,Lookup!$A$1:$B$21,2,FALSE))","v":""},null,null,null,null,null,null,null,null,null,null,null,null,null,null,null,null,null,null,null,null,null,"X"]
[{"$f":"IF(C342=\"\",\"\",VLOOKUP(D342,Lookup!$D$1:$E$1051,2,FALSE))","v":""},{"$f":"IF(C342=\"\",\"\",VLOOKUP(U342,Lookup!$A$1:$B$21,2,FALSE))","v":""},null,null,null,null,null,null,null,null,null,null,null,null,null,null,null,null,null,null,null,null,null,"X"]
[{"$f":"IF(C343=\"\",\"\",VLOOKUP(D343,Lookup!$D$1:$E$1051,2,FALSE))","v":""},{"$f":"IF(C343=\"\",\"\",VLOOKUP(U343,Lookup!$A$1:$B$21,2,FALSE))","v":""},null,null,null,null,null,null,null,null,null,null,null,null,null,null,null,null,null,null,null,null,null,"X"]
[{"$f":"IF(C344=\"\",\"\",VLOOKUP(D344,Lookup!$D$1:$E$1051,2,FALSE))","v":""},{"$f":"IF(C344=\"\",\"\",VLOOKUP(U344,Lookup!$A$1:$B$21,2,FALSE))","v":""},null,null,null,null,null,null,null,null,null,null,null,null,null,null,null,null,null,null,null,null,null,"X"]
[{"$f":"IF(C345=\"\",\"\",VLOOKUP(D345,Lookup!$D$1:$E$1051,2,FALSE))","v":""},{"$f":"IF(C345=\"\",\"\",VLOOKUP(U345,Lookup!$A$1:$B$21,2,FALSE))","v":""},null,null,null,null,null,null,null,null,null,null,null,null,null,null,null,null,null,null,null,null,null,"X"]
[{"$f":"IF(C346=\"\",\"\",VLOOKUP(D346,Lookup!$D$1:$E$1051,2,FALSE))","v":""},{"$f":"IF(C346=\"\",\"\",VLOOKUP(U346,Lookup!$A$1:$B$21,2,FALSE))","v":""},null,null,null,null,null,null,null,null,null,null,null,null,null,null,null,null,null,null,null,null,null,"X"]
[{"$f":"IF(C347=\"\",\"\",VLOOKUP(D347,Lookup!$D$1:$E$1051,2,FALSE))","v":""},{"$f":"IF(C347=\"\",\"\",VLOOKUP(U347,Lookup!$A$1:$B$21,2,FALSE))","v":""},null,null,null,null,null,null,null,null,null,null,null,null,null,null,null,null,null,null,null,null,null,"X"]
[{"$f":"IF(C348=\"\",\"\",VLOOKUP(D348,Lookup!$D$1:$E$1051,2,FALSE))","v":""},{"$f":"IF(C348=\"\",\"\",VLOOKUP(U348,Lookup!$A$1:$B$21,2,FALSE))","v":""},null,null,null,null,null,null,null,null,null,null,null,null,null,null,null,null,null,null,null,null,null,"X"]
[{"$f":"IF(C349=\"\",\"\",VLOOKUP(D349,Lookup!$D$1:$E$1051,2,FALSE))","v":""},{"$f":"IF(C349=\"\",\"\",VLOOKUP(U349,Lookup!$A$1:$B$21,2,FALSE))","v":""},null,null,null,null,null,null,null,null,null,null,null,null,null,null,null,null,null,null,null,null,null,"X"]
[{"$f":"IF(C350=\"\",\"\",VLOOKUP(D350,Lookup!$D$1:$E$1051,2,FALSE))","v":""},{"$f":"IF(C350=\"\",\"\",VLOOKUP(U350,Lookup!$A$1:$B$21,2,FALSE))","v":""},null,null,null,null,null,null,null,null,null,null,null,null,null,null,null,null,null,null,null,null,null,"X"]
[{"$f":"IF(C351=\"\",\"\",VLOOKUP(D351,Lookup!$D$1:$E$1051,2,FALSE))","v":""},{"$f":"IF(C351=\"\",\"\",VLOOKUP(U351,Lookup!$A$1:$B$21,2,FALSE))","v":""},null,null,null,null,null,null,null,null,null,null,null,null,null,null,null,null,null,null,null,null,null,"X"]
[{"$f":"IF(C352=\"\",\"\",VLOOKUP(D352,Lookup!$D$1:$E$1051,2,FALSE))","v":""},{"$f":"IF(C352=\"\",\"\",VLOOKUP(U352,Lookup!$A$1:$B$21,2,FALSE))","v":""},null,null,null,null,null,null,null,null,null,null,null,null,null,null,null,null,null,null,null,null,null,"X"]
[{"$f":"IF(C353=\"\",\"\",VLOOKUP(D353,Lookup!$D$1:$E$1051,2,FALSE))","v":""},{"$f":"IF(C353=\"\",\"\",VLOOKUP(U353,Lookup!$A$1:$B$21,2,FALSE))","v":""},null,null,null,null,null,null,null,null,null,null,null,null,null,null,null,null,null,null,null,null,null,"X"]
[{"$f":"IF(C354=\"\",\"\",VLOOKUP(D354,Lookup!$D$1:$E$1051,2,FALSE))","v":""},{"$f":"IF(C354=\"\",\"\",VLOOKUP(U354,Lookup!$A$1:$B$21,2,FALSE))","v":""},null,null,null,null,null,null,null,null,null,null,null,null,null,null,null,null,null,null,null,null,null,"X"]
[{"$f":"IF(C355=\"\",\"\",VLOOKUP(D355,Lookup!$D$1:$E$1051,2,FALSE))","v":""},{"$f":"IF(C355=\"\",\"\",VLOOKUP(U355,Lookup!$A$1:$B$21,2,FALSE))","v":""},null,null,null,null,null,null,null,null,null,null,null,null,null,null,null,null,null,null,null,null,null,"X"]
[{"$f":"IF(C356=\"\",\"\",VLOOKUP(D356,Lookup!$D$1:$E$1051,2,FALSE))","v":""},{"$f":"IF(C356=\"\",\"\",VLOOKUP(U356,Lookup!$A$1:$B$21,2,FALSE))","v":""},null,null,null,null,null,null,null,null,null,null,null,null,null,null,null,null,null,null,null,null,null,"X"]
[{"$f":"IF(C357=\"\",\"\",VLOOKUP(D357,Lookup!$D$1:$E$1051,2,FALSE))","v":""},{"$f":"IF(C357=\"\",\"\",VLOOKUP(U357,Lookup!$A$1:$B$21,2,FALSE))","v":""},null,null,null,null,null,null,null,null,null,null,null,null,null,null,null,null,null,null,null,null,null,"X"]
[{"$f":"IF(C358=\"\",\"\",VLOOKUP(D358,Lookup!$D$1:$E$1051,2,FALSE))","v":""},{"$f":"IF(C358=\"\",\"\",VLOOKUP(U358,Lookup!$A$1:$B$21,2,FALSE))","v":""},null,null,null,null,null,null,null,null,null,null,null,null,null,null,null,null,null,null,null,null,null,"X"]
[{"$f":"IF(C359=\"\",\"\",VLOOKUP(D359,Lookup!$D$1:$E$1051,2,FALSE))","v":""},{"$f":"IF(C359=\"\",\"\",VLOOKUP(U359,Lookup!$A$1:$B$21,2,FALSE))","v":""},null,null,null,null,null,null,null,null,null,null,null,null,null,null,null,null,null,null,null,null,null,"X"]
[{"$f":"IF(C360=\"\",\"\",VLOOKUP(D360,Lookup!$D$1:$E$1051,2,FALSE))","v":""},{"$f":"IF(C360=\"\",\"\",VLOOKUP(U360,Lookup!$A$1:$B$21,2,FALSE))","v":""},null,null,null,null,null,null,null,null,null,null,null,null,null,null,null,null,null,null,null,null,null,"X"]
[{"$f":"IF(C361=\"\",\"\",VLOOKUP(D361,Lookup!$D$1:$E$1051,2,FALSE))","v":""},{"$f":"IF(C361=\"\",\"\",VLOOKUP(U361,Lookup!$A$1:$B$21,2,FALSE))","v":""},null,null,null,null,null,null,null,null,null,null,null,null,null,null,null,null,null,null,null,null,null,"X"]
[{"$f":"IF(C362=\"\",\"\",VLOOKUP(D362,Lookup!$D$1:$E$1051,2,FALSE))","v":""},{"$f":"IF(C362=\"\",\"\",VLOOKUP(U362,Lookup!$A$1:$B$21,2,FALSE))","v":""},null,null,null,null,null,null,null,null,null,null,null,null,null,null,null,null,null,null,null,null,null,"X"]
[{"$f":"IF(C363=\"\",\"\",VLOOKUP(D363,Lookup!$D$1:$E$1051,2,FALSE))","v":""},{"$f":"IF(C363=\"\",\"\",VLOOKUP(U363,Lookup!$A$1:$B$21,2,FALSE))","v":""},null,null,null,null,null,null,null,null,null,null,null,null,null,null,null,null,null,null,null,null,null,"X"]
[{"$f":"IF(C364=\"\",\"\",VLOOKUP(D364,Lookup!$D$1:$E$1051,2,FALSE))","v":""},{"$f":"IF(C364=\"\",\"\",VLOOKUP(U364,Lookup!$A$1:$B$21,2,FALSE))","v":""},null,null,null,null,null,null,null,null,null,null,null,null,null,null,null,null,null,null,null,null,null,"X"]
[{"$f":"IF(C365=\"\",\"\",VLOOKUP(D365,Lookup!$D$1:$E$1051,2,FALSE))","v":""},{"$f":"IF(C365=\"\",\"\",VLOOKUP(U365,Lookup!$A$1:$B$21,2,FALSE))","v":""},null,null,null,null,null,null,null,null,null,null,null,null,null,null,null,null,null,null,null,null,null,"X"]
[{"$f":"IF(C366=\"\",\"\",VLOOKUP(D366,Lookup!$D$1:$E$1051,2,FALSE))","v":""},{"$f":"IF(C366=\"\",\"\",VLOOKUP(U366,Lookup!$A$1:$B$21,2,FALSE))","v":""},null,null,null,null,null,null,null,null,null,null,null,null,null,null,null,null,null,null,null,null,null,"X"]
[{"$f":"IF(C367=\"\",\"\",VLOOKUP(D367,Lookup!$D$1:$E$1051,2,FALSE))","v":""},{"$f":"IF(C367=\"\",\"\",VLOOKUP(U367,Lookup!$A$1:$B$21,2,FALSE))","v":""},null,null,null,null,null,null,null,null,null,null,null,null,null,null,null,null,null,null,null,null,null,"X"]
[{"$f":"IF(C368=\"\",\"\",VLOOKUP(D368,Lookup!$D$1:$E$1051,2,FALSE))","v":""},{"$f":"IF(C368=\"\",\"\",VLOOKUP(U368,Lookup!$A$1:$B$21,2,FALSE))","v":""},null,null,null,null,null,null,null,null,null,null,null,null,null,null,null,null,null,null,null,null,null,"X"]
[{"$f":"IF(C369=\"\",\"\",VLOOKUP(D369,Lookup!$D$1:$E$1051,2,FALSE))","v":""},{"$f":"IF(C369=\"\",\"\",VLOOKUP(U369,Lookup!$A$1:$B$21,2,FALSE))","v":""},null,null,null,null,null,null,null,null,null,null,null,null,null,null,null,null,null,null,null,null,null,"X"]
[{"$f":"IF(C370=\"\",\"\",VLOOKUP(D370,Lookup!$D$1:$E$1051,2,FALSE))","v":""},{"$f":"IF(C370=\"\",\"\",VLOOKUP(U370,Lookup!$A$1:$B$21,2,FALSE))","v":""},null,null,null,null,null,null,null,null,null,null,null,null,null,null,null,null,null,null,null,null,null,"X"]
[{"$f":"IF(C371=\"\",\"\",VLOOKUP(D371,Lookup!$D$1:$E$1051,2,FALSE))","v":""},{"$f":"IF(C371=\"\",\"\",VLOOKUP(U371,Lookup!$A$1:$B$21,2,FALSE))","v":""},null,null,null,null,null,null,null,null,null,null,null,null,null,null,null,null,null,null,null,null,null,"X"]
[{"$f":"IF(C372=\"\",\"\",VLOOKUP(D372,Lookup!$D$1:$E$1051,2,FALSE))","v":""},{"$f":"IF(C372=\"\",\"\",VLOOKUP(U372,Lookup!$A$1:$B$21,2,FALSE))","v":""},null,null,null,null,null,null,null,null,null,null,null,null,null,null,null,null,null,null,null,null,null,"X"]
[{"$f":"IF(C373=\"\",\"\",VLOOKUP(D373,Lookup!$D$1:$E$1051,2,FALSE))","v":""},{"$f":"IF(C373=\"\",\"\",VLOOKUP(U373,Lookup!$A$1:$B$21,2,FALSE))","v":""},null,null,null,null,null,null,null,null,null,null,null,null,null,null,null,null,null,null,null,null,null,"X"]
[{"$f":"IF(C374=\"\",\"\",VLOOKUP(D374,Lookup!$D$1:$E$1051,2,FALSE))","v":""},{"$f":"IF(C374=\"\",\"\",VLOOKUP(U374,Lookup!$A$1:$B$21,2,FALSE))","v":""},null,null,null,null,null,null,null,null,null,null,null,null,null,null,null,null,null,null,null,null,null,"X"]
[{"$f":"IF(C375=\"\",\"\",VLOOKUP(D375,Lookup!$D$1:$E$1051,2,FALSE))","v":""},{"$f":"IF(C375=\"\",\"\",VLOOKUP(U375,Lookup!$A$1:$B$21,2,FALSE))","v":""},null,null,null,null,null,null,null,null,null,null,null,null,null,null,null,null,null,null,null,null,null,"X"]
[{"$f":"IF(C376=\"\",\"\",VLOOKUP(D376,Lookup!$D$1:$E$1051,2,FALSE))","v":""},{"$f":"IF(C376=\"\",\"\",VLOOKUP(U376,Lookup!$A$1:$B$21,2,FALSE))","v":""},null,null,null,null,null,null,null,null,null,null,null,null,null,null,null,null,null,null,null,null,null,"X"]
[{"$f":"IF(C377=\"\",\"\",VLOOKUP(D377,Lookup!$D$1:$E$1051,2,FALSE))","v":""},{"$f":"IF(C377=\"\",\"\",VLOOKUP(U377,Lookup!$A$1:$B$21,2,FALSE))","v":""},null,null,null,null,null,null,null,null,null,null,null,null,null,null,null,null,null,null,null,null,null,"X"]
[{"$f":"IF(C378=\"\",\"\",VLOOKUP(D378,Lookup!$D$1:$E$1051,2,FALSE))","v":""},{"$f":"IF(C378=\"\",\"\",VLOOKUP(U378,Lookup!$A$1:$B$21,2,FALSE))","v":""},null,null,null,null,null,null,null,null,null,null,null,null,null,null,null,null,null,null,null,null,null,"X"]
[{"$f":"IF(C379=\"\",\"\",VLOOKUP(D379,Lookup!$D$1:$E$1051,2,FALSE))","v":""},{"$f":"IF(C379=\"\",\"\",VLOOKUP(U379,Lookup!$A$1:$B$21,2,FALSE))","v":""},null,null,null,null,null,null,null,null,null,null,null,null,null,null,null,null,null,null,null,null,null,"X"]
[{"$f":"IF(C380=\"\",\"\",VLOOKUP(D380,Lookup!$D$1:$E$1051,2,FALSE))","v":""},{"$f":"IF(C380=\"\",\"\",VLOOKUP(U380,Lookup!$A$1:$B$21,2,FALSE))","v":""},null,null,null,null,null,null,null,null,null,null,null,null,null,null,null,null,null,null,null,null,null,"X"]
[{"$f":"IF(C381=\"\",\"\",VLOOKUP(D381,Lookup!$D$1:$E$1051,2,FALSE))","v":""},{"$f":"IF(C381=\"\",\"\",VLOOKUP(U381,Lookup!$A$1:$B$21,2,FALSE))","v":""},null,null,null,null,null,null,null,null,null,null,null,null,null,null,null,null,null,null,null,null,null,"X"]
[{"$f":"IF(C382=\"\",\"\",VLOOKUP(D382,Lookup!$D$1:$E$1051,2,FALSE))","v":""},{"$f":"IF(C382=\"\",\"\",VLOOKUP(U382,Lookup!$A$1:$B$21,2,FALSE))","v":""},null,null,null,null,null,null,null,null,null,null,null,null,null,null,null,null,null,null,null,null,null,"X"]
[{"$f":"IF(C383=\"\",\"\",VLOOKUP(D383,Lookup!$D$1:$E$1051,2,FALSE))","v":""},{"$f":"IF(C383=\"\",\"\",VLOOKUP(U383,Lookup!$A$1:$B$21,2,FALSE))","v":""},null,null,null,null,null,null,null,null,null,null,null,null,null,null,null,null,null,null,null,null,null,"X"]
[{"$f":"IF(C384=\"\",\"\",VLOOKUP(D384,Lookup!$D$1:$E$1051,2,FALSE))","v":""},{"$f":"IF(C384=\"\",\"\",VLOOKUP(U384,Lookup!$A$1:$B$21,2,FALSE))","v":""},null,null,null,null,null,null,null,null,null,null,null,null,null,null,null,null,null,null,null,null,null,"X"]
[{"$f":"IF(C385=\"\",\"\",VLOOKUP(D385,Lookup!$D$1:$E$1051,2,FALSE))","v":""},{"$f":"IF(C385=\"\",\"\",VLOOKUP(U385,Lookup!$A$1:$B$21,2,FALSE))","v":""},null,null,null,null,null,null,null,null,null,null,null,null,null,null,null,null,null,null,null,null,null,"X"]
[{"$f":"IF(C386=\"\",\"\",VLOOKUP(D386,Lookup!$D$1:$E$1051,2,FALSE))","v":""},{"$f":"IF(C386=\"\",\"\",VLOOKUP(U386,Lookup!$A$1:$B$21,2,FALSE))","v":""},null,null,null,null,null,null,null,null,null,null,null,null,null,null,null,null,null,null,null,null,null,"X"]
[{"$f":"IF(C387=\"\",\"\",VLOOKUP(D387,Lookup!$D$1:$E$1051,2,FALSE))","v":""},{"$f":"IF(C387=\"\",\"\",VLOOKUP(U387,Lookup!$A$1:$B$21,2,FALSE))","v":""},null,null,null,null,null,null,null,null,null,null,null,null,null,null,null,null,null,null,null,null,null,"X"]
[{"$f":"IF(C388=\"\",\"\",VLOOKUP(D388,Lookup!$D$1:$E$1051,2,FALSE))","v":""},{"$f":"IF(C388=\"\",\"\",VLOOKUP(U388,Lookup!$A$1:$B$21,2,FALSE))","v":""},null,null,null,null,null,null,null,null,null,null,null,null,null,null,null,null,null,null,null,null,null,"X"]
[{"$f":"IF(C389=\"\",\"\",VLOOKUP(D389,Lookup!$D$1:$E$1051,2,FALSE))","v":""},{"$f":"IF(C389=\"\",\"\",VLOOKUP(U389,Lookup!$A$1:$B$21,2,FALSE))","v":""},null,null,null,null,null,null,null,null,null,null,null,null,null,null,null,null,null,null,null,null,null,"X"]
[{"$f":"IF(C390=\"\",\"\",VLOOKUP(D390,Lookup!$D$1:$E$1051,2,FALSE))","v":""},{"$f":"IF(C390=\"\",\"\",VLOOKUP(U390,Lookup!$A$1:$B$21,2,FALSE))","v":""},null,null,null,null,null,null,null,null,null,null,null,null,null,null,null,null,null,null,null,null,null,"X"]
[{"$f":"IF(C391=\"\",\"\",VLOOKUP(D391,Lookup!$D$1:$E$1051,2,FALSE))","v":""},{"$f":"IF(C391=\"\",\"\",VLOOKUP(U391,Lookup!$A$1:$B$21,2,FALSE))","v":""},null,null,null,null,null,null,null,null,null,null,null,null,null,null,null,null,null,null,null,null,null,"X"]
[{"$f":"IF(C392=\"\",\"\",VLOOKUP(D392,Lookup!$D$1:$E$1051,2,FALSE))","v":""},{"$f":"IF(C392=\"\",\"\",VLOOKUP(U392,Lookup!$A$1:$B$21,2,FALSE))","v":""},null,null,null,null,null,null,null,null,null,null,null,null,null,null,null,null,null,null,null,null,null,"X"]
[{"$f":"IF(C393=\"\",\"\",VLOOKUP(D393,Lookup!$D$1:$E$1051,2,FALSE))","v":""},{"$f":"IF(C393=\"\",\"\",VLOOKUP(U393,Lookup!$A$1:$B$21,2,FALSE))","v":""},null,null,null,null,null,null,null,null,null,null,null,null,null,null,null,null,null,null,null,null,null,"X"]
[{"$f":"IF(C394=\"\",\"\",VLOOKUP(D394,Lookup!$D$1:$E$1051,2,FALSE))","v":""},{"$f":"IF(C394=\"\",\"\",VLOOKUP(U394,Lookup!$A$1:$B$21,2,FALSE))","v":""},null,null,null,null,null,null,null,null,null,null,null,null,null,null,null,null,null,null,null,null,null,"X"]
[{"$f":"IF(C395=\"\",\"\",VLOOKUP(D395,Lookup!$D$1:$E$1051,2,FALSE))","v":""},{"$f":"IF(C395=\"\",\"\",VLOOKUP(U395,Lookup!$A$1:$B$21,2,FALSE))","v":""},null,null,null,null,null,null,null,null,null,null,null,null,null,null,null,null,null,null,null,null,null,"X"]
[{"$f":"IF(C396=\"\",\"\",VLOOKUP(D396,Lookup!$D$1:$E$1051,2,FALSE))","v":""},{"$f":"IF(C396=\"\",\"\",VLOOKUP(U396,Lookup!$A$1:$B$21,2,FALSE))","v":""},null,null,null,null,null,null,null,null,null,null,null,null,null,null,null,null,null,null,null,null,null,"X"]
[{"$f":"IF(C397=\"\",\"\",VLOOKUP(D397,Lookup!$D$1:$E$1051,2,FALSE))","v":""},{"$f":"IF(C397=\"\",\"\",VLOOKUP(U397,Lookup!$A$1:$B$21,2,FALSE))","v":""},null,null,null,null,null,null,null,null,null,null,null,null,null,null,null,null,null,null,null,null,null,"X"]
[{"$f":"IF(C398=\"\",\"\",VLOOKUP(D398,Lookup!$D$1:$E$1051,2,FALSE))","v":""},{"$f":"IF(C398=\"\",\"\",VLOOKUP(U398,Lookup!$A$1:$B$21,2,FALSE))","v":""},null,null,null,null,null,null,null,null,null,null,null,null,null,null,null,null,null,null,null,null,null,"X"]
[{"$f":"IF(C399=\"\",\"\",VLOOKUP(D399,Lookup!$D$1:$E$1051,2,FALSE))","v":""},{"$f":"IF(C399=\"\",\"\",VLOOKUP(U399,Lookup!$A$1:$B$21,2,FALSE))","v":""},null,null,null,null,null,null,null,null,null,null,null,null,null,null,null,null,null,null,null,null,null,"X"]
[{"$f":"IF(C400=\"\",\"\",VLOOKUP(D400,Lookup!$D$1:$E$1051,2,FALSE))","v":""},{"$f":"IF(C400=\"\",\"\",VLOOKUP(U400,Lookup!$A$1:$B$21,2,FALSE))","v":""},null,null,null,null,null,null,null,null,null,null,null,null,null,null,null,null,null,null,null,null,null,"X"]
[{"$f":"IF(C401=\"\",\"\",VLOOKUP(D401,Lookup!$D$1:$E$1051,2,FALSE))","v":""},{"$f":"IF(C401=\"\",\"\",VLOOKUP(U401,Lookup!$A$1:$B$21,2,FALSE))","v":""},null,null,null,null,null,null,null,null,null,null,null,null,null,null,null,null,null,null,null,null,null,"X"]
[{"$f":"IF(C402=\"\",\"\",VLOOKUP(D402,Lookup!$D$1:$E$1051,2,FALSE))","v":""},{"$f":"IF(C402=\"\",\"\",VLOOKUP(U402,Lookup!$A$1:$B$21,2,FALSE))","v":""},null,null,null,null,null,null,null,null,null,null,null,null,null,null,null,null,null,null,null,null,null,"X"]
[{"$f":"IF(C403=\"\",\"\",VLOOKUP(D403,Lookup!$D$1:$E$1051,2,FALSE))","v":""},{"$f":"IF(C403=\"\",\"\",VLOOKUP(U403,Lookup!$A$1:$B$21,2,FALSE))","v":""},null,null,null,null,null,null,null,null,null,null,null,null,null,null,null,null,null,null,null,null,null,"X"]
[{"$f":"IF(C404=\"\",\"\",VLOOKUP(D404,Lookup!$D$1:$E$1051,2,FALSE))","v":""},{"$f":"IF(C404=\"\",\"\",VLOOKUP(U404,Lookup!$A$1:$B$21,2,FALSE))","v":""},null,null,null,null,null,null,null,null,null,null,null,null,null,null,null,null,null,null,null,null,null,"X"]
[{"$f":"IF(C405=\"\",\"\",VLOOKUP(D405,Lookup!$D$1:$E$1051,2,FALSE))","v":""},{"$f":"IF(C405=\"\",\"\",VLOOKUP(U405,Lookup!$A$1:$B$21,2,FALSE))","v":""},null,null,null,null,null,null,null,null,null,null,null,null,null,null,null,null,null,null,null,null,null,"X"]
[{"$f":"IF(C406=\"\",\"\",VLOOKUP(D406,Lookup!$D$1:$E$1051,2,FALSE))","v":""},{"$f":"IF(C406=\"\",\"\",VLOOKUP(U406,Lookup!$A$1:$B$21,2,FALSE))","v":""},null,null,null,null,null,null,null,null,null,null,null,null,null,null,null,null,null,null,null,null,null,"X"]
[{"$f":"IF(C407=\"\",\"\",VLOOKUP(D407,Lookup!$D$1:$E$1051,2,FALSE))","v":""},{"$f":"IF(C407=\"\",\"\",VLOOKUP(U407,Lookup!$A$1:$B$21,2,FALSE))","v":""},null,null,null,null,null,null,null,null,null,null,null,null,null,null,null,null,null,null,null,null,null,"X"]
[{"$f":"IF(C408=\"\",\"\",VLOOKUP(D408,Lookup!$D$1:$E$1051,2,FALSE))","v":""},{"$f":"IF(C408=\"\",\"\",VLOOKUP(U408,Lookup!$A$1:$B$21,2,FALSE))","v":""},null,null,null,null,null,null,null,null,null,null,null,null,null,null,null,null,null,null,null,null,null,"X"]
[{"$f":"IF(C409=\"\",\"\",VLOOKUP(D409,Lookup!$D$1:$E$1051,2,FALSE))","v":""},{"$f":"IF(C409=\"\",\"\",VLOOKUP(U409,Lookup!$A$1:$B$21,2,FALSE))","v":""},null,null,null,null,null,null,null,null,null,null,null,null,null,null,null,null,null,null,null,null,null,"X"]
[{"$f":"IF(C410=\"\",\"\",VLOOKUP(D410,Lookup!$D$1:$E$1051,2,FALSE))","v":""},{"$f":"IF(C410=\"\",\"\",VLOOKUP(U410,Lookup!$A$1:$B$21,2,FALSE))","v":""},null,null,null,null,null,null,null,null,null,null,null,null,null,null,null,null,null,null,null,null,null,"X"]
[{"$f":"IF(C411=\"\",\"\",VLOOKUP(D411,Lookup!$D$1:$E$1051,2,FALSE))","v":""},{"$f":"IF(C411=\"\",\"\",VLOOKUP(U411,Lookup!$A$1:$B$21,2,FALSE))","v":""},null,null,null,null,null,null,null,null,null,null,null,null,null,null,null,null,null,null,null,null,null,"X"]
[{"$f":"IF(C412=\"\",\"\",VLOOKUP(D412,Lookup!$D$1:$E$1051,2,FALSE))","v":""},{"$f":"IF(C412=\"\",\"\",VLOOKUP(U412,Lookup!$A$1:$B$21,2,FALSE))","v":""},null,null,null,null,null,null,null,null,null,null,null,null,null,null,null,null,null,null,null,null,null,"X"]
[{"$f":"IF(C413=\"\",\"\",VLOOKUP(D413,Lookup!$D$1:$E$1051,2,FALSE))","v":""},{"$f":"IF(C413=\"\",\"\",VLOOKUP(U413,Lookup!$A$1:$B$21,2,FALSE))","v":""},null,null,null,null,null,null,null,null,null,null,null,null,null,null,null,null,null,null,null,null,null,"X"]
[{"$f":"IF(C414=\"\",\"\",VLOOKUP(D414,Lookup!$D$1:$E$1051,2,FALSE))","v":""},{"$f":"IF(C414=\"\",\"\",VLOOKUP(U414,Lookup!$A$1:$B$21,2,FALSE))","v":""},null,null,null,null,null,null,null,null,null,null,null,null,null,null,null,null,null,null,null,null,null,"X"]
[{"$f":"IF(C415=\"\",\"\",VLOOKUP(D415,Lookup!$D$1:$E$1051,2,FALSE))","v":""},{"$f":"IF(C415=\"\",\"\",VLOOKUP(U415,Lookup!$A$1:$B$21,2,FALSE))","v":""},null,null,null,null,null,null,null,null,null,null,null,null,null,null,null,null,null,null,null,null,null,"X"]
[{"$f":"IF(C416=\"\",\"\",VLOOKUP(D416,Lookup!$D$1:$E$1051,2,FALSE))","v":""},{"$f":"IF(C416=\"\",\"\",VLOOKUP(U416,Lookup!$A$1:$B$21,2,FALSE))","v":""},null,null,null,null,null,null,null,null,null,null,null,null,null,null,null,null,null,null,null,null,null,"X"]
[{"$f":"IF(C417=\"\",\"\",VLOOKUP(D417,Lookup!$D$1:$E$1051,2,FALSE))","v":""},{"$f":"IF(C417=\"\",\"\",VLOOKUP(U417,Lookup!$A$1:$B$21,2,FALSE))","v":""},null,null,null,null,null,null,null,null,null,null,null,null,null,null,null,null,null,null,null,null,null,"X"]
[{"$f":"IF(C418=\"\",\"\",VLOOKUP(D418,Lookup!$D$1:$E$1051,2,FALSE))","v":""},{"$f":"IF(C418=\"\",\"\",VLOOKUP(U418,Lookup!$A$1:$B$21,2,FALSE))","v":""},null,null,null,null,null,null,null,null,null,null,null,null,null,null,null,null,null,null,null,null,null,"X"]
[{"$f":"IF(C419=\"\",\"\",VLOOKUP(D419,Lookup!$D$1:$E$1051,2,FALSE))","v":""},{"$f":"IF(C419=\"\",\"\",VLOOKUP(U419,Lookup!$A$1:$B$21,2,FALSE))","v":""},null,null,null,null,null,null,null,null,null,null,null,null,null,null,null,null,null,null,null,null,null,"X"]
[{"$f":"IF(C420=\"\",\"\",VLOOKUP(D420,Lookup!$D$1:$E$1051,2,FALSE))","v":""},{"$f":"IF(C420=\"\",\"\",VLOOKUP(U420,Lookup!$A$1:$B$21,2,FALSE))","v":""},null,null,null,null,null,null,null,null,null,null,null,null,null,null,null,null,null,null,null,null,null,"X"]
[{"$f":"IF(C421=\"\",\"\",VLOOKUP(D421,Lookup!$D$1:$E$1051,2,FALSE))","v":""},{"$f":"IF(C421=\"\",\"\",VLOOKUP(U421,Lookup!$A$1:$B$21,2,FALSE))","v":""},null,null,null,null,null,null,null,null,null,null,null,null,null,null,null,null,null,null,null,null,null,"X"]
[{"$f":"IF(C422=\"\",\"\",VLOOKUP(D422,Lookup!$D$1:$E$1051,2,FALSE))","v":""},{"$f":"IF(C422=\"\",\"\",VLOOKUP(U422,Lookup!$A$1:$B$21,2,FALSE))","v":""},null,null,null,null,null,null,null,null,null,null,null,null,null,null,null,null,null,null,null,null,null,"X"]
[{"$f":"IF(C423=\"\",\"\",VLOOKUP(D423,Lookup!$D$1:$E$1051,2,FALSE))","v":""},{"$f":"IF(C423=\"\",\"\",VLOOKUP(U423,Lookup!$A$1:$B$21,2,FALSE))","v":""},null,null,null,null,null,null,null,null,null,null,null,null,null,null,null,null,null,null,null,null,null,"X"]
[{"$f":"IF(C424=\"\",\"\",VLOOKUP(D424,Lookup!$D$1:$E$1051,2,FALSE))","v":""},{"$f":"IF(C424=\"\",\"\",VLOOKUP(U424,Lookup!$A$1:$B$21,2,FALSE))","v":""},null,null,null,null,null,null,null,null,null,null,null,null,null,null,null,null,null,null,null,null,null,"X"]
[{"$f":"IF(C425=\"\",\"\",VLOOKUP(D425,Lookup!$D$1:$E$1051,2,FALSE))","v":""},{"$f":"IF(C425=\"\",\"\",VLOOKUP(U425,Lookup!$A$1:$B$21,2,FALSE))","v":""},null,null,null,null,null,null,null,null,null,null,null,null,null,null,null,null,null,null,null,null,null,"X"]
[{"$f":"IF(C426=\"\",\"\",VLOOKUP(D426,Lookup!$D$1:$E$1051,2,FALSE))","v":""},{"$f":"IF(C426=\"\",\"\",VLOOKUP(U426,Lookup!$A$1:$B$21,2,FALSE))","v":""},null,null,null,null,null,null,null,null,null,null,null,null,null,null,null,null,null,null,null,null,null,"X"]
[{"$f":"IF(C427=\"\",\"\",VLOOKUP(D427,Lookup!$D$1:$E$1051,2,FALSE))","v":""},{"$f":"IF(C427=\"\",\"\",VLOOKUP(U427,Lookup!$A$1:$B$21,2,FALSE))","v":""},null,null,null,null,null,null,null,null,null,null,null,null,null,null,null,null,null,null,null,null,null,"X"]
[{"$f":"IF(C428=\"\",\"\",VLOOKUP(D428,Lookup!$D$1:$E$1051,2,FALSE))","v":""},{"$f":"IF(C428=\"\",\"\",VLOOKUP(U428,Lookup!$A$1:$B$21,2,FALSE))","v":""},null,null,null,null,null,null,null,null,null,null,null,null,null,null,null,null,null,null,null,null,null,"X"]
[{"$f":"IF(C429=\"\",\"\",VLOOKUP(D429,Lookup!$D$1:$E$1051,2,FALSE))","v":""},{"$f":"IF(C429=\"\",\"\",VLOOKUP(U429,Lookup!$A$1:$B$21,2,FALSE))","v":""},null,null,null,null,null,null,null,null,null,null,null,null,null,null,null,null,null,null,null,null,null,"X"]
[{"$f":"IF(C430=\"\",\"\",VLOOKUP(D430,Lookup!$D$1:$E$1051,2,FALSE))","v":""},{"$f":"IF(C430=\"\",\"\",VLOOKUP(U430,Lookup!$A$1:$B$21,2,FALSE))","v":""},null,null,null,null,null,null,null,null,null,null,null,null,null,null,null,null,null,null,null,null,null,"X"]
[{"$f":"IF(C431=\"\",\"\",VLOOKUP(D431,Lookup!$D$1:$E$1051,2,FALSE))","v":""},{"$f":"IF(C431=\"\",\"\",VLOOKUP(U431,Lookup!$A$1:$B$21,2,FALSE))","v":""},null,null,null,null,null,null,null,null,null,null,null,null,null,null,null,null,null,null,null,null,null,"X"]
[{"$f":"IF(C432=\"\",\"\",VLOOKUP(D432,Lookup!$D$1:$E$1051,2,FALSE))","v":""},{"$f":"IF(C432=\"\",\"\",VLOOKUP(U432,Lookup!$A$1:$B$21,2,FALSE))","v":""},null,null,null,null,null,null,null,null,null,null,null,null,null,null,null,null,null,null,null,null,null,"X"]
[{"$f":"IF(C433=\"\",\"\",VLOOKUP(D433,Lookup!$D$1:$E$1051,2,FALSE))","v":""},{"$f":"IF(C433=\"\",\"\",VLOOKUP(U433,Lookup!$A$1:$B$21,2,FALSE))","v":""},null,null,null,null,null,null,null,null,null,null,null,null,null,null,null,null,null,null,null,null,null,"X"]
[{"$f":"IF(C434=\"\",\"\",VLOOKUP(D434,Lookup!$D$1:$E$1051,2,FALSE))","v":""},{"$f":"IF(C434=\"\",\"\",VLOOKUP(U434,Lookup!$A$1:$B$21,2,FALSE))","v":""},null,null,null,null,null,null,null,null,null,null,null,null,null,null,null,null,null,null,null,null,null,"X"]
[{"$f":"IF(C435=\"\",\"\",VLOOKUP(D435,Lookup!$D$1:$E$1051,2,FALSE))","v":""},{"$f":"IF(C435=\"\",\"\",VLOOKUP(U435,Lookup!$A$1:$B$21,2,FALSE))","v":""},null,null,null,null,null,null,null,null,null,null,null,null,null,null,null,null,null,null,null,null,null,"X"]
[{"$f":"IF(C436=\"\",\"\",VLOOKUP(D436,Lookup!$D$1:$E$1051,2,FALSE))","v":""},{"$f":"IF(C436=\"\",\"\",VLOOKUP(U436,Lookup!$A$1:$B$21,2,FALSE))","v":""},null,null,null,null,null,null,null,null,null,null,null,null,null,null,null,null,null,null,null,null,null,"X"]
[{"$f":"IF(C437=\"\",\"\",VLOOKUP(D437,Lookup!$D$1:$E$1051,2,FALSE))","v":""},{"$f":"IF(C437=\"\",\"\",VLOOKUP(U437,Lookup!$A$1:$B$21,2,FALSE))","v":""},null,null,null,null,null,null,null,null,null,null,null,null,null,null,null,null,null,null,null,null,null,"X"]
[{"$f":"IF(C438=\"\",\"\",VLOOKUP(D438,Lookup!$D$1:$E$1051,2,FALSE))","v":""},{"$f":"IF(C438=\"\",\"\",VLOOKUP(U438,Lookup!$A$1:$B$21,2,FALSE))","v":""},null,null,null,null,null,null,null,null,null,null,null,null,null,null,null,null,null,null,null,null,null,"X"]
[{"$f":"IF(C439=\"\",\"\",VLOOKUP(D439,Lookup!$D$1:$E$1051,2,FALSE))","v":""},{"$f":"IF(C439=\"\",\"\",VLOOKUP(U439,Lookup!$A$1:$B$21,2,FALSE))","v":""},null,null,null,null,null,null,null,null,null,null,null,null,null,null,null,null,null,null,null,null,null,"X"]
[{"$f":"IF(C440=\"\",\"\",VLOOKUP(D440,Lookup!$D$1:$E$1051,2,FALSE))","v":""},{"$f":"IF(C440=\"\",\"\",VLOOKUP(U440,Lookup!$A$1:$B$21,2,FALSE))","v":""},null,null,null,null,null,null,null,null,null,null,null,null,null,null,null,null,null,null,null,null,null,"X"]
[{"$f":"IF(C441=\"\",\"\",VLOOKUP(D441,Lookup!$D$1:$E$1051,2,FALSE))","v":""},{"$f":"IF(C441=\"\",\"\",VLOOKUP(U441,Lookup!$A$1:$B$21,2,FALSE))","v":""},null,null,null,null,null,null,null,null,null,null,null,null,null,null,null,null,null,null,null,null,null,"X"]
[{"$f":"IF(C442=\"\",\"\",VLOOKUP(D442,Lookup!$D$1:$E$1051,2,FALSE))","v":""},{"$f":"IF(C442=\"\",\"\",VLOOKUP(U442,Lookup!$A$1:$B$21,2,FALSE))","v":""},null,null,null,null,null,null,null,null,null,null,null,null,null,null,null,null,null,null,null,null,null,"X"]
[{"$f":"IF(C443=\"\",\"\",VLOOKUP(D443,Lookup!$D$1:$E$1051,2,FALSE))","v":""},{"$f":"IF(C443=\"\",\"\",VLOOKUP(U443,Lookup!$A$1:$B$21,2,FALSE))","v":""},null,null,null,null,null,null,null,null,null,null,null,null,null,null,null,null,null,null,null,null,null,"X"]
[{"$f":"IF(C444=\"\",\"\",VLOOKUP(D444,Lookup!$D$1:$E$1051,2,FALSE))","v":""},{"$f":"IF(C444=\"\",\"\",VLOOKUP(U444,Lookup!$A$1:$B$21,2,FALSE))","v":""},null,null,null,null,null,null,null,null,null,null,null,null,null,null,null,null,null,null,null,null,null,"X"]
[{"$f":"IF(C445=\"\",\"\",VLOOKUP(D445,Lookup!$D$1:$E$1051,2,FALSE))","v":""},{"$f":"IF(C445=\"\",\"\",VLOOKUP(U445,Lookup!$A$1:$B$21,2,FALSE))","v":""},null,null,null,null,null,null,null,null,null,null,null,null,null,null,null,null,null,null,null,null,null,"X"]
[{"$f":"IF(C446=\"\",\"\",VLOOKUP(D446,Lookup!$D$1:$E$1051,2,FALSE))","v":""},{"$f":"IF(C446=\"\",\"\",VLOOKUP(U446,Lookup!$A$1:$B$21,2,FALSE))","v":""},null,null,null,null,null,null,null,null,null,null,null,null,null,null,null,null,null,null,null,null,null,"X"]
[{"$f":"IF(C447=\"\",\"\",VLOOKUP(D447,Lookup!$D$1:$E$1051,2,FALSE))","v":""},{"$f":"IF(C447=\"\",\"\",VLOOKUP(U447,Lookup!$A$1:$B$21,2,FALSE))","v":""},null,null,null,null,null,null,null,null,null,null,null,null,null,null,null,null,null,null,null,null,null,"X"]
[{"$f":"IF(C448=\"\",\"\",VLOOKUP(D448,Lookup!$D$1:$E$1051,2,FALSE))","v":""},{"$f":"IF(C448=\"\",\"\",VLOOKUP(U448,Lookup!$A$1:$B$21,2,FALSE))","v":""},null,null,null,null,null,null,null,null,null,null,null,null,null,null,null,null,null,null,null,null,null,"X"]
[{"$f":"IF(C449=\"\",\"\",VLOOKUP(D449,Lookup!$D$1:$E$1051,2,FALSE))","v":""},{"$f":"IF(C449=\"\",\"\",VLOOKUP(U449,Lookup!$A$1:$B$21,2,FALSE))","v":""},null,null,null,null,null,null,null,null,null,null,null,null,null,null,null,null,null,null,null,null,null,"X"]
[{"$f":"IF(C450=\"\",\"\",VLOOKUP(D450,Lookup!$D$1:$E$1051,2,FALSE))","v":""},{"$f":"IF(C450=\"\",\"\",VLOOKUP(U450,Lookup!$A$1:$B$21,2,FALSE))","v":""},null,null,null,null,null,null,null,null,null,null,null,null,null,null,null,null,null,null,null,null,null,"X"]
[{"$f":"IF(C451=\"\",\"\",VLOOKUP(D451,Lookup!$D$1:$E$1051,2,FALSE))","v":""},{"$f":"IF(C451=\"\",\"\",VLOOKUP(U451,Lookup!$A$1:$B$21,2,FALSE))","v":""},null,null,null,null,null,null,null,null,null,null,null,null,null,null,null,null,null,null,null,null,null,"X"]
[{"$f":"IF(C452=\"\",\"\",VLOOKUP(D452,Lookup!$D$1:$E$1051,2,FALSE))","v":""},{"$f":"IF(C452=\"\",\"\",VLOOKUP(U452,Lookup!$A$1:$B$21,2,FALSE))","v":""},null,null,null,null,null,null,null,null,null,null,null,null,null,null,null,null,null,null,null,null,null,"X"]
[{"$f":"IF(C453=\"\",\"\",VLOOKUP(D453,Lookup!$D$1:$E$1051,2,FALSE))","v":""},{"$f":"IF(C453=\"\",\"\",VLOOKUP(U453,Lookup!$A$1:$B$21,2,FALSE))","v":""},null,null,null,null,null,null,null,null,null,null,null,null,null,null,null,null,null,null,null,null,null,"X"]
[{"$f":"IF(C454=\"\",\"\",VLOOKUP(D454,Lookup!$D$1:$E$1051,2,FALSE))","v":""},{"$f":"IF(C454=\"\",\"\",VLOOKUP(U454,Lookup!$A$1:$B$21,2,FALSE))","v":""},null,null,null,null,null,null,null,null,null,null,null,null,null,null,null,null,null,null,null,null,null,"X"]
[{"$f":"IF(C455=\"\",\"\",VLOOKUP(D455,Lookup!$D$1:$E$1051,2,FALSE))","v":""},{"$f":"IF(C455=\"\",\"\",VLOOKUP(U455,Lookup!$A$1:$B$21,2,FALSE))","v":""},null,null,null,null,null,null,null,null,null,null,null,null,null,null,null,null,null,null,null,null,null,"X"]
[{"$f":"IF(C456=\"\",\"\",VLOOKUP(D456,Lookup!$D$1:$E$1051,2,FALSE))","v":""},{"$f":"IF(C456=\"\",\"\",VLOOKUP(U456,Lookup!$A$1:$B$21,2,FALSE))","v":""},null,null,null,null,null,null,null,null,null,null,null,null,null,null,null,null,null,null,null,null,null,"X"]
[{"$f":"IF(C457=\"\",\"\",VLOOKUP(D457,Lookup!$D$1:$E$1051,2,FALSE))","v":""},{"$f":"IF(C457=\"\",\"\",VLOOKUP(U457,Lookup!$A$1:$B$21,2,FALSE))","v":""},null,null,null,null,null,null,null,null,null,null,null,null,null,null,null,null,null,null,null,null,null,"X"]
[{"$f":"IF(C458=\"\",\"\",VLOOKUP(D458,Lookup!$D$1:$E$1051,2,FALSE))","v":""},{"$f":"IF(C458=\"\",\"\",VLOOKUP(U458,Lookup!$A$1:$B$21,2,FALSE))","v":""},null,null,null,null,null,null,null,null,null,null,null,null,null,null,null,null,null,null,null,null,null,"X"]
[{"$f":"IF(C459=\"\",\"\",VLOOKUP(D459,Lookup!$D$1:$E$1051,2,FALSE))","v":""},{"$f":"IF(C459=\"\",\"\",VLOOKUP(U459,Lookup!$A$1:$B$21,2,FALSE))","v":""},null,null,null,null,null,null,null,null,null,null,null,null,null,null,null,null,null,null,null,null,null,"X"]
[{"$f":"IF(C460=\"\",\"\",VLOOKUP(D460,Lookup!$D$1:$E$1051,2,FALSE))","v":""},{"$f":"IF(C460=\"\",\"\",VLOOKUP(U460,Lookup!$A$1:$B$21,2,FALSE))","v":""},null,null,null,null,null,null,null,null,null,null,null,null,null,null,null,null,null,null,null,null,null,"X"]
[{"$f":"IF(C461=\"\",\"\",VLOOKUP(D461,Lookup!$D$1:$E$1051,2,FALSE))","v":""},{"$f":"IF(C461=\"\",\"\",VLOOKUP(U461,Lookup!$A$1:$B$21,2,FALSE))","v":""},null,null,null,null,null,null,null,null,null,null,null,null,null,null,null,null,null,null,null,null,null,"X"]
[{"$f":"IF(C462=\"\",\"\",VLOOKUP(D462,Lookup!$D$1:$E$1051,2,FALSE))","v":""},{"$f":"IF(C462=\"\",\"\",VLOOKUP(U462,Lookup!$A$1:$B$21,2,FALSE))","v":""},null,null,null,null,null,null,null,null,null,null,null,null,null,null,null,null,null,null,null,null,null,"X"]
[{"$f":"IF(C463=\"\",\"\",VLOOKUP(D463,Lookup!$D$1:$E$1051,2,FALSE))","v":""},{"$f":"IF(C463=\"\",\"\",VLOOKUP(U463,Lookup!$A$1:$B$21,2,FALSE))","v":""},null,null,null,null,null,null,null,null,null,null,null,null,null,null,null,null,null,null,null,null,null,"X"]
[{"$f":"IF(C464=\"\",\"\",VLOOKUP(D464,Lookup!$D$1:$E$1051,2,FALSE))","v":""},{"$f":"IF(C464=\"\",\"\",VLOOKUP(U464,Lookup!$A$1:$B$21,2,FALSE))","v":""},null,null,null,null,null,null,null,null,null,null,null,null,null,null,null,null,null,null,null,null,null,"X"]
[{"$f":"IF(C465=\"\",\"\",VLOOKUP(D465,Lookup!$D$1:$E$1051,2,FALSE))","v":""},{"$f":"IF(C465=\"\",\"\",VLOOKUP(U465,Lookup!$A$1:$B$21,2,FALSE))","v":""},null,null,null,null,null,null,null,null,null,null,null,null,null,null,null,null,null,null,null,null,null,"X"]
[{"$f":"IF(C466=\"\",\"\",VLOOKUP(D466,Lookup!$D$1:$E$1051,2,FALSE))","v":""},{"$f":"IF(C466=\"\",\"\",VLOOKUP(U466,Lookup!$A$1:$B$21,2,FALSE))","v":""},null,null,null,null,null,null,null,null,null,null,null,null,null,null,null,null,null,null,null,null,null,"X"]
[{"$f":"IF(C467=\"\",\"\",VLOOKUP(D467,Lookup!$D$1:$E$1051,2,FALSE))","v":""},{"$f":"IF(C467=\"\",\"\",VLOOKUP(U467,Lookup!$A$1:$B$21,2,FALSE))","v":""},null,null,null,null,null,null,null,null,null,null,null,null,null,null,null,null,null,null,null,null,null,"X"]
[{"$f":"IF(C468=\"\",\"\",VLOOKUP(D468,Lookup!$D$1:$E$1051,2,FALSE))","v":""},{"$f":"IF(C468=\"\",\"\",VLOOKUP(U468,Lookup!$A$1:$B$21,2,FALSE))","v":""},null,null,null,null,null,null,null,null,null,null,null,null,null,null,null,null,null,null,null,null,null,"X"]
[{"$f":"IF(C469=\"\",\"\",VLOOKUP(D469,Lookup!$D$1:$E$1051,2,FALSE))","v":""},{"$f":"IF(C469=\"\",\"\",VLOOKUP(U469,Lookup!$A$1:$B$21,2,FALSE))","v":""},null,null,null,null,null,null,null,null,null,null,null,null,null,null,null,null,null,null,null,null,null,"X"]
[{"$f":"IF(C470=\"\",\"\",VLOOKUP(D470,Lookup!$D$1:$E$1051,2,FALSE))","v":""},{"$f":"IF(C470=\"\",\"\",VLOOKUP(U470,Lookup!$A$1:$B$21,2,FALSE))","v":""},null,null,null,null,null,null,null,null,null,null,null,null,null,null,null,null,null,null,null,null,null,"X"]
[{"$f":"IF(C471=\"\",\"\",VLOOKUP(D471,Lookup!$D$1:$E$1051,2,FALSE))","v":""},{"$f":"IF(C471=\"\",\"\",VLOOKUP(U471,Lookup!$A$1:$B$21,2,FALSE))","v":""},null,null,null,null,null,null,null,null,null,null,null,null,null,null,null,null,null,null,null,null,null,"X"]
[{"$f":"IF(C472=\"\",\"\",VLOOKUP(D472,Lookup!$D$1:$E$1051,2,FALSE))","v":""},{"$f":"IF(C472=\"\",\"\",VLOOKUP(U472,Lookup!$A$1:$B$21,2,FALSE))","v":""},null,null,null,null,null,null,null,null,null,null,null,null,null,null,null,null,null,null,null,null,null,"X"]
[{"$f":"IF(C473=\"\",\"\",VLOOKUP(D473,Lookup!$D$1:$E$1051,2,FALSE))","v":""},{"$f":"IF(C473=\"\",\"\",VLOOKUP(U473,Lookup!$A$1:$B$21,2,FALSE))","v":""},null,null,null,null,null,null,null,null,null,null,null,null,null,null,null,null,null,null,null,null,null,"X"]
[{"$f":"IF(C474=\"\",\"\",VLOOKUP(D474,Lookup!$D$1:$E$1051,2,FALSE))","v":""},{"$f":"IF(C474=\"\",\"\",VLOOKUP(U474,Lookup!$A$1:$B$21,2,FALSE))","v":""},null,null,null,null,null,null,null,null,null,null,null,null,null,null,null,null,null,null,null,null,null,"X"]
[{"$f":"IF(C475=\"\",\"\",VLOOKUP(D475,Lookup!$D$1:$E$1051,2,FALSE))","v":""},{"$f":"IF(C475=\"\",\"\",VLOOKUP(U475,Lookup!$A$1:$B$21,2,FALSE))","v":""},null,null,null,null,null,null,null,null,null,null,null,null,null,null,null,null,null,null,null,null,null,"X"]
[{"$f":"IF(C476=\"\",\"\",VLOOKUP(D476,Lookup!$D$1:$E$1051,2,FALSE))","v":""},{"$f":"IF(C476=\"\",\"\",VLOOKUP(U476,Lookup!$A$1:$B$21,2,FALSE))","v":""},null,null,null,null,null,null,null,null,null,null,null,null,null,null,null,null,null,null,null,null,null,"X"]
[{"$f":"IF(C477=\"\",\"\",VLOOKUP(D477,Lookup!$D$1:$E$1051,2,FALSE))","v":""},{"$f":"IF(C477=\"\",\"\",VLOOKUP(U477,Lookup!$A$1:$B$21,2,FALSE))","v":""},null,null,null,null,null,null,null,null,null,null,null,null,null,null,null,null,null,null,null,null,null,"X"]
[{"$f":"IF(C478=\"\",\"\",VLOOKUP(D478,Lookup!$D$1:$E$1051,2,FALSE))","v":""},{"$f":"IF(C478=\"\",\"\",VLOOKUP(U478,Lookup!$A$1:$B$21,2,FALSE))","v":""},null,null,null,null,null,null,null,null,null,null,null,null,null,null,null,null,null,null,null,null,null,"X"]
[{"$f":"IF(C479=\"\",\"\",VLOOKUP(D479,Lookup!$D$1:$E$1051,2,FALSE))","v":""},{"$f":"IF(C479=\"\",\"\",VLOOKUP(U479,Lookup!$A$1:$B$21,2,FALSE))","v":""},null,null,null,null,null,null,null,null,null,null,null,null,null,null,null,null,null,null,null,null,null,"X"]
[{"$f":"IF(C480=\"\",\"\",VLOOKUP(D480,Lookup!$D$1:$E$1051,2,FALSE))","v":""},{"$f":"IF(C480=\"\",\"\",VLOOKUP(U480,Lookup!$A$1:$B$21,2,FALSE))","v":""},null,null,null,null,null,null,null,null,null,null,null,null,null,null,null,null,null,null,null,null,null,"X"]
[{"$f":"IF(C481=\"\",\"\",VLOOKUP(D481,Lookup!$D$1:$E$1051,2,FALSE))","v":""},{"$f":"IF(C481=\"\",\"\",VLOOKUP(U481,Lookup!$A$1:$B$21,2,FALSE))","v":""},null,null,null,null,null,null,null,null,null,null,null,null,null,null,null,null,null,null,null,null,null,"X"]
[{"$f":"IF(C482=\"\",\"\",VLOOKUP(D482,Lookup!$D$1:$E$1051,2,FALSE))","v":""},{"$f":"IF(C482=\"\",\"\",VLOOKUP(U482,Lookup!$A$1:$B$21,2,FALSE))","v":""},null,null,null,null,null,null,null,null,null,null,null,null,null,null,null,null,null,null,null,null,null,"X"]
[{"$f":"IF(C483=\"\",\"\",VLOOKUP(D483,Lookup!$D$1:$E$1051,2,FALSE))","v":""},{"$f":"IF(C483=\"\",\"\",VLOOKUP(U483,Lookup!$A$1:$B$21,2,FALSE))","v":""},null,null,null,null,null,null,null,null,null,null,null,null,null,null,null,null,null,null,null,null,null,"X"]
[{"$f":"IF(C484=\"\",\"\",VLOOKUP(D484,Lookup!$D$1:$E$1051,2,FALSE))","v":""},{"$f":"IF(C484=\"\",\"\",VLOOKUP(U484,Lookup!$A$1:$B$21,2,FALSE))","v":""},null,null,null,null,null,null,null,null,null,null,null,null,null,null,null,null,null,null,null,null,null,"X"]
[{"$f":"IF(C485=\"\",\"\",VLOOKUP(D485,Lookup!$D$1:$E$1051,2,FALSE))","v":""},{"$f":"IF(C485=\"\",\"\",VLOOKUP(U485,Lookup!$A$1:$B$21,2,FALSE))","v":""},null,null,null,null,null,null,null,null,null,null,null,null,null,null,null,null,null,null,null,null,null,"X"]
[{"$f":"IF(C486=\"\",\"\",VLOOKUP(D486,Lookup!$D$1:$E$1051,2,FALSE))","v":""},{"$f":"IF(C486=\"\",\"\",VLOOKUP(U486,Lookup!$A$1:$B$21,2,FALSE))","v":""},null,null,null,null,null,null,null,null,null,null,null,null,null,null,null,null,null,null,null,null,null,"X"]
[{"$f":"IF(C487=\"\",\"\",VLOOKUP(D487,Lookup!$D$1:$E$1051,2,FALSE))","v":""},{"$f":"IF(C487=\"\",\"\",VLOOKUP(U487,Lookup!$A$1:$B$21,2,FALSE))","v":""},null,null,null,null,null,null,null,null,null,null,null,null,null,null,null,null,null,null,null,null,null,"X"]
[{"$f":"IF(C488=\"\",\"\",VLOOKUP(D488,Lookup!$D$1:$E$1051,2,FALSE))","v":""},{"$f":"IF(C488=\"\",\"\",VLOOKUP(U488,Lookup!$A$1:$B$21,2,FALSE))","v":""},null,null,null,null,null,null,null,null,null,null,null,null,null,null,null,null,null,null,null,null,null,"X"]
[{"$f":"IF(C489=\"\",\"\",VLOOKUP(D489,Lookup!$D$1:$E$1051,2,FALSE))","v":""},{"$f":"IF(C489=\"\",\"\",VLOOKUP(U489,Lookup!$A$1:$B$21,2,FALSE))","v":""},null,null,null,null,null,null,null,null,null,null,null,null,null,null,null,null,null,null,null,null,null,"X"]
[{"$f":"IF(C490=\"\",\"\",VLOOKUP(D490,Lookup!$D$1:$E$1051,2,FALSE))","v":""},{"$f":"IF(C490=\"\",\"\",VLOOKUP(U490,Lookup!$A$1:$B$21,2,FALSE))","v":""},null,null,null,null,null,null,null,null,null,null,null,null,null,null,null,null,null,null,null,null,null,"X"]
[{"$f":"IF(C491=\"\",\"\",VLOOKUP(D491,Lookup!$D$1:$E$1051,2,FALSE))","v":""},{"$f":"IF(C491=\"\",\"\",VLOOKUP(U491,Lookup!$A$1:$B$21,2,FALSE))","v":""},null,null,null,null,null,null,null,null,null,null,null,null,null,null,null,null,null,null,null,null,null,"X"]
[{"$f":"IF(C492=\"\",\"\",VLOOKUP(D492,Lookup!$D$1:$E$1051,2,FALSE))","v":""},{"$f":"IF(C492=\"\",\"\",VLOOKUP(U492,Lookup!$A$1:$B$21,2,FALSE))","v":""},null,null,null,null,null,null,null,null,null,null,null,null,null,null,null,null,null,null,null,null,null,"X"]
[{"$f":"IF(C493=\"\",\"\",VLOOKUP(D493,Lookup!$D$1:$E$1051,2,FALSE))","v":""},{"$f":"IF(C493=\"\",\"\",VLOOKUP(U493,Lookup!$A$1:$B$21,2,FALSE))","v":""},null,null,null,null,null,null,null,null,null,null,null,null,null,null,null,null,null,null,null,null,null,"X"]
[{"$f":"IF(C494=\"\",\"\",VLOOKUP(D494,Lookup!$D$1:$E$1051,2,FALSE))","v":""},{"$f":"IF(C494=\"\",\"\",VLOOKUP(U494,Lookup!$A$1:$B$21,2,FALSE))","v":""},null,null,null,null,null,null,null,null,null,null,null,null,null,null,null,null,null,null,null,null,null,"X"]
[{"$f":"IF(C495=\"\",\"\",VLOOKUP(D495,Lookup!$D$1:$E$1051,2,FALSE))","v":""},{"$f":"IF(C495=\"\",\"\",VLOOKUP(U495,Lookup!$A$1:$B$21,2,FALSE))","v":""},null,null,null,null,null,null,null,null,null,null,null,null,null,null,null,null,null,null,null,null,null,"X"]
[{"$f":"IF(C496=\"\",\"\",VLOOKUP(D496,Lookup!$D$1:$E$1051,2,FALSE))","v":""},{"$f":"IF(C496=\"\",\"\",VLOOKUP(U496,Lookup!$A$1:$B$21,2,FALSE))","v":""},null,null,null,null,null,null,null,null,null,null,null,null,null,null,null,null,null,null,null,null,null,"X"]
[{"$f":"IF(C497=\"\",\"\",VLOOKUP(D497,Lookup!$D$1:$E$1051,2,FALSE))","v":""},{"$f":"IF(C497=\"\",\"\",VLOOKUP(U497,Lookup!$A$1:$B$21,2,FALSE))","v":""},null,null,null,null,null,null,null,null,null,null,null,null,null,null,null,null,null,null,null,null,null,"X"]
[{"$f":"IF(C498=\"\",\"\",VLOOKUP(D498,Lookup!$D$1:$E$1051,2,FALSE))","v":""},{"$f":"IF(C498=\"\",\"\",VLOOKUP(U498,Lookup!$A$1:$B$21,2,FALSE))","v":""},null,null,null,null,null,null,null,null,null,null,null,null,null,null,null,null,null,null,null,null,null,"X"]
[{"$f":"IF(C499=\"\",\"\",VLOOKUP(D499,Lookup!$D$1:$E$1051,2,FALSE))","v":""},{"$f":"IF(C499=\"\",\"\",VLOOKUP(U499,Lookup!$A$1:$B$21,2,FALSE))","v":""},null,null,null,null,null,null,null,null,null,null,null,null,null,null,null,null,null,null,null,null,null,"X"]
[{"$f":"IF(C500=\"\",\"\",VLOOKUP(D500,Lookup!$D$1:$E$1051,2,FALSE))","v":""},{"$f":"IF(C500=\"\",\"\",VLOOKUP(U500,Lookup!$A$1:$B$21,2,FALSE))","v":""},null,null,null,null,null,null,null,null,null,null,null,null,null,null,null,null,null,null,null,null,null,"X"]
[{"$f":"IF(C501=\"\",\"\",VLOOKUP(D501,Lookup!$D$1:$E$1051,2,FALSE))","v":""},{"$f":"IF(C501=\"\",\"\",VLOOKUP(U501,Lookup!$A$1:$B$21,2,FALSE))","v":""},null,null,null,null,null,null,null,null,null,null,null,null,null,null,null,null,null,null,null,null,null,"X"]
[{"$f":"IF(C502=\"\",\"\",VLOOKUP(D502,Lookup!$D$1:$E$1051,2,FALSE))","v":""},{"$f":"IF(C502=\"\",\"\",VLOOKUP(U502,Lookup!$A$1:$B$21,2,FALSE))","v":""},null,null,null,null,null,null,null,null,null,null,null,null,null,null,null,null,null,null,null,null,null,"X"]
[{"$f":"IF(C503=\"\",\"\",VLOOKUP(D503,Lookup!$D$1:$E$1051,2,FALSE))","v":""},{"$f":"IF(C503=\"\",\"\",VLOOKUP(U503,Lookup!$A$1:$B$21,2,FALSE))","v":""},null,null,null,null,null,null,null,null,null,null,null,null,null,null,null,null,null,null,null,null,null,"X"]
[{"$f":"IF(C504=\"\",\"\",VLOOKUP(D504,Lookup!$D$1:$E$1051,2,FALSE))","v":""},{"$f":"IF(C504=\"\",\"\",VLOOKUP(U504,Lookup!$A$1:$B$21,2,FALSE))","v":""},null,null,null,null,null,null,null,null,null,null,null,null,null,null,null,null,null,null,null,null,null,"X"]
[{"$f":"IF(C505=\"\",\"\",VLOOKUP(D505,Lookup!$D$1:$E$1051,2,FALSE))","v":""},{"$f":"IF(C505=\"\",\"\",VLOOKUP(U505,Lookup!$A$1:$B$21,2,FALSE))","v":""},null,null,null,null,null,null,null,null,null,null,null,null,null,null,null,null,null,null,null,null,null,"X"]
[{"$f":"IF(C506=\"\",\"\",VLOOKUP(D506,Lookup!$D$1:$E$1051,2,FALSE))","v":""},{"$f":"IF(C506=\"\",\"\",VLOOKUP(U506,Lookup!$A$1:$B$21,2,FALSE))","v":""},null,null,null,null,null,null,null,null,null,null,null,null,null,null,null,null,null,null,null,null,null,"X"]
[{"$f":"IF(C507=\"\",\"\",VLOOKUP(D507,Lookup!$D$1:$E$1051,2,FALSE))","v":""},{"$f":"IF(C507=\"\",\"\",VLOOKUP(U507,Lookup!$A$1:$B$21,2,FALSE))","v":""},null,null,null,null,null,null,null,null,null,null,null,null,null,null,null,null,null,null,null,null,null,"X"]
[{"$f":"IF(C508=\"\",\"\",VLOOKUP(D508,Lookup!$D$1:$E$1051,2,FALSE))","v":""},{"$f":"IF(C508=\"\",\"\",VLOOKUP(U508,Lookup!$A$1:$B$21,2,FALSE))","v":""},null,null,null,null,null,null,null,null,null,null,null,null,null,null,null,null,null,null,null,null,null,"X"]
[{"$f":"IF(C509=\"\",\"\",VLOOKUP(D509,Lookup!$D$1:$E$1051,2,FALSE))","v":""},{"$f":"IF(C509=\"\",\"\",VLOOKUP(U509,Lookup!$A$1:$B$21,2,FALSE))","v":""},null,null,null,null,null,null,null,null,null,null,null,null,null,null,null,null,null,null,null,null,null,"X"]
[{"$f":"IF(C510=\"\",\"\",VLOOKUP(D510,Lookup!$D$1:$E$1051,2,FALSE))","v":""},{"$f":"IF(C510=\"\",\"\",VLOOKUP(U510,Lookup!$A$1:$B$21,2,FALSE))","v":""},null,null,null,null,null,null,null,null,null,null,null,null,null,null,null,null,null,null,null,null,null,"X"]
[{"$f":"IF(C511=\"\",\"\",VLOOKUP(D511,Lookup!$D$1:$E$1051,2,FALSE))","v":""},{"$f":"IF(C511=\"\",\"\",VLOOKUP(U511,Lookup!$A$1:$B$21,2,FALSE))","v":""},null,null,null,null,null,null,null,null,null,null,null,null,null,null,null,null,null,null,null,null,null,"X"]
[{"$f":"IF(C512=\"\",\"\",VLOOKUP(D512,Lookup!$D$1:$E$1051,2,FALSE))","v":""},{"$f":"IF(C512=\"\",\"\",VLOOKUP(U512,Lookup!$A$1:$B$21,2,FALSE))","v":""},null,null,null,null,null,null,null,null,null,null,null,null,null,null,null,null,null,null,null,null,null,"X"]
[{"$f":"IF(C513=\"\",\"\",VLOOKUP(D513,Lookup!$D$1:$E$1051,2,FALSE))","v":""},{"$f":"IF(C513=\"\",\"\",VLOOKUP(U513,Lookup!$A$1:$B$21,2,FALSE))","v":""},null,null,null,null,null,null,null,null,null,null,null,null,null,null,null,null,null,null,null,null,null,"X"]
[{"$f":"IF(C514=\"\",\"\",VLOOKUP(D514,Lookup!$D$1:$E$1051,2,FALSE))","v":""},{"$f":"IF(C514=\"\",\"\",VLOOKUP(U514,Lookup!$A$1:$B$21,2,FALSE))","v":""},null,null,null,null,null,null,null,null,null,null,null,null,null,null,null,null,null,null,null,null,null,"X"]
[{"$f":"IF(C515=\"\",\"\",VLOOKUP(D515,Lookup!$D$1:$E$1051,2,FALSE))","v":""},{"$f":"IF(C515=\"\",\"\",VLOOKUP(U515,Lookup!$A$1:$B$21,2,FALSE))","v":""},null,null,null,null,null,null,null,null,null,null,null,null,null,null,null,null,null,null,null,null,null,"X"]
[{"$f":"IF(C516=\"\",\"\",VLOOKUP(D516,Lookup!$D$1:$E$1051,2,FALSE))","v":""},{"$f":"IF(C516=\"\",\"\",VLOOKUP(U516,Lookup!$A$1:$B$21,2,FALSE))","v":""},null,null,null,null,null,null,null,null,null,null,null,null,null,null,null,null,null,null,null,null,null,"X"]
[{"$f":"IF(C517=\"\",\"\",VLOOKUP(D517,Lookup!$D$1:$E$1051,2,FALSE))","v":""},{"$f":"IF(C517=\"\",\"\",VLOOKUP(U517,Lookup!$A$1:$B$21,2,FALSE))","v":""},null,null,null,null,null,null,null,null,null,null,null,null,null,null,null,null,null,null,null,null,null,"X"]
[{"$f":"IF(C518=\"\",\"\",VLOOKUP(D518,Lookup!$D$1:$E$1051,2,FALSE))","v":""},{"$f":"IF(C518=\"\",\"\",VLOOKUP(U518,Lookup!$A$1:$B$21,2,FALSE))","v":""},null,null,null,null,null,null,null,null,null,null,null,null,null,null,null,null,null,null,null,null,null,"X"]
[{"$f":"IF(C519=\"\",\"\",VLOOKUP(D519,Lookup!$D$1:$E$1051,2,FALSE))","v":""},{"$f":"IF(C519=\"\",\"\",VLOOKUP(U519,Lookup!$A$1:$B$21,2,FALSE))","v":""},null,null,null,null,null,null,null,null,null,null,null,null,null,null,null,null,null,null,null,null,null,"X"]
[{"$f":"IF(C520=\"\",\"\",VLOOKUP(D520,Lookup!$D$1:$E$1051,2,FALSE))","v":""},{"$f":"IF(C520=\"\",\"\",VLOOKUP(U520,Lookup!$A$1:$B$21,2,FALSE))","v":""},null,null,null,null,null,null,null,null,null,null,null,null,null,null,null,null,null,null,null,null,null,"X"]
[{"$f":"IF(C521=\"\",\"\",VLOOKUP(D521,Lookup!$D$1:$E$1051,2,FALSE))","v":""},{"$f":"IF(C521=\"\",\"\",VLOOKUP(U521,Lookup!$A$1:$B$21,2,FALSE))","v":""},null,null,null,null,null,null,null,null,null,null,null,null,null,null,null,null,null,null,null,null,null,"X"]
[{"$f":"IF(C522=\"\",\"\",VLOOKUP(D522,Lookup!$D$1:$E$1051,2,FALSE))","v":""},{"$f":"IF(C522=\"\",\"\",VLOOKUP(U522,Lookup!$A$1:$B$21,2,FALSE))","v":""},null,null,null,null,null,null,null,null,null,null,null,null,null,null,null,null,null,null,null,null,null,"X"]
[{"$f":"IF(C523=\"\",\"\",VLOOKUP(D523,Lookup!$D$1:$E$1051,2,FALSE))","v":""},{"$f":"IF(C523=\"\",\"\",VLOOKUP(U523,Lookup!$A$1:$B$21,2,FALSE))","v":""},null,null,null,null,null,null,null,null,null,null,null,null,null,null,null,null,null,null,null,null,null,"X"]
[{"$f":"IF(C524=\"\",\"\",VLOOKUP(D524,Lookup!$D$1:$E$1051,2,FALSE))","v":""},{"$f":"IF(C524=\"\",\"\",VLOOKUP(U524,Lookup!$A$1:$B$21,2,FALSE))","v":""},null,null,null,null,null,null,null,null,null,null,null,null,null,null,null,null,null,null,null,null,null,"X"]
[{"$f":"IF(C525=\"\",\"\",VLOOKUP(D525,Lookup!$D$1:$E$1051,2,FALSE))","v":""},{"$f":"IF(C525=\"\",\"\",VLOOKUP(U525,Lookup!$A$1:$B$21,2,FALSE))","v":""},null,null,null,null,null,null,null,null,null,null,null,null,null,null,null,null,null,null,null,null,null,"X"]
[{"$f":"IF(C526=\"\",\"\",VLOOKUP(D526,Lookup!$D$1:$E$1051,2,FALSE))","v":""},{"$f":"IF(C526=\"\",\"\",VLOOKUP(U526,Lookup!$A$1:$B$21,2,FALSE))","v":""},null,null,null,null,null,null,null,null,null,null,null,null,null,null,null,null,null,null,null,null,null,"X"]
[{"$f":"IF(C527=\"\",\"\",VLOOKUP(D527,Lookup!$D$1:$E$1051,2,FALSE))","v":""},{"$f":"IF(C527=\"\",\"\",VLOOKUP(U527,Lookup!$A$1:$B$21,2,FALSE))","v":""},null,null,null,null,null,null,null,null,null,null,null,null,null,null,null,null,null,null,null,null,null,"X"]
[{"$f":"IF(C528=\"\",\"\",VLOOKUP(D528,Lookup!$D$1:$E$1051,2,FALSE))","v":""},{"$f":"IF(C528=\"\",\"\",VLOOKUP(U528,Lookup!$A$1:$B$21,2,FALSE))","v":""},null,null,null,null,null,null,null,null,null,null,null,null,null,null,null,null,null,null,null,null,null,"X"]
[{"$f":"IF(C529=\"\",\"\",VLOOKUP(D529,Lookup!$D$1:$E$1051,2,FALSE))","v":""},{"$f":"IF(C529=\"\",\"\",VLOOKUP(U529,Lookup!$A$1:$B$21,2,FALSE))","v":""},null,null,null,null,null,null,null,null,null,null,null,null,null,null,null,null,null,null,null,null,null,"X"]
[{"$f":"IF(C530=\"\",\"\",VLOOKUP(D530,Lookup!$D$1:$E$1051,2,FALSE))","v":""},{"$f":"IF(C530=\"\",\"\",VLOOKUP(U530,Lookup!$A$1:$B$21,2,FALSE))","v":""},null,null,null,null,null,null,null,null,null,null,null,null,null,null,null,null,null,null,null,null,null,"X"]
[{"$f":"IF(C531=\"\",\"\",VLOOKUP(D531,Lookup!$D$1:$E$1051,2,FALSE))","v":""},{"$f":"IF(C531=\"\",\"\",VLOOKUP(U531,Lookup!$A$1:$B$21,2,FALSE))","v":""},null,null,null,null,null,null,null,null,null,null,null,null,null,null,null,null,null,null,null,null,null,"X"]
[{"$f":"IF(C532=\"\",\"\",VLOOKUP(D532,Lookup!$D$1:$E$1051,2,FALSE))","v":""},{"$f":"IF(C532=\"\",\"\",VLOOKUP(U532,Lookup!$A$1:$B$21,2,FALSE))","v":""},null,null,null,null,null,null,null,null,null,null,null,null,null,null,null,null,null,null,null,null,null,"X"]
[{"$f":"IF(C533=\"\",\"\",VLOOKUP(D533,Lookup!$D$1:$E$1051,2,FALSE))","v":""},{"$f":"IF(C533=\"\",\"\",VLOOKUP(U533,Lookup!$A$1:$B$21,2,FALSE))","v":""},null,null,null,null,null,null,null,null,null,null,null,null,null,null,null,null,null,null,null,null,null,"X"]
[{"$f":"IF(C534=\"\",\"\",VLOOKUP(D534,Lookup!$D$1:$E$1051,2,FALSE))","v":""},{"$f":"IF(C534=\"\",\"\",VLOOKUP(U534,Lookup!$A$1:$B$21,2,FALSE))","v":""},null,null,null,null,null,null,null,null,null,null,null,null,null,null,null,null,null,null,null,null,null,"X"]
[{"$f":"IF(C535=\"\",\"\",VLOOKUP(D535,Lookup!$D$1:$E$1051,2,FALSE))","v":""},{"$f":"IF(C535=\"\",\"\",VLOOKUP(U535,Lookup!$A$1:$B$21,2,FALSE))","v":""},null,null,null,null,null,null,null,null,null,null,null,null,null,null,null,null,null,null,null,null,null,"X"]
[{"$f":"IF(C536=\"\",\"\",VLOOKUP(D536,Lookup!$D$1:$E$1051,2,FALSE))","v":""},{"$f":"IF(C536=\"\",\"\",VLOOKUP(U536,Lookup!$A$1:$B$21,2,FALSE))","v":""},null,null,null,null,null,null,null,null,null,null,null,null,null,null,null,null,null,null,null,null,null,"X"]
[{"$f":"IF(C537=\"\",\"\",VLOOKUP(D537,Lookup!$D$1:$E$1051,2,FALSE))","v":""},{"$f":"IF(C537=\"\",\"\",VLOOKUP(U537,Lookup!$A$1:$B$21,2,FALSE))","v":""},null,null,null,null,null,null,null,null,null,null,null,null,null,null,null,null,null,null,null,null,null,"X"]
[{"$f":"IF(C538=\"\",\"\",VLOOKUP(D538,Lookup!$D$1:$E$1051,2,FALSE))","v":""},{"$f":"IF(C538=\"\",\"\",VLOOKUP(U538,Lookup!$A$1:$B$21,2,FALSE))","v":""},null,null,null,null,null,null,null,null,null,null,null,null,null,null,null,null,null,null,null,null,null,"X"]
[{"$f":"IF(C539=\"\",\"\",VLOOKUP(D539,Lookup!$D$1:$E$1051,2,FALSE))","v":""},{"$f":"IF(C539=\"\",\"\",VLOOKUP(U539,Lookup!$A$1:$B$21,2,FALSE))","v":""},null,null,null,null,null,null,null,null,null,null,null,null,null,null,null,null,null,null,null,null,null,"X"]
[{"$f":"IF(C540=\"\",\"\",VLOOKUP(D540,Lookup!$D$1:$E$1051,2,FALSE))","v":""},{"$f":"IF(C540=\"\",\"\",VLOOKUP(U540,Lookup!$A$1:$B$21,2,FALSE))","v":""},null,null,null,null,null,null,null,null,null,null,null,null,null,null,null,null,null,null,null,null,null,"X"]
[{"$f":"IF(C541=\"\",\"\",VLOOKUP(D541,Lookup!$D$1:$E$1051,2,FALSE))","v":""},{"$f":"IF(C541=\"\",\"\",VLOOKUP(U541,Lookup!$A$1:$B$21,2,FALSE))","v":""},null,null,null,null,null,null,null,null,null,null,null,null,null,null,null,null,null,null,null,null,null,"X"]
[{"$f":"IF(C542=\"\",\"\",VLOOKUP(D542,Lookup!$D$1:$E$1051,2,FALSE))","v":""},{"$f":"IF(C542=\"\",\"\",VLOOKUP(U542,Lookup!$A$1:$B$21,2,FALSE))","v":""},null,null,null,null,null,null,null,null,null,null,null,null,null,null,null,null,null,null,null,null,null,"X"]
[{"$f":"IF(C543=\"\",\"\",VLOOKUP(D543,Lookup!$D$1:$E$1051,2,FALSE))","v":""},{"$f":"IF(C543=\"\",\"\",VLOOKUP(U543,Lookup!$A$1:$B$21,2,FALSE))","v":""},null,null,null,null,null,null,null,null,null,null,null,null,null,null,null,null,null,null,null,null,null,"X"]
[{"$f":"IF(C544=\"\",\"\",VLOOKUP(D544,Lookup!$D$1:$E$1051,2,FALSE))","v":""},{"$f":"IF(C544=\"\",\"\",VLOOKUP(U544,Lookup!$A$1:$B$21,2,FALSE))","v":""},null,null,null,null,null,null,null,null,null,null,null,null,null,null,null,null,null,null,null,null,null,"X"]
[{"$f":"IF(C545=\"\",\"\",VLOOKUP(D545,Lookup!$D$1:$E$1051,2,FALSE))","v":""},{"$f":"IF(C545=\"\",\"\",VLOOKUP(U545,Lookup!$A$1:$B$21,2,FALSE))","v":""},null,null,null,null,null,null,null,null,null,null,null,null,null,null,null,null,null,null,null,null,null,"X"]
[{"$f":"IF(C546=\"\",\"\",VLOOKUP(D546,Lookup!$D$1:$E$1051,2,FALSE))","v":""},{"$f":"IF(C546=\"\",\"\",VLOOKUP(U546,Lookup!$A$1:$B$21,2,FALSE))","v":""},null,null,null,null,null,null,null,null,null,null,null,null,null,null,null,null,null,null,null,null,null,"X"]
[{"$f":"IF(C547=\"\",\"\",VLOOKUP(D547,Lookup!$D$1:$E$1051,2,FALSE))","v":""},{"$f":"IF(C547=\"\",\"\",VLOOKUP(U547,Lookup!$A$1:$B$21,2,FALSE))","v":""},null,null,null,null,null,null,null,null,null,null,null,null,null,null,null,null,null,null,null,null,null,"X"]
[{"$f":"IF(C548=\"\",\"\",VLOOKUP(D548,Lookup!$D$1:$E$1051,2,FALSE))","v":""},{"$f":"IF(C548=\"\",\"\",VLOOKUP(U548,Lookup!$A$1:$B$21,2,FALSE))","v":""},null,null,null,null,null,null,null,null,null,null,null,null,null,null,null,null,null,null,null,null,null,"X"]
[{"$f":"IF(C549=\"\",\"\",VLOOKUP(D549,Lookup!$D$1:$E$1051,2,FALSE))","v":""},{"$f":"IF(C549=\"\",\"\",VLOOKUP(U549,Lookup!$A$1:$B$21,2,FALSE))","v":""},null,null,null,null,null,null,null,null,null,null,null,null,null,null,null,null,null,null,null,null,null,"X"]
[{"$f":"IF(C550=\"\",\"\",VLOOKUP(D550,Lookup!$D$1:$E$1051,2,FALSE))","v":""},{"$f":"IF(C550=\"\",\"\",VLOOKUP(U550,Lookup!$A$1:$B$21,2,FALSE))","v":""},null,null,null,null,null,null,null,null,null,null,null,null,null,null,null,null,null,null,null,null,null,"X"]
[{"$f":"IF(C551=\"\",\"\",VLOOKUP(D551,Lookup!$D$1:$E$1051,2,FALSE))","v":""},{"$f":"IF(C551=\"\",\"\",VLOOKUP(U551,Lookup!$A$1:$B$21,2,FALSE))","v":""},null,null,null,null,null,null,null,null,null,null,null,null,null,null,null,null,null,null,null,null,null,"X"]
[{"$f":"IF(C552=\"\",\"\",VLOOKUP(D552,Lookup!$D$1:$E$1051,2,FALSE))","v":""},{"$f":"IF(C552=\"\",\"\",VLOOKUP(U552,Lookup!$A$1:$B$21,2,FALSE))","v":""},null,null,null,null,null,null,null,null,null,null,null,null,null,null,null,null,null,null,null,null,null,"X"]
[{"$f":"IF(C553=\"\",\"\",VLOOKUP(D553,Lookup!$D$1:$E$1051,2,FALSE))","v":""},{"$f":"IF(C553=\"\",\"\",VLOOKUP(U553,Lookup!$A$1:$B$21,2,FALSE))","v":""},null,null,null,null,null,null,null,null,null,null,null,null,null,null,null,null,null,null,null,null,null,"X"]
[{"$f":"IF(C554=\"\",\"\",VLOOKUP(D554,Lookup!$D$1:$E$1051,2,FALSE))","v":""},{"$f":"IF(C554=\"\",\"\",VLOOKUP(U554,Lookup!$A$1:$B$21,2,FALSE))","v":""},null,null,null,null,null,null,null,null,null,null,null,null,null,null,null,null,null,null,null,null,null,"X"]
[{"$f":"IF(C555=\"\",\"\",VLOOKUP(D555,Lookup!$D$1:$E$1051,2,FALSE))","v":""},{"$f":"IF(C555=\"\",\"\",VLOOKUP(U555,Lookup!$A$1:$B$21,2,FALSE))","v":""},null,null,null,null,null,null,null,null,null,null,null,null,null,null,null,null,null,null,null,null,null,"X"]
[{"$f":"IF(C556=\"\",\"\",VLOOKUP(D556,Lookup!$D$1:$E$1051,2,FALSE))","v":""},{"$f":"IF(C556=\"\",\"\",VLOOKUP(U556,Lookup!$A$1:$B$21,2,FALSE))","v":""},null,null,null,null,null,null,null,null,null,null,null,null,null,null,null,null,null,null,null,null,null,"X"]
[{"$f":"IF(C557=\"\",\"\",VLOOKUP(D557,Lookup!$D$1:$E$1051,2,FALSE))","v":""},{"$f":"IF(C557=\"\",\"\",VLOOKUP(U557,Lookup!$A$1:$B$21,2,FALSE))","v":""},null,null,null,null,null,null,null,null,null,null,null,null,null,null,null,null,null,null,null,null,null,"X"]
[{"$f":"IF(C558=\"\",\"\",VLOOKUP(D558,Lookup!$D$1:$E$1051,2,FALSE))","v":""},{"$f":"IF(C558=\"\",\"\",VLOOKUP(U558,Lookup!$A$1:$B$21,2,FALSE))","v":""},null,null,null,null,null,null,null,null,null,null,null,null,null,null,null,null,null,null,null,null,null,"X"]
[{"$f":"IF(C559=\"\",\"\",VLOOKUP(D559,Lookup!$D$1:$E$1051,2,FALSE))","v":""},{"$f":"IF(C559=\"\",\"\",VLOOKUP(U559,Lookup!$A$1:$B$21,2,FALSE))","v":""},null,null,null,null,null,null,null,null,null,null,null,null,null,null,null,null,null,null,null,null,null,"X"]
[{"$f":"IF(C560=\"\",\"\",VLOOKUP(D560,Lookup!$D$1:$E$1051,2,FALSE))","v":""},{"$f":"IF(C560=\"\",\"\",VLOOKUP(U560,Lookup!$A$1:$B$21,2,FALSE))","v":""},null,null,null,null,null,null,null,null,null,null,null,null,null,null,null,null,null,null,null,null,null,"X"]
[{"$f":"IF(C561=\"\",\"\",VLOOKUP(D561,Lookup!$D$1:$E$1051,2,FALSE))","v":""},{"$f":"IF(C561=\"\",\"\",VLOOKUP(U561,Lookup!$A$1:$B$21,2,FALSE))","v":""},null,null,null,null,null,null,null,null,null,null,null,null,null,null,null,null,null,null,null,null,null,"X"]
[{"$f":"IF(C562=\"\",\"\",VLOOKUP(D562,Lookup!$D$1:$E$1051,2,FALSE))","v":""},{"$f":"IF(C562=\"\",\"\",VLOOKUP(U562,Lookup!$A$1:$B$21,2,FALSE))","v":""},null,null,null,null,null,null,null,null,null,null,null,null,null,null,null,null,null,null,null,null,null,"X"]
[{"$f":"IF(C563=\"\",\"\",VLOOKUP(D563,Lookup!$D$1:$E$1051,2,FALSE))","v":""},{"$f":"IF(C563=\"\",\"\",VLOOKUP(U563,Lookup!$A$1:$B$21,2,FALSE))","v":""},null,null,null,null,null,null,null,null,null,null,null,null,null,null,null,null,null,null,null,null,null,"X"]
[{"$f":"IF(C564=\"\",\"\",VLOOKUP(D564,Lookup!$D$1:$E$1051,2,FALSE))","v":""},{"$f":"IF(C564=\"\",\"\",VLOOKUP(U564,Lookup!$A$1:$B$21,2,FALSE))","v":""},null,null,null,null,null,null,null,null,null,null,null,null,null,null,null,null,null,null,null,null,null,"X"]
[{"$f":"IF(C565=\"\",\"\",VLOOKUP(D565,Lookup!$D$1:$E$1051,2,FALSE))","v":""},{"$f":"IF(C565=\"\",\"\",VLOOKUP(U565,Lookup!$A$1:$B$21,2,FALSE))","v":""},null,null,null,null,null,null,null,null,null,null,null,null,null,null,null,null,null,null,null,null,null,"X"]
[{"$f":"IF(C566=\"\",\"\",VLOOKUP(D566,Lookup!$D$1:$E$1051,2,FALSE))","v":""},{"$f":"IF(C566=\"\",\"\",VLOOKUP(U566,Lookup!$A$1:$B$21,2,FALSE))","v":""},null,null,null,null,null,null,null,null,null,null,null,null,null,null,null,null,null,null,null,null,null,"X"]
[{"$f":"IF(C567=\"\",\"\",VLOOKUP(D567,Lookup!$D$1:$E$1051,2,FALSE))","v":""},{"$f":"IF(C567=\"\",\"\",VLOOKUP(U567,Lookup!$A$1:$B$21,2,FALSE))","v":""},null,null,null,null,null,null,null,null,null,null,null,null,null,null,null,null,null,null,null,null,null,"X"]
[{"$f":"IF(C568=\"\",\"\",VLOOKUP(D568,Lookup!$D$1:$E$1051,2,FALSE))","v":""},{"$f":"IF(C568=\"\",\"\",VLOOKUP(U568,Lookup!$A$1:$B$21,2,FALSE))","v":""},null,null,null,null,null,null,null,null,null,null,null,null,null,null,null,null,null,null,null,null,null,"X"]
[{"$f":"IF(C569=\"\",\"\",VLOOKUP(D569,Lookup!$D$1:$E$1051,2,FALSE))","v":""},{"$f":"IF(C569=\"\",\"\",VLOOKUP(U569,Lookup!$A$1:$B$21,2,FALSE))","v":""},null,null,null,null,null,null,null,null,null,null,null,null,null,null,null,null,null,null,null,null,null,"X"]
[{"$f":"IF(C570=\"\",\"\",VLOOKUP(D570,Lookup!$D$1:$E$1051,2,FALSE))","v":""},{"$f":"IF(C570=\"\",\"\",VLOOKUP(U570,Lookup!$A$1:$B$21,2,FALSE))","v":""},null,null,null,null,null,null,null,null,null,null,null,null,null,null,null,null,null,null,null,null,null,"X"]
[{"$f":"IF(C571=\"\",\"\",VLOOKUP(D571,Lookup!$D$1:$E$1051,2,FALSE))","v":""},{"$f":"IF(C571=\"\",\"\",VLOOKUP(U571,Lookup!$A$1:$B$21,2,FALSE))","v":""},null,null,null,null,null,null,null,null,null,null,null,null,null,null,null,null,null,null,null,null,null,"X"]
[{"$f":"IF(C572=\"\",\"\",VLOOKUP(D572,Lookup!$D$1:$E$1051,2,FALSE))","v":""},{"$f":"IF(C572=\"\",\"\",VLOOKUP(U572,Lookup!$A$1:$B$21,2,FALSE))","v":""},null,null,null,null,null,null,null,null,null,null,null,null,null,null,null,null,null,null,null,null,null,"X"]
[{"$f":"IF(C573=\"\",\"\",VLOOKUP(D573,Lookup!$D$1:$E$1051,2,FALSE))","v":""},{"$f":"IF(C573=\"\",\"\",VLOOKUP(U573,Lookup!$A$1:$B$21,2,FALSE))","v":""},null,null,null,null,null,null,null,null,null,null,null,null,null,null,null,null,null,null,null,null,null,"X"]
[{"$f":"IF(C574=\"\",\"\",VLOOKUP(D574,Lookup!$D$1:$E$1051,2,FALSE))","v":""},{"$f":"IF(C574=\"\",\"\",VLOOKUP(U574,Lookup!$A$1:$B$21,2,FALSE))","v":""},null,null,null,null,null,null,null,null,null,null,null,null,null,null,null,null,null,null,null,null,null,"X"]
[{"$f":"IF(C575=\"\",\"\",VLOOKUP(D575,Lookup!$D$1:$E$1051,2,FALSE))","v":""},{"$f":"IF(C575=\"\",\"\",VLOOKUP(U575,Lookup!$A$1:$B$21,2,FALSE))","v":""},null,null,null,null,null,null,null,null,null,null,null,null,null,null,null,null,null,null,null,null,null,"X"]
[{"$f":"IF(C576=\"\",\"\",VLOOKUP(D576,Lookup!$D$1:$E$1051,2,FALSE))","v":""},{"$f":"IF(C576=\"\",\"\",VLOOKUP(U576,Lookup!$A$1:$B$21,2,FALSE))","v":""},null,null,null,null,null,null,null,null,null,null,null,null,null,null,null,null,null,null,null,null,null,"X"]
[{"$f":"IF(C577=\"\",\"\",VLOOKUP(D577,Lookup!$D$1:$E$1051,2,FALSE))","v":""},{"$f":"IF(C577=\"\",\"\",VLOOKUP(U577,Lookup!$A$1:$B$21,2,FALSE))","v":""},null,null,null,null,null,null,null,null,null,null,null,null,null,null,null,null,null,null,null,null,null,"X"]
[{"$f":"IF(C578=\"\",\"\",VLOOKUP(D578,Lookup!$D$1:$E$1051,2,FALSE))","v":""},{"$f":"IF(C578=\"\",\"\",VLOOKUP(U578,Lookup!$A$1:$B$21,2,FALSE))","v":""},null,null,null,null,null,null,null,null,null,null,null,null,null,null,null,null,null,null,null,null,null,"X"]
[{"$f":"IF(C579=\"\",\"\",VLOOKUP(D579,Lookup!$D$1:$E$1051,2,FALSE))","v":""},{"$f":"IF(C579=\"\",\"\",VLOOKUP(U579,Lookup!$A$1:$B$21,2,FALSE))","v":""},null,null,null,null,null,null,null,null,null,null,null,null,null,null,null,null,null,null,null,null,null,"X"]
[{"$f":"IF(C580=\"\",\"\",VLOOKUP(D580,Lookup!$D$1:$E$1051,2,FALSE))","v":""},{"$f":"IF(C580=\"\",\"\",VLOOKUP(U580,Lookup!$A$1:$B$21,2,FALSE))","v":""},null,null,null,null,null,null,null,null,null,null,null,null,null,null,null,null,null,null,null,null,null,"X"]
[{"$f":"IF(C581=\"\",\"\",VLOOKUP(D581,Lookup!$D$1:$E$1051,2,FALSE))","v":""},{"$f":"IF(C581=\"\",\"\",VLOOKUP(U581,Lookup!$A$1:$B$21,2,FALSE))","v":""},null,null,null,null,null,null,null,null,null,null,null,null,null,null,null,null,null,null,null,null,null,"X"]
[{"$f":"IF(C582=\"\",\"\",VLOOKUP(D582,Lookup!$D$1:$E$1051,2,FALSE))","v":""},{"$f":"IF(C582=\"\",\"\",VLOOKUP(U582,Lookup!$A$1:$B$21,2,FALSE))","v":""},null,null,null,null,null,null,null,null,null,null,null,null,null,null,null,null,null,null,null,null,null,"X"]
[{"$f":"IF(C583=\"\",\"\",VLOOKUP(D583,Lookup!$D$1:$E$1051,2,FALSE))","v":""},{"$f":"IF(C583=\"\",\"\",VLOOKUP(U583,Lookup!$A$1:$B$21,2,FALSE))","v":""},null,null,null,null,null,null,null,null,null,null,null,null,null,null,null,null,null,null,null,null,null,"X"]
[{"$f":"IF(C584=\"\",\"\",VLOOKUP(D584,Lookup!$D$1:$E$1051,2,FALSE))","v":""},{"$f":"IF(C584=\"\",\"\",VLOOKUP(U584,Lookup!$A$1:$B$21,2,FALSE))","v":""},null,null,null,null,null,null,null,null,null,null,null,null,null,null,null,null,null,null,null,null,null,"X"]
[{"$f":"IF(C585=\"\",\"\",VLOOKUP(D585,Lookup!$D$1:$E$1051,2,FALSE))","v":""},{"$f":"IF(C585=\"\",\"\",VLOOKUP(U585,Lookup!$A$1:$B$21,2,FALSE))","v":""},null,null,null,null,null,null,null,null,null,null,null,null,null,null,null,null,null,null,null,null,null,"X"]
[{"$f":"IF(C586=\"\",\"\",VLOOKUP(D586,Lookup!$D$1:$E$1051,2,FALSE))","v":""},{"$f":"IF(C586=\"\",\"\",VLOOKUP(U586,Lookup!$A$1:$B$21,2,FALSE))","v":""},null,null,null,null,null,null,null,null,null,null,null,null,null,null,null,null,null,null,null,null,null,"X"]
[{"$f":"IF(C587=\"\",\"\",VLOOKUP(D587,Lookup!$D$1:$E$1051,2,FALSE))","v":""},{"$f":"IF(C587=\"\",\"\",VLOOKUP(U587,Lookup!$A$1:$B$21,2,FALSE))","v":""},null,null,null,null,null,null,null,null,null,null,null,null,null,null,null,null,null,null,null,null,null,"X"]
[{"$f":"IF(C588=\"\",\"\",VLOOKUP(D588,Lookup!$D$1:$E$1051,2,FALSE))","v":""},{"$f":"IF(C588=\"\",\"\",VLOOKUP(U588,Lookup!$A$1:$B$21,2,FALSE))","v":""},null,null,null,null,null,null,null,null,null,null,null,null,null,null,null,null,null,null,null,null,null,"X"]
[{"$f":"IF(C589=\"\",\"\",VLOOKUP(D589,Lookup!$D$1:$E$1051,2,FALSE))","v":""},{"$f":"IF(C589=\"\",\"\",VLOOKUP(U589,Lookup!$A$1:$B$21,2,FALSE))","v":""},null,null,null,null,null,null,null,null,null,null,null,null,null,null,null,null,null,null,null,null,null,"X"]
[{"$f":"IF(C590=\"\",\"\",VLOOKUP(D590,Lookup!$D$1:$E$1051,2,FALSE))","v":""},{"$f":"IF(C590=\"\",\"\",VLOOKUP(U590,Lookup!$A$1:$B$21,2,FALSE))","v":""},null,null,null,null,null,null,null,null,null,null,null,null,null,null,null,null,null,null,null,null,null,"X"]
[{"$f":"IF(C591=\"\",\"\",VLOOKUP(D591,Lookup!$D$1:$E$1051,2,FALSE))","v":""},{"$f":"IF(C591=\"\",\"\",VLOOKUP(U591,Lookup!$A$1:$B$21,2,FALSE))","v":""},null,null,null,null,null,null,null,null,null,null,null,null,null,null,null,null,null,null,null,null,null,"X"]
[{"$f":"IF(C592=\"\",\"\",VLOOKUP(D592,Lookup!$D$1:$E$1051,2,FALSE))","v":""},{"$f":"IF(C592=\"\",\"\",VLOOKUP(U592,Lookup!$A$1:$B$21,2,FALSE))","v":""},null,null,null,null,null,null,null,null,null,null,null,null,null,null,null,null,null,null,null,null,null,"X"]
[{"$f":"IF(C593=\"\",\"\",VLOOKUP(D593,Lookup!$D$1:$E$1051,2,FALSE))","v":""},{"$f":"IF(C593=\"\",\"\",VLOOKUP(U593,Lookup!$A$1:$B$21,2,FALSE))","v":""},null,null,null,null,null,null,null,null,null,null,null,null,null,null,null,null,null,null,null,null,null,"X"]
[{"$f":"IF(C594=\"\",\"\",VLOOKUP(D594,Lookup!$D$1:$E$1051,2,FALSE))","v":""},{"$f":"IF(C594=\"\",\"\",VLOOKUP(U594,Lookup!$A$1:$B$21,2,FALSE))","v":""},null,null,null,null,null,null,null,null,null,null,null,null,null,null,null,null,null,null,null,null,null,"X"]
[{"$f":"IF(C595=\"\",\"\",VLOOKUP(D595,Lookup!$D$1:$E$1051,2,FALSE))","v":""},{"$f":"IF(C595=\"\",\"\",VLOOKUP(U595,Lookup!$A$1:$B$21,2,FALSE))","v":""},null,null,null,null,null,null,null,null,null,null,null,null,null,null,null,null,null,null,null,null,null,"X"]
[{"$f":"IF(C596=\"\",\"\",VLOOKUP(D596,Lookup!$D$1:$E$1051,2,FALSE))","v":""},{"$f":"IF(C596=\"\",\"\",VLOOKUP(U596,Lookup!$A$1:$B$21,2,FALSE))","v":""},null,null,null,null,null,null,null,null,null,null,null,null,null,null,null,null,null,null,null,null,null,"X"]
[{"$f":"IF(C597=\"\",\"\",VLOOKUP(D597,Lookup!$D$1:$E$1051,2,FALSE))","v":""},{"$f":"IF(C597=\"\",\"\",VLOOKUP(U597,Lookup!$A$1:$B$21,2,FALSE))","v":""},null,null,null,null,null,null,null,null,null,null,null,null,null,null,null,null,null,null,null,null,null,"X"]
[{"$f":"IF(C598=\"\",\"\",VLOOKUP(D598,Lookup!$D$1:$E$1051,2,FALSE))","v":""},{"$f":"IF(C598=\"\",\"\",VLOOKUP(U598,Lookup!$A$1:$B$21,2,FALSE))","v":""},null,null,null,null,null,null,null,null,null,null,null,null,null,null,null,null,null,null,null,null,null,"X"]
[{"$f":"IF(C599=\"\",\"\",VLOOKUP(D599,Lookup!$D$1:$E$1051,2,FALSE))","v":""},{"$f":"IF(C599=\"\",\"\",VLOOKUP(U599,Lookup!$A$1:$B$21,2,FALSE))","v":""},null,null,null,null,null,null,null,null,null,null,null,null,null,null,null,null,null,null,null,null,null,"X"]
[{"$f":"IF(C600=\"\",\"\",VLOOKUP(D600,Lookup!$D$1:$E$1051,2,FALSE))","v":""},{"$f":"IF(C600=\"\",\"\",VLOOKUP(U600,Lookup!$A$1:$B$21,2,FALSE))","v":""},null,null,null,null,null,null,null,null,null,null,null,null,null,null,null,null,null,null,null,null,null,"X"]
[{"$f":"IF(C601=\"\",\"\",VLOOKUP(D601,Lookup!$D$1:$E$1051,2,FALSE))","v":""},{"$f":"IF(C601=\"\",\"\",VLOOKUP(U601,Lookup!$A$1:$B$21,2,FALSE))","v":""},null,null,null,null,null,null,null,null,null,null,null,null,null,null,null,null,null,null,null,null,null,"X"]
[{"$f":"IF(C602=\"\",\"\",VLOOKUP(D602,Lookup!$D$1:$E$1051,2,FALSE))","v":""},{"$f":"IF(C602=\"\",\"\",VLOOKUP(U602,Lookup!$A$1:$B$21,2,FALSE))","v":""},null,null,null,null,null,null,null,null,null,null,null,null,null,null,null,null,null,null,null,null,null,"X"]
[{"$f":"IF(C603=\"\",\"\",VLOOKUP(D603,Lookup!$D$1:$E$1051,2,FALSE))","v":""},{"$f":"IF(C603=\"\",\"\",VLOOKUP(U603,Lookup!$A$1:$B$21,2,FALSE))","v":""},null,null,null,null,null,null,null,null,null,null,null,null,null,null,null,null,null,null,null,null,null,"X"]
[{"$f":"IF(C604=\"\",\"\",VLOOKUP(D604,Lookup!$D$1:$E$1051,2,FALSE))","v":""},{"$f":"IF(C604=\"\",\"\",VLOOKUP(U604,Lookup!$A$1:$B$21,2,FALSE))","v":""},null,null,null,null,null,null,null,null,null,null,null,null,null,null,null,null,null,null,null,null,null,"X"]
[{"$f":"IF(C605=\"\",\"\",VLOOKUP(D605,Lookup!$D$1:$E$1051,2,FALSE))","v":""},{"$f":"IF(C605=\"\",\"\",VLOOKUP(U605,Lookup!$A$1:$B$21,2,FALSE))","v":""},null,null,null,null,null,null,null,null,null,null,null,null,null,null,null,null,null,null,null,null,null,"X"]
[{"$f":"IF(C606=\"\",\"\",VLOOKUP(D606,Lookup!$D$1:$E$1051,2,FALSE))","v":""},{"$f":"IF(C606=\"\",\"\",VLOOKUP(U606,Lookup!$A$1:$B$21,2,FALSE))","v":""},null,null,null,null,null,null,null,null,null,null,null,null,null,null,null,null,null,null,null,null,null,"X"]
[{"$f":"IF(C607=\"\",\"\",VLOOKUP(D607,Lookup!$D$1:$E$1051,2,FALSE))","v":""},{"$f":"IF(C607=\"\",\"\",VLOOKUP(U607,Lookup!$A$1:$B$21,2,FALSE))","v":""},null,null,null,null,null,null,null,null,null,null,null,null,null,null,null,null,null,null,null,null,null,"X"]
[{"$f":"IF(C608=\"\",\"\",VLOOKUP(D608,Lookup!$D$1:$E$1051,2,FALSE))","v":""},{"$f":"IF(C608=\"\",\"\",VLOOKUP(U608,Lookup!$A$1:$B$21,2,FALSE))","v":""},null,null,null,null,null,null,null,null,null,null,null,null,null,null,null,null,null,null,null,null,null,"X"]
[{"$f":"IF(C609=\"\",\"\",VLOOKUP(D609,Lookup!$D$1:$E$1051,2,FALSE))","v":""},{"$f":"IF(C609=\"\",\"\",VLOOKUP(U609,Lookup!$A$1:$B$21,2,FALSE))","v":""},null,null,null,null,null,null,null,null,null,null,null,null,null,null,null,null,null,null,null,null,null,"X"]
[{"$f":"IF(C610=\"\",\"\",VLOOKUP(D610,Lookup!$D$1:$E$1051,2,FALSE))","v":""},{"$f":"IF(C610=\"\",\"\",VLOOKUP(U610,Lookup!$A$1:$B$21,2,FALSE))","v":""},null,null,null,null,null,null,null,null,null,null,null,null,null,null,null,null,null,null,null,null,null,"X"]
[{"$f":"IF(C611=\"\",\"\",VLOOKUP(D611,Lookup!$D$1:$E$1051,2,FALSE))","v":""},{"$f":"IF(C611=\"\",\"\",VLOOKUP(U611,Lookup!$A$1:$B$21,2,FALSE))","v":""},null,null,null,null,null,null,null,null,null,null,null,null,null,null,null,null,null,null,null,null,null,"X"]
[{"$f":"IF(C612=\"\",\"\",VLOOKUP(D612,Lookup!$D$1:$E$1051,2,FALSE))","v":""},{"$f":"IF(C612=\"\",\"\",VLOOKUP(U612,Lookup!$A$1:$B$21,2,FALSE))","v":""},null,null,null,null,null,null,null,null,null,null,null,null,null,null,null,null,null,null,null,null,null,"X"]
[{"$f":"IF(C613=\"\",\"\",VLOOKUP(D613,Lookup!$D$1:$E$1051,2,FALSE))","v":""},{"$f":"IF(C613=\"\",\"\",VLOOKUP(U613,Lookup!$A$1:$B$21,2,FALSE))","v":""},null,null,null,null,null,null,null,null,null,null,null,null,null,null,null,null,null,null,null,null,null,"X"]
[{"$f":"IF(C614=\"\",\"\",VLOOKUP(D614,Lookup!$D$1:$E$1051,2,FALSE))","v":""},{"$f":"IF(C614=\"\",\"\",VLOOKUP(U614,Lookup!$A$1:$B$21,2,FALSE))","v":""},null,null,null,null,null,null,null,null,null,null,null,null,null,null,null,null,null,null,null,null,null,"X"]
[{"$f":"IF(C615=\"\",\"\",VLOOKUP(D615,Lookup!$D$1:$E$1051,2,FALSE))","v":""},{"$f":"IF(C615=\"\",\"\",VLOOKUP(U615,Lookup!$A$1:$B$21,2,FALSE))","v":""},null,null,null,null,null,null,null,null,null,null,null,null,null,null,null,null,null,null,null,null,null,"X"]
[{"$f":"IF(C616=\"\",\"\",VLOOKUP(D616,Lookup!$D$1:$E$1051,2,FALSE))","v":""},{"$f":"IF(C616=\"\",\"\",VLOOKUP(U616,Lookup!$A$1:$B$21,2,FALSE))","v":""},null,null,null,null,null,null,null,null,null,null,null,null,null,null,null,null,null,null,null,null,null,"X"]
[{"$f":"IF(C617=\"\",\"\",VLOOKUP(D617,Lookup!$D$1:$E$1051,2,FALSE))","v":""},{"$f":"IF(C617=\"\",\"\",VLOOKUP(U617,Lookup!$A$1:$B$21,2,FALSE))","v":""},null,null,null,null,null,null,null,null,null,null,null,null,null,null,null,null,null,null,null,null,null,"X"]
[{"$f":"IF(C618=\"\",\"\",VLOOKUP(D618,Lookup!$D$1:$E$1051,2,FALSE))","v":""},{"$f":"IF(C618=\"\",\"\",VLOOKUP(U618,Lookup!$A$1:$B$21,2,FALSE))","v":""},null,null,null,null,null,null,null,null,null,null,null,null,null,null,null,null,null,null,null,null,null,"X"]
[{"$f":"IF(C619=\"\",\"\",VLOOKUP(D619,Lookup!$D$1:$E$1051,2,FALSE))","v":""},{"$f":"IF(C619=\"\",\"\",VLOOKUP(U619,Lookup!$A$1:$B$21,2,FALSE))","v":""},null,null,null,null,null,null,null,null,null,null,null,null,null,null,null,null,null,null,null,null,null,"X"]
[{"$f":"IF(C620=\"\",\"\",VLOOKUP(D620,Lookup!$D$1:$E$1051,2,FALSE))","v":""},{"$f":"IF(C620=\"\",\"\",VLOOKUP(U620,Lookup!$A$1:$B$21,2,FALSE))","v":""},null,null,null,null,null,null,null,null,null,null,null,null,null,null,null,null,null,null,null,null,null,"X"]
[{"$f":"IF(C621=\"\",\"\",VLOOKUP(D621,Lookup!$D$1:$E$1051,2,FALSE))","v":""},{"$f":"IF(C621=\"\",\"\",VLOOKUP(U621,Lookup!$A$1:$B$21,2,FALSE))","v":""},null,null,null,null,null,null,null,null,null,null,null,null,null,null,null,null,null,null,null,null,null,"X"]
[{"$f":"IF(C622=\"\",\"\",VLOOKUP(D622,Lookup!$D$1:$E$1051,2,FALSE))","v":""},{"$f":"IF(C622=\"\",\"\",VLOOKUP(U622,Lookup!$A$1:$B$21,2,FALSE))","v":""},null,null,null,null,null,null,null,null,null,null,null,null,null,null,null,null,null,null,null,null,null,"X"]
[{"$f":"IF(C623=\"\",\"\",VLOOKUP(D623,Lookup!$D$1:$E$1051,2,FALSE))","v":""},{"$f":"IF(C623=\"\",\"\",VLOOKUP(U623,Lookup!$A$1:$B$21,2,FALSE))","v":""},null,null,null,null,null,null,null,null,null,null,null,null,null,null,null,null,null,null,null,null,null,"X"]
[{"$f":"IF(C624=\"\",\"\",VLOOKUP(D624,Lookup!$D$1:$E$1051,2,FALSE))","v":""},{"$f":"IF(C624=\"\",\"\",VLOOKUP(U624,Lookup!$A$1:$B$21,2,FALSE))","v":""},null,null,null,null,null,null,null,null,null,null,null,null,null,null,null,null,null,null,null,null,null,"X"]
[{"$f":"IF(C625=\"\",\"\",VLOOKUP(D625,Lookup!$D$1:$E$1051,2,FALSE))","v":""},{"$f":"IF(C625=\"\",\"\",VLOOKUP(U625,Lookup!$A$1:$B$21,2,FALSE))","v":""},null,null,null,null,null,null,null,null,null,null,null,null,null,null,null,null,null,null,null,null,null,"X"]
[{"$f":"IF(C626=\"\",\"\",VLOOKUP(D626,Lookup!$D$1:$E$1051,2,FALSE))","v":""},{"$f":"IF(C626=\"\",\"\",VLOOKUP(U626,Lookup!$A$1:$B$21,2,FALSE))","v":""},null,null,null,null,null,null,null,null,null,null,null,null,null,null,null,null,null,null,null,null,null,"X"]
[{"$f":"IF(C627=\"\",\"\",VLOOKUP(D627,Lookup!$D$1:$E$1051,2,FALSE))","v":""},{"$f":"IF(C627=\"\",\"\",VLOOKUP(U627,Lookup!$A$1:$B$21,2,FALSE))","v":""},null,null,null,null,null,null,null,null,null,null,null,null,null,null,null,null,null,null,null,null,null,"X"]
[{"$f":"IF(C628=\"\",\"\",VLOOKUP(D628,Lookup!$D$1:$E$1051,2,FALSE))","v":""},{"$f":"IF(C628=\"\",\"\",VLOOKUP(U628,Lookup!$A$1:$B$21,2,FALSE))","v":""},null,null,null,null,null,null,null,null,null,null,null,null,null,null,null,null,null,null,null,null,null,"X"]
[{"$f":"IF(C629=\"\",\"\",VLOOKUP(D629,Lookup!$D$1:$E$1051,2,FALSE))","v":""},{"$f":"IF(C629=\"\",\"\",VLOOKUP(U629,Lookup!$A$1:$B$21,2,FALSE))","v":""},null,null,null,null,null,null,null,null,null,null,null,null,null,null,null,null,null,null,null,null,null,"X"]
[{"$f":"IF(C630=\"\",\"\",VLOOKUP(D630,Lookup!$D$1:$E$1051,2,FALSE))","v":""},{"$f":"IF(C630=\"\",\"\",VLOOKUP(U630,Lookup!$A$1:$B$21,2,FALSE))","v":""},null,null,null,null,null,null,null,null,null,null,null,null,null,null,null,null,null,null,null,null,null,"X"]
[{"$f":"IF(C631=\"\",\"\",VLOOKUP(D631,Lookup!$D$1:$E$1051,2,FALSE))","v":""},{"$f":"IF(C631=\"\",\"\",VLOOKUP(U631,Lookup!$A$1:$B$21,2,FALSE))","v":""},null,null,null,null,null,null,null,null,null,null,null,null,null,null,null,null,null,null,null,null,null,"X"]
[{"$f":"IF(C632=\"\",\"\",VLOOKUP(D632,Lookup!$D$1:$E$1051,2,FALSE))","v":""},{"$f":"IF(C632=\"\",\"\",VLOOKUP(U632,Lookup!$A$1:$B$21,2,FALSE))","v":""},null,null,null,null,null,null,null,null,null,null,null,null,null,null,null,null,null,null,null,null,null,"X"]
[{"$f":"IF(C633=\"\",\"\",VLOOKUP(D633,Lookup!$D$1:$E$1051,2,FALSE))","v":""},{"$f":"IF(C633=\"\",\"\",VLOOKUP(U633,Lookup!$A$1:$B$21,2,FALSE))","v":""},null,null,null,null,null,null,null,null,null,null,null,null,null,null,null,null,null,null,null,null,null,"X"]
[{"$f":"IF(C634=\"\",\"\",VLOOKUP(D634,Lookup!$D$1:$E$1051,2,FALSE))","v":""},{"$f":"IF(C634=\"\",\"\",VLOOKUP(U634,Lookup!$A$1:$B$21,2,FALSE))","v":""},null,null,null,null,null,null,null,null,null,null,null,null,null,null,null,null,null,null,null,null,null,"X"]
[{"$f":"IF(C635=\"\",\"\",VLOOKUP(D635,Lookup!$D$1:$E$1051,2,FALSE))","v":""},{"$f":"IF(C635=\"\",\"\",VLOOKUP(U635,Lookup!$A$1:$B$21,2,FALSE))","v":""},null,null,null,null,null,null,null,null,null,null,null,null,null,null,null,null,null,null,null,null,null,"X"]
[{"$f":"IF(C636=\"\",\"\",VLOOKUP(D636,Lookup!$D$1:$E$1051,2,FALSE))","v":""},{"$f":"IF(C636=\"\",\"\",VLOOKUP(U636,Lookup!$A$1:$B$21,2,FALSE))","v":""},null,null,null,null,null,null,null,null,null,null,null,null,null,null,null,null,null,null,null,null,null,"X"]
[{"$f":"IF(C637=\"\",\"\",VLOOKUP(D637,Lookup!$D$1:$E$1051,2,FALSE))","v":""},{"$f":"IF(C637=\"\",\"\",VLOOKUP(U637,Lookup!$A$1:$B$21,2,FALSE))","v":""},null,null,null,null,null,null,null,null,null,null,null,null,null,null,null,null,null,null,null,null,null,"X"]
[{"$f":"IF(C638=\"\",\"\",VLOOKUP(D638,Lookup!$D$1:$E$1051,2,FALSE))","v":""},{"$f":"IF(C638=\"\",\"\",VLOOKUP(U638,Lookup!$A$1:$B$21,2,FALSE))","v":""},null,null,null,null,null,null,null,null,null,null,null,null,null,null,null,null,null,null,null,null,null,"X"]
[{"$f":"IF(C639=\"\",\"\",VLOOKUP(D639,Lookup!$D$1:$E$1051,2,FALSE))","v":""},{"$f":"IF(C639=\"\",\"\",VLOOKUP(U639,Lookup!$A$1:$B$21,2,FALSE))","v":""},null,null,null,null,null,null,null,null,null,null,null,null,null,null,null,null,null,null,null,null,null,"X"]
[{"$f":"IF(C640=\"\",\"\",VLOOKUP(D640,Lookup!$D$1:$E$1051,2,FALSE))","v":""},{"$f":"IF(C640=\"\",\"\",VLOOKUP(U640,Lookup!$A$1:$B$21,2,FALSE))","v":""},null,null,null,null,null,null,null,null,null,null,null,null,null,null,null,null,null,null,null,null,null,"X"]
[{"$f":"IF(C641=\"\",\"\",VLOOKUP(D641,Lookup!$D$1:$E$1051,2,FALSE))","v":""},{"$f":"IF(C641=\"\",\"\",VLOOKUP(U641,Lookup!$A$1:$B$21,2,FALSE))","v":""},null,null,null,null,null,null,null,null,null,null,null,null,null,null,null,null,null,null,null,null,null,"X"]
[{"$f":"IF(C642=\"\",\"\",VLOOKUP(D642,Lookup!$D$1:$E$1051,2,FALSE))","v":""},{"$f":"IF(C642=\"\",\"\",VLOOKUP(U642,Lookup!$A$1:$B$21,2,FALSE))","v":""},null,null,null,null,null,null,null,null,null,null,null,null,null,null,null,null,null,null,null,null,null,"X"]
[{"$f":"IF(C643=\"\",\"\",VLOOKUP(D643,Lookup!$D$1:$E$1051,2,FALSE))","v":""},{"$f":"IF(C643=\"\",\"\",VLOOKUP(U643,Lookup!$A$1:$B$21,2,FALSE))","v":""},null,null,null,null,null,null,null,null,null,null,null,null,null,null,null,null,null,null,null,null,null,"X"]
[{"$f":"IF(C644=\"\",\"\",VLOOKUP(D644,Lookup!$D$1:$E$1051,2,FALSE))","v":""},{"$f":"IF(C644=\"\",\"\",VLOOKUP(U644,Lookup!$A$1:$B$21,2,FALSE))","v":""},null,null,null,null,null,null,null,null,null,null,null,null,null,null,null,null,null,null,null,null,null,"X"]
[{"$f":"IF(C645=\"\",\"\",VLOOKUP(D645,Lookup!$D$1:$E$1051,2,FALSE))","v":""},{"$f":"IF(C645=\"\",\"\",VLOOKUP(U645,Lookup!$A$1:$B$21,2,FALSE))","v":""},null,null,null,null,null,null,null,null,null,null,null,null,null,null,null,null,null,null,null,null,null,"X"]
[{"$f":"IF(C646=\"\",\"\",VLOOKUP(D646,Lookup!$D$1:$E$1051,2,FALSE))","v":""},{"$f":"IF(C646=\"\",\"\",VLOOKUP(U646,Lookup!$A$1:$B$21,2,FALSE))","v":""},null,null,null,null,null,null,null,null,null,null,null,null,null,null,null,null,null,null,null,null,null,"X"]
[{"$f":"IF(C647=\"\",\"\",VLOOKUP(D647,Lookup!$D$1:$E$1051,2,FALSE))","v":""},{"$f":"IF(C647=\"\",\"\",VLOOKUP(U647,Lookup!$A$1:$B$21,2,FALSE))","v":""},null,null,null,null,null,null,null,null,null,null,null,null,null,null,null,null,null,null,null,null,null,"X"]
[{"$f":"IF(C648=\"\",\"\",VLOOKUP(D648,Lookup!$D$1:$E$1051,2,FALSE))","v":""},{"$f":"IF(C648=\"\",\"\",VLOOKUP(U648,Lookup!$A$1:$B$21,2,FALSE))","v":""},null,null,null,null,null,null,null,null,null,null,null,null,null,null,null,null,null,null,null,null,null,"X"]
[{"$f":"IF(C649=\"\",\"\",VLOOKUP(D649,Lookup!$D$1:$E$1051,2,FALSE))","v":""},{"$f":"IF(C649=\"\",\"\",VLOOKUP(U649,Lookup!$A$1:$B$21,2,FALSE))","v":""},null,null,null,null,null,null,null,null,null,null,null,null,null,null,null,null,null,null,null,null,null,"X"]
[{"$f":"IF(C650=\"\",\"\",VLOOKUP(D650,Lookup!$D$1:$E$1051,2,FALSE))","v":""},{"$f":"IF(C650=\"\",\"\",VLOOKUP(U650,Lookup!$A$1:$B$21,2,FALSE))","v":""},null,null,null,null,null,null,null,null,null,null,null,null,null,null,null,null,null,null,null,null,null,"X"]
[{"$f":"IF(C651=\"\",\"\",VLOOKUP(D651,Lookup!$D$1:$E$1051,2,FALSE))","v":""},{"$f":"IF(C651=\"\",\"\",VLOOKUP(U651,Lookup!$A$1:$B$21,2,FALSE))","v":""},null,null,null,null,null,null,null,null,null,null,null,null,null,null,null,null,null,null,null,null,null,"X"]
[{"$f":"IF(C652=\"\",\"\",VLOOKUP(D652,Lookup!$D$1:$E$1051,2,FALSE))","v":""},{"$f":"IF(C652=\"\",\"\",VLOOKUP(U652,Lookup!$A$1:$B$21,2,FALSE))","v":""},null,null,null,null,null,null,null,null,null,null,null,null,null,null,null,null,null,null,null,null,null,"X"]
[{"$f":"IF(C653=\"\",\"\",VLOOKUP(D653,Lookup!$D$1:$E$1051,2,FALSE))","v":""},{"$f":"IF(C653=\"\",\"\",VLOOKUP(U653,Lookup!$A$1:$B$21,2,FALSE))","v":""},null,null,null,null,null,null,null,null,null,null,null,null,null,null,null,null,null,null,null,null,null,"X"]
[{"$f":"IF(C654=\"\",\"\",VLOOKUP(D654,Lookup!$D$1:$E$1051,2,FALSE))","v":""},{"$f":"IF(C654=\"\",\"\",VLOOKUP(U654,Lookup!$A$1:$B$21,2,FALSE))","v":""},null,null,null,null,null,null,null,null,null,null,null,null,null,null,null,null,null,null,null,null,null,"X"]
[{"$f":"IF(C655=\"\",\"\",VLOOKUP(D655,Lookup!$D$1:$E$1051,2,FALSE))","v":""},{"$f":"IF(C655=\"\",\"\",VLOOKUP(U655,Lookup!$A$1:$B$21,2,FALSE))","v":""},null,null,null,null,null,null,null,null,null,null,null,null,null,null,null,null,null,null,null,null,null,"X"]
[{"$f":"IF(C656=\"\",\"\",VLOOKUP(D656,Lookup!$D$1:$E$1051,2,FALSE))","v":""},{"$f":"IF(C656=\"\",\"\",VLOOKUP(U656,Lookup!$A$1:$B$21,2,FALSE))","v":""},null,null,null,null,null,null,null,null,null,null,null,null,null,null,null,null,null,null,null,null,null,"X"]
[{"$f":"IF(C657=\"\",\"\",VLOOKUP(D657,Lookup!$D$1:$E$1051,2,FALSE))","v":""},{"$f":"IF(C657=\"\",\"\",VLOOKUP(U657,Lookup!$A$1:$B$21,2,FALSE))","v":""},null,null,null,null,null,null,null,null,null,null,null,null,null,null,null,null,null,null,null,null,null,"X"]
[{"$f":"IF(C658=\"\",\"\",VLOOKUP(D658,Lookup!$D$1:$E$1051,2,FALSE))","v":""},{"$f":"IF(C658=\"\",\"\",VLOOKUP(U658,Lookup!$A$1:$B$21,2,FALSE))","v":""},null,null,null,null,null,null,null,null,null,null,null,null,null,null,null,null,null,null,null,null,null,"X"]
[{"$f":"IF(C659=\"\",\"\",VLOOKUP(D659,Lookup!$D$1:$E$1051,2,FALSE))","v":""},{"$f":"IF(C659=\"\",\"\",VLOOKUP(U659,Lookup!$A$1:$B$21,2,FALSE))","v":""},null,null,null,null,null,null,null,null,null,null,null,null,null,null,null,null,null,null,null,null,null,"X"]
[{"$f":"IF(C660=\"\",\"\",VLOOKUP(D660,Lookup!$D$1:$E$1051,2,FALSE))","v":""},{"$f":"IF(C660=\"\",\"\",VLOOKUP(U660,Lookup!$A$1:$B$21,2,FALSE))","v":""},null,null,null,null,null,null,null,null,null,null,null,null,null,null,null,null,null,null,null,null,null,"X"]
[{"$f":"IF(C661=\"\",\"\",VLOOKUP(D661,Lookup!$D$1:$E$1051,2,FALSE))","v":""},{"$f":"IF(C661=\"\",\"\",VLOOKUP(U661,Lookup!$A$1:$B$21,2,FALSE))","v":""},null,null,null,null,null,null,null,null,null,null,null,null,null,null,null,null,null,null,null,null,null,"X"]
[{"$f":"IF(C662=\"\",\"\",VLOOKUP(D662,Lookup!$D$1:$E$1051,2,FALSE))","v":""},{"$f":"IF(C662=\"\",\"\",VLOOKUP(U662,Lookup!$A$1:$B$21,2,FALSE))","v":""},null,null,null,null,null,null,null,null,null,null,null,null,null,null,null,null,null,null,null,null,null,"X"]
[{"$f":"IF(C663=\"\",\"\",VLOOKUP(D663,Lookup!$D$1:$E$1051,2,FALSE))","v":""},{"$f":"IF(C663=\"\",\"\",VLOOKUP(U663,Lookup!$A$1:$B$21,2,FALSE))","v":""},null,null,null,null,null,null,null,null,null,null,null,null,null,null,null,null,null,null,null,null,null,"X"]
[{"$f":"IF(C664=\"\",\"\",VLOOKUP(D664,Lookup!$D$1:$E$1051,2,FALSE))","v":""},{"$f":"IF(C664=\"\",\"\",VLOOKUP(U664,Lookup!$A$1:$B$21,2,FALSE))","v":""},null,null,null,null,null,null,null,null,null,null,null,null,null,null,null,null,null,null,null,null,null,"X"]
[{"$f":"IF(C665=\"\",\"\",VLOOKUP(D665,Lookup!$D$1:$E$1051,2,FALSE))","v":""},{"$f":"IF(C665=\"\",\"\",VLOOKUP(U665,Lookup!$A$1:$B$21,2,FALSE))","v":""},null,null,null,null,null,null,null,null,null,null,null,null,null,null,null,null,null,null,null,null,null,"X"]
[{"$f":"IF(C666=\"\",\"\",VLOOKUP(D666,Lookup!$D$1:$E$1051,2,FALSE))","v":""},{"$f":"IF(C666=\"\",\"\",VLOOKUP(U666,Lookup!$A$1:$B$21,2,FALSE))","v":""},null,null,null,null,null,null,null,null,null,null,null,null,null,null,null,null,null,null,null,null,null,"X"]
[{"$f":"IF(C667=\"\",\"\",VLOOKUP(D667,Lookup!$D$1:$E$1051,2,FALSE))","v":""},{"$f":"IF(C667=\"\",\"\",VLOOKUP(U667,Lookup!$A$1:$B$21,2,FALSE))","v":""},null,null,null,null,null,null,null,null,null,null,null,null,null,null,null,null,null,null,null,null,null,"X"]
[{"$f":"IF(C668=\"\",\"\",VLOOKUP(D668,Lookup!$D$1:$E$1051,2,FALSE))","v":""},{"$f":"IF(C668=\"\",\"\",VLOOKUP(U668,Lookup!$A$1:$B$21,2,FALSE))","v":""},null,null,null,null,null,null,null,null,null,null,null,null,null,null,null,null,null,null,null,null,null,"X"]
[{"$f":"IF(C669=\"\",\"\",VLOOKUP(D669,Lookup!$D$1:$E$1051,2,FALSE))","v":""},{"$f":"IF(C669=\"\",\"\",VLOOKUP(U669,Lookup!$A$1:$B$21,2,FALSE))","v":""},null,null,null,null,null,null,null,null,null,null,null,null,null,null,null,null,null,null,null,null,null,"X"]
[{"$f":"IF(C670=\"\",\"\",VLOOKUP(D670,Lookup!$D$1:$E$1051,2,FALSE))","v":""},{"$f":"IF(C670=\"\",\"\",VLOOKUP(U670,Lookup!$A$1:$B$21,2,FALSE))","v":""},null,null,null,null,null,null,null,null,null,null,null,null,null,null,null,null,null,null,null,null,null,"X"]
[{"$f":"IF(C671=\"\",\"\",VLOOKUP(D671,Lookup!$D$1:$E$1051,2,FALSE))","v":""},{"$f":"IF(C671=\"\",\"\",VLOOKUP(U671,Lookup!$A$1:$B$21,2,FALSE))","v":""},null,null,null,null,null,null,null,null,null,null,null,null,null,null,null,null,null,null,null,null,null,"X"]
[{"$f":"IF(C672=\"\",\"\",VLOOKUP(D672,Lookup!$D$1:$E$1051,2,FALSE))","v":""},{"$f":"IF(C672=\"\",\"\",VLOOKUP(U672,Lookup!$A$1:$B$21,2,FALSE))","v":""},null,null,null,null,null,null,null,null,null,null,null,null,null,null,null,null,null,null,null,null,null,"X"]
[{"$f":"IF(C673=\"\",\"\",VLOOKUP(D673,Lookup!$D$1:$E$1051,2,FALSE))","v":""},{"$f":"IF(C673=\"\",\"\",VLOOKUP(U673,Lookup!$A$1:$B$21,2,FALSE))","v":""},null,null,null,null,null,null,null,null,null,null,null,null,null,null,null,null,null,null,null,null,null,"X"]
[{"$f":"IF(C674=\"\",\"\",VLOOKUP(D674,Lookup!$D$1:$E$1051,2,FALSE))","v":""},{"$f":"IF(C674=\"\",\"\",VLOOKUP(U674,Lookup!$A$1:$B$21,2,FALSE))","v":""},null,null,null,null,null,null,null,null,null,null,null,null,null,null,null,null,null,null,null,null,null,"X"]
[{"$f":"IF(C675=\"\",\"\",VLOOKUP(D675,Lookup!$D$1:$E$1051,2,FALSE))","v":""},{"$f":"IF(C675=\"\",\"\",VLOOKUP(U675,Lookup!$A$1:$B$21,2,FALSE))","v":""},null,null,null,null,null,null,null,null,null,null,null,null,null,null,null,null,null,null,null,null,null,"X"]
[{"$f":"IF(C676=\"\",\"\",VLOOKUP(D676,Lookup!$D$1:$E$1051,2,FALSE))","v":""},{"$f":"IF(C676=\"\",\"\",VLOOKUP(U676,Lookup!$A$1:$B$21,2,FALSE))","v":""},null,null,null,null,null,null,null,null,null,null,null,null,null,null,null,null,null,null,null,null,null,"X"]
[{"$f":"IF(C677=\"\",\"\",VLOOKUP(D677,Lookup!$D$1:$E$1051,2,FALSE))","v":""},{"$f":"IF(C677=\"\",\"\",VLOOKUP(U677,Lookup!$A$1:$B$21,2,FALSE))","v":""},null,null,null,null,null,null,null,null,null,null,null,null,null,null,null,null,null,null,null,null,null,"X"]
[{"$f":"IF(C678=\"\",\"\",VLOOKUP(D678,Lookup!$D$1:$E$1051,2,FALSE))","v":""},{"$f":"IF(C678=\"\",\"\",VLOOKUP(U678,Lookup!$A$1:$B$21,2,FALSE))","v":""},null,null,null,null,null,null,null,null,null,null,null,null,null,null,null,null,null,null,null,null,null,"X"]
[{"$f":"IF(C679=\"\",\"\",VLOOKUP(D679,Lookup!$D$1:$E$1051,2,FALSE))","v":""},{"$f":"IF(C679=\"\",\"\",VLOOKUP(U679,Lookup!$A$1:$B$21,2,FALSE))","v":""},null,null,null,null,null,null,null,null,null,null,null,null,null,null,null,null,null,null,null,null,null,"X"]
[{"$f":"IF(C680=\"\",\"\",VLOOKUP(D680,Lookup!$D$1:$E$1051,2,FALSE))","v":""},{"$f":"IF(C680=\"\",\"\",VLOOKUP(U680,Lookup!$A$1:$B$21,2,FALSE))","v":""},null,null,null,null,null,null,null,null,null,null,null,null,null,null,null,null,null,null,null,null,null,"X"]
[{"$f":"IF(C681=\"\",\"\",VLOOKUP(D681,Lookup!$D$1:$E$1051,2,FALSE))","v":""},{"$f":"IF(C681=\"\",\"\",VLOOKUP(U681,Lookup!$A$1:$B$21,2,FALSE))","v":""},null,null,null,null,null,null,null,null,null,null,null,null,null,null,null,null,null,null,null,null,null,"X"]
[{"$f":"IF(C682=\"\",\"\",VLOOKUP(D682,Lookup!$D$1:$E$1051,2,FALSE))","v":""},{"$f":"IF(C682=\"\",\"\",VLOOKUP(U682,Lookup!$A$1:$B$21,2,FALSE))","v":""},null,null,null,null,null,null,null,null,null,null,null,null,null,null,null,null,null,null,null,null,null,"X"]
[{"$f":"IF(C683=\"\",\"\",VLOOKUP(D683,Lookup!$D$1:$E$1051,2,FALSE))","v":""},{"$f":"IF(C683=\"\",\"\",VLOOKUP(U683,Lookup!$A$1:$B$21,2,FALSE))","v":""},null,null,null,null,null,null,null,null,null,null,null,null,null,null,null,null,null,null,null,null,null,"X"]
[{"$f":"IF(C684=\"\",\"\",VLOOKUP(D684,Lookup!$D$1:$E$1051,2,FALSE))","v":""},{"$f":"IF(C684=\"\",\"\",VLOOKUP(U684,Lookup!$A$1:$B$21,2,FALSE))","v":""},null,null,null,null,null,null,null,null,null,null,null,null,null,null,null,null,null,null,null,null,null,"X"]
[{"$f":"IF(C685=\"\",\"\",VLOOKUP(D685,Lookup!$D$1:$E$1051,2,FALSE))","v":""},{"$f":"IF(C685=\"\",\"\",VLOOKUP(U685,Lookup!$A$1:$B$21,2,FALSE))","v":""},null,null,null,null,null,null,null,null,null,null,null,null,null,null,null,null,null,null,null,null,null,"X"]
[{"$f":"IF(C686=\"\",\"\",VLOOKUP(D686,Lookup!$D$1:$E$1051,2,FALSE))","v":""},{"$f":"IF(C686=\"\",\"\",VLOOKUP(U686,Lookup!$A$1:$B$21,2,FALSE))","v":""},null,null,null,null,null,null,null,null,null,null,null,null,null,null,null,null,null,null,null,null,null,"X"]
[{"$f":"IF(C687=\"\",\"\",VLOOKUP(D687,Lookup!$D$1:$E$1051,2,FALSE))","v":""},{"$f":"IF(C687=\"\",\"\",VLOOKUP(U687,Lookup!$A$1:$B$21,2,FALSE))","v":""},null,null,null,null,null,null,null,null,null,null,null,null,null,null,null,null,null,null,null,null,null,"X"]
[{"$f":"IF(C688=\"\",\"\",VLOOKUP(D688,Lookup!$D$1:$E$1051,2,FALSE))","v":""},{"$f":"IF(C688=\"\",\"\",VLOOKUP(U688,Lookup!$A$1:$B$21,2,FALSE))","v":""},null,null,null,null,null,null,null,null,null,null,null,null,null,null,null,null,null,null,null,null,null,"X"]
[{"$f":"IF(C689=\"\",\"\",VLOOKUP(D689,Lookup!$D$1:$E$1051,2,FALSE))","v":""},{"$f":"IF(C689=\"\",\"\",VLOOKUP(U689,Lookup!$A$1:$B$21,2,FALSE))","v":""},null,null,null,null,null,null,null,null,null,null,null,null,null,null,null,null,null,null,null,null,null,"X"]
[{"$f":"IF(C690=\"\",\"\",VLOOKUP(D690,Lookup!$D$1:$E$1051,2,FALSE))","v":""},{"$f":"IF(C690=\"\",\"\",VLOOKUP(U690,Lookup!$A$1:$B$21,2,FALSE))","v":""},null,null,null,null,null,null,null,null,null,null,null,null,null,null,null,null,null,null,null,null,null,"X"]
[{"$f":"IF(C691=\"\",\"\",VLOOKUP(D691,Lookup!$D$1:$E$1051,2,FALSE))","v":""},{"$f":"IF(C691=\"\",\"\",VLOOKUP(U691,Lookup!$A$1:$B$21,2,FALSE))","v":""},null,null,null,null,null,null,null,null,null,null,null,null,null,null,null,null,null,null,null,null,null,"X"]
[{"$f":"IF(C692=\"\",\"\",VLOOKUP(D692,Lookup!$D$1:$E$1051,2,FALSE))","v":""},{"$f":"IF(C692=\"\",\"\",VLOOKUP(U692,Lookup!$A$1:$B$21,2,FALSE))","v":""},null,null,null,null,null,null,null,null,null,null,null,null,null,null,null,null,null,null,null,null,null,"X"]
[{"$f":"IF(C693=\"\",\"\",VLOOKUP(D693,Lookup!$D$1:$E$1051,2,FALSE))","v":""},{"$f":"IF(C693=\"\",\"\",VLOOKUP(U693,Lookup!$A$1:$B$21,2,FALSE))","v":""},null,null,null,null,null,null,null,null,null,null,null,null,null,null,null,null,null,null,null,null,null,"X"]
[{"$f":"IF(C694=\"\",\"\",VLOOKUP(D694,Lookup!$D$1:$E$1051,2,FALSE))","v":""},{"$f":"IF(C694=\"\",\"\",VLOOKUP(U694,Lookup!$A$1:$B$21,2,FALSE))","v":""},null,null,null,null,null,null,null,null,null,null,null,null,null,null,null,null,null,null,null,null,null,"X"]
[{"$f":"IF(C695=\"\",\"\",VLOOKUP(D695,Lookup!$D$1:$E$1051,2,FALSE))","v":""},{"$f":"IF(C695=\"\",\"\",VLOOKUP(U695,Lookup!$A$1:$B$21,2,FALSE))","v":""},null,null,null,null,null,null,null,null,null,null,null,null,null,null,null,null,null,null,null,null,null,"X"]
[{"$f":"IF(C696=\"\",\"\",VLOOKUP(D696,Lookup!$D$1:$E$1051,2,FALSE))","v":""},{"$f":"IF(C696=\"\",\"\",VLOOKUP(U696,Lookup!$A$1:$B$21,2,FALSE))","v":""},null,null,null,null,null,null,null,null,null,null,null,null,null,null,null,null,null,null,null,null,null,"X"]
[{"$f":"IF(C697=\"\",\"\",VLOOKUP(D697,Lookup!$D$1:$E$1051,2,FALSE))","v":""},{"$f":"IF(C697=\"\",\"\",VLOOKUP(U697,Lookup!$A$1:$B$21,2,FALSE))","v":""},null,null,null,null,null,null,null,null,null,null,null,null,null,null,null,null,null,null,null,null,null,"X"]
[{"$f":"IF(C698=\"\",\"\",VLOOKUP(D698,Lookup!$D$1:$E$1051,2,FALSE))","v":""},{"$f":"IF(C698=\"\",\"\",VLOOKUP(U698,Lookup!$A$1:$B$21,2,FALSE))","v":""},null,null,null,null,null,null,null,null,null,null,null,null,null,null,null,null,null,null,null,null,null,"X"]
[{"$f":"IF(C699=\"\",\"\",VLOOKUP(D699,Lookup!$D$1:$E$1051,2,FALSE))","v":""},{"$f":"IF(C699=\"\",\"\",VLOOKUP(U699,Lookup!$A$1:$B$21,2,FALSE))","v":""},null,null,null,null,null,null,null,null,null,null,null,null,null,null,null,null,null,null,null,null,null,"X"]
[{"$f":"IF(C700=\"\",\"\",VLOOKUP(D700,Lookup!$D$1:$E$1051,2,FALSE))","v":""},{"$f":"IF(C700=\"\",\"\",VLOOKUP(U700,Lookup!$A$1:$B$21,2,FALSE))","v":""},null,null,null,null,null,null,null,null,null,null,null,null,null,null,null,null,null,null,null,null,null,"X"]
[{"$f":"IF(C701=\"\",\"\",VLOOKUP(D701,Lookup!$D$1:$E$1051,2,FALSE))","v":""},{"$f":"IF(C701=\"\",\"\",VLOOKUP(U701,Lookup!$A$1:$B$21,2,FALSE))","v":""},null,null,null,null,null,null,null,null,null,null,null,null,null,null,null,null,null,null,null,null,null,"X"]
[{"$f":"IF(C702=\"\",\"\",VLOOKUP(D702,Lookup!$D$1:$E$1051,2,FALSE))","v":""},{"$f":"IF(C702=\"\",\"\",VLOOKUP(U702,Lookup!$A$1:$B$21,2,FALSE))","v":""},null,null,null,null,null,null,null,null,null,null,null,null,null,null,null,null,null,null,null,null,null,"X"]
[{"$f":"IF(C703=\"\",\"\",VLOOKUP(D703,Lookup!$D$1:$E$1051,2,FALSE))","v":""},{"$f":"IF(C703=\"\",\"\",VLOOKUP(U703,Lookup!$A$1:$B$21,2,FALSE))","v":""},null,null,null,null,null,null,null,null,null,null,null,null,null,null,null,null,null,null,null,null,null,"X"]
[{"$f":"IF(C704=\"\",\"\",VLOOKUP(D704,Lookup!$D$1:$E$1051,2,FALSE))","v":""},{"$f":"IF(C704=\"\",\"\",VLOOKUP(U704,Lookup!$A$1:$B$21,2,FALSE))","v":""},null,null,null,null,null,null,null,null,null,null,null,null,null,null,null,null,null,null,null,null,null,"X"]
[{"$f":"IF(C705=\"\",\"\",VLOOKUP(D705,Lookup!$D$1:$E$1051,2,FALSE))","v":""},{"$f":"IF(C705=\"\",\"\",VLOOKUP(U705,Lookup!$A$1:$B$21,2,FALSE))","v":""},null,null,null,null,null,null,null,null,null,null,null,null,null,null,null,null,null,null,null,null,null,"X"]
[{"$f":"IF(C706=\"\",\"\",VLOOKUP(D706,Lookup!$D$1:$E$1051,2,FALSE))","v":""},{"$f":"IF(C706=\"\",\"\",VLOOKUP(U706,Lookup!$A$1:$B$21,2,FALSE))","v":""},null,null,null,null,null,null,null,null,null,null,null,null,null,null,null,null,null,null,null,null,null,"X"]
[{"$f":"IF(C707=\"\",\"\",VLOOKUP(D707,Lookup!$D$1:$E$1051,2,FALSE))","v":""},{"$f":"IF(C707=\"\",\"\",VLOOKUP(U707,Lookup!$A$1:$B$21,2,FALSE))","v":""},null,null,null,null,null,null,null,null,null,null,null,null,null,null,null,null,null,null,null,null,null,"X"]
[{"$f":"IF(C708=\"\",\"\",VLOOKUP(D708,Lookup!$D$1:$E$1051,2,FALSE))","v":""},{"$f":"IF(C708=\"\",\"\",VLOOKUP(U708,Lookup!$A$1:$B$21,2,FALSE))","v":""},null,null,null,null,null,null,null,null,null,null,null,null,null,null,null,null,null,null,null,null,null,"X"]
[{"$f":"IF(C709=\"\",\"\",VLOOKUP(D709,Lookup!$D$1:$E$1051,2,FALSE))","v":""},{"$f":"IF(C709=\"\",\"\",VLOOKUP(U709,Lookup!$A$1:$B$21,2,FALSE))","v":""},null,null,null,null,null,null,null,null,null,null,null,null,null,null,null,null,null,null,null,null,null,"X"]
[{"$f":"IF(C710=\"\",\"\",VLOOKUP(D710,Lookup!$D$1:$E$1051,2,FALSE))","v":""},{"$f":"IF(C710=\"\",\"\",VLOOKUP(U710,Lookup!$A$1:$B$21,2,FALSE))","v":""},null,null,null,null,null,null,null,null,null,null,null,null,null,null,null,null,null,null,null,null,null,"X"]
[{"$f":"IF(C711=\"\",\"\",VLOOKUP(D711,Lookup!$D$1:$E$1051,2,FALSE))","v":""},{"$f":"IF(C711=\"\",\"\",VLOOKUP(U711,Lookup!$A$1:$B$21,2,FALSE))","v":""},null,null,null,null,null,null,null,null,null,null,null,null,null,null,null,null,null,null,null,null,null,"X"]
[{"$f":"IF(C712=\"\",\"\",VLOOKUP(D712,Lookup!$D$1:$E$1051,2,FALSE))","v":""},{"$f":"IF(C712=\"\",\"\",VLOOKUP(U712,Lookup!$A$1:$B$21,2,FALSE))","v":""},null,null,null,null,null,null,null,null,null,null,null,null,null,null,null,null,null,null,null,null,null,"X"]
[{"$f":"IF(C713=\"\",\"\",VLOOKUP(D713,Lookup!$D$1:$E$1051,2,FALSE))","v":""},{"$f":"IF(C713=\"\",\"\",VLOOKUP(U713,Lookup!$A$1:$B$21,2,FALSE))","v":""},null,null,null,null,null,null,null,null,null,null,null,null,null,null,null,null,null,null,null,null,null,"X"]
[{"$f":"IF(C714=\"\",\"\",VLOOKUP(D714,Lookup!$D$1:$E$1051,2,FALSE))","v":""},{"$f":"IF(C714=\"\",\"\",VLOOKUP(U714,Lookup!$A$1:$B$21,2,FALSE))","v":""},null,null,null,null,null,null,null,null,null,null,null,null,null,null,null,null,null,null,null,null,null,"X"]
[{"$f":"IF(C715=\"\",\"\",VLOOKUP(D715,Lookup!$D$1:$E$1051,2,FALSE))","v":""},{"$f":"IF(C715=\"\",\"\",VLOOKUP(U715,Lookup!$A$1:$B$21,2,FALSE))","v":""},null,null,null,null,null,null,null,null,null,null,null,null,null,null,null,null,null,null,null,null,null,"X"]
[{"$f":"IF(C716=\"\",\"\",VLOOKUP(D716,Lookup!$D$1:$E$1051,2,FALSE))","v":""},{"$f":"IF(C716=\"\",\"\",VLOOKUP(U716,Lookup!$A$1:$B$21,2,FALSE))","v":""},null,null,null,null,null,null,null,null,null,null,null,null,null,null,null,null,null,null,null,null,null,"X"]
[{"$f":"IF(C717=\"\",\"\",VLOOKUP(D717,Lookup!$D$1:$E$1051,2,FALSE))","v":""},{"$f":"IF(C717=\"\",\"\",VLOOKUP(U717,Lookup!$A$1:$B$21,2,FALSE))","v":""},null,null,null,null,null,null,null,null,null,null,null,null,null,null,null,null,null,null,null,null,null,"X"]
[{"$f":"IF(C718=\"\",\"\",VLOOKUP(D718,Lookup!$D$1:$E$1051,2,FALSE))","v":""},{"$f":"IF(C718=\"\",\"\",VLOOKUP(U718,Lookup!$A$1:$B$21,2,FALSE))","v":""},null,null,null,null,null,null,null,null,null,null,null,null,null,null,null,null,null,null,null,null,null,"X"]
[{"$f":"IF(C719=\"\",\"\",VLOOKUP(D719,Lookup!$D$1:$E$1051,2,FALSE))","v":""},{"$f":"IF(C719=\"\",\"\",VLOOKUP(U719,Lookup!$A$1:$B$21,2,FALSE))","v":""},null,null,null,null,null,null,null,null,null,null,null,null,null,null,null,null,null,null,null,null,null,"X"]
[{"$f":"IF(C720=\"\",\"\",VLOOKUP(D720,Lookup!$D$1:$E$1051,2,FALSE))","v":""},{"$f":"IF(C720=\"\",\"\",VLOOKUP(U720,Lookup!$A$1:$B$21,2,FALSE))","v":""},null,null,null,null,null,null,null,null,null,null,null,null,null,null,null,null,null,null,null,null,null,"X"]
[{"$f":"IF(C721=\"\",\"\",VLOOKUP(D721,Lookup!$D$1:$E$1051,2,FALSE))","v":""},{"$f":"IF(C721=\"\",\"\",VLOOKUP(U721,Lookup!$A$1:$B$21,2,FALSE))","v":""},null,null,null,null,null,null,null,null,null,null,null,null,null,null,null,null,null,null,null,null,null,"X"]
[{"$f":"IF(C722=\"\",\"\",VLOOKUP(D722,Lookup!$D$1:$E$1051,2,FALSE))","v":""},{"$f":"IF(C722=\"\",\"\",VLOOKUP(U722,Lookup!$A$1:$B$21,2,FALSE))","v":""},null,null,null,null,null,null,null,null,null,null,null,null,null,null,null,null,null,null,null,null,null,"X"]
[{"$f":"IF(C723=\"\",\"\",VLOOKUP(D723,Lookup!$D$1:$E$1051,2,FALSE))","v":""},{"$f":"IF(C723=\"\",\"\",VLOOKUP(U723,Lookup!$A$1:$B$21,2,FALSE))","v":""},null,null,null,null,null,null,null,null,null,null,null,null,null,null,null,null,null,null,null,null,null,"X"]
[{"$f":"IF(C724=\"\",\"\",VLOOKUP(D724,Lookup!$D$1:$E$1051,2,FALSE))","v":""},{"$f":"IF(C724=\"\",\"\",VLOOKUP(U724,Lookup!$A$1:$B$21,2,FALSE))","v":""},null,null,null,null,null,null,null,null,null,null,null,null,null,null,null,null,null,null,null,null,null,"X"]
[{"$f":"IF(C725=\"\",\"\",VLOOKUP(D725,Lookup!$D$1:$E$1051,2,FALSE))","v":""},{"$f":"IF(C725=\"\",\"\",VLOOKUP(U725,Lookup!$A$1:$B$21,2,FALSE))","v":""},null,null,null,null,null,null,null,null,null,null,null,null,null,null,null,null,null,null,null,null,null,"X"]
[{"$f":"IF(C726=\"\",\"\",VLOOKUP(D726,Lookup!$D$1:$E$1051,2,FALSE))","v":""},{"$f":"IF(C726=\"\",\"\",VLOOKUP(U726,Lookup!$A$1:$B$21,2,FALSE))","v":""},null,null,null,null,null,null,null,null,null,null,null,null,null,null,null,null,null,null,null,null,null,"X"]
[{"$f":"IF(C727=\"\",\"\",VLOOKUP(D727,Lookup!$D$1:$E$1051,2,FALSE))","v":""},{"$f":"IF(C727=\"\",\"\",VLOOKUP(U727,Lookup!$A$1:$B$21,2,FALSE))","v":""},null,null,null,null,null,null,null,null,null,null,null,null,null,null,null,null,null,null,null,null,null,"X"]
[{"$f":"IF(C728=\"\",\"\",VLOOKUP(D728,Lookup!$D$1:$E$1051,2,FALSE))","v":""},{"$f":"IF(C728=\"\",\"\",VLOOKUP(U728,Lookup!$A$1:$B$21,2,FALSE))","v":""},null,null,null,null,null,null,null,null,null,null,null,null,null,null,null,null,null,null,null,null,null,"X"]
[{"$f":"IF(C729=\"\",\"\",VLOOKUP(D729,Lookup!$D$1:$E$1051,2,FALSE))","v":""},{"$f":"IF(C729=\"\",\"\",VLOOKUP(U729,Lookup!$A$1:$B$21,2,FALSE))","v":""},null,null,null,null,null,null,null,null,null,null,null,null,null,null,null,null,null,null,null,null,null,"X"]
[{"$f":"IF(C730=\"\",\"\",VLOOKUP(D730,Lookup!$D$1:$E$1051,2,FALSE))","v":""},{"$f":"IF(C730=\"\",\"\",VLOOKUP(U730,Lookup!$A$1:$B$21,2,FALSE))","v":""},null,null,null,null,null,null,null,null,null,null,null,null,null,null,null,null,null,null,null,null,null,"X"]
[{"$f":"IF(C731=\"\",\"\",VLOOKUP(D731,Lookup!$D$1:$E$1051,2,FALSE))","v":""},{"$f":"IF(C731=\"\",\"\",VLOOKUP(U731,Lookup!$A$1:$B$21,2,FALSE))","v":""},null,null,null,null,null,null,null,null,null,null,null,null,null,null,null,null,null,null,null,null,null,"X"]
[{"$f":"IF(C732=\"\",\"\",VLOOKUP(D732,Lookup!$D$1:$E$1051,2,FALSE))","v":""},{"$f":"IF(C732=\"\",\"\",VLOOKUP(U732,Lookup!$A$1:$B$21,2,FALSE))","v":""},null,null,null,null,null,null,null,null,null,null,null,null,null,null,null,null,null,null,null,null,null,"X"]
[{"$f":"IF(C733=\"\",\"\",VLOOKUP(D733,Lookup!$D$1:$E$1051,2,FALSE))","v":""},{"$f":"IF(C733=\"\",\"\",VLOOKUP(U733,Lookup!$A$1:$B$21,2,FALSE))","v":""},null,null,null,null,null,null,null,null,null,null,null,null,null,null,null,null,null,null,null,null,null,"X"]
[{"$f":"IF(C734=\"\",\"\",VLOOKUP(D734,Lookup!$D$1:$E$1051,2,FALSE))","v":""},{"$f":"IF(C734=\"\",\"\",VLOOKUP(U734,Lookup!$A$1:$B$21,2,FALSE))","v":""},null,null,null,null,null,null,null,null,null,null,null,null,null,null,null,null,null,null,null,null,null,"X"]
[{"$f":"IF(C735=\"\",\"\",VLOOKUP(D735,Lookup!$D$1:$E$1051,2,FALSE))","v":""},{"$f":"IF(C735=\"\",\"\",VLOOKUP(U735,Lookup!$A$1:$B$21,2,FALSE))","v":""},null,null,null,null,null,null,null,null,null,null,null,null,null,null,null,null,null,null,null,null,null,"X"]
[{"$f":"IF(C736=\"\",\"\",VLOOKUP(D736,Lookup!$D$1:$E$1051,2,FALSE))","v":""},{"$f":"IF(C736=\"\",\"\",VLOOKUP(U736,Lookup!$A$1:$B$21,2,FALSE))","v":""},null,null,null,null,null,null,null,null,null,null,null,null,null,null,null,null,null,null,null,null,null,"X"]
[{"$f":"IF(C737=\"\",\"\",VLOOKUP(D737,Lookup!$D$1:$E$1051,2,FALSE))","v":""},{"$f":"IF(C737=\"\",\"\",VLOOKUP(U737,Lookup!$A$1:$B$21,2,FALSE))","v":""},null,null,null,null,null,null,null,null,null,null,null,null,null,null,null,null,null,null,null,null,null,"X"]
[{"$f":"IF(C738=\"\",\"\",VLOOKUP(D738,Lookup!$D$1:$E$1051,2,FALSE))","v":""},{"$f":"IF(C738=\"\",\"\",VLOOKUP(U738,Lookup!$A$1:$B$21,2,FALSE))","v":""},null,null,null,null,null,null,null,null,null,null,null,null,null,null,null,null,null,null,null,null,null,"X"]
[{"$f":"IF(C739=\"\",\"\",VLOOKUP(D739,Lookup!$D$1:$E$1051,2,FALSE))","v":""},{"$f":"IF(C739=\"\",\"\",VLOOKUP(U739,Lookup!$A$1:$B$21,2,FALSE))","v":""},null,null,null,null,null,null,null,null,null,null,null,null,null,null,null,null,null,null,null,null,null,"X"]
[{"$f":"IF(C740=\"\",\"\",VLOOKUP(D740,Lookup!$D$1:$E$1051,2,FALSE))","v":""},{"$f":"IF(C740=\"\",\"\",VLOOKUP(U740,Lookup!$A$1:$B$21,2,FALSE))","v":""},null,null,null,null,null,null,null,null,null,null,null,null,null,null,null,null,null,null,null,null,null,"X"]
[{"$f":"IF(C741=\"\",\"\",VLOOKUP(D741,Lookup!$D$1:$E$1051,2,FALSE))","v":""},{"$f":"IF(C741=\"\",\"\",VLOOKUP(U741,Lookup!$A$1:$B$21,2,FALSE))","v":""},null,null,null,null,null,null,null,null,null,null,null,null,null,null,null,null,null,null,null,null,null,"X"]
[{"$f":"IF(C742=\"\",\"\",VLOOKUP(D742,Lookup!$D$1:$E$1051,2,FALSE))","v":""},{"$f":"IF(C742=\"\",\"\",VLOOKUP(U742,Lookup!$A$1:$B$21,2,FALSE))","v":""},null,null,null,null,null,null,null,null,null,null,null,null,null,null,null,null,null,null,null,null,null,"X"]
[{"$f":"IF(C743=\"\",\"\",VLOOKUP(D743,Lookup!$D$1:$E$1051,2,FALSE))","v":""},{"$f":"IF(C743=\"\",\"\",VLOOKUP(U743,Lookup!$A$1:$B$21,2,FALSE))","v":""},null,null,null,null,null,null,null,null,null,null,null,null,null,null,null,null,null,null,null,null,null,"X"]
[{"$f":"IF(C744=\"\",\"\",VLOOKUP(D744,Lookup!$D$1:$E$1051,2,FALSE))","v":""},{"$f":"IF(C744=\"\",\"\",VLOOKUP(U744,Lookup!$A$1:$B$21,2,FALSE))","v":""},null,null,null,null,null,null,null,null,null,null,null,null,null,null,null,null,null,null,null,null,null,"X"]
[{"$f":"IF(C745=\"\",\"\",VLOOKUP(D745,Lookup!$D$1:$E$1051,2,FALSE))","v":""},{"$f":"IF(C745=\"\",\"\",VLOOKUP(U745,Lookup!$A$1:$B$21,2,FALSE))","v":""},null,null,null,null,null,null,null,null,null,null,null,null,null,null,null,null,null,null,null,null,null,"X"]
[{"$f":"IF(C746=\"\",\"\",VLOOKUP(D746,Lookup!$D$1:$E$1051,2,FALSE))","v":""},{"$f":"IF(C746=\"\",\"\",VLOOKUP(U746,Lookup!$A$1:$B$21,2,FALSE))","v":""},null,null,null,null,null,null,null,null,null,null,null,null,null,null,null,null,null,null,null,null,null,"X"]
[{"$f":"IF(C747=\"\",\"\",VLOOKUP(D747,Lookup!$D$1:$E$1051,2,FALSE))","v":""},{"$f":"IF(C747=\"\",\"\",VLOOKUP(U747,Lookup!$A$1:$B$21,2,FALSE))","v":""},null,null,null,null,null,null,null,null,null,null,null,null,null,null,null,null,null,null,null,null,null,"X"]
[{"$f":"IF(C748=\"\",\"\",VLOOKUP(D748,Lookup!$D$1:$E$1051,2,FALSE))","v":""},{"$f":"IF(C748=\"\",\"\",VLOOKUP(U748,Lookup!$A$1:$B$21,2,FALSE))","v":""},null,null,null,null,null,null,null,null,null,null,null,null,null,null,null,null,null,null,null,null,null,"X"]
[{"$f":"IF(C749=\"\",\"\",VLOOKUP(D749,Lookup!$D$1:$E$1051,2,FALSE))","v":""},{"$f":"IF(C749=\"\",\"\",VLOOKUP(U749,Lookup!$A$1:$B$21,2,FALSE))","v":""},null,null,null,null,null,null,null,null,null,null,null,null,null,null,null,null,null,null,null,null,null,"X"]
[{"$f":"IF(C750=\"\",\"\",VLOOKUP(D750,Lookup!$D$1:$E$1051,2,FALSE))","v":""},{"$f":"IF(C750=\"\",\"\",VLOOKUP(U750,Lookup!$A$1:$B$21,2,FALSE))","v":""},null,null,null,null,null,null,null,null,null,null,null,null,null,null,null,null,null,null,null,null,null,"X"]
[{"$f":"IF(C751=\"\",\"\",VLOOKUP(D751,Lookup!$D$1:$E$1051,2,FALSE))","v":""},{"$f":"IF(C751=\"\",\"\",VLOOKUP(U751,Lookup!$A$1:$B$21,2,FALSE))","v":""},null,null,null,null,null,null,null,null,null,null,null,null,null,null,null,null,null,null,null,null,null,"X"]
[{"$f":"IF(C752=\"\",\"\",VLOOKUP(D752,Lookup!$D$1:$E$1051,2,FALSE))","v":""},{"$f":"IF(C752=\"\",\"\",VLOOKUP(U752,Lookup!$A$1:$B$21,2,FALSE))","v":""},null,null,null,null,null,null,null,null,null,null,null,null,null,null,null,null,null,null,null,null,null,"X"]
[{"$f":"IF(C753=\"\",\"\",VLOOKUP(D753,Lookup!$D$1:$E$1051,2,FALSE))","v":""},{"$f":"IF(C753=\"\",\"\",VLOOKUP(U753,Lookup!$A$1:$B$21,2,FALSE))","v":""},null,null,null,null,null,null,null,null,null,null,null,null,null,null,null,null,null,null,null,null,null,"X"]
[{"$f":"IF(C754=\"\",\"\",VLOOKUP(D754,Lookup!$D$1:$E$1051,2,FALSE))","v":""},{"$f":"IF(C754=\"\",\"\",VLOOKUP(U754,Lookup!$A$1:$B$21,2,FALSE))","v":""},null,null,null,null,null,null,null,null,null,null,null,null,null,null,null,null,null,null,null,null,null,"X"]
[{"$f":"IF(C755=\"\",\"\",VLOOKUP(D755,Lookup!$D$1:$E$1051,2,FALSE))","v":""},{"$f":"IF(C755=\"\",\"\",VLOOKUP(U755,Lookup!$A$1:$B$21,2,FALSE))","v":""},null,null,null,null,null,null,null,null,null,null,null,null,null,null,null,null,null,null,null,null,null,"X"]
[{"$f":"IF(C756=\"\",\"\",VLOOKUP(D756,Lookup!$D$1:$E$1051,2,FALSE))","v":""},{"$f":"IF(C756=\"\",\"\",VLOOKUP(U756,Lookup!$A$1:$B$21,2,FALSE))","v":""},null,null,null,null,null,null,null,null,null,null,null,null,null,null,null,null,null,null,null,null,null,"X"]
[{"$f":"IF(C757=\"\",\"\",VLOOKUP(D757,Lookup!$D$1:$E$1051,2,FALSE))","v":""},{"$f":"IF(C757=\"\",\"\",VLOOKUP(U757,Lookup!$A$1:$B$21,2,FALSE))","v":""},null,null,null,null,null,null,null,null,null,null,null,null,null,null,null,null,null,null,null,null,null,"X"]
[{"$f":"IF(C758=\"\",\"\",VLOOKUP(D758,Lookup!$D$1:$E$1051,2,FALSE))","v":""},{"$f":"IF(C758=\"\",\"\",VLOOKUP(U758,Lookup!$A$1:$B$21,2,FALSE))","v":""},null,null,null,null,null,null,null,null,null,null,null,null,null,null,null,null,null,null,null,null,null,"X"]
[{"$f":"IF(C759=\"\",\"\",VLOOKUP(D759,Lookup!$D$1:$E$1051,2,FALSE))","v":""},{"$f":"IF(C759=\"\",\"\",VLOOKUP(U759,Lookup!$A$1:$B$21,2,FALSE))","v":""},null,null,null,null,null,null,null,null,null,null,null,null,null,null,null,null,null,null,null,null,null,"X"]
[{"$f":"IF(C760=\"\",\"\",VLOOKUP(D760,Lookup!$D$1:$E$1051,2,FALSE))","v":""},{"$f":"IF(C760=\"\",\"\",VLOOKUP(U760,Lookup!$A$1:$B$21,2,FALSE))","v":""},null,null,null,null,null,null,null,null,null,null,null,null,null,null,null,null,null,null,null,null,null,"X"]
[{"$f":"IF(C761=\"\",\"\",VLOOKUP(D761,Lookup!$D$1:$E$1051,2,FALSE))","v":""},{"$f":"IF(C761=\"\",\"\",VLOOKUP(U761,Lookup!$A$1:$B$21,2,FALSE))","v":""},null,null,null,null,null,null,null,null,null,null,null,null,null,null,null,null,null,null,null,null,null,"X"]
[{"$f":"IF(C762=\"\",\"\",VLOOKUP(D762,Lookup!$D$1:$E$1051,2,FALSE))","v":""},{"$f":"IF(C762=\"\",\"\",VLOOKUP(U762,Lookup!$A$1:$B$21,2,FALSE))","v":""},null,null,null,null,null,null,null,null,null,null,null,null,null,null,null,null,null,null,null,null,null,"X"]
[{"$f":"IF(C763=\"\",\"\",VLOOKUP(D763,Lookup!$D$1:$E$1051,2,FALSE))","v":""},{"$f":"IF(C763=\"\",\"\",VLOOKUP(U763,Lookup!$A$1:$B$21,2,FALSE))","v":""},null,null,null,null,null,null,null,null,null,null,null,null,null,null,null,null,null,null,null,null,null,"X"]
[{"$f":"IF(C764=\"\",\"\",VLOOKUP(D764,Lookup!$D$1:$E$1051,2,FALSE))","v":""},{"$f":"IF(C764=\"\",\"\",VLOOKUP(U764,Lookup!$A$1:$B$21,2,FALSE))","v":""},null,null,null,null,null,null,null,null,null,null,null,null,null,null,null,null,null,null,null,null,null,"X"]
[{"$f":"IF(C765=\"\",\"\",VLOOKUP(D765,Lookup!$D$1:$E$1051,2,FALSE))","v":""},{"$f":"IF(C765=\"\",\"\",VLOOKUP(U765,Lookup!$A$1:$B$21,2,FALSE))","v":""},null,null,null,null,null,null,null,null,null,null,null,null,null,null,null,null,null,null,null,null,null,"X"]
[{"$f":"IF(C766=\"\",\"\",VLOOKUP(D766,Lookup!$D$1:$E$1051,2,FALSE))","v":""},{"$f":"IF(C766=\"\",\"\",VLOOKUP(U766,Lookup!$A$1:$B$21,2,FALSE))","v":""},null,null,null,null,null,null,null,null,null,null,null,null,null,null,null,null,null,null,null,null,null,"X"]
[{"$f":"IF(C767=\"\",\"\",VLOOKUP(D767,Lookup!$D$1:$E$1051,2,FALSE))","v":""},{"$f":"IF(C767=\"\",\"\",VLOOKUP(U767,Lookup!$A$1:$B$21,2,FALSE))","v":""},null,null,null,null,null,null,null,null,null,null,null,null,null,null,null,null,null,null,null,null,null,"X"]
[{"$f":"IF(C768=\"\",\"\",VLOOKUP(D768,Lookup!$D$1:$E$1051,2,FALSE))","v":""},{"$f":"IF(C768=\"\",\"\",VLOOKUP(U768,Lookup!$A$1:$B$21,2,FALSE))","v":""},null,null,null,null,null,null,null,null,null,null,null,null,null,null,null,null,null,null,null,null,null,"X"]
[{"$f":"IF(C769=\"\",\"\",VLOOKUP(D769,Lookup!$D$1:$E$1051,2,FALSE))","v":""},{"$f":"IF(C769=\"\",\"\",VLOOKUP(U769,Lookup!$A$1:$B$21,2,FALSE))","v":""},null,null,null,null,null,null,null,null,null,null,null,null,null,null,null,null,null,null,null,null,null,"X"]
[{"$f":"IF(C770=\"\",\"\",VLOOKUP(D770,Lookup!$D$1:$E$1051,2,FALSE))","v":""},{"$f":"IF(C770=\"\",\"\",VLOOKUP(U770,Lookup!$A$1:$B$21,2,FALSE))","v":""},null,null,null,null,null,null,null,null,null,null,null,null,null,null,null,null,null,null,null,null,null,"X"]
[{"$f":"IF(C771=\"\",\"\",VLOOKUP(D771,Lookup!$D$1:$E$1051,2,FALSE))","v":""},{"$f":"IF(C771=\"\",\"\",VLOOKUP(U771,Lookup!$A$1:$B$21,2,FALSE))","v":""},null,null,null,null,null,null,null,null,null,null,null,null,null,null,null,null,null,null,null,null,null,"X"]
[{"$f":"IF(C772=\"\",\"\",VLOOKUP(D772,Lookup!$D$1:$E$1051,2,FALSE))","v":""},{"$f":"IF(C772=\"\",\"\",VLOOKUP(U772,Lookup!$A$1:$B$21,2,FALSE))","v":""},null,null,null,null,null,null,null,null,null,null,null,null,null,null,null,null,null,null,null,null,null,"X"]
[{"$f":"IF(C773=\"\",\"\",VLOOKUP(D773,Lookup!$D$1:$E$1051,2,FALSE))","v":""},{"$f":"IF(C773=\"\",\"\",VLOOKUP(U773,Lookup!$A$1:$B$21,2,FALSE))","v":""},null,null,null,null,null,null,null,null,null,null,null,null,null,null,null,null,null,null,null,null,null,"X"]
[{"$f":"IF(C774=\"\",\"\",VLOOKUP(D774,Lookup!$D$1:$E$1051,2,FALSE))","v":""},{"$f":"IF(C774=\"\",\"\",VLOOKUP(U774,Lookup!$A$1:$B$21,2,FALSE))","v":""},null,null,null,null,null,null,null,null,null,null,null,null,null,null,null,null,null,null,null,null,null,"X"]
[{"$f":"IF(C775=\"\",\"\",VLOOKUP(D775,Lookup!$D$1:$E$1051,2,FALSE))","v":""},{"$f":"IF(C775=\"\",\"\",VLOOKUP(U775,Lookup!$A$1:$B$21,2,FALSE))","v":""},null,null,null,null,null,null,null,null,null,null,null,null,null,null,null,null,null,null,null,null,null,"X"]
[{"$f":"IF(C776=\"\",\"\",VLOOKUP(D776,Lookup!$D$1:$E$1051,2,FALSE))","v":""},{"$f":"IF(C776=\"\",\"\",VLOOKUP(U776,Lookup!$A$1:$B$21,2,FALSE))","v":""},null,null,null,null,null,null,null,null,null,null,null,null,null,null,null,null,null,null,null,null,null,"X"]
[{"$f":"IF(C777=\"\",\"\",VLOOKUP(D777,Lookup!$D$1:$E$1051,2,FALSE))","v":""},{"$f":"IF(C777=\"\",\"\",VLOOKUP(U777,Lookup!$A$1:$B$21,2,FALSE))","v":""},null,null,null,null,null,null,null,null,null,null,null,null,null,null,null,null,null,null,null,null,null,"X"]
[{"$f":"IF(C778=\"\",\"\",VLOOKUP(D778,Lookup!$D$1:$E$1051,2,FALSE))","v":""},{"$f":"IF(C778=\"\",\"\",VLOOKUP(U778,Lookup!$A$1:$B$21,2,FALSE))","v":""},null,null,null,null,null,null,null,null,null,null,null,null,null,null,null,null,null,null,null,null,null,"X"]
[{"$f":"IF(C779=\"\",\"\",VLOOKUP(D779,Lookup!$D$1:$E$1051,2,FALSE))","v":""},{"$f":"IF(C779=\"\",\"\",VLOOKUP(U779,Lookup!$A$1:$B$21,2,FALSE))","v":""},null,null,null,null,null,null,null,null,null,null,null,null,null,null,null,null,null,null,null,null,null,"X"]
[{"$f":"IF(C780=\"\",\"\",VLOOKUP(D780,Lookup!$D$1:$E$1051,2,FALSE))","v":""},{"$f":"IF(C780=\"\",\"\",VLOOKUP(U780,Lookup!$A$1:$B$21,2,FALSE))","v":""},null,null,null,null,null,null,null,null,null,null,null,null,null,null,null,null,null,null,null,null,null,"X"]
[{"$f":"IF(C781=\"\",\"\",VLOOKUP(D781,Lookup!$D$1:$E$1051,2,FALSE))","v":""},{"$f":"IF(C781=\"\",\"\",VLOOKUP(U781,Lookup!$A$1:$B$21,2,FALSE))","v":""},null,null,null,null,null,null,null,null,null,null,null,null,null,null,null,null,null,null,null,null,null,"X"]
[{"$f":"IF(C782=\"\",\"\",VLOOKUP(D782,Lookup!$D$1:$E$1051,2,FALSE))","v":""},{"$f":"IF(C782=\"\",\"\",VLOOKUP(U782,Lookup!$A$1:$B$21,2,FALSE))","v":""},null,null,null,null,null,null,null,null,null,null,null,null,null,null,null,null,null,null,null,null,null,"X"]
[{"$f":"IF(C783=\"\",\"\",VLOOKUP(D783,Lookup!$D$1:$E$1051,2,FALSE))","v":""},{"$f":"IF(C783=\"\",\"\",VLOOKUP(U783,Lookup!$A$1:$B$21,2,FALSE))","v":""},null,null,null,null,null,null,null,null,null,null,null,null,null,null,null,null,null,null,null,null,null,"X"]
[{"$f":"IF(C784=\"\",\"\",VLOOKUP(D784,Lookup!$D$1:$E$1051,2,FALSE))","v":""},{"$f":"IF(C784=\"\",\"\",VLOOKUP(U784,Lookup!$A$1:$B$21,2,FALSE))","v":""},null,null,null,null,null,null,null,null,null,null,null,null,null,null,null,null,null,null,null,null,null,"X"]
[{"$f":"IF(C785=\"\",\"\",VLOOKUP(D785,Lookup!$D$1:$E$1051,2,FALSE))","v":""},{"$f":"IF(C785=\"\",\"\",VLOOKUP(U785,Lookup!$A$1:$B$21,2,FALSE))","v":""},null,null,null,null,null,null,null,null,null,null,null,null,null,null,null,null,null,null,null,null,null,"X"]
[{"$f":"IF(C786=\"\",\"\",VLOOKUP(D786,Lookup!$D$1:$E$1051,2,FALSE))","v":""},{"$f":"IF(C786=\"\",\"\",VLOOKUP(U786,Lookup!$A$1:$B$21,2,FALSE))","v":""},null,null,null,null,null,null,null,null,null,null,null,null,null,null,null,null,null,null,null,null,null,"X"]
[{"$f":"IF(C787=\"\",\"\",VLOOKUP(D787,Lookup!$D$1:$E$1051,2,FALSE))","v":""},{"$f":"IF(C787=\"\",\"\",VLOOKUP(U787,Lookup!$A$1:$B$21,2,FALSE))","v":""},null,null,null,null,null,null,null,null,null,null,null,null,null,null,null,null,null,null,null,null,null,"X"]
[{"$f":"IF(C788=\"\",\"\",VLOOKUP(D788,Lookup!$D$1:$E$1051,2,FALSE))","v":""},{"$f":"IF(C788=\"\",\"\",VLOOKUP(U788,Lookup!$A$1:$B$21,2,FALSE))","v":""},null,null,null,null,null,null,null,null,null,null,null,null,null,null,null,null,null,null,null,null,null,"X"]
[{"$f":"IF(C789=\"\",\"\",VLOOKUP(D789,Lookup!$D$1:$E$1051,2,FALSE))","v":""},{"$f":"IF(C789=\"\",\"\",VLOOKUP(U789,Lookup!$A$1:$B$21,2,FALSE))","v":""},null,null,null,null,null,null,null,null,null,null,null,null,null,null,null,null,null,null,null,null,null,"X"]
[{"$f":"IF(C790=\"\",\"\",VLOOKUP(D790,Lookup!$D$1:$E$1051,2,FALSE))","v":""},{"$f":"IF(C790=\"\",\"\",VLOOKUP(U790,Lookup!$A$1:$B$21,2,FALSE))","v":""},null,null,null,null,null,null,null,null,null,null,null,null,null,null,null,null,null,null,null,null,null,"X"]
[{"$f":"IF(C791=\"\",\"\",VLOOKUP(D791,Lookup!$D$1:$E$1051,2,FALSE))","v":""},{"$f":"IF(C791=\"\",\"\",VLOOKUP(U791,Lookup!$A$1:$B$21,2,FALSE))","v":""},null,null,null,null,null,null,null,null,null,null,null,null,null,null,null,null,null,null,null,null,null,"X"]
[{"$f":"IF(C792=\"\",\"\",VLOOKUP(D792,Lookup!$D$1:$E$1051,2,FALSE))","v":""},{"$f":"IF(C792=\"\",\"\",VLOOKUP(U792,Lookup!$A$1:$B$21,2,FALSE))","v":""},null,null,null,null,null,null,null,null,null,null,null,null,null,null,null,null,null,null,null,null,null,"X"]
[{"$f":"IF(C793=\"\",\"\",VLOOKUP(D793,Lookup!$D$1:$E$1051,2,FALSE))","v":""},{"$f":"IF(C793=\"\",\"\",VLOOKUP(U793,Lookup!$A$1:$B$21,2,FALSE))","v":""},null,null,null,null,null,null,null,null,null,null,null,null,null,null,null,null,null,null,null,null,null,"X"]
[{"$f":"IF(C794=\"\",\"\",VLOOKUP(D794,Lookup!$D$1:$E$1051,2,FALSE))","v":""},{"$f":"IF(C794=\"\",\"\",VLOOKUP(U794,Lookup!$A$1:$B$21,2,FALSE))","v":""},null,null,null,null,null,null,null,null,null,null,null,null,null,null,null,null,null,null,null,null,null,"X"]
[{"$f":"IF(C795=\"\",\"\",VLOOKUP(D795,Lookup!$D$1:$E$1051,2,FALSE))","v":""},{"$f":"IF(C795=\"\",\"\",VLOOKUP(U795,Lookup!$A$1:$B$21,2,FALSE))","v":""},null,null,null,null,null,null,null,null,null,null,null,null,null,null,null,null,null,null,null,null,null,"X"]
[{"$f":"IF(C796=\"\",\"\",VLOOKUP(D796,Lookup!$D$1:$E$1051,2,FALSE))","v":""},{"$f":"IF(C796=\"\",\"\",VLOOKUP(U796,Lookup!$A$1:$B$21,2,FALSE))","v":""},null,null,null,null,null,null,null,null,null,null,null,null,null,null,null,null,null,null,null,null,null,"X"]
[{"$f":"IF(C797=\"\",\"\",VLOOKUP(D797,Lookup!$D$1:$E$1051,2,FALSE))","v":""},{"$f":"IF(C797=\"\",\"\",VLOOKUP(U797,Lookup!$A$1:$B$21,2,FALSE))","v":""},null,null,null,null,null,null,null,null,null,null,null,null,null,null,null,null,null,null,null,null,null,"X"]
[{"$f":"IF(C798=\"\",\"\",VLOOKUP(D798,Lookup!$D$1:$E$1051,2,FALSE))","v":""},{"$f":"IF(C798=\"\",\"\",VLOOKUP(U798,Lookup!$A$1:$B$21,2,FALSE))","v":""},null,null,null,null,null,null,null,null,null,null,null,null,null,null,null,null,null,null,null,null,null,"X"]
[{"$f":"IF(C799=\"\",\"\",VLOOKUP(D799,Lookup!$D$1:$E$1051,2,FALSE))","v":""},{"$f":"IF(C799=\"\",\"\",VLOOKUP(U799,Lookup!$A$1:$B$21,2,FALSE))","v":""},null,null,null,null,null,null,null,null,null,null,null,null,null,null,null,null,null,null,null,null,null,"X"]
[{"$f":"IF(C800=\"\",\"\",VLOOKUP(D800,Lookup!$D$1:$E$1051,2,FALSE))","v":""},{"$f":"IF(C800=\"\",\"\",VLOOKUP(U800,Lookup!$A$1:$B$21,2,FALSE))","v":""},null,null,null,null,null,null,null,null,null,null,null,null,null,null,null,null,null,null,null,null,null,"X"]
[{"$f":"IF(C801=\"\",\"\",VLOOKUP(D801,Lookup!$D$1:$E$1051,2,FALSE))","v":""},{"$f":"IF(C801=\"\",\"\",VLOOKUP(U801,Lookup!$A$1:$B$21,2,FALSE))","v":""},null,null,null,null,null,null,null,null,null,null,null,null,null,null,null,null,null,null,null,null,null,"X"]
[{"$f":"IF(C802=\"\",\"\",VLOOKUP(D802,Lookup!$D$1:$E$1051,2,FALSE))","v":""},{"$f":"IF(C802=\"\",\"\",VLOOKUP(U802,Lookup!$A$1:$B$21,2,FALSE))","v":""},null,null,null,null,null,null,null,null,null,null,null,null,null,null,null,null,null,null,null,null,null,"X"]
[{"$f":"IF(C803=\"\",\"\",VLOOKUP(D803,Lookup!$D$1:$E$1051,2,FALSE))","v":""},{"$f":"IF(C803=\"\",\"\",VLOOKUP(U803,Lookup!$A$1:$B$21,2,FALSE))","v":""},null,null,null,null,null,null,null,null,null,null,null,null,null,null,null,null,null,null,null,null,null,"X"]
[{"$f":"IF(C804=\"\",\"\",VLOOKUP(D804,Lookup!$D$1:$E$1051,2,FALSE))","v":""},{"$f":"IF(C804=\"\",\"\",VLOOKUP(U804,Lookup!$A$1:$B$21,2,FALSE))","v":""},null,null,null,null,null,null,null,null,null,null,null,null,null,null,null,null,null,null,null,null,null,"X"]
[{"$f":"IF(C805=\"\",\"\",VLOOKUP(D805,Lookup!$D$1:$E$1051,2,FALSE))","v":""},{"$f":"IF(C805=\"\",\"\",VLOOKUP(U805,Lookup!$A$1:$B$21,2,FALSE))","v":""},null,null,null,null,null,null,null,null,null,null,null,null,null,null,null,null,null,null,null,null,null,"X"]
[{"$f":"IF(C806=\"\",\"\",VLOOKUP(D806,Lookup!$D$1:$E$1051,2,FALSE))","v":""},{"$f":"IF(C806=\"\",\"\",VLOOKUP(U806,Lookup!$A$1:$B$21,2,FALSE))","v":""},null,null,null,null,null,null,null,null,null,null,null,null,null,null,null,null,null,null,null,null,null,"X"]
[{"$f":"IF(C807=\"\",\"\",VLOOKUP(D807,Lookup!$D$1:$E$1051,2,FALSE))","v":""},{"$f":"IF(C807=\"\",\"\",VLOOKUP(U807,Lookup!$A$1:$B$21,2,FALSE))","v":""},null,null,null,null,null,null,null,null,null,null,null,null,null,null,null,null,null,null,null,null,null,"X"]
[{"$f":"IF(C808=\"\",\"\",VLOOKUP(D808,Lookup!$D$1:$E$1051,2,FALSE))","v":""},{"$f":"IF(C808=\"\",\"\",VLOOKUP(U808,Lookup!$A$1:$B$21,2,FALSE))","v":""},null,null,null,null,null,null,null,null,null,null,null,null,null,null,null,null,null,null,null,null,null,"X"]
[{"$f":"IF(C809=\"\",\"\",VLOOKUP(D809,Lookup!$D$1:$E$1051,2,FALSE))","v":""},{"$f":"IF(C809=\"\",\"\",VLOOKUP(U809,Lookup!$A$1:$B$21,2,FALSE))","v":""},null,null,null,null,null,null,null,null,null,null,null,null,null,null,null,null,null,null,null,null,null,"X"]
[{"$f":"IF(C810=\"\",\"\",VLOOKUP(D810,Lookup!$D$1:$E$1051,2,FALSE))","v":""},{"$f":"IF(C810=\"\",\"\",VLOOKUP(U810,Lookup!$A$1:$B$21,2,FALSE))","v":""},null,null,null,null,null,null,null,null,null,null,null,null,null,null,null,null,null,null,null,null,null,"X"]
[{"$f":"IF(C811=\"\",\"\",VLOOKUP(D811,Lookup!$D$1:$E$1051,2,FALSE))","v":""},{"$f":"IF(C811=\"\",\"\",VLOOKUP(U811,Lookup!$A$1:$B$21,2,FALSE))","v":""},null,null,null,null,null,null,null,null,null,null,null,null,null,null,null,null,null,null,null,null,null,"X"]
[{"$f":"IF(C812=\"\",\"\",VLOOKUP(D812,Lookup!$D$1:$E$1051,2,FALSE))","v":""},{"$f":"IF(C812=\"\",\"\",VLOOKUP(U812,Lookup!$A$1:$B$21,2,FALSE))","v":""},null,null,null,null,null,null,null,null,null,null,null,null,null,null,null,null,null,null,null,null,null,"X"]
[{"$f":"IF(C813=\"\",\"\",VLOOKUP(D813,Lookup!$D$1:$E$1051,2,FALSE))","v":""},{"$f":"IF(C813=\"\",\"\",VLOOKUP(U813,Lookup!$A$1:$B$21,2,FALSE))","v":""},null,null,null,null,null,null,null,null,null,null,null,null,null,null,null,null,null,null,null,null,null,"X"]
[{"$f":"IF(C814=\"\",\"\",VLOOKUP(D814,Lookup!$D$1:$E$1051,2,FALSE))","v":""},{"$f":"IF(C814=\"\",\"\",VLOOKUP(U814,Lookup!$A$1:$B$21,2,FALSE))","v":""},null,null,null,null,null,null,null,null,null,null,null,null,null,null,null,null,null,null,null,null,null,"X"]
[{"$f":"IF(C815=\"\",\"\",VLOOKUP(D815,Lookup!$D$1:$E$1051,2,FALSE))","v":""},{"$f":"IF(C815=\"\",\"\",VLOOKUP(U815,Lookup!$A$1:$B$21,2,FALSE))","v":""},null,null,null,null,null,null,null,null,null,null,null,null,null,null,null,null,null,null,null,null,null,"X"]
[{"$f":"IF(C816=\"\",\"\",VLOOKUP(D816,Lookup!$D$1:$E$1051,2,FALSE))","v":""},{"$f":"IF(C816=\"\",\"\",VLOOKUP(U816,Lookup!$A$1:$B$21,2,FALSE))","v":""},null,null,null,null,null,null,null,null,null,null,null,null,null,null,null,null,null,null,null,null,null,"X"]
[{"$f":"IF(C817=\"\",\"\",VLOOKUP(D817,Lookup!$D$1:$E$1051,2,FALSE))","v":""},{"$f":"IF(C817=\"\",\"\",VLOOKUP(U817,Lookup!$A$1:$B$21,2,FALSE))","v":""},null,null,null,null,null,null,null,null,null,null,null,null,null,null,null,null,null,null,null,null,null,"X"]
[{"$f":"IF(C818=\"\",\"\",VLOOKUP(D818,Lookup!$D$1:$E$1051,2,FALSE))","v":""},{"$f":"IF(C818=\"\",\"\",VLOOKUP(U818,Lookup!$A$1:$B$21,2,FALSE))","v":""},null,null,null,null,null,null,null,null,null,null,null,null,null,null,null,null,null,null,null,null,null,"X"]
[{"$f":"IF(C819=\"\",\"\",VLOOKUP(D819,Lookup!$D$1:$E$1051,2,FALSE))","v":""},{"$f":"IF(C819=\"\",\"\",VLOOKUP(U819,Lookup!$A$1:$B$21,2,FALSE))","v":""},null,null,null,null,null,null,null,null,null,null,null,null,null,null,null,null,null,null,null,null,null,"X"]
[{"$f":"IF(C820=\"\",\"\",VLOOKUP(D820,Lookup!$D$1:$E$1051,2,FALSE))","v":""},{"$f":"IF(C820=\"\",\"\",VLOOKUP(U820,Lookup!$A$1:$B$21,2,FALSE))","v":""},null,null,null,null,null,null,null,null,null,null,null,null,null,null,null,null,null,null,null,null,null,"X"]
[{"$f":"IF(C821=\"\",\"\",VLOOKUP(D821,Lookup!$D$1:$E$1051,2,FALSE))","v":""},{"$f":"IF(C821=\"\",\"\",VLOOKUP(U821,Lookup!$A$1:$B$21,2,FALSE))","v":""},null,null,null,null,null,null,null,null,null,null,null,null,null,null,null,null,null,null,null,null,null,"X"]
[{"$f":"IF(C822=\"\",\"\",VLOOKUP(D822,Lookup!$D$1:$E$1051,2,FALSE))","v":""},{"$f":"IF(C822=\"\",\"\",VLOOKUP(U822,Lookup!$A$1:$B$21,2,FALSE))","v":""},null,null,null,null,null,null,null,null,null,null,null,null,null,null,null,null,null,null,null,null,null,"X"]
[{"$f":"IF(C823=\"\",\"\",VLOOKUP(D823,Lookup!$D$1:$E$1051,2,FALSE))","v":""},{"$f":"IF(C823=\"\",\"\",VLOOKUP(U823,Lookup!$A$1:$B$21,2,FALSE))","v":""},null,null,null,null,null,null,null,null,null,null,null,null,null,null,null,null,null,null,null,null,null,"X"]
[{"$f":"IF(C824=\"\",\"\",VLOOKUP(D824,Lookup!$D$1:$E$1051,2,FALSE))","v":""},{"$f":"IF(C824=\"\",\"\",VLOOKUP(U824,Lookup!$A$1:$B$21,2,FALSE))","v":""},null,null,null,null,null,null,null,null,null,null,null,null,null,null,null,null,null,null,null,null,null,"X"]
[{"$f":"IF(C825=\"\",\"\",VLOOKUP(D825,Lookup!$D$1:$E$1051,2,FALSE))","v":""},{"$f":"IF(C825=\"\",\"\",VLOOKUP(U825,Lookup!$A$1:$B$21,2,FALSE))","v":""},null,null,null,null,null,null,null,null,null,null,null,null,null,null,null,null,null,null,null,null,null,"X"]
[{"$f":"IF(C826=\"\",\"\",VLOOKUP(D826,Lookup!$D$1:$E$1051,2,FALSE))","v":""},{"$f":"IF(C826=\"\",\"\",VLOOKUP(U826,Lookup!$A$1:$B$21,2,FALSE))","v":""},null,null,null,null,null,null,null,null,null,null,null,null,null,null,null,null,null,null,null,null,null,"X"]
[{"$f":"IF(C827=\"\",\"\",VLOOKUP(D827,Lookup!$D$1:$E$1051,2,FALSE))","v":""},{"$f":"IF(C827=\"\",\"\",VLOOKUP(U827,Lookup!$A$1:$B$21,2,FALSE))","v":""},null,null,null,null,null,null,null,null,null,null,null,null,null,null,null,null,null,null,null,null,null,"X"]
[{"$f":"IF(C828=\"\",\"\",VLOOKUP(D828,Lookup!$D$1:$E$1051,2,FALSE))","v":""},{"$f":"IF(C828=\"\",\"\",VLOOKUP(U828,Lookup!$A$1:$B$21,2,FALSE))","v":""},null,null,null,null,null,null,null,null,null,null,null,null,null,null,null,null,null,null,null,null,null,"X"]
[{"$f":"IF(C829=\"\",\"\",VLOOKUP(D829,Lookup!$D$1:$E$1051,2,FALSE))","v":""},{"$f":"IF(C829=\"\",\"\",VLOOKUP(U829,Lookup!$A$1:$B$21,2,FALSE))","v":""},null,null,null,null,null,null,null,null,null,null,null,null,null,null,null,null,null,null,null,null,null,"X"]
[{"$f":"IF(C830=\"\",\"\",VLOOKUP(D830,Lookup!$D$1:$E$1051,2,FALSE))","v":""},{"$f":"IF(C830=\"\",\"\",VLOOKUP(U830,Lookup!$A$1:$B$21,2,FALSE))","v":""},null,null,null,null,null,null,null,null,null,null,null,null,null,null,null,null,null,null,null,null,null,"X"]
[{"$f":"IF(C831=\"\",\"\",VLOOKUP(D831,Lookup!$D$1:$E$1051,2,FALSE))","v":""},{"$f":"IF(C831=\"\",\"\",VLOOKUP(U831,Lookup!$A$1:$B$21,2,FALSE))","v":""},null,null,null,null,null,null,null,null,null,null,null,null,null,null,null,null,null,null,null,null,null,"X"]
[{"$f":"IF(C832=\"\",\"\",VLOOKUP(D832,Lookup!$D$1:$E$1051,2,FALSE))","v":""},{"$f":"IF(C832=\"\",\"\",VLOOKUP(U832,Lookup!$A$1:$B$21,2,FALSE))","v":""},null,null,null,null,null,null,null,null,null,null,null,null,null,null,null,null,null,null,null,null,null,"X"]
[{"$f":"IF(C833=\"\",\"\",VLOOKUP(D833,Lookup!$D$1:$E$1051,2,FALSE))","v":""},{"$f":"IF(C833=\"\",\"\",VLOOKUP(U833,Lookup!$A$1:$B$21,2,FALSE))","v":""},null,null,null,null,null,null,null,null,null,null,null,null,null,null,null,null,null,null,null,null,null,"X"]
[{"$f":"IF(C834=\"\",\"\",VLOOKUP(D834,Lookup!$D$1:$E$1051,2,FALSE))","v":""},{"$f":"IF(C834=\"\",\"\",VLOOKUP(U834,Lookup!$A$1:$B$21,2,FALSE))","v":""},null,null,null,null,null,null,null,null,null,null,null,null,null,null,null,null,null,null,null,null,null,"X"]
[{"$f":"IF(C835=\"\",\"\",VLOOKUP(D835,Lookup!$D$1:$E$1051,2,FALSE))","v":""},{"$f":"IF(C835=\"\",\"\",VLOOKUP(U835,Lookup!$A$1:$B$21,2,FALSE))","v":""},null,null,null,null,null,null,null,null,null,null,null,null,null,null,null,null,null,null,null,null,null,"X"]
[{"$f":"IF(C836=\"\",\"\",VLOOKUP(D836,Lookup!$D$1:$E$1051,2,FALSE))","v":""},{"$f":"IF(C836=\"\",\"\",VLOOKUP(U836,Lookup!$A$1:$B$21,2,FALSE))","v":""},null,null,null,null,null,null,null,null,null,null,null,null,null,null,null,null,null,null,null,null,null,"X"]
[{"$f":"IF(C837=\"\",\"\",VLOOKUP(D837,Lookup!$D$1:$E$1051,2,FALSE))","v":""},{"$f":"IF(C837=\"\",\"\",VLOOKUP(U837,Lookup!$A$1:$B$21,2,FALSE))","v":""},null,null,null,null,null,null,null,null,null,null,null,null,null,null,null,null,null,null,null,null,null,"X"]
[{"$f":"IF(C838=\"\",\"\",VLOOKUP(D838,Lookup!$D$1:$E$1051,2,FALSE))","v":""},{"$f":"IF(C838=\"\",\"\",VLOOKUP(U838,Lookup!$A$1:$B$21,2,FALSE))","v":""},null,null,null,null,null,null,null,null,null,null,null,null,null,null,null,null,null,null,null,null,null,"X"]
[{"$f":"IF(C839=\"\",\"\",VLOOKUP(D839,Lookup!$D$1:$E$1051,2,FALSE))","v":""},{"$f":"IF(C839=\"\",\"\",VLOOKUP(U839,Lookup!$A$1:$B$21,2,FALSE))","v":""},null,null,null,null,null,null,null,null,null,null,null,null,null,null,null,null,null,null,null,null,null,"X"]
[{"$f":"IF(C840=\"\",\"\",VLOOKUP(D840,Lookup!$D$1:$E$1051,2,FALSE))","v":""},{"$f":"IF(C840=\"\",\"\",VLOOKUP(U840,Lookup!$A$1:$B$21,2,FALSE))","v":""},null,null,null,null,null,null,null,null,null,null,null,null,null,null,null,null,null,null,null,null,null,"X"]
[{"$f":"IF(C841=\"\",\"\",VLOOKUP(D841,Lookup!$D$1:$E$1051,2,FALSE))","v":""},{"$f":"IF(C841=\"\",\"\",VLOOKUP(U841,Lookup!$A$1:$B$21,2,FALSE))","v":""},null,null,null,null,null,null,null,null,null,null,null,null,null,null,null,null,null,null,null,null,null,"X"]
[{"$f":"IF(C842=\"\",\"\",VLOOKUP(D842,Lookup!$D$1:$E$1051,2,FALSE))","v":""},{"$f":"IF(C842=\"\",\"\",VLOOKUP(U842,Lookup!$A$1:$B$21,2,FALSE))","v":""},null,null,null,null,null,null,null,null,null,null,null,null,null,null,null,null,null,null,null,null,null,"X"]
[{"$f":"IF(C843=\"\",\"\",VLOOKUP(D843,Lookup!$D$1:$E$1051,2,FALSE))","v":""},{"$f":"IF(C843=\"\",\"\",VLOOKUP(U843,Lookup!$A$1:$B$21,2,FALSE))","v":""},null,null,null,null,null,null,null,null,null,null,null,null,null,null,null,null,null,null,null,null,null,"X"]
[{"$f":"IF(C844=\"\",\"\",VLOOKUP(D844,Lookup!$D$1:$E$1051,2,FALSE))","v":""},{"$f":"IF(C844=\"\",\"\",VLOOKUP(U844,Lookup!$A$1:$B$21,2,FALSE))","v":""},null,null,null,null,null,null,null,null,null,null,null,null,null,null,null,null,null,null,null,null,null,"X"]
[{"$f":"IF(C845=\"\",\"\",VLOOKUP(D845,Lookup!$D$1:$E$1051,2,FALSE))","v":""},{"$f":"IF(C845=\"\",\"\",VLOOKUP(U845,Lookup!$A$1:$B$21,2,FALSE))","v":""},null,null,null,null,null,null,null,null,null,null,null,null,null,null,null,null,null,null,null,null,null,"X"]
[{"$f":"IF(C846=\"\",\"\",VLOOKUP(D846,Lookup!$D$1:$E$1051,2,FALSE))","v":""},{"$f":"IF(C846=\"\",\"\",VLOOKUP(U846,Lookup!$A$1:$B$21,2,FALSE))","v":""},null,null,null,null,null,null,null,null,null,null,null,null,null,null,null,null,null,null,null,null,null,"X"]
[{"$f":"IF(C847=\"\",\"\",VLOOKUP(D847,Lookup!$D$1:$E$1051,2,FALSE))","v":""},{"$f":"IF(C847=\"\",\"\",VLOOKUP(U847,Lookup!$A$1:$B$21,2,FALSE))","v":""},null,null,null,null,null,null,null,null,null,null,null,null,null,null,null,null,null,null,null,null,null,"X"]
[{"$f":"IF(C848=\"\",\"\",VLOOKUP(D848,Lookup!$D$1:$E$1051,2,FALSE))","v":""},{"$f":"IF(C848=\"\",\"\",VLOOKUP(U848,Lookup!$A$1:$B$21,2,FALSE))","v":""},null,null,null,null,null,null,null,null,null,null,null,null,null,null,null,null,null,null,null,null,null,"X"]
[{"$f":"IF(C849=\"\",\"\",VLOOKUP(D849,Lookup!$D$1:$E$1051,2,FALSE))","v":""},{"$f":"IF(C849=\"\",\"\",VLOOKUP(U849,Lookup!$A$1:$B$21,2,FALSE))","v":""},null,null,null,null,null,null,null,null,null,null,null,null,null,null,null,null,null,null,null,null,null,"X"]
[{"$f":"IF(C850=\"\",\"\",VLOOKUP(D850,Lookup!$D$1:$E$1051,2,FALSE))","v":""},{"$f":"IF(C850=\"\",\"\",VLOOKUP(U850,Lookup!$A$1:$B$21,2,FALSE))","v":""},null,null,null,null,null,null,null,null,null,null,null,null,null,null,null,null,null,null,null,null,null,"X"]
[{"$f":"IF(C851=\"\",\"\",VLOOKUP(D851,Lookup!$D$1:$E$1051,2,FALSE))","v":""},{"$f":"IF(C851=\"\",\"\",VLOOKUP(U851,Lookup!$A$1:$B$21,2,FALSE))","v":""},null,null,null,null,null,null,null,null,null,null,null,null,null,null,null,null,null,null,null,null,null,"X"]
[{"$f":"IF(C852=\"\",\"\",VLOOKUP(D852,Lookup!$D$1:$E$1051,2,FALSE))","v":""},{"$f":"IF(C852=\"\",\"\",VLOOKUP(U852,Lookup!$A$1:$B$21,2,FALSE))","v":""},null,null,null,null,null,null,null,null,null,null,null,null,null,null,null,null,null,null,null,null,null,"X"]
[{"$f":"IF(C853=\"\",\"\",VLOOKUP(D853,Lookup!$D$1:$E$1051,2,FALSE))","v":""},{"$f":"IF(C853=\"\",\"\",VLOOKUP(U853,Lookup!$A$1:$B$21,2,FALSE))","v":""},null,null,null,null,null,null,null,null,null,null,null,null,null,null,null,null,null,null,null,null,null,"X"]
[{"$f":"IF(C854=\"\",\"\",VLOOKUP(D854,Lookup!$D$1:$E$1051,2,FALSE))","v":""},{"$f":"IF(C854=\"\",\"\",VLOOKUP(U854,Lookup!$A$1:$B$21,2,FALSE))","v":""},null,null,null,null,null,null,null,null,null,null,null,null,null,null,null,null,null,null,null,null,null,"X"]
[{"$f":"IF(C855=\"\",\"\",VLOOKUP(D855,Lookup!$D$1:$E$1051,2,FALSE))","v":""},{"$f":"IF(C855=\"\",\"\",VLOOKUP(U855,Lookup!$A$1:$B$21,2,FALSE))","v":""},null,null,null,null,null,null,null,null,null,null,null,null,null,null,null,null,null,null,null,null,null,"X"]
[{"$f":"IF(C856=\"\",\"\",VLOOKUP(D856,Lookup!$D$1:$E$1051,2,FALSE))","v":""},{"$f":"IF(C856=\"\",\"\",VLOOKUP(U856,Lookup!$A$1:$B$21,2,FALSE))","v":""},null,null,null,null,null,null,null,null,null,null,null,null,null,null,null,null,null,null,null,null,null,"X"]
[{"$f":"IF(C857=\"\",\"\",VLOOKUP(D857,Lookup!$D$1:$E$1051,2,FALSE))","v":""},{"$f":"IF(C857=\"\",\"\",VLOOKUP(U857,Lookup!$A$1:$B$21,2,FALSE))","v":""},null,null,null,null,null,null,null,null,null,null,null,null,null,null,null,null,null,null,null,null,null,"X"]
[{"$f":"IF(C858=\"\",\"\",VLOOKUP(D858,Lookup!$D$1:$E$1051,2,FALSE))","v":""},{"$f":"IF(C858=\"\",\"\",VLOOKUP(U858,Lookup!$A$1:$B$21,2,FALSE))","v":""},null,null,null,null,null,null,null,null,null,null,null,null,null,null,null,null,null,null,null,null,null,"X"]
[{"$f":"IF(C859=\"\",\"\",VLOOKUP(D859,Lookup!$D$1:$E$1051,2,FALSE))","v":""},{"$f":"IF(C859=\"\",\"\",VLOOKUP(U859,Lookup!$A$1:$B$21,2,FALSE))","v":""},null,null,null,null,null,null,null,null,null,null,null,null,null,null,null,null,null,null,null,null,null,"X"]
[{"$f":"IF(C860=\"\",\"\",VLOOKUP(D860,Lookup!$D$1:$E$1051,2,FALSE))","v":""},{"$f":"IF(C860=\"\",\"\",VLOOKUP(U860,Lookup!$A$1:$B$21,2,FALSE))","v":""},null,null,null,null,null,null,null,null,null,null,null,null,null,null,null,null,null,null,null,null,null,"X"]
[{"$f":"IF(C861=\"\",\"\",VLOOKUP(D861,Lookup!$D$1:$E$1051,2,FALSE))","v":""},{"$f":"IF(C861=\"\",\"\",VLOOKUP(U861,Lookup!$A$1:$B$21,2,FALSE))","v":""},null,null,null,null,null,null,null,null,null,null,null,null,null,null,null,null,null,null,null,null,null,"X"]
[{"$f":"IF(C862=\"\",\"\",VLOOKUP(D862,Lookup!$D$1:$E$1051,2,FALSE))","v":""},{"$f":"IF(C862=\"\",\"\",VLOOKUP(U862,Lookup!$A$1:$B$21,2,FALSE))","v":""},null,null,null,null,null,null,null,null,null,null,null,null,null,null,null,null,null,null,null,null,null,"X"]
[{"$f":"IF(C863=\"\",\"\",VLOOKUP(D863,Lookup!$D$1:$E$1051,2,FALSE))","v":""},{"$f":"IF(C863=\"\",\"\",VLOOKUP(U863,Lookup!$A$1:$B$21,2,FALSE))","v":""},null,null,null,null,null,null,null,null,null,null,null,null,null,null,null,null,null,null,null,null,null,"X"]
[{"$f":"IF(C864=\"\",\"\",VLOOKUP(D864,Lookup!$D$1:$E$1051,2,FALSE))","v":""},{"$f":"IF(C864=\"\",\"\",VLOOKUP(U864,Lookup!$A$1:$B$21,2,FALSE))","v":""},null,null,null,null,null,null,null,null,null,null,null,null,null,null,null,null,null,null,null,null,null,"X"]
[{"$f":"IF(C865=\"\",\"\",VLOOKUP(D865,Lookup!$D$1:$E$1051,2,FALSE))","v":""},{"$f":"IF(C865=\"\",\"\",VLOOKUP(U865,Lookup!$A$1:$B$21,2,FALSE))","v":""},null,null,null,null,null,null,null,null,null,null,null,null,null,null,null,null,null,null,null,null,null,"X"]
[{"$f":"IF(C866=\"\",\"\",VLOOKUP(D866,Lookup!$D$1:$E$1051,2,FALSE))","v":""},{"$f":"IF(C866=\"\",\"\",VLOOKUP(U866,Lookup!$A$1:$B$21,2,FALSE))","v":""},null,null,null,null,null,null,null,null,null,null,null,null,null,null,null,null,null,null,null,null,null,"X"]
[{"$f":"IF(C867=\"\",\"\",VLOOKUP(D867,Lookup!$D$1:$E$1051,2,FALSE))","v":""},{"$f":"IF(C867=\"\",\"\",VLOOKUP(U867,Lookup!$A$1:$B$21,2,FALSE))","v":""},null,null,null,null,null,null,null,null,null,null,null,null,null,null,null,null,null,null,null,null,null,"X"]
[{"$f":"IF(C868=\"\",\"\",VLOOKUP(D868,Lookup!$D$1:$E$1051,2,FALSE))","v":""},{"$f":"IF(C868=\"\",\"\",VLOOKUP(U868,Lookup!$A$1:$B$21,2,FALSE))","v":""},null,null,null,null,null,null,null,null,null,null,null,null,null,null,null,null,null,null,null,null,null,"X"]
[{"$f":"IF(C869=\"\",\"\",VLOOKUP(D869,Lookup!$D$1:$E$1051,2,FALSE))","v":""},{"$f":"IF(C869=\"\",\"\",VLOOKUP(U869,Lookup!$A$1:$B$21,2,FALSE))","v":""},null,null,null,null,null,null,null,null,null,null,null,null,null,null,null,null,null,null,null,null,null,"X"]
[{"$f":"IF(C870=\"\",\"\",VLOOKUP(D870,Lookup!$D$1:$E$1051,2,FALSE))","v":""},{"$f":"IF(C870=\"\",\"\",VLOOKUP(U870,Lookup!$A$1:$B$21,2,FALSE))","v":""},null,null,null,null,null,null,null,null,null,null,null,null,null,null,null,null,null,null,null,null,null,"X"]
[{"$f":"IF(C871=\"\",\"\",VLOOKUP(D871,Lookup!$D$1:$E$1051,2,FALSE))","v":""},{"$f":"IF(C871=\"\",\"\",VLOOKUP(U871,Lookup!$A$1:$B$21,2,FALSE))","v":""},null,null,null,null,null,null,null,null,null,null,null,null,null,null,null,null,null,null,null,null,null,"X"]
[{"$f":"IF(C872=\"\",\"\",VLOOKUP(D872,Lookup!$D$1:$E$1051,2,FALSE))","v":""},{"$f":"IF(C872=\"\",\"\",VLOOKUP(U872,Lookup!$A$1:$B$21,2,FALSE))","v":""},null,null,null,null,null,null,null,null,null,null,null,null,null,null,null,null,null,null,null,null,null,"X"]
[{"$f":"IF(C873=\"\",\"\",VLOOKUP(D873,Lookup!$D$1:$E$1051,2,FALSE))","v":""},{"$f":"IF(C873=\"\",\"\",VLOOKUP(U873,Lookup!$A$1:$B$21,2,FALSE))","v":""},null,null,null,null,null,null,null,null,null,null,null,null,null,null,null,null,null,null,null,null,null,"X"]
[{"$f":"IF(C874=\"\",\"\",VLOOKUP(D874,Lookup!$D$1:$E$1051,2,FALSE))","v":""},{"$f":"IF(C874=\"\",\"\",VLOOKUP(U874,Lookup!$A$1:$B$21,2,FALSE))","v":""},null,null,null,null,null,null,null,null,null,null,null,null,null,null,null,null,null,null,null,null,null,"X"]
[{"$f":"IF(C875=\"\",\"\",VLOOKUP(D875,Lookup!$D$1:$E$1051,2,FALSE))","v":""},{"$f":"IF(C875=\"\",\"\",VLOOKUP(U875,Lookup!$A$1:$B$21,2,FALSE))","v":""},null,null,null,null,null,null,null,null,null,null,null,null,null,null,null,null,null,null,null,null,null,"X"]
[{"$f":"IF(C876=\"\",\"\",VLOOKUP(D876,Lookup!$D$1:$E$1051,2,FALSE))","v":""},{"$f":"IF(C876=\"\",\"\",VLOOKUP(U876,Lookup!$A$1:$B$21,2,FALSE))","v":""},null,null,null,null,null,null,null,null,null,null,null,null,null,null,null,null,null,null,null,null,null,"X"]
[{"$f":"IF(C877=\"\",\"\",VLOOKUP(D877,Lookup!$D$1:$E$1051,2,FALSE))","v":""},{"$f":"IF(C877=\"\",\"\",VLOOKUP(U877,Lookup!$A$1:$B$21,2,FALSE))","v":""},null,null,null,null,null,null,null,null,null,null,null,null,null,null,null,null,null,null,null,null,null,"X"]
[{"$f":"IF(C878=\"\",\"\",VLOOKUP(D878,Lookup!$D$1:$E$1051,2,FALSE))","v":""},{"$f":"IF(C878=\"\",\"\",VLOOKUP(U878,Lookup!$A$1:$B$21,2,FALSE))","v":""},null,null,null,null,null,null,null,null,null,null,null,null,null,null,null,null,null,null,null,null,null,"X"]
[{"$f":"IF(C879=\"\",\"\",VLOOKUP(D879,Lookup!$D$1:$E$1051,2,FALSE))","v":""},{"$f":"IF(C879=\"\",\"\",VLOOKUP(U879,Lookup!$A$1:$B$21,2,FALSE))","v":""},null,null,null,null,null,null,null,null,null,null,null,null,null,null,null,null,null,null,null,null,null,"X"]
[{"$f":"IF(C880=\"\",\"\",VLOOKUP(D880,Lookup!$D$1:$E$1051,2,FALSE))","v":""},{"$f":"IF(C880=\"\",\"\",VLOOKUP(U880,Lookup!$A$1:$B$21,2,FALSE))","v":""},null,null,null,null,null,null,null,null,null,null,null,null,null,null,null,null,null,null,null,null,null,"X"]
[{"$f":"IF(C881=\"\",\"\",VLOOKUP(D881,Lookup!$D$1:$E$1051,2,FALSE))","v":""},{"$f":"IF(C881=\"\",\"\",VLOOKUP(U881,Lookup!$A$1:$B$21,2,FALSE))","v":""},null,null,null,null,null,null,null,null,null,null,null,null,null,null,null,null,null,null,null,null,null,"X"]
[{"$f":"IF(C882=\"\",\"\",VLOOKUP(D882,Lookup!$D$1:$E$1051,2,FALSE))","v":""},{"$f":"IF(C882=\"\",\"\",VLOOKUP(U882,Lookup!$A$1:$B$21,2,FALSE))","v":""},null,null,null,null,null,null,null,null,null,null,null,null,null,null,null,null,null,null,null,null,null,"X"]
[{"$f":"IF(C883=\"\",\"\",VLOOKUP(D883,Lookup!$D$1:$E$1051,2,FALSE))","v":""},{"$f":"IF(C883=\"\",\"\",VLOOKUP(U883,Lookup!$A$1:$B$21,2,FALSE))","v":""},null,null,null,null,null,null,null,null,null,null,null,null,null,null,null,null,null,null,null,null,null,"X"]
[{"$f":"IF(C884=\"\",\"\",VLOOKUP(D884,Lookup!$D$1:$E$1051,2,FALSE))","v":""},{"$f":"IF(C884=\"\",\"\",VLOOKUP(U884,Lookup!$A$1:$B$21,2,FALSE))","v":""},null,null,null,null,null,null,null,null,null,null,null,null,null,null,null,null,null,null,null,null,null,"X"]
[{"$f":"IF(C885=\"\",\"\",VLOOKUP(D885,Lookup!$D$1:$E$1051,2,FALSE))","v":""},{"$f":"IF(C885=\"\",\"\",VLOOKUP(U885,Lookup!$A$1:$B$21,2,FALSE))","v":""},null,null,null,null,null,null,null,null,null,null,null,null,null,null,null,null,null,null,null,null,null,"X"]
[{"$f":"IF(C886=\"\",\"\",VLOOKUP(D886,Lookup!$D$1:$E$1051,2,FALSE))","v":""},{"$f":"IF(C886=\"\",\"\",VLOOKUP(U886,Lookup!$A$1:$B$21,2,FALSE))","v":""},null,null,null,null,null,null,null,null,null,null,null,null,null,null,null,null,null,null,null,null,null,"X"]
[{"$f":"IF(C887=\"\",\"\",VLOOKUP(D887,Lookup!$D$1:$E$1051,2,FALSE))","v":""},{"$f":"IF(C887=\"\",\"\",VLOOKUP(U887,Lookup!$A$1:$B$21,2,FALSE))","v":""},null,null,null,null,null,null,null,null,null,null,null,null,null,null,null,null,null,null,null,null,null,"X"]
[{"$f":"IF(C888=\"\",\"\",VLOOKUP(D888,Lookup!$D$1:$E$1051,2,FALSE))","v":""},{"$f":"IF(C888=\"\",\"\",VLOOKUP(U888,Lookup!$A$1:$B$21,2,FALSE))","v":""},null,null,null,null,null,null,null,null,null,null,null,null,null,null,null,null,null,null,null,null,null,"X"]
[{"$f":"IF(C889=\"\",\"\",VLOOKUP(D889,Lookup!$D$1:$E$1051,2,FALSE))","v":""},{"$f":"IF(C889=\"\",\"\",VLOOKUP(U889,Lookup!$A$1:$B$21,2,FALSE))","v":""},null,null,null,null,null,null,null,null,null,null,null,null,null,null,null,null,null,null,null,null,null,"X"]
[{"$f":"IF(C890=\"\",\"\",VLOOKUP(D890,Lookup!$D$1:$E$1051,2,FALSE))","v":""},{"$f":"IF(C890=\"\",\"\",VLOOKUP(U890,Lookup!$A$1:$B$21,2,FALSE))","v":""},null,null,null,null,null,null,null,null,null,null,null,null,null,null,null,null,null,null,null,null,null,"X"]
[{"$f":"IF(C891=\"\",\"\",VLOOKUP(D891,Lookup!$D$1:$E$1051,2,FALSE))","v":""},{"$f":"IF(C891=\"\",\"\",VLOOKUP(U891,Lookup!$A$1:$B$21,2,FALSE))","v":""},null,null,null,null,null,null,null,null,null,null,null,null,null,null,null,null,null,null,null,null,null,"X"]
[{"$f":"IF(C892=\"\",\"\",VLOOKUP(D892,Lookup!$D$1:$E$1051,2,FALSE))","v":""},{"$f":"IF(C892=\"\",\"\",VLOOKUP(U892,Lookup!$A$1:$B$21,2,FALSE))","v":""},null,null,null,null,null,null,null,null,null,null,null,null,null,null,null,null,null,null,null,null,null,"X"]
[{"$f":"IF(C893=\"\",\"\",VLOOKUP(D893,Lookup!$D$1:$E$1051,2,FALSE))","v":""},{"$f":"IF(C893=\"\",\"\",VLOOKUP(U893,Lookup!$A$1:$B$21,2,FALSE))","v":""},null,null,null,null,null,null,null,null,null,null,null,null,null,null,null,null,null,null,null,null,null,"X"]
[{"$f":"IF(C894=\"\",\"\",VLOOKUP(D894,Lookup!$D$1:$E$1051,2,FALSE))","v":""},{"$f":"IF(C894=\"\",\"\",VLOOKUP(U894,Lookup!$A$1:$B$21,2,FALSE))","v":""},null,null,null,null,null,null,null,null,null,null,null,null,null,null,null,null,null,null,null,null,null,"X"]
[{"$f":"IF(C895=\"\",\"\",VLOOKUP(D895,Lookup!$D$1:$E$1051,2,FALSE))","v":""},{"$f":"IF(C895=\"\",\"\",VLOOKUP(U895,Lookup!$A$1:$B$21,2,FALSE))","v":""},null,null,null,null,null,null,null,null,null,null,null,null,null,null,null,null,null,null,null,null,null,"X"]
[{"$f":"IF(C896=\"\",\"\",VLOOKUP(D896,Lookup!$D$1:$E$1051,2,FALSE))","v":""},{"$f":"IF(C896=\"\",\"\",VLOOKUP(U896,Lookup!$A$1:$B$21,2,FALSE))","v":""},null,null,null,null,null,null,null,null,null,null,null,null,null,null,null,null,null,null,null,null,null,"X"]
[{"$f":"IF(C897=\"\",\"\",VLOOKUP(D897,Lookup!$D$1:$E$1051,2,FALSE))","v":""},{"$f":"IF(C897=\"\",\"\",VLOOKUP(U897,Lookup!$A$1:$B$21,2,FALSE))","v":""},null,null,null,null,null,null,null,null,null,null,null,null,null,null,null,null,null,null,null,null,null,"X"]
[{"$f":"IF(C898=\"\",\"\",VLOOKUP(D898,Lookup!$D$1:$E$1051,2,FALSE))","v":""},{"$f":"IF(C898=\"\",\"\",VLOOKUP(U898,Lookup!$A$1:$B$21,2,FALSE))","v":""},null,null,null,null,null,null,null,null,null,null,null,null,null,null,null,null,null,null,null,null,null,"X"]
[{"$f":"IF(C899=\"\",\"\",VLOOKUP(D899,Lookup!$D$1:$E$1051,2,FALSE))","v":""},{"$f":"IF(C899=\"\",\"\",VLOOKUP(U899,Lookup!$A$1:$B$21,2,FALSE))","v":""},null,null,null,null,null,null,null,null,null,null,null,null,null,null,null,null,null,null,null,null,null,"X"]
[{"$f":"IF(C900=\"\",\"\",VLOOKUP(D900,Lookup!$D$1:$E$1051,2,FALSE))","v":""},{"$f":"IF(C900=\"\",\"\",VLOOKUP(U900,Lookup!$A$1:$B$21,2,FALSE))","v":""},null,null,null,null,null,null,null,null,null,null,null,null,null,null,null,null,null,null,null,null,null,"X"]
[{"$f":"IF(C901=\"\",\"\",VLOOKUP(D901,Lookup!$D$1:$E$1051,2,FALSE))","v":""},{"$f":"IF(C901=\"\",\"\",VLOOKUP(U901,Lookup!$A$1:$B$21,2,FALSE))","v":""},null,null,null,null,null,null,null,null,null,null,null,null,null,null,null,null,null,null,null,null,null,"X"]
[{"$f":"IF(C902=\"\",\"\",VLOOKUP(D902,Lookup!$D$1:$E$1051,2,FALSE))","v":""},{"$f":"IF(C902=\"\",\"\",VLOOKUP(U902,Lookup!$A$1:$B$21,2,FALSE))","v":""},null,null,null,null,null,null,null,null,null,null,null,null,null,null,null,null,null,null,null,null,null,"X"]
[{"$f":"IF(C903=\"\",\"\",VLOOKUP(D903,Lookup!$D$1:$E$1051,2,FALSE))","v":""},{"$f":"IF(C903=\"\",\"\",VLOOKUP(U903,Lookup!$A$1:$B$21,2,FALSE))","v":""},null,null,null,null,null,null,null,null,null,null,null,null,null,null,null,null,null,null,null,null,null,"X"]
[{"$f":"IF(C904=\"\",\"\",VLOOKUP(D904,Lookup!$D$1:$E$1051,2,FALSE))","v":""},{"$f":"IF(C904=\"\",\"\",VLOOKUP(U904,Lookup!$A$1:$B$21,2,FALSE))","v":""},null,null,null,null,null,null,null,null,null,null,null,null,null,null,null,null,null,null,null,null,null,"X"]
[{"$f":"IF(C905=\"\",\"\",VLOOKUP(D905,Lookup!$D$1:$E$1051,2,FALSE))","v":""},{"$f":"IF(C905=\"\",\"\",VLOOKUP(U905,Lookup!$A$1:$B$21,2,FALSE))","v":""},null,null,null,null,null,null,null,null,null,null,null,null,null,null,null,null,null,null,null,null,null,"X"]
[{"$f":"IF(C906=\"\",\"\",VLOOKUP(D906,Lookup!$D$1:$E$1051,2,FALSE))","v":""},{"$f":"IF(C906=\"\",\"\",VLOOKUP(U906,Lookup!$A$1:$B$21,2,FALSE))","v":""},null,null,null,null,null,null,null,null,null,null,null,null,null,null,null,null,null,null,null,null,null,"X"]
[{"$f":"IF(C907=\"\",\"\",VLOOKUP(D907,Lookup!$D$1:$E$1051,2,FALSE))","v":""},{"$f":"IF(C907=\"\",\"\",VLOOKUP(U907,Lookup!$A$1:$B$21,2,FALSE))","v":""},null,null,null,null,null,null,null,null,null,null,null,null,null,null,null,null,null,null,null,null,null,"X"]
[{"$f":"IF(C908=\"\",\"\",VLOOKUP(D908,Lookup!$D$1:$E$1051,2,FALSE))","v":""},{"$f":"IF(C908=\"\",\"\",VLOOKUP(U908,Lookup!$A$1:$B$21,2,FALSE))","v":""},null,null,null,null,null,null,null,null,null,null,null,null,null,null,null,null,null,null,null,null,null,"X"]
[{"$f":"IF(C909=\"\",\"\",VLOOKUP(D909,Lookup!$D$1:$E$1051,2,FALSE))","v":""},{"$f":"IF(C909=\"\",\"\",VLOOKUP(U909,Lookup!$A$1:$B$21,2,FALSE))","v":""},null,null,null,null,null,null,null,null,null,null,null,null,null,null,null,null,null,null,null,null,null,"X"]
[{"$f":"IF(C910=\"\",\"\",VLOOKUP(D910,Lookup!$D$1:$E$1051,2,FALSE))","v":""},{"$f":"IF(C910=\"\",\"\",VLOOKUP(U910,Lookup!$A$1:$B$21,2,FALSE))","v":""},null,null,null,null,null,null,null,null,null,null,null,null,null,null,null,null,null,null,null,null,null,"X"]
[{"$f":"IF(C911=\"\",\"\",VLOOKUP(D911,Lookup!$D$1:$E$1051,2,FALSE))","v":""},{"$f":"IF(C911=\"\",\"\",VLOOKUP(U911,Lookup!$A$1:$B$21,2,FALSE))","v":""},null,null,null,null,null,null,null,null,null,null,null,null,null,null,null,null,null,null,null,null,null,"X"]
[{"$f":"IF(C912=\"\",\"\",VLOOKUP(D912,Lookup!$D$1:$E$1051,2,FALSE))","v":""},{"$f":"IF(C912=\"\",\"\",VLOOKUP(U912,Lookup!$A$1:$B$21,2,FALSE))","v":""},null,null,null,null,null,null,null,null,null,null,null,null,null,null,null,null,null,null,null,null,null,"X"]
[{"$f":"IF(C913=\"\",\"\",VLOOKUP(D913,Lookup!$D$1:$E$1051,2,FALSE))","v":""},{"$f":"IF(C913=\"\",\"\",VLOOKUP(U913,Lookup!$A$1:$B$21,2,FALSE))","v":""},null,null,null,null,null,null,null,null,null,null,null,null,null,null,null,null,null,null,null,null,null,"X"]
[{"$f":"IF(C914=\"\",\"\",VLOOKUP(D914,Lookup!$D$1:$E$1051,2,FALSE))","v":""},{"$f":"IF(C914=\"\",\"\",VLOOKUP(U914,Lookup!$A$1:$B$21,2,FALSE))","v":""},null,null,null,null,null,null,null,null,null,null,null,null,null,null,null,null,null,null,null,null,null,"X"]
[{"$f":"IF(C915=\"\",\"\",VLOOKUP(D915,Lookup!$D$1:$E$1051,2,FALSE))","v":""},{"$f":"IF(C915=\"\",\"\",VLOOKUP(U915,Lookup!$A$1:$B$21,2,FALSE))","v":""},null,null,null,null,null,null,null,null,null,null,null,null,null,null,null,null,null,null,null,null,null,"X"]
[{"$f":"IF(C916=\"\",\"\",VLOOKUP(D916,Lookup!$D$1:$E$1051,2,FALSE))","v":""},{"$f":"IF(C916=\"\",\"\",VLOOKUP(U916,Lookup!$A$1:$B$21,2,FALSE))","v":""},null,null,null,null,null,null,null,null,null,null,null,null,null,null,null,null,null,null,null,null,null,"X"]
[{"$f":"IF(C917=\"\",\"\",VLOOKUP(D917,Lookup!$D$1:$E$1051,2,FALSE))","v":""},{"$f":"IF(C917=\"\",\"\",VLOOKUP(U917,Lookup!$A$1:$B$21,2,FALSE))","v":""},null,null,null,null,null,null,null,null,null,null,null,null,null,null,null,null,null,null,null,null,null,"X"]
[{"$f":"IF(C918=\"\",\"\",VLOOKUP(D918,Lookup!$D$1:$E$1051,2,FALSE))","v":""},{"$f":"IF(C918=\"\",\"\",VLOOKUP(U918,Lookup!$A$1:$B$21,2,FALSE))","v":""},null,null,null,null,null,null,null,null,null,null,null,null,null,null,null,null,null,null,null,null,null,"X"]
[{"$f":"IF(C919=\"\",\"\",VLOOKUP(D919,Lookup!$D$1:$E$1051,2,FALSE))","v":""},{"$f":"IF(C919=\"\",\"\",VLOOKUP(U919,Lookup!$A$1:$B$21,2,FALSE))","v":""},null,null,null,null,null,null,null,null,null,null,null,null,null,null,null,null,null,null,null,null,null,"X"]
[{"$f":"IF(C920=\"\",\"\",VLOOKUP(D920,Lookup!$D$1:$E$1051,2,FALSE))","v":""},{"$f":"IF(C920=\"\",\"\",VLOOKUP(U920,Lookup!$A$1:$B$21,2,FALSE))","v":""},null,null,null,null,null,null,null,null,null,null,null,null,null,null,null,null,null,null,null,null,null,"X"]
[{"$f":"IF(C921=\"\",\"\",VLOOKUP(D921,Lookup!$D$1:$E$1051,2,FALSE))","v":""},{"$f":"IF(C921=\"\",\"\",VLOOKUP(U921,Lookup!$A$1:$B$21,2,FALSE))","v":""},null,null,null,null,null,null,null,null,null,null,null,null,null,null,null,null,null,null,null,null,null,"X"]
[{"$f":"IF(C922=\"\",\"\",VLOOKUP(D922,Lookup!$D$1:$E$1051,2,FALSE))","v":""},{"$f":"IF(C922=\"\",\"\",VLOOKUP(U922,Lookup!$A$1:$B$21,2,FALSE))","v":""},null,null,null,null,null,null,null,null,null,null,null,null,null,null,null,null,null,null,null,null,null,"X"]
[{"$f":"IF(C923=\"\",\"\",VLOOKUP(D923,Lookup!$D$1:$E$1051,2,FALSE))","v":""},{"$f":"IF(C923=\"\",\"\",VLOOKUP(U923,Lookup!$A$1:$B$21,2,FALSE))","v":""},null,null,null,null,null,null,null,null,null,null,null,null,null,null,null,null,null,null,null,null,null,"X"]
[{"$f":"IF(C924=\"\",\"\",VLOOKUP(D924,Lookup!$D$1:$E$1051,2,FALSE))","v":""},{"$f":"IF(C924=\"\",\"\",VLOOKUP(U924,Lookup!$A$1:$B$21,2,FALSE))","v":""},null,null,null,null,null,null,null,null,null,null,null,null,null,null,null,null,null,null,null,null,null,"X"]
[{"$f":"IF(C925=\"\",\"\",VLOOKUP(D925,Lookup!$D$1:$E$1051,2,FALSE))","v":""},{"$f":"IF(C925=\"\",\"\",VLOOKUP(U925,Lookup!$A$1:$B$21,2,FALSE))","v":""},null,null,null,null,null,null,null,null,null,null,null,null,null,null,null,null,null,null,null,null,null,"X"]
[{"$f":"IF(C926=\"\",\"\",VLOOKUP(D926,Lookup!$D$1:$E$1051,2,FALSE))","v":""},{"$f":"IF(C926=\"\",\"\",VLOOKUP(U926,Lookup!$A$1:$B$21,2,FALSE))","v":""},null,null,null,null,null,null,null,null,null,null,null,null,null,null,null,null,null,null,null,null,null,"X"]
[{"$f":"IF(C927=\"\",\"\",VLOOKUP(D927,Lookup!$D$1:$E$1051,2,FALSE))","v":""},{"$f":"IF(C927=\"\",\"\",VLOOKUP(U927,Lookup!$A$1:$B$21,2,FALSE))","v":""},null,null,null,null,null,null,null,null,null,null,null,null,null,null,null,null,null,null,null,null,null,"X"]
[{"$f":"IF(C928=\"\",\"\",VLOOKUP(D928,Lookup!$D$1:$E$1051,2,FALSE))","v":""},{"$f":"IF(C928=\"\",\"\",VLOOKUP(U928,Lookup!$A$1:$B$21,2,FALSE))","v":""},null,null,null,null,null,null,null,null,null,null,null,null,null,null,null,null,null,null,null,null,null,"X"]
[{"$f":"IF(C929=\"\",\"\",VLOOKUP(D929,Lookup!$D$1:$E$1051,2,FALSE))","v":""},{"$f":"IF(C929=\"\",\"\",VLOOKUP(U929,Lookup!$A$1:$B$21,2,FALSE))","v":""},null,null,null,null,null,null,null,null,null,null,null,null,null,null,null,null,null,null,null,null,null,"X"]
[{"$f":"IF(C930=\"\",\"\",VLOOKUP(D930,Lookup!$D$1:$E$1051,2,FALSE))","v":""},{"$f":"IF(C930=\"\",\"\",VLOOKUP(U930,Lookup!$A$1:$B$21,2,FALSE))","v":""},null,null,null,null,null,null,null,null,null,null,null,null,null,null,null,null,null,null,null,null,null,"X"]
[{"$f":"IF(C931=\"\",\"\",VLOOKUP(D931,Lookup!$D$1:$E$1051,2,FALSE))","v":""},{"$f":"IF(C931=\"\",\"\",VLOOKUP(U931,Lookup!$A$1:$B$21,2,FALSE))","v":""},null,null,null,null,null,null,null,null,null,null,null,null,null,null,null,null,null,null,null,null,null,"X"]
[{"$f":"IF(C932=\"\",\"\",VLOOKUP(D932,Lookup!$D$1:$E$1051,2,FALSE))","v":""},{"$f":"IF(C932=\"\",\"\",VLOOKUP(U932,Lookup!$A$1:$B$21,2,FALSE))","v":""},null,null,null,null,null,null,null,null,null,null,null,null,null,null,null,null,null,null,null,null,null,"X"]
[{"$f":"IF(C933=\"\",\"\",VLOOKUP(D933,Lookup!$D$1:$E$1051,2,FALSE))","v":""},{"$f":"IF(C933=\"\",\"\",VLOOKUP(U933,Lookup!$A$1:$B$21,2,FALSE))","v":""},null,null,null,null,null,null,null,null,null,null,null,null,null,null,null,null,null,null,null,null,null,"X"]
[{"$f":"IF(C934=\"\",\"\",VLOOKUP(D934,Lookup!$D$1:$E$1051,2,FALSE))","v":""},{"$f":"IF(C934=\"\",\"\",VLOOKUP(U934,Lookup!$A$1:$B$21,2,FALSE))","v":""},null,null,null,null,null,null,null,null,null,null,null,null,null,null,null,null,null,null,null,null,null,"X"]
[{"$f":"IF(C935=\"\",\"\",VLOOKUP(D935,Lookup!$D$1:$E$1051,2,FALSE))","v":""},{"$f":"IF(C935=\"\",\"\",VLOOKUP(U935,Lookup!$A$1:$B$21,2,FALSE))","v":""},null,null,null,null,null,null,null,null,null,null,null,null,null,null,null,null,null,null,null,null,null,"X"]
[{"$f":"IF(C936=\"\",\"\",VLOOKUP(D936,Lookup!$D$1:$E$1051,2,FALSE))","v":""},{"$f":"IF(C936=\"\",\"\",VLOOKUP(U936,Lookup!$A$1:$B$21,2,FALSE))","v":""},null,null,null,null,null,null,null,null,null,null,null,null,null,null,null,null,null,null,null,null,null,"X"]
[{"$f":"IF(C937=\"\",\"\",VLOOKUP(D937,Lookup!$D$1:$E$1051,2,FALSE))","v":""},{"$f":"IF(C937=\"\",\"\",VLOOKUP(U937,Lookup!$A$1:$B$21,2,FALSE))","v":""},null,null,null,null,null,null,null,null,null,null,null,null,null,null,null,null,null,null,null,null,null,"X"]
[{"$f":"IF(C938=\"\",\"\",VLOOKUP(D938,Lookup!$D$1:$E$1051,2,FALSE))","v":""},{"$f":"IF(C938=\"\",\"\",VLOOKUP(U938,Lookup!$A$1:$B$21,2,FALSE))","v":""},null,null,null,null,null,null,null,null,null,null,null,null,null,null,null,null,null,null,null,null,null,"X"]
[{"$f":"IF(C939=\"\",\"\",VLOOKUP(D939,Lookup!$D$1:$E$1051,2,FALSE))","v":""},{"$f":"IF(C939=\"\",\"\",VLOOKUP(U939,Lookup!$A$1:$B$21,2,FALSE))","v":""},null,null,null,null,null,null,null,null,null,null,null,null,null,null,null,null,null,null,null,null,null,"X"]
[{"$f":"IF(C940=\"\",\"\",VLOOKUP(D940,Lookup!$D$1:$E$1051,2,FALSE))","v":""},{"$f":"IF(C940=\"\",\"\",VLOOKUP(U940,Lookup!$A$1:$B$21,2,FALSE))","v":""},null,null,null,null,null,null,null,null,null,null,null,null,null,null,null,null,null,null,null,null,null,"X"]
[{"$f":"IF(C941=\"\",\"\",VLOOKUP(D941,Lookup!$D$1:$E$1051,2,FALSE))","v":""},{"$f":"IF(C941=\"\",\"\",VLOOKUP(U941,Lookup!$A$1:$B$21,2,FALSE))","v":""},null,null,null,null,null,null,null,null,null,null,null,null,null,null,null,null,null,null,null,null,null,"X"]
[{"$f":"IF(C942=\"\",\"\",VLOOKUP(D942,Lookup!$D$1:$E$1051,2,FALSE))","v":""},{"$f":"IF(C942=\"\",\"\",VLOOKUP(U942,Lookup!$A$1:$B$21,2,FALSE))","v":""},null,null,null,null,null,null,null,null,null,null,null,null,null,null,null,null,null,null,null,null,null,"X"]
[{"$f":"IF(C943=\"\",\"\",VLOOKUP(D943,Lookup!$D$1:$E$1051,2,FALSE))","v":""},{"$f":"IF(C943=\"\",\"\",VLOOKUP(U943,Lookup!$A$1:$B$21,2,FALSE))","v":""},null,null,null,null,null,null,null,null,null,null,null,null,null,null,null,null,null,null,null,null,null,"X"]
[{"$f":"IF(C944=\"\",\"\",VLOOKUP(D944,Lookup!$D$1:$E$1051,2,FALSE))","v":""},{"$f":"IF(C944=\"\",\"\",VLOOKUP(U944,Lookup!$A$1:$B$21,2,FALSE))","v":""},null,null,null,null,null,null,null,null,null,null,null,null,null,null,null,null,null,null,null,null,null,"X"]
[{"$f":"IF(C945=\"\",\"\",VLOOKUP(D945,Lookup!$D$1:$E$1051,2,FALSE))","v":""},{"$f":"IF(C945=\"\",\"\",VLOOKUP(U945,Lookup!$A$1:$B$21,2,FALSE))","v":""},null,null,null,null,null,null,null,null,null,null,null,null,null,null,null,null,null,null,null,null,null,"X"]
[{"$f":"IF(C946=\"\",\"\",VLOOKUP(D946,Lookup!$D$1:$E$1051,2,FALSE))","v":""},{"$f":"IF(C946=\"\",\"\",VLOOKUP(U946,Lookup!$A$1:$B$21,2,FALSE))","v":""},null,null,null,null,null,null,null,null,null,null,null,null,null,null,null,null,null,null,null,null,null,"X"]
[{"$f":"IF(C947=\"\",\"\",VLOOKUP(D947,Lookup!$D$1:$E$1051,2,FALSE))","v":""},{"$f":"IF(C947=\"\",\"\",VLOOKUP(U947,Lookup!$A$1:$B$21,2,FALSE))","v":""},null,null,null,null,null,null,null,null,null,null,null,null,null,null,null,null,null,null,null,null,null,"X"]
[{"$f":"IF(C948=\"\",\"\",VLOOKUP(D948,Lookup!$D$1:$E$1051,2,FALSE))","v":""},{"$f":"IF(C948=\"\",\"\",VLOOKUP(U948,Lookup!$A$1:$B$21,2,FALSE))","v":""},null,null,null,null,null,null,null,null,null,null,null,null,null,null,null,null,null,null,null,null,null,"X"]
[{"$f":"IF(C949=\"\",\"\",VLOOKUP(D949,Lookup!$D$1:$E$1051,2,FALSE))","v":""},{"$f":"IF(C949=\"\",\"\",VLOOKUP(U949,Lookup!$A$1:$B$21,2,FALSE))","v":""},null,null,null,null,null,null,null,null,null,null,null,null,null,null,null,null,null,null,null,null,null,"X"]
[{"$f":"IF(C950=\"\",\"\",VLOOKUP(D950,Lookup!$D$1:$E$1051,2,FALSE))","v":""},{"$f":"IF(C950=\"\",\"\",VLOOKUP(U950,Lookup!$A$1:$B$21,2,FALSE))","v":""},null,null,null,null,null,null,null,null,null,null,null,null,null,null,null,null,null,null,null,null,null,"X"]
[{"$f":"IF(C951=\"\",\"\",VLOOKUP(D951,Lookup!$D$1:$E$1051,2,FALSE))","v":""},{"$f":"IF(C951=\"\",\"\",VLOOKUP(U951,Lookup!$A$1:$B$21,2,FALSE))","v":""},null,null,null,null,null,null,null,null,null,null,null,null,null,null,null,null,null,null,null,null,null,"X"]
[{"$f":"IF(C952=\"\",\"\",VLOOKUP(D952,Lookup!$D$1:$E$1051,2,FALSE))","v":""},{"$f":"IF(C952=\"\",\"\",VLOOKUP(U952,Lookup!$A$1:$B$21,2,FALSE))","v":""},null,null,null,null,null,null,null,null,null,null,null,null,null,null,null,null,null,null,null,null,null,"X"]
[{"$f":"IF(C953=\"\",\"\",VLOOKUP(D953,Lookup!$D$1:$E$1051,2,FALSE))","v":""},{"$f":"IF(C953=\"\",\"\",VLOOKUP(U953,Lookup!$A$1:$B$21,2,FALSE))","v":""},null,null,null,null,null,null,null,null,null,null,null,null,null,null,null,null,null,null,null,null,null,"X"]
[{"$f":"IF(C954=\"\",\"\",VLOOKUP(D954,Lookup!$D$1:$E$1051,2,FALSE))","v":""},{"$f":"IF(C954=\"\",\"\",VLOOKUP(U954,Lookup!$A$1:$B$21,2,FALSE))","v":""},null,null,null,null,null,null,null,null,null,null,null,null,null,null,null,null,null,null,null,null,null,"X"]
[{"$f":"IF(C955=\"\",\"\",VLOOKUP(D955,Lookup!$D$1:$E$1051,2,FALSE))","v":""},{"$f":"IF(C955=\"\",\"\",VLOOKUP(U955,Lookup!$A$1:$B$21,2,FALSE))","v":""},null,null,null,null,null,null,null,null,null,null,null,null,null,null,null,null,null,null,null,null,null,"X"]
[{"$f":"IF(C956=\"\",\"\",VLOOKUP(D956,Lookup!$D$1:$E$1051,2,FALSE))","v":""},{"$f":"IF(C956=\"\",\"\",VLOOKUP(U956,Lookup!$A$1:$B$21,2,FALSE))","v":""},null,null,null,null,null,null,null,null,null,null,null,null,null,null,null,null,null,null,null,null,null,"X"]
[{"$f":"IF(C957=\"\",\"\",VLOOKUP(D957,Lookup!$D$1:$E$1051,2,FALSE))","v":""},{"$f":"IF(C957=\"\",\"\",VLOOKUP(U957,Lookup!$A$1:$B$21,2,FALSE))","v":""},null,null,null,null,null,null,null,null,null,null,null,null,null,null,null,null,null,null,null,null,null,"X"]
[{"$f":"IF(C958=\"\",\"\",VLOOKUP(D958,Lookup!$D$1:$E$1051,2,FALSE))","v":""},{"$f":"IF(C958=\"\",\"\",VLOOKUP(U958,Lookup!$A$1:$B$21,2,FALSE))","v":""},null,null,null,null,null,null,null,null,null,null,null,null,null,null,null,null,null,null,null,null,null,"X"]
[{"$f":"IF(C959=\"\",\"\",VLOOKUP(D959,Lookup!$D$1:$E$1051,2,FALSE))","v":""},{"$f":"IF(C959=\"\",\"\",VLOOKUP(U959,Lookup!$A$1:$B$21,2,FALSE))","v":""},null,null,null,null,null,null,null,null,null,null,null,null,null,null,null,null,null,null,null,null,null,"X"]
[{"$f":"IF(C960=\"\",\"\",VLOOKUP(D960,Lookup!$D$1:$E$1051,2,FALSE))","v":""},{"$f":"IF(C960=\"\",\"\",VLOOKUP(U960,Lookup!$A$1:$B$21,2,FALSE))","v":""},null,null,null,null,null,null,null,null,null,null,null,null,null,null,null,null,null,null,null,null,null,"X"]
[{"$f":"IF(C961=\"\",\"\",VLOOKUP(D961,Lookup!$D$1:$E$1051,2,FALSE))","v":""},{"$f":"IF(C961=\"\",\"\",VLOOKUP(U961,Lookup!$A$1:$B$21,2,FALSE))","v":""},null,null,null,null,null,null,null,null,null,null,null,null,null,null,null,null,null,null,null,null,null,"X"]
[{"$f":"IF(C962=\"\",\"\",VLOOKUP(D962,Lookup!$D$1:$E$1051,2,FALSE))","v":""},{"$f":"IF(C962=\"\",\"\",VLOOKUP(U962,Lookup!$A$1:$B$21,2,FALSE))","v":""},null,null,null,null,null,null,null,null,null,null,null,null,null,null,null,null,null,null,null,null,null,"X"]
[{"$f":"IF(C963=\"\",\"\",VLOOKUP(D963,Lookup!$D$1:$E$1051,2,FALSE))","v":""},{"$f":"IF(C963=\"\",\"\",VLOOKUP(U963,Lookup!$A$1:$B$21,2,FALSE))","v":""},null,null,null,null,null,null,null,null,null,null,null,null,null,null,null,null,null,null,null,null,null,"X"]
[{"$f":"IF(C964=\"\",\"\",VLOOKUP(D964,Lookup!$D$1:$E$1051,2,FALSE))","v":""},{"$f":"IF(C964=\"\",\"\",VLOOKUP(U964,Lookup!$A$1:$B$21,2,FALSE))","v":""},null,null,null,null,null,null,null,null,null,null,null,null,null,null,null,null,null,null,null,null,null,"X"]
[{"$f":"IF(C965=\"\",\"\",VLOOKUP(D965,Lookup!$D$1:$E$1051,2,FALSE))","v":""},{"$f":"IF(C965=\"\",\"\",VLOOKUP(U965,Lookup!$A$1:$B$21,2,FALSE))","v":""},null,null,null,null,null,null,null,null,null,null,null,null,null,null,null,null,null,null,null,null,null,"X"]
[{"$f":"IF(C966=\"\",\"\",VLOOKUP(D966,Lookup!$D$1:$E$1051,2,FALSE))","v":""},{"$f":"IF(C966=\"\",\"\",VLOOKUP(U966,Lookup!$A$1:$B$21,2,FALSE))","v":""},null,null,null,null,null,null,null,null,null,null,null,null,null,null,null,null,null,null,null,null,null,"X"]
[{"$f":"IF(C967=\"\",\"\",VLOOKUP(D967,Lookup!$D$1:$E$1051,2,FALSE))","v":""},{"$f":"IF(C967=\"\",\"\",VLOOKUP(U967,Lookup!$A$1:$B$21,2,FALSE))","v":""},null,null,null,null,null,null,null,null,null,null,null,null,null,null,null,null,null,null,null,null,null,"X"]
[{"$f":"IF(C968=\"\",\"\",VLOOKUP(D968,Lookup!$D$1:$E$1051,2,FALSE))","v":""},{"$f":"IF(C968=\"\",\"\",VLOOKUP(U968,Lookup!$A$1:$B$21,2,FALSE))","v":""},null,null,null,null,null,null,null,null,null,null,null,null,null,null,null,null,null,null,null,null,null,"X"]
[{"$f":"IF(C969=\"\",\"\",VLOOKUP(D969,Lookup!$D$1:$E$1051,2,FALSE))","v":""},{"$f":"IF(C969=\"\",\"\",VLOOKUP(U969,Lookup!$A$1:$B$21,2,FALSE))","v":""},null,null,null,null,null,null,null,null,null,null,null,null,null,null,null,null,null,null,null,null,null,"X"]
[{"$f":"IF(C970=\"\",\"\",VLOOKUP(D970,Lookup!$D$1:$E$1051,2,FALSE))","v":""},{"$f":"IF(C970=\"\",\"\",VLOOKUP(U970,Lookup!$A$1:$B$21,2,FALSE))","v":""},null,null,null,null,null,null,null,null,null,null,null,null,null,null,null,null,null,null,null,null,null,"X"]
[{"$f":"IF(C971=\"\",\"\",VLOOKUP(D971,Lookup!$D$1:$E$1051,2,FALSE))","v":""},{"$f":"IF(C971=\"\",\"\",VLOOKUP(U971,Lookup!$A$1:$B$21,2,FALSE))","v":""},null,null,null,null,null,null,null,null,null,null,null,null,null,null,null,null,null,null,null,null,null,"X"]
[{"$f":"IF(C972=\"\",\"\",VLOOKUP(D972,Lookup!$D$1:$E$1051,2,FALSE))","v":""},{"$f":"IF(C972=\"\",\"\",VLOOKUP(U972,Lookup!$A$1:$B$21,2,FALSE))","v":""},null,null,null,null,null,null,null,null,null,null,null,null,null,null,null,null,null,null,null,null,null,"X"]
[{"$f":"IF(C973=\"\",\"\",VLOOKUP(D973,Lookup!$D$1:$E$1051,2,FALSE))","v":""},{"$f":"IF(C973=\"\",\"\",VLOOKUP(U973,Lookup!$A$1:$B$21,2,FALSE))","v":""},null,null,null,null,null,null,null,null,null,null,null,null,null,null,null,null,null,null,null,null,null,"X"]
[{"$f":"IF(C974=\"\",\"\",VLOOKUP(D974,Lookup!$D$1:$E$1051,2,FALSE))","v":""},{"$f":"IF(C974=\"\",\"\",VLOOKUP(U974,Lookup!$A$1:$B$21,2,FALSE))","v":""},null,null,null,null,null,null,null,null,null,null,null,null,null,null,null,null,null,null,null,null,null,"X"]
[{"$f":"IF(C975=\"\",\"\",VLOOKUP(D975,Lookup!$D$1:$E$1051,2,FALSE))","v":""},{"$f":"IF(C975=\"\",\"\",VLOOKUP(U975,Lookup!$A$1:$B$21,2,FALSE))","v":""},null,null,null,null,null,null,null,null,null,null,null,null,null,null,null,null,null,null,null,null,null,"X"]
[{"$f":"IF(C976=\"\",\"\",VLOOKUP(D976,Lookup!$D$1:$E$1051,2,FALSE))","v":""},{"$f":"IF(C976=\"\",\"\",VLOOKUP(U976,Lookup!$A$1:$B$21,2,FALSE))","v":""},null,null,null,null,null,null,null,null,null,null,null,null,null,null,null,null,null,null,null,null,null,"X"]
[{"$f":"IF(C977=\"\",\"\",VLOOKUP(D977,Lookup!$D$1:$E$1051,2,FALSE))","v":""},{"$f":"IF(C977=\"\",\"\",VLOOKUP(U977,Lookup!$A$1:$B$21,2,FALSE))","v":""},null,null,null,null,null,null,null,null,null,null,null,null,null,null,null,null,null,null,null,null,null,"X"]
[{"$f":"IF(C978=\"\",\"\",VLOOKUP(D978,Lookup!$D$1:$E$1051,2,FALSE))","v":""},{"$f":"IF(C978=\"\",\"\",VLOOKUP(U978,Lookup!$A$1:$B$21,2,FALSE))","v":""},null,null,null,null,null,null,null,null,null,null,null,null,null,null,null,null,null,null,null,null,null,"X"]
[{"$f":"IF(C979=\"\",\"\",VLOOKUP(D979,Lookup!$D$1:$E$1051,2,FALSE))","v":""},{"$f":"IF(C979=\"\",\"\",VLOOKUP(U979,Lookup!$A$1:$B$21,2,FALSE))","v":""},null,null,null,null,null,null,null,null,null,null,null,null,null,null,null,null,null,null,null,null,null,"X"]
[{"$f":"IF(C980=\"\",\"\",VLOOKUP(D980,Lookup!$D$1:$E$1051,2,FALSE))","v":""},{"$f":"IF(C980=\"\",\"\",VLOOKUP(U980,Lookup!$A$1:$B$21,2,FALSE))","v":""},null,null,null,null,null,null,null,null,null,null,null,null,null,null,null,null,null,null,null,null,null,"X"]
[{"$f":"IF(C981=\"\",\"\",VLOOKUP(D981,Lookup!$D$1:$E$1051,2,FALSE))","v":""},{"$f":"IF(C981=\"\",\"\",VLOOKUP(U981,Lookup!$A$1:$B$21,2,FALSE))","v":""},null,null,null,null,null,null,null,null,null,null,null,null,null,null,null,null,null,null,null,null,null,"X"]
[{"$f":"IF(C982=\"\",\"\",VLOOKUP(D982,Lookup!$D$1:$E$1051,2,FALSE))","v":""},{"$f":"IF(C982=\"\",\"\",VLOOKUP(U982,Lookup!$A$1:$B$21,2,FALSE))","v":""},null,null,null,null,null,null,null,null,null,null,null,null,null,null,null,null,null,null,null,null,null,"X"]
[{"$f":"IF(C983=\"\",\"\",VLOOKUP(D983,Lookup!$D$1:$E$1051,2,FALSE))","v":""},{"$f":"IF(C983=\"\",\"\",VLOOKUP(U983,Lookup!$A$1:$B$21,2,FALSE))","v":""},null,null,null,null,null,null,null,null,null,null,null,null,null,null,null,null,null,null,null,null,null,"X"]
[{"$f":"IF(C984=\"\",\"\",VLOOKUP(D984,Lookup!$D$1:$E$1051,2,FALSE))","v":""},{"$f":"IF(C984=\"\",\"\",VLOOKUP(U984,Lookup!$A$1:$B$21,2,FALSE))","v":""},null,null,null,null,null,null,null,null,null,null,null,null,null,null,null,null,null,null,null,null,null,"X"]
[{"$f":"IF(C985=\"\",\"\",VLOOKUP(D985,Lookup!$D$1:$E$1051,2,FALSE))","v":""},{"$f":"IF(C985=\"\",\"\",VLOOKUP(U985,Lookup!$A$1:$B$21,2,FALSE))","v":""},null,null,null,null,null,null,null,null,null,null,null,null,null,null,null,null,null,null,null,null,null,"X"]
[{"$f":"IF(C986=\"\",\"\",VLOOKUP(D986,Lookup!$D$1:$E$1051,2,FALSE))","v":""},{"$f":"IF(C986=\"\",\"\",VLOOKUP(U986,Lookup!$A$1:$B$21,2,FALSE))","v":""},null,null,null,null,null,null,null,null,null,null,null,null,null,null,null,null,null,null,null,null,null,"X"]
[{"$f":"IF(C987=\"\",\"\",VLOOKUP(D987,Lookup!$D$1:$E$1051,2,FALSE))","v":""},{"$f":"IF(C987=\"\",\"\",VLOOKUP(U987,Lookup!$A$1:$B$21,2,FALSE))","v":""},null,null,null,null,null,null,null,null,null,null,null,null,null,null,null,null,null,null,null,null,null,"X"]
[{"$f":"IF(C988=\"\",\"\",VLOOKUP(D988,Lookup!$D$1:$E$1051,2,FALSE))","v":""},{"$f":"IF(C988=\"\",\"\",VLOOKUP(U988,Lookup!$A$1:$B$21,2,FALSE))","v":""},null,null,null,null,null,null,null,null,null,null,null,null,null,null,null,null,null,null,null,null,null,"X"]
[{"$f":"IF(C989=\"\",\"\",VLOOKUP(D989,Lookup!$D$1:$E$1051,2,FALSE))","v":""},{"$f":"IF(C989=\"\",\"\",VLOOKUP(U989,Lookup!$A$1:$B$21,2,FALSE))","v":""},null,null,null,null,null,null,null,null,null,null,null,null,null,null,null,null,null,null,null,null,null,"X"]
[{"$f":"IF(C990=\"\",\"\",VLOOKUP(D990,Lookup!$D$1:$E$1051,2,FALSE))","v":""},{"$f":"IF(C990=\"\",\"\",VLOOKUP(U990,Lookup!$A$1:$B$21,2,FALSE))","v":""},null,null,null,null,null,null,null,null,null,null,null,null,null,null,null,null,null,null,null,null,null,"X"]
[{"$f":"IF(C991=\"\",\"\",VLOOKUP(D991,Lookup!$D$1:$E$1051,2,FALSE))","v":""},{"$f":"IF(C991=\"\",\"\",VLOOKUP(U991,Lookup!$A$1:$B$21,2,FALSE))","v":""},null,null,null,null,null,null,null,null,null,null,null,null,null,null,null,null,null,null,null,null,null,"X"]
[{"$f":"IF(C992=\"\",\"\",VLOOKUP(D992,Lookup!$D$1:$E$1051,2,FALSE))","v":""},{"$f":"IF(C992=\"\",\"\",VLOOKUP(U992,Lookup!$A$1:$B$21,2,FALSE))","v":""},null,null,null,null,null,null,null,null,null,null,null,null,null,null,null,null,null,null,null,null,null,"X"]
[{"$f":"IF(C993=\"\",\"\",VLOOKUP(D993,Lookup!$D$1:$E$1051,2,FALSE))","v":""},{"$f":"IF(C993=\"\",\"\",VLOOKUP(U993,Lookup!$A$1:$B$21,2,FALSE))","v":""},null,null,null,null,null,null,null,null,null,null,null,null,null,null,null,null,null,null,null,null,null,"X"]
[{"$f":"IF(C994=\"\",\"\",VLOOKUP(D994,Lookup!$D$1:$E$1051,2,FALSE))","v":""},{"$f":"IF(C994=\"\",\"\",VLOOKUP(U994,Lookup!$A$1:$B$21,2,FALSE))","v":""},null,null,null,null,null,null,null,null,null,null,null,null,null,null,null,null,null,null,null,null,null,"X"]
[{"$f":"IF(C995=\"\",\"\",VLOOKUP(D995,Lookup!$D$1:$E$1051,2,FALSE))","v":""},{"$f":"IF(C995=\"\",\"\",VLOOKUP(U995,Lookup!$A$1:$B$21,2,FALSE))","v":""},null,null,null,null,null,null,null,null,null,null,null,null,null,null,null,null,null,null,null,null,null,"X"]
[{"$f":"IF(C996=\"\",\"\",VLOOKUP(D996,Lookup!$D$1:$E$1051,2,FALSE))","v":""},{"$f":"IF(C996=\"\",\"\",VLOOKUP(U996,Lookup!$A$1:$B$21,2,FALSE))","v":""},null,null,null,null,null,null,null,null,null,null,null,null,null,null,null,null,null,null,null,null,null,"X"]
[{"$f":"IF(C997=\"\",\"\",VLOOKUP(D997,Lookup!$D$1:$E$1051,2,FALSE))","v":""},{"$f":"IF(C997=\"\",\"\",VLOOKUP(U997,Lookup!$A$1:$B$21,2,FALSE))","v":""},null,null,null,null,null,null,null,null,null,null,null,null,null,null,null,null,null,null,null,null,null,"X"]
[{"$f":"IF(C998=\"\",\"\",VLOOKUP(D998,Lookup!$D$1:$E$1051,2,FALSE))","v":""},{"$f":"IF(C998=\"\",\"\",VLOOKUP(U998,Lookup!$A$1:$B$21,2,FALSE))","v":""},null,null,null,null,null,null,null,null,null,null,null,null,null,null,null,null,null,null,null,null,null,"X"]
[{"$f":"IF(C999=\"\",\"\",VLOOKUP(D999,Lookup!$D$1:$E$1051,2,FALSE))","v":""},{"$f":"IF(C999=\"\",\"\",VLOOKUP(U999,Lookup!$A$1:$B$21,2,FALSE))","v":""},null,null,null,null,null,null,null,null,null,null,null,null,null,null,null,null,null,null,null,null,null,"X"]
[{"$f":"IF(C1000=\"\",\"\",VLOOKUP(D1000,Lookup!$D$1:$E$1051,2,FALSE))","v":""},{"$f":"IF(C1000=\"\",\"\",VLOOKUP(U1000,Lookup!$A$1:$B$21,2,FALSE))","v":""},null,null,null,null,null,null,null,null,null,null,null,null,null,null,null,null,null,null,null,null,null,"X"]
[{"$f":"IF(C1096=\"\",\"\",VLOOKUP(D1096,Lookup!$D$1:$E$1051,2,FALSE))","v":""},{"$f":"IF(C1096=\"\",\"\",VLOOKUP(U1096,Lookup!$A$1:$B$21,2,FALSE))","v":""},null,null,null,null,null,null,null,null,null,null,null,null,null,null,null,null,null,null,null,null,null,"X"]
[{"$f":"IF(C1112=\"\",\"\",VLOOKUP(D1112,Lookup!$D$1:$E$1051,2,FALSE))","v":""},{"$f":"IF(C1112=\"\",\"\",VLOOKUP(U1112,Lookup!$A$1:$B$21,2,FALSE))","v":""},null,null,null,null,null,null,null,null,null,null,null,null,null,null,null,null,null,null,null,null,null,"X"]
[{"$f":"IF(C1250=\"\",\"\",VLOOKUP(D1250,Lookup!$D$1:$E$1051,2,FALSE))","v":""},{"$f":"IF(C1250=\"\",\"\",VLOOKUP(U1250,Lookup!$A$1:$B$21,2,FALSE))","v":""},null,null,null,null,null,null,null,null,null,null,null,null,null,null,null,null,null,null,null,null,null,"X"]
[{"$f":"IF(C1392=\"\",\"\",VLOOKUP(D1392,Lookup!$D$1:$E$1051,2,FALSE))","v":""},{"$f":"IF(C1392=\"\",\"\",VLOOKUP(U1392,Lookup!$A$1:$B$21,2,FALSE))","v":""},null,null,null,null,null,null,null,null,null,null,null,null,null,null,null,null,null,null,null,null,null,"X"]
[{"$f":"IF(C1489=\"\",\"\",VLOOKUP(D1489,Lookup!$D$1:$E$1051,2,FALSE))","v":""},{"$f":"IF(C1489=\"\",\"\",VLOOKUP(U1489,Lookup!$A$1:$B$21,2,FALSE))","v":""},null,null,null,null,null,null,null,null,null,null,null,null,null,null,null,null,null,null,null,null,null,"X"]
[{"$f":"IF(C1568=\"\",\"\",VLOOKUP(D1568,Lookup!$D$1:$E$1051,2,FALSE))","v":""},{"$f":"IF(C1568=\"\",\"\",VLOOKUP(U1568,Lookup!$A$1:$B$21,2,FALSE))","v":""},null,null,null,null,null,null,null,null,null,null,null,null,null,null,null,null,null,null,null,null,null,"X"]
[{"$f":"IF(C1611=\"\",\"\",VLOOKUP(D1611,Lookup!$D$1:$E$1051,2,FALSE))","v":""},{"$f":"IF(C1611=\"\",\"\",VLOOKUP(U1611,Lookup!$A$1:$B$21,2,FALSE))","v":""},null,null,null,null,null,null,null,null,null,null,null,null,null,null,null,null,null,null,null,null,null,"X"]
[{"$f":"IF(C1749=\"\",\"\",VLOOKUP(D1749,Lookup!$D$1:$E$1051,2,FALSE))","v":""},{"$f":"IF(C1749=\"\",\"\",VLOOKUP(U1749,Lookup!$A$1:$B$21,2,FALSE))","v":""},null,null,null,null,null,null,null,null,null,null,null,null,null,null,null,null,null,null,null,null,null,"X"]
[{"$f":"IF(C1882=\"\",\"\",VLOOKUP(D1882,Lookup!$D$1:$E$1051,2,FALSE))","v":""},{"$f":"IF(C1882=\"\",\"\",VLOOKUP(U1882,Lookup!$A$1:$B$21,2,FALSE))","v":""},null,null,null,null,null,null,null,null,null,null,null,null,null,null,null,null,null,null,null,null,null,"X"]
[{"$f":"IF(C1929=\"\",\"\",VLOOKUP(D1929,Lookup!$D$1:$E$1051,2,FALSE))","v":""},{"$f":"IF(C1929=\"\",\"\",VLOOKUP(U1929,Lookup!$A$1:$B$21,2,FALSE))","v":""},null,null,null,null,null,null,null,null,null,null,null,null,null,null,null,null,null,null,null,null,null,"X"]
[{"$f":"IF(C2067=\"\",\"\",VLOOKUP(D2067,Lookup!$D$1:$E$1051,2,FALSE))","v":""},{"$f":"IF(C2067=\"\",\"\",VLOOKUP(U2067,Lookup!$A$1:$B$21,2,FALSE))","v":""},null,null,null,null,null,null,null,null,null,null,null,null,null,null,null,null,null,null,null,null,null,"X"]
[{"$f":"IF(C2110=\"\",\"\",VLOOKUP(D2110,Lookup!$D$1:$E$1051,2,FALSE))","v":""},{"$f":"IF(C2110=\"\",\"\",VLOOKUP(U2110,Lookup!$A$1:$B$21,2,FALSE))","v":""},null,null,null,null,null,null,null,null,null,null,null,null,null,null,null,null,null,null,null,null,null,"X"]
[{"$f":"IF(C2187=\"\",\"\",VLOOKUP(D2187,Lookup!$D$1:$E$1051,2,FALSE))","v":""},{"$f":"IF(C2187=\"\",\"\",VLOOKUP(U2187,Lookup!$A$1:$B$21,2,FALSE))","v":""},null,null,null,null,null,null,null,null,null,null,null,null,null,null,null,null,null,null,null,null,null,"X"]
[{"$f":"IF(C2286=\"\",\"\",VLOOKUP(D2286,Lookup!$D$1:$E$1051,2,FALSE))","v":""},{"$f":"IF(C2286=\"\",\"\",VLOOKUP(U2286,Lookup!$A$1:$B$21,2,FALSE))","v":""},null,null,null,null,null,null,null,null,null,null,null,null,null,null,null,null,null,null,null,null,null,"X"]
[{"$f":"IF(C2428=\"\",\"\",VLOOKUP(D2428,Lookup!$D$1:$E$1051,2,FALSE))","v":""},{"$f":"IF(C2428=\"\",\"\",VLOOKUP(U2428,Lookup!$A$1:$B$21,2,FALSE))","v":""},null,null,null,null,null,null,null,null,null,null,null,null,null,null,null,null,null,null,null,null,null,"X"]
[{"$f":"IF(C2566=\"\",\"\",VLOOKUP(D2566,Lookup!$D$1:$E$1051,2,FALSE))","v":""},{"$f":"IF(C2566=\"\",\"\",VLOOKUP(U2566,Lookup!$A$1:$B$21,2,FALSE))","v":""},null,null,null,null,null,null,null,null,null,null,null,null,null,null,null,null,null,null,null,null,null,"X"]
[{"$f":"IF(C2678=\"\",\"\",VLOOKUP(D2678,Lookup!$D$1:$E$1051,2,FALSE))","v":""},{"$f":"IF(C2678=\"\",\"\",VLOOKUP(U2678,Lookup!$A$1:$B$21,2,FALSE))","v":""},null,null,null,null,null,null,null,null,null,null,null,null,null,null,null,null,null,null,null,null,null,"X"]
[{"$f":"IF(C2746=\"\",\"\",VLOOKUP(D2746,Lookup!$D$1:$E$1051,2,FALSE))","v":""},{"$f":"IF(C2746=\"\",\"\",VLOOKUP(U2746,Lookup!$A$1:$B$21,2,FALSE))","v":""},null,null,null,null,null,null,null,null,null,null,null,null,null,null,null,null,null,null,null,null,null,"X"]
[{"$f":"IF(C2785=\"\",\"\",VLOOKUP(D2785,Lookup!$D$1:$E$1051,2,FALSE))","v":""},{"$f":"IF(C2785=\"\",\"\",VLOOKUP(U2785,Lookup!$A$1:$B$21,2,FALSE))","v":""},null,null,null,null,null,null,null,null,null,null,null,null,null,null,null,null,null,null,null,null,null,"X"]
[{"$f":"IF(C2927=\"\",\"\",VLOOKUP(D2927,Lookup!$D$1:$E$1051,2,FALSE))","v":""},{"$f":"IF(C2927=\"\",\"\",VLOOKUP(U2927,Lookup!$A$1:$B$21,2,FALSE))","v":""},null,null,null,null,null,null,null,null,null,null,null,null,null,null,null,null,null,null,null,null,null,"X"]
[{"$f":"IF(C2983=\"\",\"\",VLOOKUP(D2983,Lookup!$D$1:$E$1051,2,FALSE))","v":""},{"$f":"IF(C2983=\"\",\"\",VLOOKUP(U2983,Lookup!$A$1:$B$21,2,FALSE))","v":""},null,null,null,null,null,null,null,null,null,null,null,null,null,null,null,null,null,null,null,null,null,"X"]
[{"$f":"IF(C3107=\"\",\"\",VLOOKUP(D3107,Lookup!$D$1:$E$1051,2,FALSE))","v":""},{"$f":"IF(C3107=\"\",\"\",VLOOKUP(U3107,Lookup!$A$1:$B$21,2,FALSE))","v":""},null,null,null,null,null,null,null,null,null,null,null,null,null,null,null,null,null,null,null,null,null,"X"]
[{"$f":"IF(C3245=\"\",\"\",VLOOKUP(D3245,Lookup!$D$1:$E$1051,2,FALSE))","v":""},{"$f":"IF(C3245=\"\",\"\",VLOOKUP(U3245,Lookup!$A$1:$B$21,2,FALSE))","v":""},null,null,null,null,null,null,null,null,null,null,null,null,null,null,null,null,null,null,null,null,null,"X"]
[{"$f":"IF(C3284=\"\",\"\",VLOOKUP(D3284,Lookup!$D$1:$E$1051,2,FALSE))","v":""},{"$f":"IF(C3284=\"\",\"\",VLOOKUP(U3284,Lookup!$A$1:$B$21,2,FALSE))","v":""},null,null,null,null,null,null,null,null,null,null,null,null,null,null,null,null,null,null,null,null,null,"X"]
[{"$f":"IF(C3376=\"\",\"\",VLOOKUP(D3376,Lookup!$D$1:$E$1051,2,FALSE))","v":""},{"$f":"IF(C3376=\"\",\"\",VLOOKUP(U3376,Lookup!$A$1:$B$21,2,FALSE))","v":""},null,null,null,null,null,null,null,null,null,null,null,null,null,null,null,null,null,null,null,null,null,"X"]
[{"$f":"IF(C3563=\"\",\"\",VLOOKUP(D3563,Lookup!$D$1:$E$1051,2,FALSE))","v":""},{"$f":"IF(C3563=\"\",\"\",VLOOKUP(U3563,Lookup!$A$1:$B$21,2,FALSE))","v":""},null,null,null,null,null,null,null,null,null,null,null,null,null,null,null,null,null,null,null,null,null,"X"]
[{"$f":"IF(C3602=\"\",\"\",VLOOKUP(D3602,Lookup!$D$1:$E$1051,2,FALSE))","v":""},{"$f":"IF(C3602=\"\",\"\",VLOOKUP(U3602,Lookup!$A$1:$B$21,2,FALSE))","v":""},null,null,null,null,null,null,null,null,null,null,null,null,null,null,null,null,null,null,null,null,null,"X"]
[{"$f":"IF(C3744=\"\",\"\",VLOOKUP(D3744,Lookup!$D$1:$E$1051,2,FALSE))","v":""},{"$f":"IF(C3744=\"\",\"\",VLOOKUP(U3744,Lookup!$A$1:$B$21,2,FALSE))","v":""},null,null,null,null,null,null,null,null,null,null,null,null,null,null,null,null,null,null,null,null,null,"X"]
[{"$f":"IF(C3779=\"\",\"\",VLOOKUP(D3779,Lookup!$D$1:$E$1051,2,FALSE))","v":""},{"$f":"IF(C3779=\"\",\"\",VLOOKUP(U3779,Lookup!$A$1:$B$21,2,FALSE))","v":""},null,null,null,null,null,null,null,null,null,null,null,null,null,null,null,null,null,null,null,null,null,"X"]
[{"$f":"IF(C3924=\"\",\"\",VLOOKUP(D3924,Lookup!$D$1:$E$1051,2,FALSE))","v":""},{"$f":"IF(C3924=\"\",\"\",VLOOKUP(U3924,Lookup!$A$1:$B$21,2,FALSE))","v":""},null,null,null,null,null,null,null,null,null,null,null,null,null,null,null,null,null,null,null,null,null,"X"]
[{"$f":"IF(C3963=\"\",\"\",VLOOKUP(D3963,Lookup!$D$1:$E$1051,2,FALSE))","v":""},{"$f":"IF(C3963=\"\",\"\",VLOOKUP(U3963,Lookup!$A$1:$B$21,2,FALSE))","v":""},null,null,null,null,null,null,null,null,null,null,null,null,null,null,null,null,null,null,null,null,null,"X"]
[{"$f":"IF(C4101=\"\",\"\",VLOOKUP(D4101,Lookup!$D$1:$E$1051,2,FALSE))","v":""},{"$f":"IF(C4101=\"\",\"\",VLOOKUP(U4101,Lookup!$A$1:$B$21,2,FALSE))","v":""},null,null,null,null,null,null,null,null,null,null,null,null,null,null,null,null,null,null,null,null,null,"X"]
[{"$f":"IF(C4172=\"\",\"\",VLOOKUP(D4172,Lookup!$D$1:$E$1051,2,FALSE))","v":""},{"$f":"IF(C4172=\"\",\"\",VLOOKUP(U4172,Lookup!$A$1:$B$21,2,FALSE))","v":""},null,null,null,null,null,null,null,null,null,null,null,null,null,null,null,null,null,null,null,null,null,"X"]
[{"$f":"IF(C4281=\"\",\"\",VLOOKUP(D4281,Lookup!$D$1:$E$1051,2,FALSE))","v":""},{"$f":"IF(C4281=\"\",\"\",VLOOKUP(U4281,Lookup!$A$1:$B$21,2,FALSE))","v":""},null,null,null,null,null,null,null,null,null,null,null,null,null,null,null,null,null,null,null,null,null,"X"]
[{"$f":"IF(C4419=\"\",\"\",VLOOKUP(D4419,Lookup!$D$1:$E$1051,2,FALSE))","v":""},{"$f":"IF(C4419=\"\",\"\",VLOOKUP(U4419,Lookup!$A$1:$B$21,2,FALSE))","v":""},null,null,null,null,null,null,null,null,null,null,null,null,null,null,null,null,null,null,null,null,null,"X"]
[{"$f":"IF(C4462=\"\",\"\",VLOOKUP(D4462,Lookup!$D$1:$E$1051,2,FALSE))","v":""},{"$f":"IF(C4462=\"\",\"\",VLOOKUP(U4462,Lookup!$A$1:$B$21,2,FALSE))","v":""},null,null,null,null,null,null,null,null,null,null,null,null,null,null,null,null,null,null,null,null,null,"X"]
[{"$f":"IF(C4575=\"\",\"\",VLOOKUP(D4575,Lookup!$D$1:$E$1051,2,FALSE))","v":""},{"$f":"IF(C4575=\"\",\"\",VLOOKUP(U4575,Lookup!$A$1:$B$21,2,FALSE))","v":""},null,null,null,null,null,null,null,null,null,null,null,null,null,null,null,null,null,null,null,null,null,"X"]
[{"$f":"IF(C4741=\"\",\"\",VLOOKUP(D4741,Lookup!$D$1:$E$1051,2,FALSE))","v":""},{"$f":"IF(C4741=\"\",\"\",VLOOKUP(U4741,Lookup!$A$1:$B$21,2,FALSE))","v":""},null,null,null,null,null,null,null,null,null,null,null,null,null,null,null,null,null,null,null,null,null,"X"]
[{"$f":"IF(C4780=\"\",\"\",VLOOKUP(D4780,Lookup!$D$1:$E$1051,2,FALSE))","v":""},{"$f":"IF(C4780=\"\",\"\",VLOOKUP(U4780,Lookup!$A$1:$B$21,2,FALSE))","v":""},null,null,null,null,null,null,null,null,null,null,null,null,null,null,null,null,null,null,null,null,null,"X"]
[{"$f":"IF(C4918=\"\",\"\",VLOOKUP(D4918,Lookup!$D$1:$E$1051,2,FALSE))","v":""},{"$f":"IF(C4918=\"\",\"\",VLOOKUP(U4918,Lookup!$A$1:$B$21,2,FALSE))","v":""},null,null,null,null,null,null,null,null,null,null,null,null,null,null,null,null,null,null,null,null,null,"X"]
[{"$f":"IF(C4968=\"\",\"\",VLOOKUP(D4968,Lookup!$D$1:$E$1051,2,FALSE))","v":""},{"$f":"IF(C4968=\"\",\"\",VLOOKUP(U4968,Lookup!$A$1:$B$21,2,FALSE))","v":""},null,null,null,null,null,null,null,null,null,null,null,null,null,null,null,null,null,null,null,null,null,"X"]
[{"$f":"IF(C5098=\"\",\"\",VLOOKUP(D5098,Lookup!$D$1:$E$1051,2,FALSE))","v":""},{"$f":"IF(C5098=\"\",\"\",VLOOKUP(U5098,Lookup!$A$1:$B$21,2,FALSE))","v":""},null,null,null,null,null,null,null,null,null,null,null,null,null,null,null,null,null,null,null,null,null,"X"]
[{"$f":"IF(C5240=\"\",\"\",VLOOKUP(D5240,Lookup!$D$1:$E$1051,2,FALSE))","v":""},{"$f":"IF(C5240=\"\",\"\",VLOOKUP(U5240,Lookup!$A$1:$B$21,2,FALSE))","v":""},null,null,null,null,null,null,null,null,null,null,null,null,null,null,null,null,null,null,null,null,null,"X"]
[{"$f":"IF(C5279=\"\",\"\",VLOOKUP(D5279,Lookup!$D$1:$E$1051,2,FALSE))","v":""},{"$f":"IF(C5279=\"\",\"\",VLOOKUP(U5279,Lookup!$A$1:$B$21,2,FALSE))","v":""},null,null,null,null,null,null,null,null,null,null,null,null,null,null,null,null,null,null,null,null,null,"X"]
[{"$f":"IF(C5371=\"\",\"\",VLOOKUP(D5371,Lookup!$D$1:$E$1051,2,FALSE))","v":""},{"$f":"IF(C5371=\"\",\"\",VLOOKUP(U5371,Lookup!$A$1:$B$21,2,FALSE))","v":""},null,null,null,null,null,null,null,null,null,null,null,null,null,null,null,null,null,null,null,null,null,"X"]
[{"$f":"IF(C5459=\"\",\"\",VLOOKUP(D5459,Lookup!$D$1:$E$1051,2,FALSE))","v":""},{"$f":"IF(C5459=\"\",\"\",VLOOKUP(U5459,Lookup!$A$1:$B$21,2,FALSE))","v":""},null,null,null,null,null,null,null,null,null,null,null,null,null,null,null,null,null,null,null,null,null,"X"]
[{"$f":"IF(C5597=\"\",\"\",VLOOKUP(D5597,Lookup!$D$1:$E$1051,2,FALSE))","v":""},{"$f":"IF(C5597=\"\",\"\",VLOOKUP(U5597,Lookup!$A$1:$B$21,2,FALSE))","v":""},null,null,null,null,null,null,null,null,null,null,null,null,null,null,null,null,null,null,null,null,null,"X"]
[{"$f":"IF(C5735=\"\",\"\",VLOOKUP(D5735,Lookup!$D$1:$E$1051,2,FALSE))","v":""},{"$f":"IF(C5735=\"\",\"\",VLOOKUP(U5735,Lookup!$A$1:$B$21,2,FALSE))","v":""},null,null,null,null,null,null,null,null,null,null,null,null,null,null,null,null,null,null,null,null,null,"X"]
[{"$f":"IF(C5764=\"\",\"\",VLOOKUP(D5764,Lookup!$D$1:$E$1051,2,FALSE))","v":""},{"$f":"IF(C5764=\"\",\"\",VLOOKUP(U5764,Lookup!$A$1:$B$21,2,FALSE))","v":""},null,null,null,null,null,null,null,null,null,null,null,null,null,null,null,null,null,null,null,null,null,"X"]
[{"$f":"IF(C5915=\"\",\"\",VLOOKUP(D5915,Lookup!$D$1:$E$1051,2,FALSE))","v":""},{"$f":"IF(C5915=\"\",\"\",VLOOKUP(U5915,Lookup!$A$1:$B$21,2,FALSE))","v":""},null,null,null,null,null,null,null,null,null,null,null,null,null,null,null,null,null,null,null,null,null,"X"]
[{"$f":"IF(C5958=\"\",\"\",VLOOKUP(D5958,Lookup!$D$1:$E$1051,2,FALSE))","v":""},{"$f":"IF(C5958=\"\",\"\",VLOOKUP(U5958,Lookup!$A$1:$B$21,2,FALSE))","v":""},null,null,null,null,null,null,null,null,null,null,null,null,null,null,null,null,null,null,null,null,null,"X"]
[{"$f":"IF(C6096=\"\",\"\",VLOOKUP(D6096,Lookup!$D$1:$E$1051,2,FALSE))","v":""},{"$f":"IF(C6096=\"\",\"\",VLOOKUP(U6096,Lookup!$A$1:$B$21,2,FALSE))","v":""},null,null,null,null,null,null,null,null,null,null,null,null,null,null,null,null,null,null,null,null,null,"X"]
[{"$f":"IF(C6167=\"\",\"\",VLOOKUP(D6167,Lookup!$D$1:$E$1051,2,FALSE))","v":""},{"$f":"IF(C6167=\"\",\"\",VLOOKUP(U6167,Lookup!$A$1:$B$21,2,FALSE))","v":""},null,null,null,null,null,null,null,null,null,null,null,null,null,null,null,null,null,null,null,null,null,"X"]
[{"$f":"IF(C6276=\"\",\"\",VLOOKUP(D6276,Lookup!$D$1:$E$1051,2,FALSE))","v":""},{"$f":"IF(C6276=\"\",\"\",VLOOKUP(U6276,Lookup!$A$1:$B$21,2,FALSE))","v":""},null,null,null,null,null,null,null,null,null,null,null,null,null,null,null,null,null,null,null,null,null,"X"]
[{"$f":"IF(C6414=\"\",\"\",VLOOKUP(D6414,Lookup!$D$1:$E$1051,2,FALSE))","v":""},{"$f":"IF(C6414=\"\",\"\",VLOOKUP(U6414,Lookup!$A$1:$B$21,2,FALSE))","v":""},null,null,null,null,null,null,null,null,null,null,null,null,null,null,null,null,null,null,null,null,null,"X"]
[{"$f":"IF(C6457=\"\",\"\",VLOOKUP(D6457,Lookup!$D$1:$E$1051,2,FALSE))","v":""},{"$f":"IF(C6457=\"\",\"\",VLOOKUP(U6457,Lookup!$A$1:$B$21,2,FALSE))","v":""},null,null,null,null,null,null,null,null,null,null,null,null,null,null,null,null,null,null,null,null,null,"X"]
[{"$f":"IF(C6560=\"\",\"\",VLOOKUP(D6560,Lookup!$D$1:$E$1051,2,FALSE))","v":""},{"$f":"IF(C6560=\"\",\"\",VLOOKUP(U6560,Lookup!$A$1:$B$21,2,FALSE))","v":""},null,null,null,null,null,null,null,null,null,null,null,null,null,null,null,null,null,null,null,null,null,"X"]
[{"$f":"IF(C6633=\"\",\"\",VLOOKUP(D6633,Lookup!$D$1:$E$1051,2,FALSE))","v":""},{"$f":"IF(C6633=\"\",\"\",VLOOKUP(U6633,Lookup!$A$1:$B$21,2,FALSE))","v":""},null,null,null,null,null,null,null,null,null,null,null,null,null,null,null,null,null,null,null,null,null,"X"]
[{"$f":"IF(C6775=\"\",\"\",VLOOKUP(D6775,Lookup!$D$1:$E$1051,2,FALSE))","v":""},{"$f":"IF(C6775=\"\",\"\",VLOOKUP(U6775,Lookup!$A$1:$B$21,2,FALSE))","v":""},null,null,null,null,null,null,null,null,null,null,null,null,null,null,null,null,null,null,null,null,null,"X"]
[{"$f":"IF(C6913=\"\",\"\",VLOOKUP(D6913,Lookup!$D$1:$E$1051,2,FALSE))","v":""},{"$f":"IF(C6913=\"\",\"\",VLOOKUP(U6913,Lookup!$A$1:$B$21,2,FALSE))","v":""},null,null,null,null,null,null,null,null,null,null,null,null,null,null,null,null,null,null,null,null,null,"X"]
[{"$f":"IF(C6963=\"\",\"\",VLOOKUP(D6963,Lookup!$D$1:$E$1051,2,FALSE))","v":""},{"$f":"IF(C6963=\"\",\"\",VLOOKUP(U6963,Lookup!$A$1:$B$21,2,FALSE))","v":""},null,null,null,null,null,null,null,null,null,null,null,null,null,null,null,null,null,null,null,null,null,"X"]
[{"$f":"IF(C7093=\"\",\"\",VLOOKUP(D7093,Lookup!$D$1:$E$1051,2,FALSE))","v":""},{"$f":"IF(C7093=\"\",\"\",VLOOKUP(U7093,Lookup!$A$1:$B$21,2,FALSE))","v":""},null,null,null,null,null,null,null,null,null,null,null,null,null,null,null,null,null,null,null,null,null,"X"]
[{"$f":"IF(C7132=\"\",\"\",VLOOKUP(D7132,Lookup!$D$1:$E$1051,2,FALSE))","v":""},{"$f":"IF(C7132=\"\",\"\",VLOOKUP(U7132,Lookup!$A$1:$B$21,2,FALSE))","v":""},null,null,null,null,null,null,null,null,null,null,null,null,null,null,null,null,null,null,null,null,null,"X"]
[{"$f":"IF(C7274=\"\",\"\",VLOOKUP(D7274,Lookup!$D$1:$E$1051,2,FALSE))","v":""},{"$f":"IF(C7274=\"\",\"\",VLOOKUP(U7274,Lookup!$A$1:$B$21,2,FALSE))","v":""},null,null,null,null,null,null,null,null,null,null,null,null,null,null,null,null,null,null,null,null,null,"X"]
[{"$f":"IF(C7356=\"\",\"\",VLOOKUP(D7356,Lookup!$D$1:$E$1051,2,FALSE))","v":""},{"$f":"IF(C7356=\"\",\"\",VLOOKUP(U7356,Lookup!$A$1:$B$21,2,FALSE))","v":""},null,null,null,null,null,null,null,null,null,null,null,null,null,null,null,null,null,null,null,null,null,"X"]
[{"$f":"IF(C7450=\"\",\"\",VLOOKUP(D7450,Lookup!$D$1:$E$1051,2,FALSE))","v":""},{"$f":"IF(C7450=\"\",\"\",VLOOKUP(U7450,Lookup!$A$1:$B$21,2,FALSE))","v":""},null,null,null,null,null,null,null,null,null,null,null,null,null,null,null,null,null,null,null,null,null,"X"]
[{"$f":"IF(C7592=\"\",\"\",VLOOKUP(D7592,Lookup!$D$1:$E$1051,2,FALSE))","v":""},{"$f":"IF(C7592=\"\",\"\",VLOOKUP(U7592,Lookup!$A$1:$B$21,2,FALSE))","v":""},null,null,null,null,null,null,null,null,null,null,null,null,null,null,null,null,null,null,null,null,null,"X"]
[{"$f":"IF(C7631=\"\",\"\",VLOOKUP(D7631,Lookup!$D$1:$E$1051,2,FALSE))","v":""},{"$f":"IF(C7631=\"\",\"\",VLOOKUP(U7631,Lookup!$A$1:$B$21,2,FALSE))","v":""},null,null,null,null,null,null,null,null,null,null,null,null,null,null,null,null,null,null,null,null,null,"X"]
[{"$f":"IF(C7759=\"\",\"\",VLOOKUP(D7759,Lookup!$D$1:$E$1051,2,FALSE))","v":""},{"$f":"IF(C7759=\"\",\"\",VLOOKUP(U7759,Lookup!$A$1:$B$21,2,FALSE))","v":""},null,null,null,null,null,null,null,null,null,null,null,null,null,null,null,null,null,null,null,null,null,"X"]
[{"$f":"IF(C7910=\"\",\"\",VLOOKUP(D7910,Lookup!$D$1:$E$1051,2,FALSE))","v":""},{"$f":"IF(C7910=\"\",\"\",VLOOKUP(U7910,Lookup!$A$1:$B$21,2,FALSE))","v":""},null,null,null,null,null,null,null,null,null,null,null,null,null,null,null,null,null,null,null,null,null,"X"]
[{"$f":"IF(C7949=\"\",\"\",VLOOKUP(D7949,Lookup!$D$1:$E$1051,2,FALSE))","v":""},{"$f":"IF(C7949=\"\",\"\",VLOOKUP(U7949,Lookup!$A$1:$B$21,2,FALSE))","v":""},null,null,null,null,null,null,null,null,null,null,null,null,null,null,null,null,null,null,null,null,null,"X"]
[{"$f":"IF(C8091=\"\",\"\",VLOOKUP(D8091,Lookup!$D$1:$E$1051,2,FALSE))","v":""},{"$f":"IF(C8091=\"\",\"\",VLOOKUP(U8091,Lookup!$A$1:$B$21,2,FALSE))","v":""},null,null,null,null,null,null,null,null,null,null,null,null,null,null,null,null,null,null,null,null,null,"X"]
[{"$f":"IF(C8152=\"\",\"\",VLOOKUP(D8152,Lookup!$D$1:$E$1051,2,FALSE))","v":""},{"$f":"IF(C8152=\"\",\"\",VLOOKUP(U8152,Lookup!$A$1:$B$21,2,FALSE))","v":""},null,null,null,null,null,null,null,null,null,null,null,null,null,null,null,null,null,null,null,null,null,"X"]
[{"$f":"IF(C8267=\"\",\"\",VLOOKUP(D8267,Lookup!$D$1:$E$1051,2,FALSE))","v":""},{"$f":"IF(C8267=\"\",\"\",VLOOKUP(U8267,Lookup!$A$1:$B$21,2,FALSE))","v":""},null,null,null,null,null,null,null,null,null,null,null,null,null,null,null,null,null,null,null,null,null,"X"]
[{"$f":"IF(C8310=\"\",\"\",VLOOKUP(D8310,Lookup!$D$1:$E$1051,2,FALSE))","v":""},{"$f":"IF(C8310=\"\",\"\",VLOOKUP(U8310,Lookup!$A$1:$B$21,2,FALSE))","v":""},null,null,null,null,null,null,null,null,null,null,null,null,null,null,null,null,null,null,null,null,null,"X"]
[{"$f":"IF(C8448=\"\",\"\",VLOOKUP(D8448,Lookup!$D$1:$E$1051,2,FALSE))","v":""},{"$f":"IF(C8448=\"\",\"\",VLOOKUP(U8448,Lookup!$A$1:$B$21,2,FALSE))","v":""},null,null,null,null,null,null,null,null,null,null,null,null,null,null,null,null,null,null,null,null,null,"X"]
[{"$f":"IF(C8545=\"\",\"\",VLOOKUP(D8545,Lookup!$D$1:$E$1051,2,FALSE))","v":""},{"$f":"IF(C8545=\"\",\"\",VLOOKUP(U8545,Lookup!$A$1:$B$21,2,FALSE))","v":""},null,null,null,null,null,null,null,null,null,null,null,null,null,null,null,null,null,null,null,null,null,"X"]
[{"$f":"IF(C8628=\"\",\"\",VLOOKUP(D8628,Lookup!$D$1:$E$1051,2,FALSE))","v":""},{"$f":"IF(C8628=\"\",\"\",VLOOKUP(U8628,Lookup!$A$1:$B$21,2,FALSE))","v":""},null,null,null,null,null,null,null,null,null,null,null,null,null,null,null,null,null,null,null,null,null,"X"]
[{"$f":"IF(C8766=\"\",\"\",VLOOKUP(D8766,Lookup!$D$1:$E$1051,2,FALSE))","v":""},{"$f":"IF(C8766=\"\",\"\",VLOOKUP(U8766,Lookup!$A$1:$B$21,2,FALSE))","v":""},null,null,null,null,null,null,null,null,null,null,null,null,null,null,null,null,null,null,null,null,null,"X"]
[{"$f":"IF(C8809=\"\",\"\",VLOOKUP(D8809,Lookup!$D$1:$E$1051,2,FALSE))","v":""},{"$f":"IF(C8809=\"\",\"\",VLOOKUP(U8809,Lookup!$A$1:$B$21,2,FALSE))","v":""},null,null,null,null,null,null,null,null,null,null,null,null,null,null,null,null,null,null,null,null,null,"X"]
[{"$f":"IF(C8948=\"\",\"\",VLOOKUP(D8948,Lookup!$D$1:$E$1051,2,FALSE))","v":""},{"$f":"IF(C8948=\"\",\"\",VLOOKUP(U8948,Lookup!$A$1:$B$21,2,FALSE))","v":""},null,null,null,null,null,null,null,null,null,null,null,null,null,null,null,null,null,null,null,null,null,"X"]
[{"$f":"IF(C9084=\"\",\"\",VLOOKUP(D9084,Lookup!$D$1:$E$1051,2,FALSE))","v":""},{"$f":"IF(C9084=\"\",\"\",VLOOKUP(U9084,Lookup!$A$1:$B$21,2,FALSE))","v":""},null,null,null,null,null,null,null,null,null,null,null,null,null,null,null,null,null,null,null,null,null,"X"]
[{"$f":"IF(C9127=\"\",\"\",VLOOKUP(D9127,Lookup!$D$1:$E$1051,2,FALSE))","v":""},{"$f":"IF(C9127=\"\",\"\",VLOOKUP(U9127,Lookup!$A$1:$B$21,2,FALSE))","v":""},null,null,null,null,null,null,null,null,null,null,null,null,null,null,null,null,null,null,null,null,null,"X"]
[{"$f":"IF(C9265=\"\",\"\",VLOOKUP(D9265,Lookup!$D$1:$E$1051,2,FALSE))","v":""},{"$f":"IF(C9265=\"\",\"\",VLOOKUP(U9265,Lookup!$A$1:$B$21,2,FALSE))","v":""},null,null,null,null,null,null,null,null,null,null,null,null,null,null,null,null,null,null,null,null,null,"X"]
[{"$f":"IF(C9341=\"\",\"\",VLOOKUP(D9341,Lookup!$D$1:$E$1051,2,FALSE))","v":""},{"$f":"IF(C9341=\"\",\"\",VLOOKUP(U9341,Lookup!$A$1:$B$21,2,FALSE))","v":""},null,null,null,null,null,null,null,null,null,null,null,null,null,null,null,null,null,null,null,null,null,"X"]
[{"$f":"IF(C9445=\"\",\"\",VLOOKUP(D9445,Lookup!$D$1:$E$1051,2,FALSE))","v":""},{"$f":"IF(C9445=\"\",\"\",VLOOKUP(U9445,Lookup!$A$1:$B$21,2,FALSE))","v":""},null,null,null,null,null,null,null,null,null,null,null,null,null,null,null,null,null,null,null,null,null,"X"]
[{"$f":"IF(C9583=\"\",\"\",VLOOKUP(D9583,Lookup!$D$1:$E$1051,2,FALSE))","v":""},{"$f":"IF(C9583=\"\",\"\",VLOOKUP(U9583,Lookup!$A$1:$B$21,2,FALSE))","v":""},null,null,null,null,null,null,null,null,null,null,null,null,null,null,null,null,null,null,null,null,null,"X"]
[{"$f":"IF(C9626=\"\",\"\",VLOOKUP(D9626,Lookup!$D$1:$E$1051,2,FALSE))","v":""},{"$f":"IF(C9626=\"\",\"\",VLOOKUP(U9626,Lookup!$A$1:$B$21,2,FALSE))","v":""},null,null,null,null,null,null,null,null,null,null,null,null,null,null,null,null,null,null,null,null,null,"X"]
[{"$f":"IF(C9744=\"\",\"\",VLOOKUP(D9744,Lookup!$D$1:$E$1051,2,FALSE))","v":""},{"$f":"IF(C9744=\"\",\"\",VLOOKUP(U9744,Lookup!$A$1:$B$21,2,FALSE))","v":""},null,null,null,null,null,null,null,null,null,null,null,null,null,null,null,null,null,null,null,null,null,"X"]
[{"$f":"IF(C9802=\"\",\"\",VLOOKUP(D9802,Lookup!$D$1:$E$1051,2,FALSE))","v":""},{"$f":"IF(C9802=\"\",\"\",VLOOKUP(U9802,Lookup!$A$1:$B$21,2,FALSE))","v":""},null,null,null,null,null,null,null,null,null,null,null,null,null,null,null,null,null,null,null,null,null,"X"]
[{"$f":"IF(C9944=\"\",\"\",VLOOKUP(D9944,Lookup!$D$1:$E$1051,2,FALSE))","v":""},{"$f":"IF(C9944=\"\",\"\",VLOOKUP(U9944,Lookup!$A$1:$B$21,2,FALSE))","v":""},null,null,null,null,null,null,null,null,null,null,null,null,null,null,null,null,null,null,null,null,null,"X"]
[{"$f":"IF(C10082=\"\",\"\",VLOOKUP(D10082,Lookup!$D$1:$E$1051,2,FALSE))","v":""},{"$f":"IF(C10082=\"\",\"\",VLOOKUP(U10082,Lookup!$A$1:$B$21,2,FALSE))","v":""},null,null,null,null,null,null,null,null,null,null,null,null,null,null,null,null,null,null,null,null,null,"X"]
[{"$f":"IF(C10137=\"\",\"\",VLOOKUP(D10137,Lookup!$D$1:$E$1051,2,FALSE))","v":""},{"$f":"IF(C10137=\"\",\"\",VLOOKUP(U10137,Lookup!$A$1:$B$21,2,FALSE))","v":""},null,null,null,null,null,null,null,null,null,null,null,null,null,null,null,null,null,null,null,null,null,"X"]
[{"$f":"IF(C10262=\"\",\"\",VLOOKUP(D10262,Lookup!$D$1:$E$1051,2,FALSE))","v":""},{"$f":"IF(C10262=\"\",\"\",VLOOKUP(U10262,Lookup!$A$1:$B$21,2,FALSE))","v":""},null,null,null,null,null,null,null,null,null,null,null,null,null,null,null,null,null,null,null,null,null,"X"]
[{"$f":"IF(C10301=\"\",\"\",VLOOKUP(D10301,Lookup!$D$1:$E$1051,2,FALSE))","v":""},{"$f":"IF(C10301=\"\",\"\",VLOOKUP(U10301,Lookup!$A$1:$B$21,2,FALSE))","v":""},null,null,null,null,null,null,null,null,null,null,null,null,null,null,null,null,null,null,null,null,null,"X"]
[{"$f":"IF(C10443=\"\",\"\",VLOOKUP(D10443,Lookup!$D$1:$E$1051,2,FALSE))","v":""},{"$f":"IF(C10443=\"\",\"\",VLOOKUP(U10443,Lookup!$A$1:$B$21,2,FALSE))","v":""},null,null,null,null,null,null,null,null,null,null,null,null,null,null,null,null,null,null,null,null,null,"X"]
[{"$f":"IF(C10540=\"\",\"\",VLOOKUP(D10540,Lookup!$D$1:$E$1051,2,FALSE))","v":""},{"$f":"IF(C10540=\"\",\"\",VLOOKUP(U10540,Lookup!$A$1:$B$21,2,FALSE))","v":""},null,null,null,null,null,null,null,null,null,null,null,null,null,null,null,null,null,null,null,null,null,"X"]
[{"$f":"IF(C10623=\"\",\"\",VLOOKUP(D10623,Lookup!$D$1:$E$1051,2,FALSE))","v":""},{"$f":"IF(C10623=\"\",\"\",VLOOKUP(U10623,Lookup!$A$1:$B$21,2,FALSE))","v":""},null,null,null,null,null,null,null,null,null,null,null,null,null,null,null,null,null,null,null,null,null,"X"]
[{"$f":"IF(C10761=\"\",\"\",VLOOKUP(D10761,Lookup!$D$1:$E$1051,2,FALSE))","v":""},{"$f":"IF(C10761=\"\",\"\",VLOOKUP(U10761,Lookup!$A$1:$B$21,2,FALSE))","v":""},null,null,null,null,null,null,null,null,null,null,null,null,null,null,null,null,null,null,null,null,null,"X"]
[{"$f":"IF(C10800=\"\",\"\",VLOOKUP(D10800,Lookup!$D$1:$E$1051,2,FALSE))","v":""},{"$f":"IF(C10800=\"\",\"\",VLOOKUP(U10800,Lookup!$A$1:$B$21,2,FALSE))","v":""},null,null,null,null,null,null,null,null,null,null,null,null,null,null,null,null,null,null,null,null,null,"X"]
[{"$f":"IF(C10933=\"\",\"\",VLOOKUP(D10933,Lookup!$D$1:$E$1051,2,FALSE))","v":""},{"$f":"IF(C10933=\"\",\"\",VLOOKUP(U10933,Lookup!$A$1:$B$21,2,FALSE))","v":""},null,null,null,null,null,null,null,null,null,null,null,null,null,null,null,null,null,null,null,null,null,"X"]
[{"$f":"IF(C10980=\"\",\"\",VLOOKUP(D10980,Lookup!$D$1:$E$1051,2,FALSE))","v":""},{"$f":"IF(C10980=\"\",\"\",VLOOKUP(U10980,Lookup!$A$1:$B$21,2,FALSE))","v":""},null,null,null,null,null,null,null,null,null,null,null,null,null,null,null,null,null,null,null,null,null,"X"]
[{"$f":"IF(C11118=\"\",\"\",VLOOKUP(D11118,Lookup!$D$1:$E$1051,2,FALSE))","v":""},{"$f":"IF(C11118=\"\",\"\",VLOOKUP(U11118,Lookup!$A$1:$B$21,2,FALSE))","v":""},null,null,null,null,null,null,null,null,null,null,null,null,null,null,null,null,null,null,null,null,null,"X"]
[{"$f":"IF(C11260=\"\",\"\",VLOOKUP(D11260,Lookup!$D$1:$E$1051,2,FALSE))","v":""},{"$f":"IF(C11260=\"\",\"\",VLOOKUP(U11260,Lookup!$A$1:$B$21,2,FALSE))","v":""},null,null,null,null,null,null,null,null,null,null,null,null,null,null,null,null,null,null,null,null,null,"X"]
[{"$f":"IF(C11336=\"\",\"\",VLOOKUP(D11336,Lookup!$D$1:$E$1051,2,FALSE))","v":""},{"$f":"IF(C11336=\"\",\"\",VLOOKUP(U11336,Lookup!$A$1:$B$21,2,FALSE))","v":""},null,null,null,null,null,null,null,null,null,null,null,null,null,null,null,null,null,null,null,null,null,"X"]
[{"$f":"IF(C11440=\"\",\"\",VLOOKUP(D11440,Lookup!$D$1:$E$1051,2,FALSE))","v":""},{"$f":"IF(C11440=\"\",\"\",VLOOKUP(U11440,Lookup!$A$1:$B$21,2,FALSE))","v":""},null,null,null,null,null,null,null,null,null,null,null,null,null,null,null,null,null,null,null,null,null,"X"]
[{"$f":"IF(C11479=\"\",\"\",VLOOKUP(D11479,Lookup!$D$1:$E$1051,2,FALSE))","v":""},{"$f":"IF(C11479=\"\",\"\",VLOOKUP(U11479,Lookup!$A$1:$B$21,2,FALSE))","v":""},null,null,null,null,null,null,null,null,null,null,null,null,null,null,null,null,null,null,null,null,null,"X"]
[{"$f":"IF(C11617=\"\",\"\",VLOOKUP(D11617,Lookup!$D$1:$E$1051,2,FALSE))","v":""},{"$f":"IF(C11617=\"\",\"\",VLOOKUP(U11617,Lookup!$A$1:$B$21,2,FALSE))","v":""},null,null,null,null,null,null,null,null,null,null,null,null,null,null,null,null,null,null,null,null,null,"X"]
[{"$f":"IF(C11729=\"\",\"\",VLOOKUP(D11729,Lookup!$D$1:$E$1051,2,FALSE))","v":""},{"$f":"IF(C11729=\"\",\"\",VLOOKUP(U11729,Lookup!$A$1:$B$21,2,FALSE))","v":""},null,null,null,null,null,null,null,null,null,null,null,null,null,null,null,null,null,null,null,null,null,"X"]
[{"$f":"IF(C11797=\"\",\"\",VLOOKUP(D11797,Lookup!$D$1:$E$1051,2,FALSE))","v":""},{"$f":"IF(C11797=\"\",\"\",VLOOKUP(U11797,Lookup!$A$1:$B$21,2,FALSE))","v":""},null,null,null,null,null,null,null,null,null,null,null,null,null,null,null,null,null,null,null,null,null,"X"]
[{"$f":"IF(C11939=\"\",\"\",VLOOKUP(D11939,Lookup!$D$1:$E$1051,2,FALSE))","v":""},{"$f":"IF(C11939=\"\",\"\",VLOOKUP(U11939,Lookup!$A$1:$B$21,2,FALSE))","v":""},null,null,null,null,null,null,null,null,null,null,null,null,null,null,null,null,null,null,null,null,null,"X"]
[{"$f":"IF(C11978=\"\",\"\",VLOOKUP(D11978,Lookup!$D$1:$E$1051,2,FALSE))","v":""},{"$f":"IF(C11978=\"\",\"\",VLOOKUP(U11978,Lookup!$A$1:$B$21,2,FALSE))","v":""},null,null,null,null,null,null,null,null,null,null,null,null,null,null,null,null,null,null,null,null,null,"X"]
[{"$f":"IF(C12132=\"\",\"\",VLOOKUP(D12132,Lookup!$D$1:$E$1051,2,FALSE))","v":""},{"$f":"IF(C12132=\"\",\"\",VLOOKUP(U12132,Lookup!$A$1:$B$21,2,FALSE))","v":""},null,null,null,null,null,null,null,null,null,null,null,null,null,null,null,null,null,null,null,null,null,"X"]
[{"$f":"IF(C12257=\"\",\"\",VLOOKUP(D12257,Lookup!$D$1:$E$1051,2,FALSE))","v":""},{"$f":"IF(C12257=\"\",\"\",VLOOKUP(U12257,Lookup!$A$1:$B$21,2,FALSE))","v":""},null,null,null,null,null,null,null,null,null,null,null,null,null,null,null,null,null,null,null,null,null,"X"]
[{"$f":"IF(C12296=\"\",\"\",VLOOKUP(D12296,Lookup!$D$1:$E$1051,2,FALSE))","v":""},{"$f":"IF(C12296=\"\",\"\",VLOOKUP(U12296,Lookup!$A$1:$B$21,2,FALSE))","v":""},null,null,null,null,null,null,null,null,null,null,null,null,null,null,null,null,null,null,null,null,null,"X"]
[{"$f":"IF(C12434=\"\",\"\",VLOOKUP(D12434,Lookup!$D$1:$E$1051,2,FALSE))","v":""},{"$f":"IF(C12434=\"\",\"\",VLOOKUP(U12434,Lookup!$A$1:$B$21,2,FALSE))","v":""},null,null,null,null,null,null,null,null,null,null,null,null,null,null,null,null,null,null,null,null,null,"X"]
[{"$f":"IF(C12525=\"\",\"\",VLOOKUP(D12525,Lookup!$D$1:$E$1051,2,FALSE))","v":""},{"$f":"IF(C12525=\"\",\"\",VLOOKUP(U12525,Lookup!$A$1:$B$21,2,FALSE))","v":""},null,null,null,null,null,null,null,null,null,null,null,null,null,null,null,null,null,null,null,null,null,"X"]
[{"$f":"IF(C12614=\"\",\"\",VLOOKUP(D12614,Lookup!$D$1:$E$1051,2,FALSE))","v":""},{"$f":"IF(C12614=\"\",\"\",VLOOKUP(U12614,Lookup!$A$1:$B$21,2,FALSE))","v":""},null,null,null,null,null,null,null,null,null,null,null,null,null,null,null,null,null,null,null,null,null,"X"]
[{"$f":"IF(C12657=\"\",\"\",VLOOKUP(D12657,Lookup!$D$1:$E$1051,2,FALSE))","v":""},{"$f":"IF(C12657=\"\",\"\",VLOOKUP(U12657,Lookup!$A$1:$B$21,2,FALSE))","v":""},null,null,null,null,null,null,null,null,null,null,null,null,null,null,null,null,null,null,null,null,null,"X"]
[{"$f":"IF(C12795=\"\",\"\",VLOOKUP(D12795,Lookup!$D$1:$E$1051,2,FALSE))","v":""},{"$f":"IF(C12795=\"\",\"\",VLOOKUP(U12795,Lookup!$A$1:$B$21,2,FALSE))","v":""},null,null,null,null,null,null,null,null,null,null,null,null,null,null,null,null,null,null,null,null,null,"X"]
[{"$f":"IF(C12928=\"\",\"\",VLOOKUP(D12928,Lookup!$D$1:$E$1051,2,FALSE))","v":""},{"$f":"IF(C12928=\"\",\"\",VLOOKUP(U12928,Lookup!$A$1:$B$21,2,FALSE))","v":""},null,null,null,null,null,null,null,null,null,null,null,null,null,null,null,null,null,null,null,null,null,"X"]
[{"$f":"IF(C12975=\"\",\"\",VLOOKUP(D12975,Lookup!$D$1:$E$1051,2,FALSE))","v":""},{"$f":"IF(C12975=\"\",\"\",VLOOKUP(U12975,Lookup!$A$1:$B$21,2,FALSE))","v":""},null,null,null,null,null,null,null,null,null,null,null,null,null,null,null,null,null,null,null,null,null,"X"]
[{"$f":"IF(C13113=\"\",\"\",VLOOKUP(D13113,Lookup!$D$1:$E$1051,2,FALSE))","v":""},{"$f":"IF(C13113=\"\",\"\",VLOOKUP(U13113,Lookup!$A$1:$B$21,2,FALSE))","v":""},null,null,null,null,null,null,null,null,null,null,null,null,null,null,null,null,null,null,null,null,null,"X"]
[{"$f":"IF(C13152=\"\",\"\",VLOOKUP(D13152,Lookup!$D$1:$E$1051,2,FALSE))","v":""},{"$f":"IF(C13152=\"\",\"\",VLOOKUP(U13152,Lookup!$A$1:$B$21,2,FALSE))","v":""},null,null,null,null,null,null,null,null,null,null,null,null,null,null,null,null,null,null,null,null,null,"X"]
[{"$f":"IF(C13321=\"\",\"\",VLOOKUP(D13321,Lookup!$D$1:$E$1051,2,FALSE))","v":""},{"$f":"IF(C13321=\"\",\"\",VLOOKUP(U13321,Lookup!$A$1:$B$21,2,FALSE))","v":""},null,null,null,null,null,null,null,null,null,null,null,null,null,null,null,null,null,null,null,null,null,"X"]
[{"$f":"IF(C13431=\"\",\"\",VLOOKUP(D13431,Lookup!$D$1:$E$1051,2,FALSE))","v":""},{"$f":"IF(C13431=\"\",\"\",VLOOKUP(U13431,Lookup!$A$1:$B$21,2,FALSE))","v":""},null,null,null,null,null,null,null,null,null,null,null,null,null,null,null,null,null,null,null,null,null,"X"]
[{"$f":"IF(C13474=\"\",\"\",VLOOKUP(D13474,Lookup!$D$1:$E$1051,2,FALSE))","v":""},{"$f":"IF(C13474=\"\",\"\",VLOOKUP(U13474,Lookup!$A$1:$B$21,2,FALSE))","v":""},null,null,null,null,null,null,null,null,null,null,null,null,null,null,null,null,null,null,null,null,null,"X"]
[{"$f":"IF(C13612=\"\",\"\",VLOOKUP(D13612,Lookup!$D$1:$E$1051,2,FALSE))","v":""},{"$f":"IF(C13612=\"\",\"\",VLOOKUP(U13612,Lookup!$A$1:$B$21,2,FALSE))","v":""},null,null,null,null,null,null,null,null,null,null,null,null,null,null,null,null,null,null,null,null,null,"X"]
[{"$f":"IF(C13724=\"\",\"\",VLOOKUP(D13724,Lookup!$D$1:$E$1051,2,FALSE))","v":""},{"$f":"IF(C13724=\"\",\"\",VLOOKUP(U13724,Lookup!$A$1:$B$21,2,FALSE))","v":""},null,null,null,null,null,null,null,null,null,null,null,null,null,null,null,null,null,null,null,null,null,"X"]
[{"$f":"IF(C13792=\"\",\"\",VLOOKUP(D13792,Lookup!$D$1:$E$1051,2,FALSE))","v":""},{"$f":"IF(C13792=\"\",\"\",VLOOKUP(U13792,Lookup!$A$1:$B$21,2,FALSE))","v":""},null,null,null,null,null,null,null,null,null,null,null,null,null,null,null,null,null,null,null,null,null,"X"]
[{"$f":"IF(C13930=\"\",\"\",VLOOKUP(D13930,Lookup!$D$1:$E$1051,2,FALSE))","v":""},{"$f":"IF(C13930=\"\",\"\",VLOOKUP(U13930,Lookup!$A$1:$B$21,2,FALSE))","v":""},null,null,null,null,null,null,null,null,null,null,null,null,null,null,null,null,null,null,null,null,null,"X"]
[{"$f":"IF(C13973=\"\",\"\",VLOOKUP(D13973,Lookup!$D$1:$E$1051,2,FALSE))","v":""},{"$f":"IF(C13973=\"\",\"\",VLOOKUP(U13973,Lookup!$A$1:$B$21,2,FALSE))","v":""},null,null,null,null,null,null,null,null,null,null,null,null,null,null,null,null,null,null,null,null,null,"X"]
[{"$f":"IF(C14117=\"\",\"\",VLOOKUP(D14117,Lookup!$D$1:$E$1051,2,FALSE))","v":""},{"$f":"IF(C14117=\"\",\"\",VLOOKUP(U14117,Lookup!$A$1:$B$21,2,FALSE))","v":""},null,null,null,null,null,null,null,null,null,null,null,null,null,null,null,null,null,null,null,null,null,"X"]
[{"$f":"IF(C14149=\"\",\"\",VLOOKUP(D14149,Lookup!$D$1:$E$1051,2,FALSE))","v":""},{"$f":"IF(C14149=\"\",\"\",VLOOKUP(U14149,Lookup!$A$1:$B$21,2,FALSE))","v":""},null,null,null,null,null,null,null,null,null,null,null,null,null,null,null,null,null,null,null,null,null,"X"]
[{"$f":"IF(C14291=\"\",\"\",VLOOKUP(D14291,Lookup!$D$1:$E$1051,2,FALSE))","v":""},{"$f":"IF(C14291=\"\",\"\",VLOOKUP(U14291,Lookup!$A$1:$B$21,2,FALSE))","v":""},null,null,null,null,null,null,null,null,null,null,null,null,null,null,null,null,null,null,null,null,null,"X"]
[{"$f":"IF(C14429=\"\",\"\",VLOOKUP(D14429,Lookup!$D$1:$E$1051,2,FALSE))","v":""},{"$f":"IF(C14429=\"\",\"\",VLOOKUP(U14429,Lookup!$A$1:$B$21,2,FALSE))","v":""},null,null,null,null,null,null,null,null,null,null,null,null,null,null,null,null,null,null,null,null,null,"X"]
[{"$f":"IF(C14520=\"\",\"\",VLOOKUP(D14520,Lookup!$D$1:$E$1051,2,FALSE))","v":""},{"$f":"IF(C14520=\"\",\"\",VLOOKUP(U14520,Lookup!$A$1:$B$21,2,FALSE))","v":""},null,null,null,null,null,null,null,null,null,null,null,null,null,null,null,null,null,null,null,null,null,"X"]
[{"$f":"IF(C14609=\"\",\"\",VLOOKUP(D14609,Lookup!$D$1:$E$1051,2,FALSE))","v":""},{"$f":"IF(C14609=\"\",\"\",VLOOKUP(U14609,Lookup!$A$1:$B$21,2,FALSE))","v":""},null,null,null,null,null,null,null,null,null,null,null,null,null,null,null,null,null,null,null,null,null,"X"]
[{"$f":"IF(C14648=\"\",\"\",VLOOKUP(D14648,Lookup!$D$1:$E$1051,2,FALSE))","v":""},{"$f":"IF(C14648=\"\",\"\",VLOOKUP(U14648,Lookup!$A$1:$B$21,2,FALSE))","v":""},null,null,null,null,null,null,null,null,null,null,null,null,null,null,null,null,null,null,null,null,null,"X"]
[{"$f":"IF(C14790=\"\",\"\",VLOOKUP(D14790,Lookup!$D$1:$E$1051,2,FALSE))","v":""},{"$f":"IF(C14790=\"\",\"\",VLOOKUP(U14790,Lookup!$A$1:$B$21,2,FALSE))","v":""},null,null,null,null,null,null,null,null,null,null,null,null,null,null,null,null,null,null,null,null,null,"X"]
[{"$f":"IF(C14913=\"\",\"\",VLOOKUP(D14913,Lookup!$D$1:$E$1051,2,FALSE))","v":""},{"$f":"IF(C14913=\"\",\"\",VLOOKUP(U14913,Lookup!$A$1:$B$21,2,FALSE))","v":""},null,null,null,null,null,null,null,null,null,null,null,null,null,null,null,null,null,null,null,null,null,"X"]
[{"$f":"IF(C14966=\"\",\"\",VLOOKUP(D14966,Lookup!$D$1:$E$1051,2,FALSE))","v":""},{"$f":"IF(C14966=\"\",\"\",VLOOKUP(U14966,Lookup!$A$1:$B$21,2,FALSE))","v":""},null,null,null,null,null,null,null,null,null,null,null,null,null,null,null,null,null,null,null,null,null,"X"]
[{"$f":"IF(C15108=\"\",\"\",VLOOKUP(D15108,Lookup!$D$1:$E$1051,2,FALSE))","v":""},{"$f":"IF(C15108=\"\",\"\",VLOOKUP(U15108,Lookup!$A$1:$B$21,2,FALSE))","v":""},null,null,null,null,null,null,null,null,null,null,null,null,null,null,null,null,null,null,null,null,null,"X"]
[{"$f":"IF(C15147=\"\",\"\",VLOOKUP(D15147,Lookup!$D$1:$E$1051,2,FALSE))","v":""},{"$f":"IF(C15147=\"\",\"\",VLOOKUP(U15147,Lookup!$A$1:$B$21,2,FALSE))","v":""},null,null,null,null,null,null,null,null,null,null,null,null,null,null,null,null,null,null,null,null,null,"X"]
[{"$f":"IF(C15306=\"\",\"\",VLOOKUP(D15306,Lookup!$D$1:$E$1051,2,FALSE))","v":""},{"$f":"IF(C15306=\"\",\"\",VLOOKUP(U15306,Lookup!$A$1:$B$21,2,FALSE))","v":""},null,null,null,null,null,null,null,null,null,null,null,null,null,null,null,null,null,null,null,null,null,"X"]
[{"$f":"IF(C15327=\"\",\"\",VLOOKUP(D15327,Lookup!$D$1:$E$1051,2,FALSE))","v":""},{"$f":"IF(C15327=\"\",\"\",VLOOKUP(U15327,Lookup!$A$1:$B$21,2,FALSE))","v":""},null,null,null,null,null,null,null,null,null,null,null,null,null,null,null,null,null,null,null,null,null,"X"]
[{"$f":"IF(C15465=\"\",\"\",VLOOKUP(D15465,Lookup!$D$1:$E$1051,2,FALSE))","v":""},{"$f":"IF(C15465=\"\",\"\",VLOOKUP(U15465,Lookup!$A$1:$B$21,2,FALSE))","v":""},null,null,null,null,null,null,null,null,null,null,null,null,null,null,null,null,null,null,null,null,null,"X"]
[{"$f":"IF(C15607=\"\",\"\",VLOOKUP(D15607,Lookup!$D$1:$E$1051,2,FALSE))","v":""},{"$f":"IF(C15607=\"\",\"\",VLOOKUP(U15607,Lookup!$A$1:$B$21,2,FALSE))","v":""},null,null,null,null,null,null,null,null,null,null,null,null,null,null,null,null,null,null,null,null,null,"X"]
[{"$f":"IF(C15709=\"\",\"\",VLOOKUP(D15709,Lookup!$D$1:$E$1051,2,FALSE))","v":""},{"$f":"IF(C15709=\"\",\"\",VLOOKUP(U15709,Lookup!$A$1:$B$21,2,FALSE))","v":""},null,null,null,null,null,null,null,null,null,null,null,null,null,null,null,null,null,null,null,null,null,"X"]
[{"$f":"IF(C15783=\"\",\"\",VLOOKUP(D15783,Lookup!$D$1:$E$1051,2,FALSE))","v":""},{"$f":"IF(C15783=\"\",\"\",VLOOKUP(U15783,Lookup!$A$1:$B$21,2,FALSE))","v":""},null,null,null,null,null,null,null,null,null,null,null,null,null,null,null,null,null,null,null,null,null,"X"]
[{"$f":"IF(C15826=\"\",\"\",VLOOKUP(D15826,Lookup!$D$1:$E$1051,2,FALSE))","v":""},{"$f":"IF(C15826=\"\",\"\",VLOOKUP(U15826,Lookup!$A$1:$B$21,2,FALSE))","v":""},null,null,null,null,null,null,null,null,null,null,null,null,null,null,null,null,null,null,null,null,null,"X"]
[{"$f":"IF(C15964=\"\",\"\",VLOOKUP(D15964,Lookup!$D$1:$E$1051,2,FALSE))","v":""},{"$f":"IF(C15964=\"\",\"\",VLOOKUP(U15964,Lookup!$A$1:$B$21,2,FALSE))","v":""},null,null,null,null,null,null,null,null,null,null,null,null,null,null,null,null,null,null,null,null,null,"X"]
[{"$f":"IF(C16102=\"\",\"\",VLOOKUP(D16102,Lookup!$D$1:$E$1051,2,FALSE))","v":""},{"$f":"IF(C16102=\"\",\"\",VLOOKUP(U16102,Lookup!$A$1:$B$21,2,FALSE))","v":""},null,null,null,null,null,null,null,null,null,null,null,null,null,null,null,null,null,null,null,null,null,"X"]
[{"$f":"IF(C16144=\"\",\"\",VLOOKUP(D16144,Lookup!$D$1:$E$1051,2,FALSE))","v":""},{"$f":"IF(C16144=\"\",\"\",VLOOKUP(U16144,Lookup!$A$1:$B$21,2,FALSE))","v":""},null,null,null,null,null,null,null,null,null,null,null,null,null,null,null,null,null,null,null,null,null,"X"]
[{"$f":"IF(C16282=\"\",\"\",VLOOKUP(D16282,Lookup!$D$1:$E$1051,2,FALSE))","v":""},{"$f":"IF(C16282=\"\",\"\",VLOOKUP(U16282,Lookup!$A$1:$B$21,2,FALSE))","v":""},null,null,null,null,null,null,null,null,null,null,null,null,null,null,null,null,null,null,null,null,null,"X"]
[{"$f":"IF(C16325=\"\",\"\",VLOOKUP(D16325,Lookup!$D$1:$E$1051,2,FALSE))","v":""},{"$f":"IF(C16325=\"\",\"\",VLOOKUP(U16325,Lookup!$A$1:$B$21,2,FALSE))","v":""},null,null,null,null,null,null,null,null,null,null,null,null,null,null,null,null,null,null,null,null,null,"X"]
[{"$f":"IF(C16407=\"\",\"\",VLOOKUP(D16407,Lookup!$D$1:$E$1051,2,FALSE))","v":""},{"$f":"IF(C16407=\"\",\"\",VLOOKUP(U16407,Lookup!$A$1:$B$21,2,FALSE))","v":""},null,null,null,null,null,null,null,null,null,null,null,null,null,null,null,null,null,null,null,null,null,"X"]
[{"$f":"IF(C16600=\"\",\"\",VLOOKUP(D16600,Lookup!$D$1:$E$1051,2,FALSE))","v":""},{"$f":"IF(C16600=\"\",\"\",VLOOKUP(U16600,Lookup!$A$1:$B$21,2,FALSE))","v":""},null,null,null,null,null,null,null,null,null,null,null,null,null,null,null,null,null,null,null,null,null,"X"]
[{"$f":"IF(C16643=\"\",\"\",VLOOKUP(D16643,Lookup!$D$1:$E$1051,2,FALSE))","v":""},{"$f":"IF(C16643=\"\",\"\",VLOOKUP(U16643,Lookup!$A$1:$B$21,2,FALSE))","v":""},null,null,null,null,null,null,null,null,null,null,null,null,null,null,null,null,null,null,null,null,null,"X"]
[{"$f":"IF(C16781=\"\",\"\",VLOOKUP(D16781,Lookup!$D$1:$E$1051,2,FALSE))","v":""},{"$f":"IF(C16781=\"\",\"\",VLOOKUP(U16781,Lookup!$A$1:$B$21,2,FALSE))","v":""},null,null,null,null,null,null,null,null,null,null,null,null,null,null,null,null,null,null,null,null,null,"X"]
[{"$f":"IF(C16898=\"\",\"\",VLOOKUP(D16898,Lookup!$D$1:$E$1051,2,FALSE))","v":""},{"$f":"IF(C16898=\"\",\"\",VLOOKUP(U16898,Lookup!$A$1:$B$21,2,FALSE))","v":""},null,null,null,null,null,null,null,null,null,null,null,null,null,null,null,null,null,null,null,null,null,"X"]
[{"$f":"IF(C16961=\"\",\"\",VLOOKUP(D16961,Lookup!$D$1:$E$1051,2,FALSE))","v":""},{"$f":"IF(C16961=\"\",\"\",VLOOKUP(U16961,Lookup!$A$1:$B$21,2,FALSE))","v":""},null,null,null,null,null,null,null,null,null,null,null,null,null,null,null,null,null,null,null,null,null,"X"]
[{"$f":"IF(C17000=\"\",\"\",VLOOKUP(D17000,Lookup!$D$1:$E$1051,2,FALSE))","v":""},{"$f":"IF(C17000=\"\",\"\",VLOOKUP(U17000,Lookup!$A$1:$B$21,2,FALSE))","v":""},null,null,null,null,null,null,null,null,null,null,null,null,null,null,null,null,null,null,null,null,null,"X"]
[{"$f":"IF(C17142=\"\",\"\",VLOOKUP(D17142,Lookup!$D$1:$E$1051,2,FALSE))","v":""},{"$f":"IF(C17142=\"\",\"\",VLOOKUP(U17142,Lookup!$A$1:$B$21,2,FALSE))","v":""},null,null,null,null,null,null,null,null,null,null,null,null,null,null,null,null,null,null,null,null,null,"X"]
[{"$f":"IF(C17203=\"\",\"\",VLOOKUP(D17203,Lookup!$D$1:$E$1051,2,FALSE))","v":""},{"$f":"IF(C17203=\"\",\"\",VLOOKUP(U17203,Lookup!$A$1:$B$21,2,FALSE))","v":""},null,null,null,null,null,null,null,null,null,null,null,null,null,null,null,null,null,null,null,null,null,"X"]
[{"$f":"IF(C17322=\"\",\"\",VLOOKUP(D17322,Lookup!$D$1:$E$1051,2,FALSE))","v":""},{"$f":"IF(C17322=\"\",\"\",VLOOKUP(U17322,Lookup!$A$1:$B$21,2,FALSE))","v":""},null,null,null,null,null,null,null,null,null,null,null,null,null,null,null,null,null,null,null,null,null,"X"]
[{"$f":"IF(C17460=\"\",\"\",VLOOKUP(D17460,Lookup!$D$1:$E$1051,2,FALSE))","v":""},{"$f":"IF(C17460=\"\",\"\",VLOOKUP(U17460,Lookup!$A$1:$B$21,2,FALSE))","v":""},null,null,null,null,null,null,null,null,null,null,null,null,null,null,null,null,null,null,null,null,null,"X"]
[{"$f":"IF(C17499=\"\",\"\",VLOOKUP(D17499,Lookup!$D$1:$E$1051,2,FALSE))","v":""},{"$f":"IF(C17499=\"\",\"\",VLOOKUP(U17499,Lookup!$A$1:$B$21,2,FALSE))","v":""},null,null,null,null,null,null,null,null,null,null,null,null,null,null,null,null,null,null,null,null,null,"X"]
[{"$f":"IF(C17596=\"\",\"\",VLOOKUP(D17596,Lookup!$D$1:$E$1051,2,FALSE))","v":""},{"$f":"IF(C17596=\"\",\"\",VLOOKUP(U17596,Lookup!$A$1:$B$21,2,FALSE))","v":""},null,null,null,null,null,null,null,null,null,null,null,null,null,null,null,null,null,null,null,null,null,"X"]
[{"$f":"IF(C17778=\"\",\"\",VLOOKUP(D17778,Lookup!$D$1:$E$1051,2,FALSE))","v":""},{"$f":"IF(C17778=\"\",\"\",VLOOKUP(U17778,Lookup!$A$1:$B$21,2,FALSE))","v":""},null,null,null,null,null,null,null,null,null,null,null,null,null,null,null,null,null,null,null,null,null,"X"]
[{"$f":"IF(C17817=\"\",\"\",VLOOKUP(D17817,Lookup!$D$1:$E$1051,2,FALSE))","v":""},{"$f":"IF(C17817=\"\",\"\",VLOOKUP(U17817,Lookup!$A$1:$B$21,2,FALSE))","v":""},null,null,null,null,null,null,null,null,null,null,null,null,null,null,null,null,null,null,null,null,null,"X"]
[{"$f":"IF(C17959=\"\",\"\",VLOOKUP(D17959,Lookup!$D$1:$E$1051,2,FALSE))","v":""},{"$f":"IF(C17959=\"\",\"\",VLOOKUP(U17959,Lookup!$A$1:$B$21,2,FALSE))","v":""},null,null,null,null,null,null,null,null,null,null,null,null,null,null,null,null,null,null,null,null,null,"X"]
[{"$f":"IF(C17999=\"\",\"\",VLOOKUP(D17999,Lookup!$D$1:$E$1051,2,FALSE))","v":""},{"$f":"IF(C17999=\"\",\"\",VLOOKUP(U17999,Lookup!$A$1:$B$21,2,FALSE))","v":""},null,null,null,null,null,null,null,null,null,null,null,null,null,null,null,null,null,null,null,null,null,"X"]
[{"$f":"IF(C18139=\"\",\"\",VLOOKUP(D18139,Lookup!$D$1:$E$1051,2,FALSE))","v":""},{"$f":"IF(C18139=\"\",\"\",VLOOKUP(U18139,Lookup!$A$1:$B$21,2,FALSE))","v":""},null,null,null,null,null,null,null,null,null,null,null,null,null,null,null,null,null,null,null,null,null,"X"]
[{"$f":"IF(C18277=\"\",\"\",VLOOKUP(D18277,Lookup!$D$1:$E$1051,2,FALSE))","v":""},{"$f":"IF(C18277=\"\",\"\",VLOOKUP(U18277,Lookup!$A$1:$B$21,2,FALSE))","v":""},null,null,null,null,null,null,null,null,null,null,null,null,null,null,null,null,null,null,null,null,null,"X"]
[{"$f":"IF(C18316=\"\",\"\",VLOOKUP(D18316,Lookup!$D$1:$E$1051,2,FALSE))","v":""},{"$f":"IF(C18316=\"\",\"\",VLOOKUP(U18316,Lookup!$A$1:$B$21,2,FALSE))","v":""},null,null,null,null,null,null,null,null,null,null,null,null,null,null,null,null,null,null,null,null,null,"X"]
[{"$f":"IF(C18392=\"\",\"\",VLOOKUP(D18392,Lookup!$D$1:$E$1051,2,FALSE))","v":""},{"$f":"IF(C18392=\"\",\"\",VLOOKUP(U18392,Lookup!$A$1:$B$21,2,FALSE))","v":""},null,null,null,null,null,null,null,null,null,null,null,null,null,null,null,null,null,null,null,null,null,"X"]
[{"$f":"IF(C18496=\"\",\"\",VLOOKUP(D18496,Lookup!$D$1:$E$1051,2,FALSE))","v":""},{"$f":"IF(C18496=\"\",\"\",VLOOKUP(U18496,Lookup!$A$1:$B$21,2,FALSE))","v":""},null,null,null,null,null,null,null,null,null,null,null,null,null,null,null,null,null,null,null,null,null,"X"]
[{"$f":"IF(C18634=\"\",\"\",VLOOKUP(D18634,Lookup!$D$1:$E$1051,2,FALSE))","v":""},{"$f":"IF(C18634=\"\",\"\",VLOOKUP(U18634,Lookup!$A$1:$B$21,2,FALSE))","v":""},null,null,null,null,null,null,null,null,null,null,null,null,null,null,null,null,null,null,null,null,null,"X"]
[{"$f":"IF(C18677=\"\",\"\",VLOOKUP(D18677,Lookup!$D$1:$E$1051,2,FALSE))","v":""},{"$f":"IF(C18677=\"\",\"\",VLOOKUP(U18677,Lookup!$A$1:$B$21,2,FALSE))","v":""},null,null,null,null,null,null,null,null,null,null,null,null,null,null,null,null,null,null,null,null,null,"X"]
[{"$f":"IF(C18795=\"\",\"\",VLOOKUP(D18795,Lookup!$D$1:$E$1051,2,FALSE))","v":""},{"$f":"IF(C18795=\"\",\"\",VLOOKUP(U18795,Lookup!$A$1:$B$21,2,FALSE))","v":""},null,null,null,null,null,null,null,null,null,null,null,null,null,null,null,null,null,null,null,null,null,"X"]
[{"$f":"IF(C18956=\"\",\"\",VLOOKUP(D18956,Lookup!$D$1:$E$1051,2,FALSE))","v":""},{"$f":"IF(C18956=\"\",\"\",VLOOKUP(U18956,Lookup!$A$1:$B$21,2,FALSE))","v":""},null,null,null,null,null,null,null,null,null,null,null,null,null,null,null,null,null,null,null,null,null,"X"]
[{"$f":"IF(C18995=\"\",\"\",VLOOKUP(D18995,Lookup!$D$1:$E$1051,2,FALSE))","v":""},{"$f":"IF(C18995=\"\",\"\",VLOOKUP(U18995,Lookup!$A$1:$B$21,2,FALSE))","v":""},null,null,null,null,null,null,null,null,null,null,null,null,null,null,null,null,null,null,null,null,null,"X"]
[{"$f":"IF(C19133=\"\",\"\",VLOOKUP(D19133,Lookup!$D$1:$E$1051,2,FALSE))","v":""},{"$f":"IF(C19133=\"\",\"\",VLOOKUP(U19133,Lookup!$A$1:$B$21,2,FALSE))","v":""},null,null,null,null,null,null,null,null,null,null,null,null,null,null,null,null,null,null,null,null,null,"X"]
[{"$f":"IF(C19188=\"\",\"\",VLOOKUP(D19188,Lookup!$D$1:$E$1051,2,FALSE))","v":""},{"$f":"IF(C19188=\"\",\"\",VLOOKUP(U19188,Lookup!$A$1:$B$21,2,FALSE))","v":""},null,null,null,null,null,null,null,null,null,null,null,null,null,null,null,null,null,null,null,null,null,"X"]
[{"$f":"IF(C19313=\"\",\"\",VLOOKUP(D19313,Lookup!$D$1:$E$1051,2,FALSE))","v":""},{"$f":"IF(C19313=\"\",\"\",VLOOKUP(U19313,Lookup!$A$1:$B$21,2,FALSE))","v":""},null,null,null,null,null,null,null,null,null,null,null,null,null,null,null,null,null,null,null,null,null,"X"]
[{"$f":"IF(C19455=\"\",\"\",VLOOKUP(D19455,Lookup!$D$1:$E$1051,2,FALSE))","v":""},{"$f":"IF(C19455=\"\",\"\",VLOOKUP(U19455,Lookup!$A$1:$B$21,2,FALSE))","v":""},null,null,null,null,null,null,null,null,null,null,null,null,null,null,null,null,null,null,null,null,null,"X"]
[{"$f":"IF(C19494=\"\",\"\",VLOOKUP(D19494,Lookup!$D$1:$E$1051,2,FALSE))","v":""},{"$f":"IF(C19494=\"\",\"\",VLOOKUP(U19494,Lookup!$A$1:$B$21,2,FALSE))","v":""},null,null,null,null,null,null,null,null,null,null,null,null,null,null,null,null,null,null,null,null,null,"X"]
[{"$f":"IF(C19591=\"\",\"\",VLOOKUP(D19591,Lookup!$D$1:$E$1051,2,FALSE))","v":""},{"$f":"IF(C19591=\"\",\"\",VLOOKUP(U19591,Lookup!$A$1:$B$21,2,FALSE))","v":""},null,null,null,null,null,null,null,null,null,null,null,null,null,null,null,null,null,null,null,null,null,"X"]
[{"$f":"IF(C19674=\"\",\"\",VLOOKUP(D19674,Lookup!$D$1:$E$1051,2,FALSE))","v":""},{"$f":"IF(C19674=\"\",\"\",VLOOKUP(U19674,Lookup!$A$1:$B$21,2,FALSE))","v":""},null,null,null,null,null,null,null,null,null,null,null,null,null,null,null,null,null,null,null,null,null,"X"]
[{"$f":"IF(C19812=\"\",\"\",VLOOKUP(D19812,Lookup!$D$1:$E$1051,2,FALSE))","v":""},{"$f":"IF(C19812=\"\",\"\",VLOOKUP(U19812,Lookup!$A$1:$B$21,2,FALSE))","v":""},null,null,null,null,null,null,null,null,null,null,null,null,null,null,null,null,null,null,null,null,null,"X"]
[{"$f":"IF(C19950=\"\",\"\",VLOOKUP(D19950,Lookup!$D$1:$E$1051,2,FALSE))","v":""},{"$f":"IF(C19950=\"\",\"\",VLOOKUP(U19950,Lookup!$A$1:$B$21,2,FALSE))","v":""},null,null,null,null,null,null,null,null,null,null,null,null,null,null,null,null,null,null,null,null,null,"X"]
[{"$f":"IF(C19984=\"\",\"\",VLOOKUP(D19984,Lookup!$D$1:$E$1051,2,FALSE))","v":""},{"$f":"IF(C19984=\"\",\"\",VLOOKUP(U19984,Lookup!$A$1:$B$21,2,FALSE))","v":""},null,null,null,null,null,null,null,null,null,null,null,null,null,null,null,null,null,null,null,null,null,"X"]
[{"$f":"IF(C20130=\"\",\"\",VLOOKUP(D20130,Lookup!$D$1:$E$1051,2,FALSE))","v":""},{"$f":"IF(C20130=\"\",\"\",VLOOKUP(U20130,Lookup!$A$1:$B$21,2,FALSE))","v":""},null,null,null,null,null,null,null,null,null,null,null,null,null,null,null,null,null,null,null,null,null,"X"]
[{"$f":"IF(C20173=\"\",\"\",VLOOKUP(D20173,Lookup!$D$1:$E$1051,2,FALSE))","v":""},{"$f":"IF(C20173=\"\",\"\",VLOOKUP(U20173,Lookup!$A$1:$B$21,2,FALSE))","v":""},null,null,null,null,null,null,null,null,null,null,null,null,null,null,null,null,null,null,null,null,null,"X"]
[{"$f":"IF(C20311=\"\",\"\",VLOOKUP(D20311,Lookup!$D$1:$E$1051,2,FALSE))","v":""},{"$f":"IF(C20311=\"\",\"\",VLOOKUP(U20311,Lookup!$A$1:$B$21,2,FALSE))","v":""},null,null,null,null,null,null,null,null,null,null,null,null,null,null,null,null,null,null,null,null,null,"X"]
[{"$f":"IF(C20387=\"\",\"\",VLOOKUP(D20387,Lookup!$D$1:$E$1051,2,FALSE))","v":""},{"$f":"IF(C20387=\"\",\"\",VLOOKUP(U20387,Lookup!$A$1:$B$21,2,FALSE))","v":""},null,null,null,null,null,null,null,null,null,null,null,null,null,null,null,null,null,null,null,null,null,"X"]
[{"$f":"IF(C20491=\"\",\"\",VLOOKUP(D20491,Lookup!$D$1:$E$1051,2,FALSE))","v":""},{"$f":"IF(C20491=\"\",\"\",VLOOKUP(U20491,Lookup!$A$1:$B$21,2,FALSE))","v":""},null,null,null,null,null,null,null,null,null,null,null,null,null,null,null,null,null,null,null,null,null,"X"]
[{"$f":"IF(C20629=\"\",\"\",VLOOKUP(D20629,Lookup!$D$1:$E$1051,2,FALSE))","v":""},{"$f":"IF(C20629=\"\",\"\",VLOOKUP(U20629,Lookup!$A$1:$B$21,2,FALSE))","v":""},null,null,null,null,null,null,null,null,null,null,null,null,null,null,null,null,null,null,null,null,null,"X"]
[{"$f":"IF(C20672=\"\",\"\",VLOOKUP(D20672,Lookup!$D$1:$E$1051,2,FALSE))","v":""},{"$f":"IF(C20672=\"\",\"\",VLOOKUP(U20672,Lookup!$A$1:$B$21,2,FALSE))","v":""},null,null,null,null,null,null,null,null,null,null,null,null,null,null,null,null,null,null,null,null,null,"X"]
[{"$f":"IF(C20780=\"\",\"\",VLOOKUP(D20780,Lookup!$D$1:$E$1051,2,FALSE))","v":""},{"$f":"IF(C20780=\"\",\"\",VLOOKUP(U20780,Lookup!$A$1:$B$21,2,FALSE))","v":""},null,null,null,null,null,null,null,null,null,null,null,null,null,null,null,null,null,null,null,null,null,"X"]
[{"$f":"IF(C20947=\"\",\"\",VLOOKUP(D20947,Lookup!$D$1:$E$1051,2,FALSE))","v":""},{"$f":"IF(C20947=\"\",\"\",VLOOKUP(U20947,Lookup!$A$1:$B$21,2,FALSE))","v":""},null,null,null,null,null,null,null,null,null,null,null,null,null,null,null,null,null,null,null,null,null,"X"]
[{"$f":"IF(C20990=\"\",\"\",VLOOKUP(D20990,Lookup!$D$1:$E$1051,2,FALSE))","v":""},{"$f":"IF(C20990=\"\",\"\",VLOOKUP(U20990,Lookup!$A$1:$B$21,2,FALSE))","v":""},null,null,null,null,null,null,null,null,null,null,null,null,null,null,null,null,null,null,null,null,null,"X"]
[{"$f":"IF(C21128=\"\",\"\",VLOOKUP(D21128,Lookup!$D$1:$E$1051,2,FALSE))","v":""},{"$f":"IF(C21128=\"\",\"\",VLOOKUP(U21128,Lookup!$A$1:$B$21,2,FALSE))","v":""},null,null,null,null,null,null,null,null,null,null,null,null,null,null,null,null,null,null,null,null,null,"X"]
[{"$f":"IF(C21183=\"\",\"\",VLOOKUP(D21183,Lookup!$D$1:$E$1051,2,FALSE))","v":""},{"$f":"IF(C21183=\"\",\"\",VLOOKUP(U21183,Lookup!$A$1:$B$21,2,FALSE))","v":""},null,null,null,null,null,null,null,null,null,null,null,null,null,null,null,null,null,null,null,null,null,"X"]
[{"$f":"IF(C21308=\"\",\"\",VLOOKUP(D21308,Lookup!$D$1:$E$1051,2,FALSE))","v":""},{"$f":"IF(C21308=\"\",\"\",VLOOKUP(U21308,Lookup!$A$1:$B$21,2,FALSE))","v":""},null,null,null,null,null,null,null,null,null,null,null,null,null,null,null,null,null,null,null,null,null,"X"]
[{"$f":"IF(C21347=\"\",\"\",VLOOKUP(D21347,Lookup!$D$1:$E$1051,2,FALSE))","v":""},{"$f":"IF(C21347=\"\",\"\",VLOOKUP(U21347,Lookup!$A$1:$B$21,2,FALSE))","v":""},null,null,null,null,null,null,null,null,null,null,null,null,null,null,null,null,null,null,null,null,null,"X"]
[{"$f":"IF(C21489=\"\",\"\",VLOOKUP(D21489,Lookup!$D$1:$E$1051,2,FALSE))","v":""},{"$f":"IF(C21489=\"\",\"\",VLOOKUP(U21489,Lookup!$A$1:$B$21,2,FALSE))","v":""},null,null,null,null,null,null,null,null,null,null,null,null,null,null,null,null,null,null,null,null,null,"X"]
[{"$f":"IF(C21576=\"\",\"\",VLOOKUP(D21576,Lookup!$D$1:$E$1051,2,FALSE))","v":""},{"$f":"IF(C21576=\"\",\"\",VLOOKUP(U21576,Lookup!$A$1:$B$21,2,FALSE))","v":""},null,null,null,null,null,null,null,null,null,null,null,null,null,null,null,null,null,null,null,null,null,"X"]
[{"$f":"IF(C21665=\"\",\"\",VLOOKUP(D21665,Lookup!$D$1:$E$1051,2,FALSE))","v":""},{"$f":"IF(C21665=\"\",\"\",VLOOKUP(U21665,Lookup!$A$1:$B$21,2,FALSE))","v":""},null,null,null,null,null,null,null,null,null,null,null,null,null,null,null,null,null,null,null,null,null,"X"]
[{"$f":"IF(C21807=\"\",\"\",VLOOKUP(D21807,Lookup!$D$1:$E$1051,2,FALSE))","v":""},{"$f":"IF(C21807=\"\",\"\",VLOOKUP(U21807,Lookup!$A$1:$B$21,2,FALSE))","v":""},null,null,null,null,null,null,null,null,null,null,null,null,null,null,null,null,null,null,null,null,null,"X"]
[{"$f":"IF(C21846=\"\",\"\",VLOOKUP(D21846,Lookup!$D$1:$E$1051,2,FALSE))","v":""},{"$f":"IF(C21846=\"\",\"\",VLOOKUP(U21846,Lookup!$A$1:$B$21,2,FALSE))","v":""},null,null,null,null,null,null,null,null,null,null,null,null,null,null,null,null,null,null,null,null,null,"X"]
[{"$f":"IF(C21979=\"\",\"\",VLOOKUP(D21979,Lookup!$D$1:$E$1051,2,FALSE))","v":""},{"$f":"IF(C21979=\"\",\"\",VLOOKUP(U21979,Lookup!$A$1:$B$21,2,FALSE))","v":""},null,null,null,null,null,null,null,null,null,null,null,null,null,null,null,null,null,null,null,null,null,"X"]
[{"$f":"IF(C22125=\"\",\"\",VLOOKUP(D22125,Lookup!$D$1:$E$1051,2,FALSE))","v":""},{"$f":"IF(C22125=\"\",\"\",VLOOKUP(U22125,Lookup!$A$1:$B$21,2,FALSE))","v":""},null,null,null,null,null,null,null,null,null,null,null,null,null,null,null,null,null,null,null,null,null,"X"]
[{"$f":"IF(C22164=\"\",\"\",VLOOKUP(D22164,Lookup!$D$1:$E$1051,2,FALSE))","v":""},{"$f":"IF(C22164=\"\",\"\",VLOOKUP(U22164,Lookup!$A$1:$B$21,2,FALSE))","v":""},null,null,null,null,null,null,null,null,null,null,null,null,null,null,null,null,null,null,null,null,null,"X"]
[{"$f":"IF(C22306=\"\",\"\",VLOOKUP(D22306,Lookup!$D$1:$E$1051,2,FALSE))","v":""},{"$f":"IF(C22306=\"\",\"\",VLOOKUP(U22306,Lookup!$A$1:$B$21,2,FALSE))","v":""},null,null,null,null,null,null,null,null,null,null,null,null,null,null,null,null,null,null,null,null,null,"X"]
[{"$f":"IF(C22372=\"\",\"\",VLOOKUP(D22372,Lookup!$D$1:$E$1051,2,FALSE))","v":""},{"$f":"IF(C22372=\"\",\"\",VLOOKUP(U22372,Lookup!$A$1:$B$21,2,FALSE))","v":""},null,null,null,null,null,null,null,null,null,null,null,null,null,null,null,null,null,null,null,null,null,"X"]
[{"$f":"IF(C22482=\"\",\"\",VLOOKUP(D22482,Lookup!$D$1:$E$1051,2,FALSE))","v":""},{"$f":"IF(C22482=\"\",\"\",VLOOKUP(U22482,Lookup!$A$1:$B$21,2,FALSE))","v":""},null,null,null,null,null,null,null,null,null,null,null,null,null,null,null,null,null,null,null,null,null,"X"]
[{"$f":"IF(C22624=\"\",\"\",VLOOKUP(D22624,Lookup!$D$1:$E$1051,2,FALSE))","v":""},{"$f":"IF(C22624=\"\",\"\",VLOOKUP(U22624,Lookup!$A$1:$B$21,2,FALSE))","v":""},null,null,null,null,null,null,null,null,null,null,null,null,null,null,null,null,null,null,null,null,null,"X"]
[{"$f":"IF(C22663=\"\",\"\",VLOOKUP(D22663,Lookup!$D$1:$E$1051,2,FALSE))","v":""},{"$f":"IF(C22663=\"\",\"\",VLOOKUP(U22663,Lookup!$A$1:$B$21,2,FALSE))","v":""},null,null,null,null,null,null,null,null,null,null,null,null,null,null,null,null,null,null,null,null,null,"X"]
[{"$f":"IF(C22765=\"\",\"\",VLOOKUP(D22765,Lookup!$D$1:$E$1051,2,FALSE))","v":""},{"$f":"IF(C22765=\"\",\"\",VLOOKUP(U22765,Lookup!$A$1:$B$21,2,FALSE))","v":""},null,null,null,null,null,null,null,null,null,null,null,null,null,null,null,null,null,null,null,null,null,"X"]
[{"$f":"IF(C22843=\"\",\"\",VLOOKUP(D22843,Lookup!$D$1:$E$1051,2,FALSE))","v":""},{"$f":"IF(C22843=\"\",\"\",VLOOKUP(U22843,Lookup!$A$1:$B$21,2,FALSE))","v":""},null,null,null,null,null,null,null,null,null,null,null,null,null,null,null,null,null,null,null,null,null,"X"]
[{"$f":"IF(C22981=\"\",\"\",VLOOKUP(D22981,Lookup!$D$1:$E$1051,2,FALSE))","v":""},{"$f":"IF(C22981=\"\",\"\",VLOOKUP(U22981,Lookup!$A$1:$B$21,2,FALSE))","v":""},null,null,null,null,null,null,null,null,null,null,null,null,null,null,null,null,null,null,null,null,null,"X"]
[{"$f":"IF(C23024=\"\",\"\",VLOOKUP(D23024,Lookup!$D$1:$E$1051,2,FALSE))","v":""},{"$f":"IF(C23024=\"\",\"\",VLOOKUP(U23024,Lookup!$A$1:$B$21,2,FALSE))","v":""},null,null,null,null,null,null,null,null,null,null,null,null,null,null,null,null,null,null,null,null,null,"X"]
[{"$f":"IF(C23168=\"\",\"\",VLOOKUP(D23168,Lookup!$D$1:$E$1051,2,FALSE))","v":""},{"$f":"IF(C23168=\"\",\"\",VLOOKUP(U23168,Lookup!$A$1:$B$21,2,FALSE))","v":""},null,null,null,null,null,null,null,null,null,null,null,null,null,null,null,null,null,null,null,null,null,"X"]
[{"$f":"IF(C23299=\"\",\"\",VLOOKUP(D23299,Lookup!$D$1:$E$1051,2,FALSE))","v":""},{"$f":"IF(C23299=\"\",\"\",VLOOKUP(U23299,Lookup!$A$1:$B$21,2,FALSE))","v":""},null,null,null,null,null,null,null,null,null,null,null,null,null,null,null,null,null,null,null,null,null,"X"]
[{"$f":"IF(C23342=\"\",\"\",VLOOKUP(D23342,Lookup!$D$1:$E$1051,2,FALSE))","v":""},{"$f":"IF(C23342=\"\",\"\",VLOOKUP(U23342,Lookup!$A$1:$B$21,2,FALSE))","v":""},null,null,null,null,null,null,null,null,null,null,null,null,null,null,null,null,null,null,null,null,null,"X"]
[{"$f":"IF(C23480=\"\",\"\",VLOOKUP(D23480,Lookup!$D$1:$E$1051,2,FALSE))","v":""},{"$f":"IF(C23480=\"\",\"\",VLOOKUP(U23480,Lookup!$A$1:$B$21,2,FALSE))","v":""},null,null,null,null,null,null,null,null,null,null,null,null,null,null,null,null,null,null,null,null,null,"X"]
[{"$f":"IF(C23561=\"\",\"\",VLOOKUP(D23561,Lookup!$D$1:$E$1051,2,FALSE))","v":""},{"$f":"IF(C23561=\"\",\"\",VLOOKUP(U23561,Lookup!$A$1:$B$21,2,FALSE))","v":""},null,null,null,null,null,null,null,null,null,null,null,null,null,null,null,null,null,null,null,null,null,"X"]
[{"$f":"IF(C23660=\"\",\"\",VLOOKUP(D23660,Lookup!$D$1:$E$1051,2,FALSE))","v":""},{"$f":"IF(C23660=\"\",\"\",VLOOKUP(U23660,Lookup!$A$1:$B$21,2,FALSE))","v":""},null,null,null,null,null,null,null,null,null,null,null,null,null,null,null,null,null,null,null,null,null,"X"]
[{"$f":"IF(C23798=\"\",\"\",VLOOKUP(D23798,Lookup!$D$1:$E$1051,2,FALSE))","v":""},{"$f":"IF(C23798=\"\",\"\",VLOOKUP(U23798,Lookup!$A$1:$B$21,2,FALSE))","v":""},null,null,null,null,null,null,null,null,null,null,null,null,null,null,null,null,null,null,null,null,null,"X"]
[{"$f":"IF(C23841=\"\",\"\",VLOOKUP(D23841,Lookup!$D$1:$E$1051,2,FALSE))","v":""},{"$f":"IF(C23841=\"\",\"\",VLOOKUP(U23841,Lookup!$A$1:$B$21,2,FALSE))","v":""},null,null,null,null,null,null,null,null,null,null,null,null,null,null,null,null,null,null,null,null,null,"X"]
[{"$f":"IF(C23964=\"\",\"\",VLOOKUP(D23964,Lookup!$D$1:$E$1051,2,FALSE))","v":""},{"$f":"IF(C23964=\"\",\"\",VLOOKUP(U23964,Lookup!$A$1:$B$21,2,FALSE))","v":""},null,null,null,null,null,null,null,null,null,null,null,null,null,null,null,null,null,null,null,null,null,"X"]
[{"$f":"IF(C24017=\"\",\"\",VLOOKUP(D24017,Lookup!$D$1:$E$1051,2,FALSE))","v":""},{"$f":"IF(C24017=\"\",\"\",VLOOKUP(U24017,Lookup!$A$1:$B$21,2,FALSE))","v":""},null,null,null,null,null,null,null,null,null,null,null,null,null,null,null,null,null,null,null,null,null,"X"]
[{"$f":"IF(C24159=\"\",\"\",VLOOKUP(D24159,Lookup!$D$1:$E$1051,2,FALSE))","v":""},{"$f":"IF(C24159=\"\",\"\",VLOOKUP(U24159,Lookup!$A$1:$B$21,2,FALSE))","v":""},null,null,null,null,null,null,null,null,null,null,null,null,null,null,null,null,null,null,null,null,null,"X"]
[{"$f":"IF(C24297=\"\",\"\",VLOOKUP(D24297,Lookup!$D$1:$E$1051,2,FALSE))","v":""},{"$f":"IF(C24297=\"\",\"\",VLOOKUP(U24297,Lookup!$A$1:$B$21,2,FALSE))","v":""},null,null,null,null,null,null,null,null,null,null,null,null,null,null,null,null,null,null,null,null,null,"X"]
[{"$f":"IF(C24357=\"\",\"\",VLOOKUP(D24357,Lookup!$D$1:$E$1051,2,FALSE))","v":""},{"$f":"IF(C24357=\"\",\"\",VLOOKUP(U24357,Lookup!$A$1:$B$21,2,FALSE))","v":""},null,null,null,null,null,null,null,null,null,null,null,null,null,null,null,null,null,null,null,null,null,"X"]
[{"$f":"IF(C24477=\"\",\"\",VLOOKUP(D24477,Lookup!$D$1:$E$1051,2,FALSE))","v":""},{"$f":"IF(C24477=\"\",\"\",VLOOKUP(U24477,Lookup!$A$1:$B$21,2,FALSE))","v":""},null,null,null,null,null,null,null,null,null,null,null,null,null,null,null,null,null,null,null,null,null,"X"]
[{"$f":"IF(C24516=\"\",\"\",VLOOKUP(D24516,Lookup!$D$1:$E$1051,2,FALSE))","v":""},{"$f":"IF(C24516=\"\",\"\",VLOOKUP(U24516,Lookup!$A$1:$B$21,2,FALSE))","v":""},null,null,null,null,null,null,null,null,null,null,null,null,null,null,null,null,null,null,null,null,null,"X"]
[{"$f":"IF(C24658=\"\",\"\",VLOOKUP(D24658,Lookup!$D$1:$E$1051,2,FALSE))","v":""},{"$f":"IF(C24658=\"\",\"\",VLOOKUP(U24658,Lookup!$A$1:$B$21,2,FALSE))","v":""},null,null,null,null,null,null,null,null,null,null,null,null,null,null,null,null,null,null,null,null,null,"X"]
[{"$f":"IF(C24760=\"\",\"\",VLOOKUP(D24760,Lookup!$D$1:$E$1051,2,FALSE))","v":""},{"$f":"IF(C24760=\"\",\"\",VLOOKUP(U24760,Lookup!$A$1:$B$21,2,FALSE))","v":""},null,null,null,null,null,null,null,null,null,null,null,null,null,null,null,null,null,null,null,null,null,"X"]
[{"$f":"IF(C24838=\"\",\"\",VLOOKUP(D24838,Lookup!$D$1:$E$1051,2,FALSE))","v":""},{"$f":"IF(C24838=\"\",\"\",VLOOKUP(U24838,Lookup!$A$1:$B$21,2,FALSE))","v":""},null,null,null,null,null,null,null,null,null,null,null,null,null,null,null,null,null,null,null,null,null,"X"]
[{"$f":"IF(C24976=\"\",\"\",VLOOKUP(D24976,Lookup!$D$1:$E$1051,2,FALSE))","v":""},{"$f":"IF(C24976=\"\",\"\",VLOOKUP(U24976,Lookup!$A$1:$B$21,2,FALSE))","v":""},null,null,null,null,null,null,null,null,null,null,null,null,null,null,null,null,null,null,null,null,null,"X"]
[{"$f":"IF(C25015=\"\",\"\",VLOOKUP(D25015,Lookup!$D$1:$E$1051,2,FALSE))","v":""},{"$f":"IF(C25015=\"\",\"\",VLOOKUP(U25015,Lookup!$A$1:$B$21,2,FALSE))","v":""},null,null,null,null,null,null,null,null,null,null,null,null,null,null,null,null,null,null,null,null,null,"X"]
[{"$f":"IF(C25153=\"\",\"\",VLOOKUP(D25153,Lookup!$D$1:$E$1051,2,FALSE))","v":""},{"$f":"IF(C25153=\"\",\"\",VLOOKUP(U25153,Lookup!$A$1:$B$21,2,FALSE))","v":""},null,null,null,null,null,null,null,null,null,null,null,null,null,null,null,null,null,null,null,null,null,"X"]
[{"$f":"IF(C25195=\"\",\"\",VLOOKUP(D25195,Lookup!$D$1:$E$1051,2,FALSE))","v":""},{"$f":"IF(C25195=\"\",\"\",VLOOKUP(U25195,Lookup!$A$1:$B$21,2,FALSE))","v":""},null,null,null,null,null,null,null,null,null,null,null,null,null,null,null,null,null,null,null,null,null,"X"]
[{"$f":"IF(C25333=\"\",\"\",VLOOKUP(D25333,Lookup!$D$1:$E$1051,2,FALSE))","v":""},{"$f":"IF(C25333=\"\",\"\",VLOOKUP(U25333,Lookup!$A$1:$B$21,2,FALSE))","v":""},null,null,null,null,null,null,null,null,null,null,null,null,null,null,null,null,null,null,null,null,null,"X"]
[{"$f":"IF(C25475=\"\",\"\",VLOOKUP(D25475,Lookup!$D$1:$E$1051,2,FALSE))","v":""},{"$f":"IF(C25475=\"\",\"\",VLOOKUP(U25475,Lookup!$A$1:$B$21,2,FALSE))","v":""},null,null,null,null,null,null,null,null,null,null,null,null,null,null,null,null,null,null,null,null,null,"X"]
[{"$f":"IF(C25556=\"\",\"\",VLOOKUP(D25556,Lookup!$D$1:$E$1051,2,FALSE))","v":""},{"$f":"IF(C25556=\"\",\"\",VLOOKUP(U25556,Lookup!$A$1:$B$21,2,FALSE))","v":""},null,null,null,null,null,null,null,null,null,null,null,null,null,null,null,null,null,null,null,null,null,"X"]
[{"$f":"IF(C25655=\"\",\"\",VLOOKUP(D25655,Lookup!$D$1:$E$1051,2,FALSE))","v":""},{"$f":"IF(C25655=\"\",\"\",VLOOKUP(U25655,Lookup!$A$1:$B$21,2,FALSE))","v":""},null,null,null,null,null,null,null,null,null,null,null,null,null,null,null,null,null,null,null,null,null,"X"]
[{"$f":"IF(C25694=\"\",\"\",VLOOKUP(D25694,Lookup!$D$1:$E$1051,2,FALSE))","v":""},{"$f":"IF(C25694=\"\",\"\",VLOOKUP(U25694,Lookup!$A$1:$B$21,2,FALSE))","v":""},null,null,null,null,null,null,null,null,null,null,null,null,null,null,null,null,null,null,null,null,null,"X"]
[{"$f":"IF(C25832=\"\",\"\",VLOOKUP(D25832,Lookup!$D$1:$E$1051,2,FALSE))","v":""},{"$f":"IF(C25832=\"\",\"\",VLOOKUP(U25832,Lookup!$A$1:$B$21,2,FALSE))","v":""},null,null,null,null,null,null,null,null,null,null,null,null,null,null,null,null,null,null,null,null,null,"X"]
[{"$f":"IF(C25949=\"\",\"\",VLOOKUP(D25949,Lookup!$D$1:$E$1051,2,FALSE))","v":""},{"$f":"IF(C25949=\"\",\"\",VLOOKUP(U25949,Lookup!$A$1:$B$21,2,FALSE))","v":""},null,null,null,null,null,null,null,null,null,null,null,null,null,null,null,null,null,null,null,null,null,"X"]
[{"$f":"IF(C26012=\"\",\"\",VLOOKUP(D26012,Lookup!$D$1:$E$1051,2,FALSE))","v":""},{"$f":"IF(C26012=\"\",\"\",VLOOKUP(U26012,Lookup!$A$1:$B$21,2,FALSE))","v":""},null,null,null,null,null,null,null,null,null,null,null,null,null,null,null,null,null,null,null,null,null,"X"]
[{"$f":"IF(C26154=\"\",\"\",VLOOKUP(D26154,Lookup!$D$1:$E$1051,2,FALSE))","v":""},{"$f":"IF(C26154=\"\",\"\",VLOOKUP(U26154,Lookup!$A$1:$B$21,2,FALSE))","v":""},null,null,null,null,null,null,null,null,null,null,null,null,null,null,null,null,null,null,null,null,null,"X"]
[{"$f":"IF(C26193=\"\",\"\",VLOOKUP(D26193,Lookup!$D$1:$E$1051,2,FALSE))","v":""},{"$f":"IF(C26193=\"\",\"\",VLOOKUP(U26193,Lookup!$A$1:$B$21,2,FALSE))","v":""},null,null,null,null,null,null,null,null,null,null,null,null,null,null,null,null,null,null,null,null,null,"X"]
[{"$f":"IF(C26352=\"\",\"\",VLOOKUP(D26352,Lookup!$D$1:$E$1051,2,FALSE))","v":""},{"$f":"IF(C26352=\"\",\"\",VLOOKUP(U26352,Lookup!$A$1:$B$21,2,FALSE))","v":""},null,null,null,null,null,null,null,null,null,null,null,null,null,null,null,null,null,null,null,null,null,"X"]
[{"$f":"IF(C26472=\"\",\"\",VLOOKUP(D26472,Lookup!$D$1:$E$1051,2,FALSE))","v":""},{"$f":"IF(C26472=\"\",\"\",VLOOKUP(U26472,Lookup!$A$1:$B$21,2,FALSE))","v":""},null,null,null,null,null,null,null,null,null,null,null,null,null,null,null,null,null,null,null,null,null,"X"]
[{"$f":"IF(C26511=\"\",\"\",VLOOKUP(D26511,Lookup!$D$1:$E$1051,2,FALSE))","v":""},{"$f":"IF(C26511=\"\",\"\",VLOOKUP(U26511,Lookup!$A$1:$B$21,2,FALSE))","v":""},null,null,null,null,null,null,null,null,null,null,null,null,null,null,null,null,null,null,null,null,null,"X"]
[{"$f":"IF(C26649=\"\",\"\",VLOOKUP(D26649,Lookup!$D$1:$E$1051,2,FALSE))","v":""},{"$f":"IF(C26649=\"\",\"\",VLOOKUP(U26649,Lookup!$A$1:$B$21,2,FALSE))","v":""},null,null,null,null,null,null,null,null,null,null,null,null,null,null,null,null,null,null,null,null,null,"X"]
[{"$f":"IF(C26745=\"\",\"\",VLOOKUP(D26745,Lookup!$D$1:$E$1051,2,FALSE))","v":""},{"$f":"IF(C26745=\"\",\"\",VLOOKUP(U26745,Lookup!$A$1:$B$21,2,FALSE))","v":""},null,null,null,null,null,null,null,null,null,null,null,null,null,null,null,null,null,null,null,null,null,"X"]
[{"$f":"IF(C26829=\"\",\"\",VLOOKUP(D26829,Lookup!$D$1:$E$1051,2,FALSE))","v":""},{"$f":"IF(C26829=\"\",\"\",VLOOKUP(U26829,Lookup!$A$1:$B$21,2,FALSE))","v":""},null,null,null,null,null,null,null,null,null,null,null,null,null,null,null,null,null,null,null,null,null,"X"]
[{"$f":"IF(C26971=\"\",\"\",VLOOKUP(D26971,Lookup!$D$1:$E$1051,2,FALSE))","v":""},{"$f":"IF(C26971=\"\",\"\",VLOOKUP(U26971,Lookup!$A$1:$B$21,2,FALSE))","v":""},null,null,null,null,null,null,null,null,null,null,null,null,null,null,null,null,null,null,null,null,null,"X"]
[{"$f":"IF(C27010=\"\",\"\",VLOOKUP(D27010,Lookup!$D$1:$E$1051,2,FALSE))","v":""},{"$f":"IF(C27010=\"\",\"\",VLOOKUP(U27010,Lookup!$A$1:$B$21,2,FALSE))","v":""},null,null,null,null,null,null,null,null,null,null,null,null,null,null,null,null,null,null,null,null,null,"X"]
[{"$f":"IF(C27148=\"\",\"\",VLOOKUP(D27148,Lookup!$D$1:$E$1051,2,FALSE))","v":""},{"$f":"IF(C27148=\"\",\"\",VLOOKUP(U27148,Lookup!$A$1:$B$21,2,FALSE))","v":""},null,null,null,null,null,null,null,null,null,null,null,null,null,null,null,null,null,null,null,null,null,"X"]
[{"$f":"IF(C27190=\"\",\"\",VLOOKUP(D27190,Lookup!$D$1:$E$1051,2,FALSE))","v":""},{"$f":"IF(C27190=\"\",\"\",VLOOKUP(U27190,Lookup!$A$1:$B$21,2,FALSE))","v":""},null,null,null,null,null,null,null,null,null,null,null,null,null,null,null,null,null,null,null,null,null,"X"]
[{"$f":"IF(C27328=\"\",\"\",VLOOKUP(D27328,Lookup!$D$1:$E$1051,2,FALSE))","v":""},{"$f":"IF(C27328=\"\",\"\",VLOOKUP(U27328,Lookup!$A$1:$B$21,2,FALSE))","v":""},null,null,null,null,null,null,null,null,null,null,null,null,null,null,null,null,null,null,null,null,null,"X"]
[{"$f":"IF(C27367=\"\",\"\",VLOOKUP(D27367,Lookup!$D$1:$E$1051,2,FALSE))","v":""},{"$f":"IF(C27367=\"\",\"\",VLOOKUP(U27367,Lookup!$A$1:$B$21,2,FALSE))","v":""},null,null,null,null,null,null,null,null,null,null,null,null,null,null,null,null,null,null,null,null,null,"X"]
[{"$f":"IF(C27541=\"\",\"\",VLOOKUP(D27541,Lookup!$D$1:$E$1051,2,FALSE))","v":""},{"$f":"IF(C27541=\"\",\"\",VLOOKUP(U27541,Lookup!$A$1:$B$21,2,FALSE))","v":""},null,null,null,null,null,null,null,null,null,null,null,null,null,null,null,null,null,null,null,null,null,"X"]
[{"$f":"IF(C27646=\"\",\"\",VLOOKUP(D27646,Lookup!$D$1:$E$1051,2,FALSE))","v":""},{"$f":"IF(C27646=\"\",\"\",VLOOKUP(U27646,Lookup!$A$1:$B$21,2,FALSE))","v":""},null,null,null,null,null,null,null,null,null,null,null,null,null,null,null,null,null,null,null,null,null,"X"]
[{"$f":"IF(C27689=\"\",\"\",VLOOKUP(D27689,Lookup!$D$1:$E$1051,2,FALSE))","v":""},{"$f":"IF(C27689=\"\",\"\",VLOOKUP(U27689,Lookup!$A$1:$B$21,2,FALSE))","v":""},null,null,null,null,null,null,null,null,null,null,null,null,null,null,null,null,null,null,null,null,null,"X"]
[{"$f":"IF(C27827=\"\",\"\",VLOOKUP(D27827,Lookup!$D$1:$E$1051,2,FALSE))","v":""},{"$f":"IF(C27827=\"\",\"\",VLOOKUP(U27827,Lookup!$A$1:$B$21,2,FALSE))","v":""},null,null,null,null,null,null,null,null,null,null,null,null,null,null,null,null,null,null,null,null,null,"X"]
[{"$f":"IF(C27944=\"\",\"\",VLOOKUP(D27944,Lookup!$D$1:$E$1051,2,FALSE))","v":""},{"$f":"IF(C27944=\"\",\"\",VLOOKUP(U27944,Lookup!$A$1:$B$21,2,FALSE))","v":""},null,null,null,null,null,null,null,null,null,null,null,null,null,null,null,null,null,null,null,null,null,"X"]
[{"$f":"IF(C28007=\"\",\"\",VLOOKUP(D28007,Lookup!$D$1:$E$1051,2,FALSE))","v":""},{"$f":"IF(C28007=\"\",\"\",VLOOKUP(U28007,Lookup!$A$1:$B$21,2,FALSE))","v":""},null,null,null,null,null,null,null,null,null,null,null,null,null,null,null,null,null,null,null,null,null,"X"]
[{"$f":"IF(C28145=\"\",\"\",VLOOKUP(D28145,Lookup!$D$1:$E$1051,2,FALSE))","v":""},{"$f":"IF(C28145=\"\",\"\",VLOOKUP(U28145,Lookup!$A$1:$B$21,2,FALSE))","v":""},null,null,null,null,null,null,null,null,null,null,null,null,null,null,null,null,null,null,null,null,null,"X"]
[{"$f":"IF(C28188=\"\",\"\",VLOOKUP(D28188,Lookup!$D$1:$E$1051,2,FALSE))","v":""},{"$f":"IF(C28188=\"\",\"\",VLOOKUP(U28188,Lookup!$A$1:$B$21,2,FALSE))","v":""},null,null,null,null,null,null,null,null,null,null,null,null,null,null,null,null,null,null,null,null,null,"X"]
[{"$f":"IF(C28337=\"\",\"\",VLOOKUP(D28337,Lookup!$D$1:$E$1051,2,FALSE))","v":""},{"$f":"IF(C28337=\"\",\"\",VLOOKUP(U28337,Lookup!$A$1:$B$21,2,FALSE))","v":""},null,null,null,null,null,null,null,null,null,null,null,null,null,null,null,null,null,null,null,null,null,"X"]
[{"$f":"IF(C28364=\"\",\"\",VLOOKUP(D28364,Lookup!$D$1:$E$1051,2,FALSE))","v":""},{"$f":"IF(C28364=\"\",\"\",VLOOKUP(U28364,Lookup!$A$1:$B$21,2,FALSE))","v":""},null,null,null,null,null,null,null,null,null,null,null,null,null,null,null,null,null,null,null,null,null,"X"]
[{"$f":"IF(C28506=\"\",\"\",VLOOKUP(D28506,Lookup!$D$1:$E$1051,2,FALSE))","v":""},{"$f":"IF(C28506=\"\",\"\",VLOOKUP(U28506,Lookup!$A$1:$B$21,2,FALSE))","v":""},null,null,null,null,null,null,null,null,null,null,null,null,null,null,null,null,null,null,null,null,null,"X"]
[{"$f":"IF(C28644=\"\",\"\",VLOOKUP(D28644,Lookup!$D$1:$E$1051,2,FALSE))","v":""},{"$f":"IF(C28644=\"\",\"\",VLOOKUP(U28644,Lookup!$A$1:$B$21,2,FALSE))","v":""},null,null,null,null,null,null,null,null,null,null,null,null,null,null,null,null,null,null,null,null,null,"X"]
[{"$f":"IF(C28740=\"\",\"\",VLOOKUP(D28740,Lookup!$D$1:$E$1051,2,FALSE))","v":""},{"$f":"IF(C28740=\"\",\"\",VLOOKUP(U28740,Lookup!$A$1:$B$21,2,FALSE))","v":""},null,null,null,null,null,null,null,null,null,null,null,null,null,null,null,null,null,null,null,null,null,"X"]
[{"$f":"IF(C28824=\"\",\"\",VLOOKUP(D28824,Lookup!$D$1:$E$1051,2,FALSE))","v":""},{"$f":"IF(C28824=\"\",\"\",VLOOKUP(U28824,Lookup!$A$1:$B$21,2,FALSE))","v":""},null,null,null,null,null,null,null,null,null,null,null,null,null,null,null,null,null,null,null,null,null,"X"]
[{"$f":"IF(C28863=\"\",\"\",VLOOKUP(D28863,Lookup!$D$1:$E$1051,2,FALSE))","v":""},{"$f":"IF(C28863=\"\",\"\",VLOOKUP(U28863,Lookup!$A$1:$B$21,2,FALSE))","v":""},null,null,null,null,null,null,null,null,null,null,null,null,null,null,null,null,null,null,null,null,null,"X"]
[{"$f":"IF(C29005=\"\",\"\",VLOOKUP(D29005,Lookup!$D$1:$E$1051,2,FALSE))","v":""},{"$f":"IF(C29005=\"\",\"\",VLOOKUP(U29005,Lookup!$A$1:$B$21,2,FALSE))","v":""},null,null,null,null,null,null,null,null,null,null,null,null,null,null,null,null,null,null,null,null,null,"X"]
[{"$f":"IF(C29133=\"\",\"\",VLOOKUP(D29133,Lookup!$D$1:$E$1051,2,FALSE))","v":""},{"$f":"IF(C29133=\"\",\"\",VLOOKUP(U29133,Lookup!$A$1:$B$21,2,FALSE))","v":""},null,null,null,null,null,null,null,null,null,null,null,null,null,null,null,null,null,null,null,null,null,"X"]
[{"$f":"IF(C29181=\"\",\"\",VLOOKUP(D29181,Lookup!$D$1:$E$1051,2,FALSE))","v":""},{"$f":"IF(C29181=\"\",\"\",VLOOKUP(U29181,Lookup!$A$1:$B$21,2,FALSE))","v":""},null,null,null,null,null,null,null,null,null,null,null,null,null,null,null,null,null,null,null,null,null,"X"]
[{"$f":"IF(C29323=\"\",\"\",VLOOKUP(D29323,Lookup!$D$1:$E$1051,2,FALSE))","v":""},{"$f":"IF(C29323=\"\",\"\",VLOOKUP(U29323,Lookup!$A$1:$B$21,2,FALSE))","v":""},null,null,null,null,null,null,null,null,null,null,null,null,null,null,null,null,null,null,null,null,null,"X"]
[{"$f":"IF(C29362=\"\",\"\",VLOOKUP(D29362,Lookup!$D$1:$E$1051,2,FALSE))","v":""},{"$f":"IF(C29362=\"\",\"\",VLOOKUP(U29362,Lookup!$A$1:$B$21,2,FALSE))","v":""},null,null,null,null,null,null,null,null,null,null,null,null,null,null,null,null,null,null,null,null,null,"X"]
[{"$f":"IF(C29526=\"\",\"\",VLOOKUP(D29526,Lookup!$D$1:$E$1051,2,FALSE))","v":""},{"$f":"IF(C29526=\"\",\"\",VLOOKUP(U29526,Lookup!$A$1:$B$21,2,FALSE))","v":""},null,null,null,null,null,null,null,null,null,null,null,null,null,null,null,null,null,null,null,null,null,"X"]
[{"$f":"IF(C29542=\"\",\"\",VLOOKUP(D29542,Lookup!$D$1:$E$1051,2,FALSE))","v":""},{"$f":"IF(C29542=\"\",\"\",VLOOKUP(U29542,Lookup!$A$1:$B$21,2,FALSE))","v":""},null,null,null,null,null,null,null,null,null,null,null,null,null,null,null,null,null,null,null,null,null,"X"]
[{"$f":"IF(C29680=\"\",\"\",VLOOKUP(D29680,Lookup!$D$1:$E$1051,2,FALSE))","v":""},{"$f":"IF(C29680=\"\",\"\",VLOOKUP(U29680,Lookup!$A$1:$B$21,2,FALSE))","v":""},null,null,null,null,null,null,null,null,null,null,null,null,null,null,null,null,null,null,null,null,null,"X"]
[{"$f":"IF(C29822=\"\",\"\",VLOOKUP(D29822,Lookup!$D$1:$E$1051,2,FALSE))","v":""},{"$f":"IF(C29822=\"\",\"\",VLOOKUP(U29822,Lookup!$A$1:$B$21,2,FALSE))","v":""},null,null,null,null,null,null,null,null,null,null,null,null,null,null,null,null,null,null,null,null,null,"X"]
[{"$f":"IF(C29929=\"\",\"\",VLOOKUP(D29929,Lookup!$D$1:$E$1051,2,FALSE))","v":""},{"$f":"IF(C29929=\"\",\"\",VLOOKUP(U29929,Lookup!$A$1:$B$21,2,FALSE))","v":""},null,null,null,null,null,null,null,null,null,null,null,null,null,null,null,null,null,null,null,null,null,"X"]
[{"$f":"IF(C29998=\"\",\"\",VLOOKUP(D29998,Lookup!$D$1:$E$1051,2,FALSE))","v":""},{"$f":"IF(C29998=\"\",\"\",VLOOKUP(U29998,Lookup!$A$1:$B$21,2,FALSE))","v":""},null,null,null,null,null,null,null,null,null,null,null,null,null,null,null,null,null,null,null,null,null,"X"]
[{"$f":"IF(C30041=\"\",\"\",VLOOKUP(D30041,Lookup!$D$1:$E$1051,2,FALSE))","v":""},{"$f":"IF(C30041=\"\",\"\",VLOOKUP(U30041,Lookup!$A$1:$B$21,2,FALSE))","v":""},null,null,null,null,null,null,null,null,null,null,null,null,null,null,null,null,null,null,null,null,null,"X"]
[{"$f":"IF(C30179=\"\",\"\",VLOOKUP(D30179,Lookup!$D$1:$E$1051,2,FALSE))","v":""},{"$f":"IF(C30179=\"\",\"\",VLOOKUP(U30179,Lookup!$A$1:$B$21,2,FALSE))","v":""},null,null,null,null,null,null,null,null,null,null,null,null,null,null,null,null,null,null,null,null,null,"X"]
[{"$f":"IF(C30322=\"\",\"\",VLOOKUP(D30322,Lookup!$D$1:$E$1051,2,FALSE))","v":""},{"$f":"IF(C30322=\"\",\"\",VLOOKUP(U30322,Lookup!$A$1:$B$21,2,FALSE))","v":""},null,null,null,null,null,null,null,null,null,null,null,null,null,null,null,null,null,null,null,null,null,"X"]
[{"$f":"IF(C30359=\"\",\"\",VLOOKUP(D30359,Lookup!$D$1:$E$1051,2,FALSE))","v":""},{"$f":"IF(C30359=\"\",\"\",VLOOKUP(U30359,Lookup!$A$1:$B$21,2,FALSE))","v":""},null,null,null,null,null,null,null,null,null,null,null,null,null,null,null,null,null,null,null,null,null,"X"]
[{"$f":"IF(C30497=\"\",\"\",VLOOKUP(D30497,Lookup!$D$1:$E$1051,2,FALSE))","v":""},{"$f":"IF(C30497=\"\",\"\",VLOOKUP(U30497,Lookup!$A$1:$B$21,2,FALSE))","v":""},null,null,null,null,null,null,null,null,null,null,null,null,null,null,null,null,null,null,null,null,null,"X"]
[{"$f":"IF(C30540=\"\",\"\",VLOOKUP(D30540,Lookup!$D$1:$E$1051,2,FALSE))","v":""},{"$f":"IF(C30540=\"\",\"\",VLOOKUP(U30540,Lookup!$A$1:$B$21,2,FALSE))","v":""},null,null,null,null,null,null,null,null,null,null,null,null,null,null,null,null,null,null,null,null,null,"X"]
[{"$f":"IF(C30627=\"\",\"\",VLOOKUP(D30627,Lookup!$D$1:$E$1051,2,FALSE))","v":""},{"$f":"IF(C30627=\"\",\"\",VLOOKUP(U30627,Lookup!$A$1:$B$21,2,FALSE))","v":""},null,null,null,null,null,null,null,null,null,null,null,null,null,null,null,null,null,null,null,null,null,"X"]
[{"$f":"IF(C30815=\"\",\"\",VLOOKUP(D30815,Lookup!$D$1:$E$1051,2,FALSE))","v":""},{"$f":"IF(C30815=\"\",\"\",VLOOKUP(U30815,Lookup!$A$1:$B$21,2,FALSE))","v":""},null,null,null,null,null,null,null,null,null,null,null,null,null,null,null,null,null,null,null,null,null,"X"]
[{"$f":"IF(C30858=\"\",\"\",VLOOKUP(D30858,Lookup!$D$1:$E$1051,2,FALSE))","v":""},{"$f":"IF(C30858=\"\",\"\",VLOOKUP(U30858,Lookup!$A$1:$B$21,2,FALSE))","v":""},null,null,null,null,null,null,null,null,null,null,null,null,null,null,null,null,null,null,null,null,null,"X"]
[{"$f":"IF(C30996=\"\",\"\",VLOOKUP(D30996,Lookup!$D$1:$E$1051,2,FALSE))","v":""},{"$f":"IF(C30996=\"\",\"\",VLOOKUP(U30996,Lookup!$A$1:$B$21,2,FALSE))","v":""},null,null,null,null,null,null,null,null,null,null,null,null,null,null,null,null,null,null,null,null,null,"X"]
[{"$f":"IF(C31118=\"\",\"\",VLOOKUP(D31118,Lookup!$D$1:$E$1051,2,FALSE))","v":""},{"$f":"IF(C31118=\"\",\"\",VLOOKUP(U31118,Lookup!$A$1:$B$21,2,FALSE))","v":""},null,null,null,null,null,null,null,null,null,null,null,null,null,null,null,null,null,null,null,null,null,"X"]
[{"$f":"IF(C31176=\"\",\"\",VLOOKUP(D31176,Lookup!$D$1:$E$1051,2,FALSE))","v":""},{"$f":"IF(C31176=\"\",\"\",VLOOKUP(U31176,Lookup!$A$1:$B$21,2,FALSE))","v":""},null,null,null,null,null,null,null,null,null,null,null,null,null,null,null,null,null,null,null,null,null,"X"]
[{"$f":"IF(C31314=\"\",\"\",VLOOKUP(D31314,Lookup!$D$1:$E$1051,2,FALSE))","v":""},{"$f":"IF(C31314=\"\",\"\",VLOOKUP(U31314,Lookup!$A$1:$B$21,2,FALSE))","v":""},null,null,null,null,null,null,null,null,null,null,null,null,null,null,null,null,null,null,null,null,null,"X"]
[{"$f":"IF(C31357=\"\",\"\",VLOOKUP(D31357,Lookup!$D$1:$E$1051,2,FALSE))","v":""},{"$f":"IF(C31357=\"\",\"\",VLOOKUP(U31357,Lookup!$A$1:$B$21,2,FALSE))","v":""},null,null,null,null,null,null,null,null,null,null,null,null,null,null,null,null,null,null,null,null,null,"X"]
[{"$f":"IF(C31423=\"\",\"\",VLOOKUP(D31423,Lookup!$D$1:$E$1051,2,FALSE))","v":""},{"$f":"IF(C31423=\"\",\"\",VLOOKUP(U31423,Lookup!$A$1:$B$21,2,FALSE))","v":""},null,null,null,null,null,null,null,null,null,null,null,null,null,null,null,null,null,null,null,null,null,"X"]
[{"$f":"IF(C31537=\"\",\"\",VLOOKUP(D31537,Lookup!$D$1:$E$1051,2,FALSE))","v":""},{"$f":"IF(C31537=\"\",\"\",VLOOKUP(U31537,Lookup!$A$1:$B$21,2,FALSE))","v":""},null,null,null,null,null,null,null,null,null,null,null,null,null,null,null,null,null,null,null,null,null,"X"]
[{"$f":"IF(C31675=\"\",\"\",VLOOKUP(D31675,Lookup!$D$1:$E$1051,2,FALSE))","v":""},{"$f":"IF(C31675=\"\",\"\",VLOOKUP(U31675,Lookup!$A$1:$B$21,2,FALSE))","v":""},null,null,null,null,null,null,null,null,null,null,null,null,null,null,null,null,null,null,null,null,null,"X"]
[{"$f":"IF(C31714=\"\",\"\",VLOOKUP(D31714,Lookup!$D$1:$E$1051,2,FALSE))","v":""},{"$f":"IF(C31714=\"\",\"\",VLOOKUP(U31714,Lookup!$A$1:$B$21,2,FALSE))","v":""},null,null,null,null,null,null,null,null,null,null,null,null,null,null,null,null,null,null,null,null,null,"X"]
[{"$f":"IF(C31816=\"\",\"\",VLOOKUP(D31816,Lookup!$D$1:$E$1051,2,FALSE))","v":""},{"$f":"IF(C31816=\"\",\"\",VLOOKUP(U31816,Lookup!$A$1:$B$21,2,FALSE))","v":""},null,null,null,null,null,null,null,null,null,null,null,null,null,null,null,null,null,null,null,null,null,"X"]
[{"$f":"IF(C31993=\"\",\"\",VLOOKUP(D31993,Lookup!$D$1:$E$1051,2,FALSE))","v":""},{"$f":"IF(C31993=\"\",\"\",VLOOKUP(U31993,Lookup!$A$1:$B$21,2,FALSE))","v":""},null,null,null,null,null,null,null,null,null,null,null,null,null,null,null,null,null,null,null,null,null,"X"]
[{"$f":"IF(C32032=\"\",\"\",VLOOKUP(D32032,Lookup!$D$1:$E$1051,2,FALSE))","v":""},{"$f":"IF(C32032=\"\",\"\",VLOOKUP(U32032,Lookup!$A$1:$B$21,2,FALSE))","v":""},null,null,null,null,null,null,null,null,null,null,null,null,null,null,null,null,null,null,null,null,null,"X"]
[{"$f":"IF(C32174=\"\",\"\",VLOOKUP(D32174,Lookup!$D$1:$E$1051,2,FALSE))","v":""},{"$f":"IF(C32174=\"\",\"\",VLOOKUP(U32174,Lookup!$A$1:$B$21,2,FALSE))","v":""},null,null,null,null,null,null,null,null,null,null,null,null,null,null,null,null,null,null,null,null,null,"X"]
[{"$f":"IF(C32219=\"\",\"\",VLOOKUP(D32219,Lookup!$D$1:$E$1051,2,FALSE))","v":""},{"$f":"IF(C32219=\"\",\"\",VLOOKUP(U32219,Lookup!$A$1:$B$21,2,FALSE))","v":""},null,null,null,null,null,null,null,null,null,null,null,null,null,null,null,null,null,null,null,null,null,"X"]
[{"$f":"IF(C32354=\"\",\"\",VLOOKUP(D32354,Lookup!$D$1:$E$1051,2,FALSE))","v":""},{"$f":"IF(C32354=\"\",\"\",VLOOKUP(U32354,Lookup!$A$1:$B$21,2,FALSE))","v":""},null,null,null,null,null,null,null,null,null,null,null,null,null,null,null,null,null,null,null,null,null,"X"]
[{"$f":"IF(C32492=\"\",\"\",VLOOKUP(D32492,Lookup!$D$1:$E$1051,2,FALSE))","v":""},{"$f":"IF(C32492=\"\",\"\",VLOOKUP(U32492,Lookup!$A$1:$B$21,2,FALSE))","v":""},null,null,null,null,null,null,null,null,null,null,null,null,null,null,null,null,null,null,null,null,null,"X"]
[{"$f":"IF(C32531=\"\",\"\",VLOOKUP(D32531,Lookup!$D$1:$E$1051,2,FALSE))","v":""},{"$f":"IF(C32531=\"\",\"\",VLOOKUP(U32531,Lookup!$A$1:$B$21,2,FALSE))","v":""},null,null,null,null,null,null,null,null,null,null,null,null,null,null,null,null,null,null,null,null,null,"X"]
[{"$f":"IF(C32612=\"\",\"\",VLOOKUP(D32612,Lookup!$D$1:$E$1051,2,FALSE))","v":""},{"$f":"IF(C32612=\"\",\"\",VLOOKUP(U32612,Lookup!$A$1:$B$21,2,FALSE))","v":""},null,null,null,null,null,null,null,null,null,null,null,null,null,null,null,null,null,null,null,null,null,"X"]
[{"$f":"IF(C32711=\"\",\"\",VLOOKUP(D32711,Lookup!$D$1:$E$1051,2,FALSE))","v":""},{"$f":"IF(C32711=\"\",\"\",VLOOKUP(U32711,Lookup!$A$1:$B$21,2,FALSE))","v":""},null,null,null,null,null,null,null,null,null,null,null,null,null,null,null,null,null,null,null,null,null,"X"]
[{"$f":"IF(C32849=\"\",\"\",VLOOKUP(D32849,Lookup!$D$1:$E$1051,2,FALSE))","v":""},{"$f":"IF(C32849=\"\",\"\",VLOOKUP(U32849,Lookup!$A$1:$B$21,2,FALSE))","v":""},null,null,null,null,null,null,null,null,null,null,null,null,null,null,null,null,null,null,null,null,null,"X"]
[{"$f":"IF(C32991=\"\",\"\",VLOOKUP(D32991,Lookup!$D$1:$E$1051,2,FALSE))","v":""},{"$f":"IF(C32991=\"\",\"\",VLOOKUP(U32991,Lookup!$A$1:$B$21,2,FALSE))","v":""},null,null,null,null,null,null,null,null,null,null,null,null,null,null,null,null,null,null,null,null,null,"X"]
[{"$f":"IF(C33015=\"\",\"\",VLOOKUP(D33015,Lookup!$D$1:$E$1051,2,FALSE))","v":""},{"$f":"IF(C33015=\"\",\"\",VLOOKUP(U33015,Lookup!$A$1:$B$21,2,FALSE))","v":""},null,null,null,null,null,null,null,null,null,null,null,null,null,null,null,null,null,null,null,null,null,"X"]
[{"$f":"IF(C33171=\"\",\"\",VLOOKUP(D33171,Lookup!$D$1:$E$1051,2,FALSE))","v":""},{"$f":"IF(C33171=\"\",\"\",VLOOKUP(U33171,Lookup!$A$1:$B$21,2,FALSE))","v":""},null,null,null,null,null,null,null,null,null,null,null,null,null,null,null,null,null,null,null,null,null,"X"]
[{"$f":"IF(C33210=\"\",\"\",VLOOKUP(D33210,Lookup!$D$1:$E$1051,2,FALSE))","v":""},{"$f":"IF(C33210=\"\",\"\",VLOOKUP(U33210,Lookup!$A$1:$B$21,2,FALSE))","v":""},null,null,null,null,null,null,null,null,null,null,null,null,null,null,null,null,null,null,null,null,null,"X"]
[{"$f":"IF(C33348=\"\",\"\",VLOOKUP(D33348,Lookup!$D$1:$E$1051,2,FALSE))","v":""},{"$f":"IF(C33348=\"\",\"\",VLOOKUP(U33348,Lookup!$A$1:$B$21,2,FALSE))","v":""},null,null,null,null,null,null,null,null,null,null,null,null,null,null,null,null,null,null,null,null,null,"X"]
[{"$f":"IF(C33408=\"\",\"\",VLOOKUP(D33408,Lookup!$D$1:$E$1051,2,FALSE))","v":""},{"$f":"IF(C33408=\"\",\"\",VLOOKUP(U33408,Lookup!$A$1:$B$21,2,FALSE))","v":""},null,null,null,null,null,null,null,null,null,null,null,null,null,null,null,null,null,null,null,null,null,"X"]
[{"$f":"IF(C33528=\"\",\"\",VLOOKUP(D33528,Lookup!$D$1:$E$1051,2,FALSE))","v":""},{"$f":"IF(C33528=\"\",\"\",VLOOKUP(U33528,Lookup!$A$1:$B$21,2,FALSE))","v":""},null,null,null,null,null,null,null,null,null,null,null,null,null,null,null,null,null,null,null,null,null,"X"]
[{"$f":"IF(C33670=\"\",\"\",VLOOKUP(D33670,Lookup!$D$1:$E$1051,2,FALSE))","v":""},{"$f":"IF(C33670=\"\",\"\",VLOOKUP(U33670,Lookup!$A$1:$B$21,2,FALSE))","v":""},null,null,null,null,null,null,null,null,null,null,null,null,null,null,null,null,null,null,null,null,null,"X"]
[{"$f":"IF(C33709=\"\",\"\",VLOOKUP(D33709,Lookup!$D$1:$E$1051,2,FALSE))","v":""},{"$f":"IF(C33709=\"\",\"\",VLOOKUP(U33709,Lookup!$A$1:$B$21,2,FALSE))","v":""},null,null,null,null,null,null,null,null,null,null,null,null,null,null,null,null,null,null,null,null,null,"X"]
[{"$f":"IF(C33811=\"\",\"\",VLOOKUP(D33811,Lookup!$D$1:$E$1051,2,FALSE))","v":""},{"$f":"IF(C33811=\"\",\"\",VLOOKUP(U33811,Lookup!$A$1:$B$21,2,FALSE))","v":""},null,null,null,null,null,null,null,null,null,null,null,null,null,null,null,null,null,null,null,null,null,"X"]
[{"$f":"IF(C33889=\"\",\"\",VLOOKUP(D33889,Lookup!$D$1:$E$1051,2,FALSE))","v":""},{"$f":"IF(C33889=\"\",\"\",VLOOKUP(U33889,Lookup!$A$1:$B$21,2,FALSE))","v":""},null,null,null,null,null,null,null,null,null,null,null,null,null,null,null,null,null,null,null,null,null,"X"]
[{"$f":"IF(C34027=\"\",\"\",VLOOKUP(D34027,Lookup!$D$1:$E$1051,2,FALSE))","v":""},{"$f":"IF(C34027=\"\",\"\",VLOOKUP(U34027,Lookup!$A$1:$B$21,2,FALSE))","v":""},null,null,null,null,null,null,null,null,null,null,null,null,null,null,null,null,null,null,null,null,null,"X"]
[{"$f":"IF(C34165=\"\",\"\",VLOOKUP(D34165,Lookup!$D$1:$E$1051,2,FALSE))","v":""},{"$f":"IF(C34165=\"\",\"\",VLOOKUP(U34165,Lookup!$A$1:$B$21,2,FALSE))","v":""},null,null,null,null,null,null,null,null,null,null,null,null,null,null,null,null,null,null,null,null,null,"X"]
[{"$f":"IF(C34204=\"\",\"\",VLOOKUP(D34204,Lookup!$D$1:$E$1051,2,FALSE))","v":""},{"$f":"IF(C34204=\"\",\"\",VLOOKUP(U34204,Lookup!$A$1:$B$21,2,FALSE))","v":""},null,null,null,null,null,null,null,null,null,null,null,null,null,null,null,null,null,null,null,null,null,"X"]
[{"$f":"IF(C34345=\"\",\"\",VLOOKUP(D34345,Lookup!$D$1:$E$1051,2,FALSE))","v":""},{"$f":"IF(C34345=\"\",\"\",VLOOKUP(U34345,Lookup!$A$1:$B$21,2,FALSE))","v":""},null,null,null,null,null,null,null,null,null,null,null,null,null,null,null,null,null,null,null,null,null,"X"]
[{"$f":"IF(C34388=\"\",\"\",VLOOKUP(D34388,Lookup!$D$1:$E$1051,2,FALSE))","v":""},{"$f":"IF(C34388=\"\",\"\",VLOOKUP(U34388,Lookup!$A$1:$B$21,2,FALSE))","v":""},null,null,null,null,null,null,null,null,null,null,null,null,null,null,null,null,null,null,null,null,null,"X"]
[{"$f":"IF(C34526=\"\",\"\",VLOOKUP(D34526,Lookup!$D$1:$E$1051,2,FALSE))","v":""},{"$f":"IF(C34526=\"\",\"\",VLOOKUP(U34526,Lookup!$A$1:$B$21,2,FALSE))","v":""},null,null,null,null,null,null,null,null,null,null,null,null,null,null,null,null,null,null,null,null,null,"X"]
[{"$f":"IF(C34607=\"\",\"\",VLOOKUP(D34607,Lookup!$D$1:$E$1051,2,FALSE))","v":""},{"$f":"IF(C34607=\"\",\"\",VLOOKUP(U34607,Lookup!$A$1:$B$21,2,FALSE))","v":""},null,null,null,null,null,null,null,null,null,null,null,null,null,null,null,null,null,null,null,null,null,"X"]
[{"$f":"IF(C34706=\"\",\"\",VLOOKUP(D34706,Lookup!$D$1:$E$1051,2,FALSE))","v":""},{"$f":"IF(C34706=\"\",\"\",VLOOKUP(U34706,Lookup!$A$1:$B$21,2,FALSE))","v":""},null,null,null,null,null,null,null,null,null,null,null,null,null,null,null,null,null,null,null,null,null,"X"]
[{"$f":"IF(C34844=\"\",\"\",VLOOKUP(D34844,Lookup!$D$1:$E$1051,2,FALSE))","v":""},{"$f":"IF(C34844=\"\",\"\",VLOOKUP(U34844,Lookup!$A$1:$B$21,2,FALSE))","v":""},null,null,null,null,null,null,null,null,null,null,null,null,null,null,null,null,null,null,null,null,null,"X"]
[{"$f":"IF(C34887=\"\",\"\",VLOOKUP(D34887,Lookup!$D$1:$E$1051,2,FALSE))","v":""},{"$f":"IF(C34887=\"\",\"\",VLOOKUP(U34887,Lookup!$A$1:$B$21,2,FALSE))","v":""},null,null,null,null,null,null,null,null,null,null,null,null,null,null,null,null,null,null,null,null,null,"X"]
[{"$f":"IF(C35000=\"\",\"\",VLOOKUP(D35000,Lookup!$D$1:$E$1051,2,FALSE))","v":""},{"$f":"IF(C35000=\"\",\"\",VLOOKUP(U35000,Lookup!$A$1:$B$21,2,FALSE))","v":""},null,null,null,null,null,null,null,null,null,null,null,null,null,null,null,null,null,null,null,null,null,"X"]
[{"$f":"IF(C35162=\"\",\"\",VLOOKUP(D35162,Lookup!$D$1:$E$1051,2,FALSE))","v":""},{"$f":"IF(C35162=\"\",\"\",VLOOKUP(U35162,Lookup!$A$1:$B$21,2,FALSE))","v":""},null,null,null,null,null,null,null,null,null,null,null,null,null,null,null,null,null,null,null,null,null,"X"]
[{"$f":"IF(C35205=\"\",\"\",VLOOKUP(D35205,Lookup!$D$1:$E$1051,2,FALSE))","v":""},{"$f":"IF(C35205=\"\",\"\",VLOOKUP(U35205,Lookup!$A$1:$B$21,2,FALSE))","v":""},null,null,null,null,null,null,null,null,null,null,null,null,null,null,null,null,null,null,null,null,null,"X"]
[{"$f":"IF(C35343=\"\",\"\",VLOOKUP(D35343,Lookup!$D$1:$E$1051,2,FALSE))","v":""},{"$f":"IF(C35343=\"\",\"\",VLOOKUP(U35343,Lookup!$A$1:$B$21,2,FALSE))","v":""},null,null,null,null,null,null,null,null,null,null,null,null,null,null,null,null,null,null,null,null,null,"X"]
[{"$f":"IF(C35403=\"\",\"\",VLOOKUP(D35403,Lookup!$D$1:$E$1051,2,FALSE))","v":""},{"$f":"IF(C35403=\"\",\"\",VLOOKUP(U35403,Lookup!$A$1:$B$21,2,FALSE))","v":""},null,null,null,null,null,null,null,null,null,null,null,null,null,null,null,null,null,null,null,null,null,"X"]
[{"$f":"IF(C35523=\"\",\"\",VLOOKUP(D35523,Lookup!$D$1:$E$1051,2,FALSE))","v":""},{"$f":"IF(C35523=\"\",\"\",VLOOKUP(U35523,Lookup!$A$1:$B$21,2,FALSE))","v":""},null,null,null,null,null,null,null,null,null,null,null,null,null,null,null,null,null,null,null,null,null,"X"]
[{"$f":"IF(C35661=\"\",\"\",VLOOKUP(D35661,Lookup!$D$1:$E$1051,2,FALSE))","v":""},{"$f":"IF(C35661=\"\",\"\",VLOOKUP(U35661,Lookup!$A$1:$B$21,2,FALSE))","v":""},null,null,null,null,null,null,null,null,null,null,null,null,null,null,null,null,null,null,null,null,null,"X"]
[{"$f":"IF(C35704=\"\",\"\",VLOOKUP(D35704,Lookup!$D$1:$E$1051,2,FALSE))","v":""},{"$f":"IF(C35704=\"\",\"\",VLOOKUP(U35704,Lookup!$A$1:$B$21,2,FALSE))","v":""},null,null,null,null,null,null,null,null,null,null,null,null,null,null,null,null,null,null,null,null,null,"X"]
[{"$f":"IF(C35796=\"\",\"\",VLOOKUP(D35796,Lookup!$D$1:$E$1051,2,FALSE))","v":""},{"$f":"IF(C35796=\"\",\"\",VLOOKUP(U35796,Lookup!$A$1:$B$21,2,FALSE))","v":""},null,null,null,null,null,null,null,null,null,null,null,null,null,null,null,null,null,null,null,null,null,"X"]
[{"$f":"IF(C35880=\"\",\"\",VLOOKUP(D35880,Lookup!$D$1:$E$1051,2,FALSE))","v":""},{"$f":"IF(C35880=\"\",\"\",VLOOKUP(U35880,Lookup!$A$1:$B$21,2,FALSE))","v":""},null,null,null,null,null,null,null,null,null,null,null,null,null,null,null,null,null,null,null,null,null,"X"]
[{"$f":"IF(C36022=\"\",\"\",VLOOKUP(D36022,Lookup!$D$1:$E$1051,2,FALSE))","v":""},{"$f":"IF(C36022=\"\",\"\",VLOOKUP(U36022,Lookup!$A$1:$B$21,2,FALSE))","v":""},null,null,null,null,null,null,null,null,null,null,null,null,null,null,null,null,null,null,null,null,null,"X"]
[{"$f":"IF(C36061=\"\",\"\",VLOOKUP(D36061,Lookup!$D$1:$E$1051,2,FALSE))","v":""},{"$f":"IF(C36061=\"\",\"\",VLOOKUP(U36061,Lookup!$A$1:$B$21,2,FALSE))","v":""},null,null,null,null,null,null,null,null,null,null,null,null,null,null,null,null,null,null,null,null,null,"X"]
[{"$f":"IF(C36199=\"\",\"\",VLOOKUP(D36199,Lookup!$D$1:$E$1051,2,FALSE))","v":""},{"$f":"IF(C36199=\"\",\"\",VLOOKUP(U36199,Lookup!$A$1:$B$21,2,FALSE))","v":""},null,null,null,null,null,null,null,null,null,null,null,null,null,null,null,null,null,null,null,null,null,"X"]
[{"$f":"IF(C36340=\"\",\"\",VLOOKUP(D36340,Lookup!$D$1:$E$1051,2,FALSE))","v":""},{"$f":"IF(C36340=\"\",\"\",VLOOKUP(U36340,Lookup!$A$1:$B$21,2,FALSE))","v":""},null,null,null,null,null,null,null,null,null,null,null,null,null,null,null,null,null,null,null,null,null,"X"]
[{"$f":"IF(C36379=\"\",\"\",VLOOKUP(D36379,Lookup!$D$1:$E$1051,2,FALSE))","v":""},{"$f":"IF(C36379=\"\",\"\",VLOOKUP(U36379,Lookup!$A$1:$B$21,2,FALSE))","v":""},null,null,null,null,null,null,null,null,null,null,null,null,null,null,null,null,null,null,null,null,null,"X"]
[{"$f":"IF(C36521=\"\",\"\",VLOOKUP(D36521,Lookup!$D$1:$E$1051,2,FALSE))","v":""},{"$f":"IF(C36521=\"\",\"\",VLOOKUP(U36521,Lookup!$A$1:$B$21,2,FALSE))","v":""},null,null,null,null,null,null,null,null,null,null,null,null,null,null,null,null,null,null,null,null,null,"X"]
[{"$f":"IF(C36592=\"\",\"\",VLOOKUP(D36592,Lookup!$D$1:$E$1051,2,FALSE))","v":""},{"$f":"IF(C36592=\"\",\"\",VLOOKUP(U36592,Lookup!$A$1:$B$21,2,FALSE))","v":""},null,null,null,null,null,null,null,null,null,null,null,null,null,null,null,null,null,null,null,null,null,"X"]
[{"$f":"IF(C36697=\"\",\"\",VLOOKUP(D36697,Lookup!$D$1:$E$1051,2,FALSE))","v":""},{"$f":"IF(C36697=\"\",\"\",VLOOKUP(U36697,Lookup!$A$1:$B$21,2,FALSE))","v":""},null,null,null,null,null,null,null,null,null,null,null,null,null,null,null,null,null,null,null,null,null,"X"]
[{"$f":"IF(C36839=\"\",\"\",VLOOKUP(D36839,Lookup!$D$1:$E$1051,2,FALSE))","v":""},{"$f":"IF(C36839=\"\",\"\",VLOOKUP(U36839,Lookup!$A$1:$B$21,2,FALSE))","v":""},null,null,null,null,null,null,null,null,null,null,null,null,null,null,null,null,null,null,null,null,null,"X"]
[{"$f":"IF(C36878=\"\",\"\",VLOOKUP(D36878,Lookup!$D$1:$E$1051,2,FALSE))","v":""},{"$f":"IF(C36878=\"\",\"\",VLOOKUP(U36878,Lookup!$A$1:$B$21,2,FALSE))","v":""},null,null,null,null,null,null,null,null,null,null,null,null,null,null,null,null,null,null,null,null,null,"X"]
[{"$f":"IF(C36985=\"\",\"\",VLOOKUP(D36985,Lookup!$D$1:$E$1051,2,FALSE))","v":""},{"$f":"IF(C36985=\"\",\"\",VLOOKUP(U36985,Lookup!$A$1:$B$21,2,FALSE))","v":""},null,null,null,null,null,null,null,null,null,null,null,null,null,null,null,null,null,null,null,null,null,"X"]
[{"$f":"IF(C37058=\"\",\"\",VLOOKUP(D37058,Lookup!$D$1:$E$1051,2,FALSE))","v":""},{"$f":"IF(C37058=\"\",\"\",VLOOKUP(U37058,Lookup!$A$1:$B$21,2,FALSE))","v":""},null,null,null,null,null,null,null,null,null,null,null,null,null,null,null,null,null,null,null,null,null,"X"]
[{"$f":"IF(C37196=\"\",\"\",VLOOKUP(D37196,Lookup!$D$1:$E$1051,2,FALSE))","v":""},{"$f":"IF(C37196=\"\",\"\",VLOOKUP(U37196,Lookup!$A$1:$B$21,2,FALSE))","v":""},null,null,null,null,null,null,null,null,null,null,null,null,null,null,null,null,null,null,null,null,null,"X"]
[{"$f":"IF(C37338=\"\",\"\",VLOOKUP(D37338,Lookup!$D$1:$E$1051,2,FALSE))","v":""},{"$f":"IF(C37338=\"\",\"\",VLOOKUP(U37338,Lookup!$A$1:$B$21,2,FALSE))","v":""},null,null,null,null,null,null,null,null,null,null,null,null,null,null,null,null,null,null,null,null,null,"X"]
[{"$f":"IF(C37388=\"\",\"\",VLOOKUP(D37388,Lookup!$D$1:$E$1051,2,FALSE))","v":""},{"$f":"IF(C37388=\"\",\"\",VLOOKUP(U37388,Lookup!$A$1:$B$21,2,FALSE))","v":""},null,null,null,null,null,null,null,null,null,null,null,null,null,null,null,null,null,null,null,null,null,"X"]
[{"$f":"IF(C37514=\"\",\"\",VLOOKUP(D37514,Lookup!$D$1:$E$1051,2,FALSE))","v":""},{"$f":"IF(C37514=\"\",\"\",VLOOKUP(U37514,Lookup!$A$1:$B$21,2,FALSE))","v":""},null,null,null,null,null,null,null,null,null,null,null,null,null,null,null,null,null,null,null,null,null,"X"]
[{"$f":"IF(C37557=\"\",\"\",VLOOKUP(D37557,Lookup!$D$1:$E$1051,2,FALSE))","v":""},{"$f":"IF(C37557=\"\",\"\",VLOOKUP(U37557,Lookup!$A$1:$B$21,2,FALSE))","v":""},null,null,null,null,null,null,null,null,null,null,null,null,null,null,null,null,null,null,null,null,null,"X"]
[{"$f":"IF(C37695=\"\",\"\",VLOOKUP(D37695,Lookup!$D$1:$E$1051,2,FALSE))","v":""},{"$f":"IF(C37695=\"\",\"\",VLOOKUP(U37695,Lookup!$A$1:$B$21,2,FALSE))","v":""},null,null,null,null,null,null,null,null,null,null,null,null,null,null,null,null,null,null,null,null,null,"X"]
[{"$f":"IF(C37781=\"\",\"\",VLOOKUP(D37781,Lookup!$D$1:$E$1051,2,FALSE))","v":""},{"$f":"IF(C37781=\"\",\"\",VLOOKUP(U37781,Lookup!$A$1:$B$21,2,FALSE))","v":""},null,null,null,null,null,null,null,null,null,null,null,null,null,null,null,null,null,null,null,null,null,"X"]
[{"$f":"IF(C37875=\"\",\"\",VLOOKUP(D37875,Lookup!$D$1:$E$1051,2,FALSE))","v":""},{"$f":"IF(C37875=\"\",\"\",VLOOKUP(U37875,Lookup!$A$1:$B$21,2,FALSE))","v":""},null,null,null,null,null,null,null,null,null,null,null,null,null,null,null,null,null,null,null,null,null,"X"]
[{"$f":"IF(C38013=\"\",\"\",VLOOKUP(D38013,Lookup!$D$1:$E$1051,2,FALSE))","v":""},{"$f":"IF(C38013=\"\",\"\",VLOOKUP(U38013,Lookup!$A$1:$B$21,2,FALSE))","v":""},null,null,null,null,null,null,null,null,null,null,null,null,null,null,null,null,null,null,null,null,null,"X"]
[{"$f":"IF(C38056=\"\",\"\",VLOOKUP(D38056,Lookup!$D$1:$E$1051,2,FALSE))","v":""},{"$f":"IF(C38056=\"\",\"\",VLOOKUP(U38056,Lookup!$A$1:$B$21,2,FALSE))","v":""},null,null,null,null,null,null,null,null,null,null,null,null,null,null,null,null,null,null,null,null,null,"X"]
[{"$f":"IF(C38184=\"\",\"\",VLOOKUP(D38184,Lookup!$D$1:$E$1051,2,FALSE))","v":""},{"$f":"IF(C38184=\"\",\"\",VLOOKUP(U38184,Lookup!$A$1:$B$21,2,FALSE))","v":""},null,null,null,null,null,null,null,null,null,null,null,null,null,null,null,null,null,null,null,null,null,"X"]
[{"$f":"IF(C38236=\"\",\"\",VLOOKUP(D38236,Lookup!$D$1:$E$1051,2,FALSE))","v":""},{"$f":"IF(C38236=\"\",\"\",VLOOKUP(U38236,Lookup!$A$1:$B$21,2,FALSE))","v":""},null,null,null,null,null,null,null,null,null,null,null,null,null,null,null,null,null,null,null,null,null,"X"]
[{"$f":"IF(C38374=\"\",\"\",VLOOKUP(D38374,Lookup!$D$1:$E$1051,2,FALSE))","v":""},{"$f":"IF(C38374=\"\",\"\",VLOOKUP(U38374,Lookup!$A$1:$B$21,2,FALSE))","v":""},null,null,null,null,null,null,null,null,null,null,null,null,null,null,null,null,null,null,null,null,null,"X"]
[{"$f":"IF(C38512=\"\",\"\",VLOOKUP(D38512,Lookup!$D$1:$E$1051,2,FALSE))","v":""},{"$f":"IF(C38512=\"\",\"\",VLOOKUP(U38512,Lookup!$A$1:$B$21,2,FALSE))","v":""},null,null,null,null,null,null,null,null,null,null,null,null,null,null,null,null,null,null,null,null,null,"X"]
[{"$f":"IF(C38577=\"\",\"\",VLOOKUP(D38577,Lookup!$D$1:$E$1051,2,FALSE))","v":""},{"$f":"IF(C38577=\"\",\"\",VLOOKUP(U38577,Lookup!$A$1:$B$21,2,FALSE))","v":""},null,null,null,null,null,null,null,null,null,null,null,null,null,null,null,null,null,null,null,null,null,"X"]
[{"$f":"IF(C38692=\"\",\"\",VLOOKUP(D38692,Lookup!$D$1:$E$1051,2,FALSE))","v":""},{"$f":"IF(C38692=\"\",\"\",VLOOKUP(U38692,Lookup!$A$1:$B$21,2,FALSE))","v":""},null,null,null,null,null,null,null,null,null,null,null,null,null,null,null,null,null,null,null,null,null,"X"]
[{"$f":"IF(C38731=\"\",\"\",VLOOKUP(D38731,Lookup!$D$1:$E$1051,2,FALSE))","v":""},{"$f":"IF(C38731=\"\",\"\",VLOOKUP(U38731,Lookup!$A$1:$B$21,2,FALSE))","v":""},null,null,null,null,null,null,null,null,null,null,null,null,null,null,null,null,null,null,null,null,null,"X"]
[{"$f":"IF(C38873=\"\",\"\",VLOOKUP(D38873,Lookup!$D$1:$E$1051,2,FALSE))","v":""},{"$f":"IF(C38873=\"\",\"\",VLOOKUP(U38873,Lookup!$A$1:$B$21,2,FALSE))","v":""},null,null,null,null,null,null,null,null,null,null,null,null,null,null,null,null,null,null,null,null,null,"X"]
[{"$f":"IF(C38980=\"\",\"\",VLOOKUP(D38980,Lookup!$D$1:$E$1051,2,FALSE))","v":""},{"$f":"IF(C38980=\"\",\"\",VLOOKUP(U38980,Lookup!$A$1:$B$21,2,FALSE))","v":""},null,null,null,null,null,null,null,null,null,null,null,null,null,null,null,null,null,null,null,null,null,"X"]
[{"$f":"IF(C39053=\"\",\"\",VLOOKUP(D39053,Lookup!$D$1:$E$1051,2,FALSE))","v":""},{"$f":"IF(C39053=\"\",\"\",VLOOKUP(U39053,Lookup!$A$1:$B$21,2,FALSE))","v":""},null,null,null,null,null,null,null,null,null,null,null,null,null,null,null,null,null,null,null,null,null,"X"]
[{"$f":"IF(C39191=\"\",\"\",VLOOKUP(D39191,Lookup!$D$1:$E$1051,2,FALSE))","v":""},{"$f":"IF(C39191=\"\",\"\",VLOOKUP(U39191,Lookup!$A$1:$B$21,2,FALSE))","v":""},null,null,null,null,null,null,null,null,null,null,null,null,null,null,null,null,null,null,null,null,null,"X"]
[{"$f":"IF(C39230=\"\",\"\",VLOOKUP(D39230,Lookup!$D$1:$E$1051,2,FALSE))","v":""},{"$f":"IF(C39230=\"\",\"\",VLOOKUP(U39230,Lookup!$A$1:$B$21,2,FALSE))","v":""},null,null,null,null,null,null,null,null,null,null,null,null,null,null,null,null,null,null,null,null,null,"X"]
[{"$f":"IF(C39373=\"\",\"\",VLOOKUP(D39373,Lookup!$D$1:$E$1051,2,FALSE))","v":""},{"$f":"IF(C39373=\"\",\"\",VLOOKUP(U39373,Lookup!$A$1:$B$21,2,FALSE))","v":""},null,null,null,null,null,null,null,null,null,null,null,null,null,null,null,null,null,null,null,null,null,"X"]
[{"$f":"IF(C39509=\"\",\"\",VLOOKUP(D39509,Lookup!$D$1:$E$1051,2,FALSE))","v":""},{"$f":"IF(C39509=\"\",\"\",VLOOKUP(U39509,Lookup!$A$1:$B$21,2,FALSE))","v":""},null,null,null,null,null,null,null,null,null,null,null,null,null,null,null,null,null,null,null,null,null,"X"]
[{"$f":"IF(C39548=\"\",\"\",VLOOKUP(D39548,Lookup!$D$1:$E$1051,2,FALSE))","v":""},{"$f":"IF(C39548=\"\",\"\",VLOOKUP(U39548,Lookup!$A$1:$B$21,2,FALSE))","v":""},null,null,null,null,null,null,null,null,null,null,null,null,null,null,null,null,null,null,null,null,null,"X"]
[{"$f":"IF(C39690=\"\",\"\",VLOOKUP(D39690,Lookup!$D$1:$E$1051,2,FALSE))","v":""},{"$f":"IF(C39690=\"\",\"\",VLOOKUP(U39690,Lookup!$A$1:$B$21,2,FALSE))","v":""},null,null,null,null,null,null,null,null,null,null,null,null,null,null,null,null,null,null,null,null,null,"X"]
[{"$f":"IF(C39776=\"\",\"\",VLOOKUP(D39776,Lookup!$D$1:$E$1051,2,FALSE))","v":""},{"$f":"IF(C39776=\"\",\"\",VLOOKUP(U39776,Lookup!$A$1:$B$21,2,FALSE))","v":""},null,null,null,null,null,null,null,null,null,null,null,null,null,null,null,null,null,null,null,null,null,"X"]
[{"$f":"IF(C39870=\"\",\"\",VLOOKUP(D39870,Lookup!$D$1:$E$1051,2,FALSE))","v":""},{"$f":"IF(C39870=\"\",\"\",VLOOKUP(U39870,Lookup!$A$1:$B$21,2,FALSE))","v":""},null,null,null,null,null,null,null,null,null,null,null,null,null,null,null,null,null,null,null,null,null,"X"]
[{"$f":"IF(C39909=\"\",\"\",VLOOKUP(D39909,Lookup!$D$1:$E$1051,2,FALSE))","v":""},{"$f":"IF(C39909=\"\",\"\",VLOOKUP(U39909,Lookup!$A$1:$B$21,2,FALSE))","v":""},null,null,null,null,null,null,null,null,null,null,null,null,null,null,null,null,null,null,null,null,null,"X"]
[{"$f":"IF(C40047=\"\",\"\",VLOOKUP(D40047,Lookup!$D$1:$E$1051,2,FALSE))","v":""},{"$f":"IF(C40047=\"\",\"\",VLOOKUP(U40047,Lookup!$A$1:$B$21,2,FALSE))","v":""},null,null,null,null,null,null,null,null,null,null,null,null,null,null,null,null,null,null,null,null,null,"X"]
[{"$f":"IF(C40169=\"\",\"\",VLOOKUP(D40169,Lookup!$D$1:$E$1051,2,FALSE))","v":""},{"$f":"IF(C40169=\"\",\"\",VLOOKUP(U40169,Lookup!$A$1:$B$21,2,FALSE))","v":""},null,null,null,null,null,null,null,null,null,null,null,null,null,null,null,null,null,null,null,null,null,"X"]
[{"$f":"IF(C40227=\"\",\"\",VLOOKUP(D40227,Lookup!$D$1:$E$1051,2,FALSE))","v":""},{"$f":"IF(C40227=\"\",\"\",VLOOKUP(U40227,Lookup!$A$1:$B$21,2,FALSE))","v":""},null,null,null,null,null,null,null,null,null,null,null,null,null,null,null,null,null,null,null,null,null,"X"]
[{"$f":"IF(C40369=\"\",\"\",VLOOKUP(D40369,Lookup!$D$1:$E$1051,2,FALSE))","v":""},{"$f":"IF(C40369=\"\",\"\",VLOOKUP(U40369,Lookup!$A$1:$B$21,2,FALSE))","v":""},null,null,null,null,null,null,null,null,null,null,null,null,null,null,null,null,null,null,null,null,null,"X"]
[{"$f":"IF(C40408=\"\",\"\",VLOOKUP(D40408,Lookup!$D$1:$E$1051,2,FALSE))","v":""},{"$f":"IF(C40408=\"\",\"\",VLOOKUP(U40408,Lookup!$A$1:$B$21,2,FALSE))","v":""},null,null,null,null,null,null,null,null,null,null,null,null,null,null,null,null,null,null,null,null,null,"X"]
[{"$f":"IF(C40572=\"\",\"\",VLOOKUP(D40572,Lookup!$D$1:$E$1051,2,FALSE))","v":""},{"$f":"IF(C40572=\"\",\"\",VLOOKUP(U40572,Lookup!$A$1:$B$21,2,FALSE))","v":""},null,null,null,null,null,null,null,null,null,null,null,null,null,null,null,null,null,null,null,null,null,"X"]
[{"$f":"IF(C40687=\"\",\"\",VLOOKUP(D40687,Lookup!$D$1:$E$1051,2,FALSE))","v":""},{"$f":"IF(C40687=\"\",\"\",VLOOKUP(U40687,Lookup!$A$1:$B$21,2,FALSE))","v":""},null,null,null,null,null,null,null,null,null,null,null,null,null,null,null,null,null,null,null,null,null,"X"]
[{"$f":"IF(C40726=\"\",\"\",VLOOKUP(D40726,Lookup!$D$1:$E$1051,2,FALSE))","v":""},{"$f":"IF(C40726=\"\",\"\",VLOOKUP(U40726,Lookup!$A$1:$B$21,2,FALSE))","v":""},null,null,null,null,null,null,null,null,null,null,null,null,null,null,null,null,null,null,null,null,null,"X"]
[{"$f":"IF(C40864=\"\",\"\",VLOOKUP(D40864,Lookup!$D$1:$E$1051,2,FALSE))","v":""},{"$f":"IF(C40864=\"\",\"\",VLOOKUP(U40864,Lookup!$A$1:$B$21,2,FALSE))","v":""},null,null,null,null,null,null,null,null,null,null,null,null,null,null,null,null,null,null,null,null,null,"X"]
[{"$f":"IF(C40965=\"\",\"\",VLOOKUP(D40965,Lookup!$D$1:$E$1051,2,FALSE))","v":""},{"$f":"IF(C40965=\"\",\"\",VLOOKUP(U40965,Lookup!$A$1:$B$21,2,FALSE))","v":""},null,null,null,null,null,null,null,null,null,null,null,null,null,null,null,null,null,null,null,null,null,"X"]
[{"$f":"IF(C41044=\"\",\"\",VLOOKUP(D41044,Lookup!$D$1:$E$1051,2,FALSE))","v":""},{"$f":"IF(C41044=\"\",\"\",VLOOKUP(U41044,Lookup!$A$1:$B$21,2,FALSE))","v":""},null,null,null,null,null,null,null,null,null,null,null,null,null,null,null,null,null,null,null,null,null,"X"]
[{"$f":"IF(C41186=\"\",\"\",VLOOKUP(D41186,Lookup!$D$1:$E$1051,2,FALSE))","v":""},{"$f":"IF(C41186=\"\",\"\",VLOOKUP(U41186,Lookup!$A$1:$B$21,2,FALSE))","v":""},null,null,null,null,null,null,null,null,null,null,null,null,null,null,null,null,null,null,null,null,null,"X"]
[{"$f":"IF(C41225=\"\",\"\",VLOOKUP(D41225,Lookup!$D$1:$E$1051,2,FALSE))","v":""},{"$f":"IF(C41225=\"\",\"\",VLOOKUP(U41225,Lookup!$A$1:$B$21,2,FALSE))","v":""},null,null,null,null,null,null,null,null,null,null,null,null,null,null,null,null,null,null,null,null,null,"X"]
[{"$f":"IF(C41368=\"\",\"\",VLOOKUP(D41368,Lookup!$D$1:$E$1051,2,FALSE))","v":""},{"$f":"IF(C41368=\"\",\"\",VLOOKUP(U41368,Lookup!$A$1:$B$21,2,FALSE))","v":""},null,null,null,null,null,null,null,null,null,null,null,null,null,null,null,null,null,null,null,null,null,"X"]
[{"$f":"IF(C41405=\"\",\"\",VLOOKUP(D41405,Lookup!$D$1:$E$1051,2,FALSE))","v":""},{"$f":"IF(C41405=\"\",\"\",VLOOKUP(U41405,Lookup!$A$1:$B$21,2,FALSE))","v":""},null,null,null,null,null,null,null,null,null,null,null,null,null,null,null,null,null,null,null,null,null,"X"]
[{"$f":"IF(C41543=\"\",\"\",VLOOKUP(D41543,Lookup!$D$1:$E$1051,2,FALSE))","v":""},{"$f":"IF(C41543=\"\",\"\",VLOOKUP(U41543,Lookup!$A$1:$B$21,2,FALSE))","v":""},null,null,null,null,null,null,null,null,null,null,null,null,null,null,null,null,null,null,null,null,null,"X"]
[{"$f":"IF(C41681=\"\",\"\",VLOOKUP(D41681,Lookup!$D$1:$E$1051,2,FALSE))","v":""},{"$f":"IF(C41681=\"\",\"\",VLOOKUP(U41681,Lookup!$A$1:$B$21,2,FALSE))","v":""},null,null,null,null,null,null,null,null,null,null,null,null,null,null,null,null,null,null,null,null,null,"X"]
[{"$f":"IF(C41761=\"\",\"\",VLOOKUP(D41761,Lookup!$D$1:$E$1051,2,FALSE))","v":""},{"$f":"IF(C41761=\"\",\"\",VLOOKUP(U41761,Lookup!$A$1:$B$21,2,FALSE))","v":""},null,null,null,null,null,null,null,null,null,null,null,null,null,null,null,null,null,null,null,null,null,"X"]
[{"$f":"IF(C41861=\"\",\"\",VLOOKUP(D41861,Lookup!$D$1:$E$1051,2,FALSE))","v":""},{"$f":"IF(C41861=\"\",\"\",VLOOKUP(U41861,Lookup!$A$1:$B$21,2,FALSE))","v":""},null,null,null,null,null,null,null,null,null,null,null,null,null,null,null,null,null,null,null,null,null,"X"]
[{"$f":"IF(C41904=\"\",\"\",VLOOKUP(D41904,Lookup!$D$1:$E$1051,2,FALSE))","v":""},{"$f":"IF(C41904=\"\",\"\",VLOOKUP(U41904,Lookup!$A$1:$B$21,2,FALSE))","v":""},null,null,null,null,null,null,null,null,null,null,null,null,null,null,null,null,null,null,null,null,null,"X"]
[{"$f":"IF(C42042=\"\",\"\",VLOOKUP(D42042,Lookup!$D$1:$E$1051,2,FALSE))","v":""},{"$f":"IF(C42042=\"\",\"\",VLOOKUP(U42042,Lookup!$A$1:$B$21,2,FALSE))","v":""},null,null,null,null,null,null,null,null,null,null,null,null,null,null,null,null,null,null,null,null,null,"X"]
[{"$f":"IF(C42164=\"\",\"\",VLOOKUP(D42164,Lookup!$D$1:$E$1051,2,FALSE))","v":""},{"$f":"IF(C42164=\"\",\"\",VLOOKUP(U42164,Lookup!$A$1:$B$21,2,FALSE))","v":""},null,null,null,null,null,null,null,null,null,null,null,null,null,null,null,null,null,null,null,null,null,"X"]
[{"$f":"IF(C42222=\"\",\"\",VLOOKUP(D42222,Lookup!$D$1:$E$1051,2,FALSE))","v":""},{"$f":"IF(C42222=\"\",\"\",VLOOKUP(U42222,Lookup!$A$1:$B$21,2,FALSE))","v":""},null,null,null,null,null,null,null,null,null,null,null,null,null,null,null,null,null,null,null,null,null,"X"]
[{"$f":"IF(C42360=\"\",\"\",VLOOKUP(D42360,Lookup!$D$1:$E$1051,2,FALSE))","v":""},{"$f":"IF(C42360=\"\",\"\",VLOOKUP(U42360,Lookup!$A$1:$B$21,2,FALSE))","v":""},null,null,null,null,null,null,null,null,null,null,null,null,null,null,null,null,null,null,null,null,null,"X"]
[{"$f":"IF(C42403=\"\",\"\",VLOOKUP(D42403,Lookup!$D$1:$E$1051,2,FALSE))","v":""},{"$f":"IF(C42403=\"\",\"\",VLOOKUP(U42403,Lookup!$A$1:$B$21,2,FALSE))","v":""},null,null,null,null,null,null,null,null,null,null,null,null,null,null,null,null,null,null,null,null,null,"X"]
[{"$f":"IF(C42557=\"\",\"\",VLOOKUP(D42557,Lookup!$D$1:$E$1051,2,FALSE))","v":""},{"$f":"IF(C42557=\"\",\"\",VLOOKUP(U42557,Lookup!$A$1:$B$21,2,FALSE))","v":""},null,null,null,null,null,null,null,null,null,null,null,null,null,null,null,null,null,null,null,null,null,"X"]
[{"$f":"IF(C42579=\"\",\"\",VLOOKUP(D42579,Lookup!$D$1:$E$1051,2,FALSE))","v":""},{"$f":"IF(C42579=\"\",\"\",VLOOKUP(U42579,Lookup!$A$1:$B$21,2,FALSE))","v":""},null,null,null,null,null,null,null,null,null,null,null,null,null,null,null,null,null,null,null,null,null,"X"]
[{"$f":"IF(C42721=\"\",\"\",VLOOKUP(D42721,Lookup!$D$1:$E$1051,2,FALSE))","v":""},{"$f":"IF(C42721=\"\",\"\",VLOOKUP(U42721,Lookup!$A$1:$B$21,2,FALSE))","v":""},null,null,null,null,null,null,null,null,null,null,null,null,null,null,null,null,null,null,null,null,null,"X"]
[{"$f":"IF(C42859=\"\",\"\",VLOOKUP(D42859,Lookup!$D$1:$E$1051,2,FALSE))","v":""},{"$f":"IF(C42859=\"\",\"\",VLOOKUP(U42859,Lookup!$A$1:$B$21,2,FALSE))","v":""},null,null,null,null,null,null,null,null,null,null,null,null,null,null,null,null,null,null,null,null,null,"X"]
[{"$f":"IF(C42960=\"\",\"\",VLOOKUP(D42960,Lookup!$D$1:$E$1051,2,FALSE))","v":""},{"$f":"IF(C42960=\"\",\"\",VLOOKUP(U42960,Lookup!$A$1:$B$21,2,FALSE))","v":""},null,null,null,null,null,null,null,null,null,null,null,null,null,null,null,null,null,null,null,null,null,"X"]
[{"$f":"IF(C43039=\"\",\"\",VLOOKUP(D43039,Lookup!$D$1:$E$1051,2,FALSE))","v":""},{"$f":"IF(C43039=\"\",\"\",VLOOKUP(U43039,Lookup!$A$1:$B$21,2,FALSE))","v":""},null,null,null,null,null,null,null,null,null,null,null,null,null,null,null,null,null,null,null,null,null,"X"]
[{"$f":"IF(C43078=\"\",\"\",VLOOKUP(D43078,Lookup!$D$1:$E$1051,2,FALSE))","v":""},{"$f":"IF(C43078=\"\",\"\",VLOOKUP(U43078,Lookup!$A$1:$B$21,2,FALSE))","v":""},null,null,null,null,null,null,null,null,null,null,null,null,null,null,null,null,null,null,null,null,null,"X"]
[{"$f":"IF(C43220=\"\",\"\",VLOOKUP(D43220,Lookup!$D$1:$E$1051,2,FALSE))","v":""},{"$f":"IF(C43220=\"\",\"\",VLOOKUP(U43220,Lookup!$A$1:$B$21,2,FALSE))","v":""},null,null,null,null,null,null,null,null,null,null,null,null,null,null,null,null,null,null,null,null,null,"X"]
[{"$f":"IF(C43353=\"\",\"\",VLOOKUP(D43353,Lookup!$D$1:$E$1051,2,FALSE))","v":""},{"$f":"IF(C43353=\"\",\"\",VLOOKUP(U43353,Lookup!$A$1:$B$21,2,FALSE))","v":""},null,null,null,null,null,null,null,null,null,null,null,null,null,null,null,null,null,null,null,null,null,"X"]
[{"$f":"IF(C43396=\"\",\"\",VLOOKUP(D43396,Lookup!$D$1:$E$1051,2,FALSE))","v":""},{"$f":"IF(C43396=\"\",\"\",VLOOKUP(U43396,Lookup!$A$1:$B$21,2,FALSE))","v":""},null,null,null,null,null,null,null,null,null,null,null,null,null,null,null,null,null,null,null,null,null,"X"]
[{"$f":"IF(C43538=\"\",\"\",VLOOKUP(D43538,Lookup!$D$1:$E$1051,2,FALSE))","v":""},{"$f":"IF(C43538=\"\",\"\",VLOOKUP(U43538,Lookup!$A$1:$B$21,2,FALSE))","v":""},null,null,null,null,null,null,null,null,null,null,null,null,null,null,null,null,null,null,null,null,null,"X"]
[{"$f":"IF(C43577=\"\",\"\",VLOOKUP(D43577,Lookup!$D$1:$E$1051,2,FALSE))","v":""},{"$f":"IF(C43577=\"\",\"\",VLOOKUP(U43577,Lookup!$A$1:$B$21,2,FALSE))","v":""},null,null,null,null,null,null,null,null,null,null,null,null,null,null,null,null,null,null,null,null,null,"X"]
[{"$f":"IF(C43746=\"\",\"\",VLOOKUP(D43746,Lookup!$D$1:$E$1051,2,FALSE))","v":""},{"$f":"IF(C43746=\"\",\"\",VLOOKUP(U43746,Lookup!$A$1:$B$21,2,FALSE))","v":""},null,null,null,null,null,null,null,null,null,null,null,null,null,null,null,null,null,null,null,null,null,"X"]
[{"$f":"IF(C43856=\"\",\"\",VLOOKUP(D43856,Lookup!$D$1:$E$1051,2,FALSE))","v":""},{"$f":"IF(C43856=\"\",\"\",VLOOKUP(U43856,Lookup!$A$1:$B$21,2,FALSE))","v":""},null,null,null,null,null,null,null,null,null,null,null,null,null,null,null,null,null,null,null,null,null,"X"]
[{"$f":"IF(C43895=\"\",\"\",VLOOKUP(D43895,Lookup!$D$1:$E$1051,2,FALSE))","v":""},{"$f":"IF(C43895=\"\",\"\",VLOOKUP(U43895,Lookup!$A$1:$B$21,2,FALSE))","v":""},null,null,null,null,null,null,null,null,null,null,null,null,null,null,null,null,null,null,null,null,null,"X"]
[{"$f":"IF(C44037=\"\",\"\",VLOOKUP(D44037,Lookup!$D$1:$E$1051,2,FALSE))","v":""},{"$f":"IF(C44037=\"\",\"\",VLOOKUP(U44037,Lookup!$A$1:$B$21,2,FALSE))","v":""},null,null,null,null,null,null,null,null,null,null,null,null,null,null,null,null,null,null,null,null,null,"X"]
[{"$f":"IF(C44149=\"\",\"\",VLOOKUP(D44149,Lookup!$D$1:$E$1051,2,FALSE))","v":""},{"$f":"IF(C44149=\"\",\"\",VLOOKUP(U44149,Lookup!$A$1:$B$21,2,FALSE))","v":""},null,null,null,null,null,null,null,null,null,null,null,null,null,null,null,null,null,null,null,null,null,"X"]
[{"$f":"IF(C44213=\"\",\"\",VLOOKUP(D44213,Lookup!$D$1:$E$1051,2,FALSE))","v":""},{"$f":"IF(C44213=\"\",\"\",VLOOKUP(U44213,Lookup!$A$1:$B$21,2,FALSE))","v":""},null,null,null,null,null,null,null,null,null,null,null,null,null,null,null,null,null,null,null,null,null,"X"]
[{"$f":"IF(C44256=\"\",\"\",VLOOKUP(D44256,Lookup!$D$1:$E$1051,2,FALSE))","v":""},{"$f":"IF(C44256=\"\",\"\",VLOOKUP(U44256,Lookup!$A$1:$B$21,2,FALSE))","v":""},null,null,null,null,null,null,null,null,null,null,null,null,null,null,null,null,null,null,null,null,null,"X"]
[{"$f":"IF(C44394=\"\",\"\",VLOOKUP(D44394,Lookup!$D$1:$E$1051,2,FALSE))","v":""},{"$f":"IF(C44394=\"\",\"\",VLOOKUP(U44394,Lookup!$A$1:$B$21,2,FALSE))","v":""},null,null,null,null,null,null,null,null,null,null,null,null,null,null,null,null,null,null,null,null,null,"X"]
[{"$f":"IF(C44542=\"\",\"\",VLOOKUP(D44542,Lookup!$D$1:$E$1051,2,FALSE))","v":""},{"$f":"IF(C44542=\"\",\"\",VLOOKUP(U44542,Lookup!$A$1:$B$21,2,FALSE))","v":""},null,null,null,null,null,null,null,null,null,null,null,null,null,null,null,null,null,null,null,null,null,"X"]
[{"$f":"IF(C44574=\"\",\"\",VLOOKUP(D44574,Lookup!$D$1:$E$1051,2,FALSE))","v":""},{"$f":"IF(C44574=\"\",\"\",VLOOKUP(U44574,Lookup!$A$1:$B$21,2,FALSE))","v":""},null,null,null,null,null,null,null,null,null,null,null,null,null,null,null,null,null,null,null,null,null,"X"]
[{"$f":"IF(C44712=\"\",\"\",VLOOKUP(D44712,Lookup!$D$1:$E$1051,2,FALSE))","v":""},{"$f":"IF(C44712=\"\",\"\",VLOOKUP(U44712,Lookup!$A$1:$B$21,2,FALSE))","v":""},null,null,null,null,null,null,null,null,null,null,null,null,null,null,null,null,null,null,null,null,null,"X"]
[{"$f":"IF(C44755=\"\",\"\",VLOOKUP(D44755,Lookup!$D$1:$E$1051,2,FALSE))","v":""},{"$f":"IF(C44755=\"\",\"\",VLOOKUP(U44755,Lookup!$A$1:$B$21,2,FALSE))","v":""},null,null,null,null,null,null,null,null,null,null,null,null,null,null,null,null,null,null,null,null,null,"X"]
[{"$f":"IF(C44847=\"\",\"\",VLOOKUP(D44847,Lookup!$D$1:$E$1051,2,FALSE))","v":""},{"$f":"IF(C44847=\"\",\"\",VLOOKUP(U44847,Lookup!$A$1:$B$21,2,FALSE))","v":""},null,null,null,null,null,null,null,null,null,null,null,null,null,null,null,null,null,null,null,null,null,"X"]
[{"$f":"IF(C45030=\"\",\"\",VLOOKUP(D45030,Lookup!$D$1:$E$1051,2,FALSE))","v":""},{"$f":"IF(C45030=\"\",\"\",VLOOKUP(U45030,Lookup!$A$1:$B$21,2,FALSE))","v":""},null,null,null,null,null,null,null,null,null,null,null,null,null,null,null,null,null,null,null,null,null,"X"]
[{"$f":"IF(C45073=\"\",\"\",VLOOKUP(D45073,Lookup!$D$1:$E$1051,2,FALSE))","v":""},{"$f":"IF(C45073=\"\",\"\",VLOOKUP(U45073,Lookup!$A$1:$B$21,2,FALSE))","v":""},null,null,null,null,null,null,null,null,null,null,null,null,null,null,null,null,null,null,null,null,null,"X"]
[{"$f":"IF(C45211=\"\",\"\",VLOOKUP(D45211,Lookup!$D$1:$E$1051,2,FALSE))","v":""},{"$f":"IF(C45211=\"\",\"\",VLOOKUP(U45211,Lookup!$A$1:$B$21,2,FALSE))","v":""},null,null,null,null,null,null,null,null,null,null,null,null,null,null,null,null,null,null,null,null,null,"X"]
[{"$f":"IF(C45338=\"\",\"\",VLOOKUP(D45338,Lookup!$D$1:$E$1051,2,FALSE))","v":""},{"$f":"IF(C45338=\"\",\"\",VLOOKUP(U45338,Lookup!$A$1:$B$21,2,FALSE))","v":""},null,null,null,null,null,null,null,null,null,null,null,null,null,null,null,null,null,null,null,null,null,"X"]
[{"$f":"IF(C45391=\"\",\"\",VLOOKUP(D45391,Lookup!$D$1:$E$1051,2,FALSE))","v":""},{"$f":"IF(C45391=\"\",\"\",VLOOKUP(U45391,Lookup!$A$1:$B$21,2,FALSE))","v":""},null,null,null,null,null,null,null,null,null,null,null,null,null,null,null,null,null,null,null,null,null,"X"]
[{"$f":"IF(C45529=\"\",\"\",VLOOKUP(D45529,Lookup!$D$1:$E$1051,2,FALSE))","v":""},{"$f":"IF(C45529=\"\",\"\",VLOOKUP(U45529,Lookup!$A$1:$B$21,2,FALSE))","v":""},null,null,null,null,null,null,null,null,null,null,null,null,null,null,null,null,null,null,null,null,null,"X"]
[{"$f":"IF(C45572=\"\",\"\",VLOOKUP(D45572,Lookup!$D$1:$E$1051,2,FALSE))","v":""},{"$f":"IF(C45572=\"\",\"\",VLOOKUP(U45572,Lookup!$A$1:$B$21,2,FALSE))","v":""},null,null,null,null,null,null,null,null,null,null,null,null,null,null,null,null,null,null,null,null,null,"X"]
[{"$f":"IF(C45643=\"\",\"\",VLOOKUP(D45643,Lookup!$D$1:$E$1051,2,FALSE))","v":""},{"$f":"IF(C45643=\"\",\"\",VLOOKUP(U45643,Lookup!$A$1:$B$21,2,FALSE))","v":""},null,null,null,null,null,null,null,null,null,null,null,null,null,null,null,null,null,null,null,null,null,"X"]
[{"$f":"IF(C45752=\"\",\"\",VLOOKUP(D45752,Lookup!$D$1:$E$1051,2,FALSE))","v":""},{"$f":"IF(C45752=\"\",\"\",VLOOKUP(U45752,Lookup!$A$1:$B$21,2,FALSE))","v":""},null,null,null,null,null,null,null,null,null,null,null,null,null,null,null,null,null,null,null,null,null,"X"]
[{"$f":"IF(C45890=\"\",\"\",VLOOKUP(D45890,Lookup!$D$1:$E$1051,2,FALSE))","v":""},{"$f":"IF(C45890=\"\",\"\",VLOOKUP(U45890,Lookup!$A$1:$B$21,2,FALSE))","v":""},null,null,null,null,null,null,null,null,null,null,null,null,null,null,null,null,null,null,null,null,null,"X"]
[{"$f":"IF(C46028=\"\",\"\",VLOOKUP(D46028,Lookup!$D$1:$E$1051,2,FALSE))","v":""},{"$f":"IF(C46028=\"\",\"\",VLOOKUP(U46028,Lookup!$A$1:$B$21,2,FALSE))","v":""},null,null,null,null,null,null,null,null,null,null,null,null,null,null,null,null,null,null,null,null,null,"X"]
[{"$f":"IF(C46036=\"\",\"\",VLOOKUP(D46036,Lookup!$D$1:$E$1051,2,FALSE))","v":""},{"$f":"IF(C46036=\"\",\"\",VLOOKUP(U46036,Lookup!$A$1:$B$21,2,FALSE))","v":""},null,null,null,null,null,null,null,null,null,null,null,null,null,null,null,null,null,null,null,null,null,"X"]
[{"$f":"IF(C46208=\"\",\"\",VLOOKUP(D46208,Lookup!$D$1:$E$1051,2,FALSE))","v":""},{"$f":"IF(C46208=\"\",\"\",VLOOKUP(U46208,Lookup!$A$1:$B$21,2,FALSE))","v":""},null,null,null,null,null,null,null,null,null,null,null,null,null,null,null,null,null,null,null,null,null,"X"]
[{"$f":"IF(C46247=\"\",\"\",VLOOKUP(D46247,Lookup!$D$1:$E$1051,2,FALSE))","v":""},{"$f":"IF(C46247=\"\",\"\",VLOOKUP(U46247,Lookup!$A$1:$B$21,2,FALSE))","v":""},null,null,null,null,null,null,null,null,null,null,null,null,null,null,null,null,null,null,null,null,null,"X"]
[{"$f":"IF(C46389=\"\",\"\",VLOOKUP(D46389,Lookup!$D$1:$E$1051,2,FALSE))","v":""},{"$f":"IF(C46389=\"\",\"\",VLOOKUP(U46389,Lookup!$A$1:$B$21,2,FALSE))","v":""},null,null,null,null,null,null,null,null,null,null,null,null,null,null,null,null,null,null,null,null,null,"X"]
[{"$f":"IF(C46439=\"\",\"\",VLOOKUP(D46439,Lookup!$D$1:$E$1051,2,FALSE))","v":""},{"$f":"IF(C46439=\"\",\"\",VLOOKUP(U46439,Lookup!$A$1:$B$21,2,FALSE))","v":""},null,null,null,null,null,null,null,null,null,null,null,null,null,null,null,null,null,null,null,null,null,"X"]
[{"$f":"IF(C46569=\"\",\"\",VLOOKUP(D46569,Lookup!$D$1:$E$1051,2,FALSE))","v":""},{"$f":"IF(C46569=\"\",\"\",VLOOKUP(U46569,Lookup!$A$1:$B$21,2,FALSE))","v":""},null,null,null,null,null,null,null,null,null,null,null,null,null,null,null,null,null,null,null,null,null,"X"]
[{"$f":"IF(C46707=\"\",\"\",VLOOKUP(D46707,Lookup!$D$1:$E$1051,2,FALSE))","v":""},{"$f":"IF(C46707=\"\",\"\",VLOOKUP(U46707,Lookup!$A$1:$B$21,2,FALSE))","v":""},null,null,null,null,null,null,null,null,null,null,null,null,null,null,null,null,null,null,null,null,null,"X"]
[{"$f":"IF(C46746=\"\",\"\",VLOOKUP(D46746,Lookup!$D$1:$E$1051,2,FALSE))","v":""},{"$f":"IF(C46746=\"\",\"\",VLOOKUP(U46746,Lookup!$A$1:$B$21,2,FALSE))","v":""},null,null,null,null,null,null,null,null,null,null,null,null,null,null,null,null,null,null,null,null,null,"X"]
[{"$f":"IF(C46832=\"\",\"\",VLOOKUP(D46832,Lookup!$D$1:$E$1051,2,FALSE))","v":""},{"$f":"IF(C46832=\"\",\"\",VLOOKUP(U46832,Lookup!$A$1:$B$21,2,FALSE))","v":""},null,null,null,null,null,null,null,null,null,null,null,null,null,null,null,null,null,null,null,null,null,"X"]
[{"$f":"IF(C46926=\"\",\"\",VLOOKUP(D46926,Lookup!$D$1:$E$1051,2,FALSE))","v":""},{"$f":"IF(C46926=\"\",\"\",VLOOKUP(U46926,Lookup!$A$1:$B$21,2,FALSE))","v":""},null,null,null,null,null,null,null,null,null,null,null,null,null,null,null,null,null,null,null,null,null,"X"]
[{"$f":"IF(C47064=\"\",\"\",VLOOKUP(D47064,Lookup!$D$1:$E$1051,2,FALSE))","v":""},{"$f":"IF(C47064=\"\",\"\",VLOOKUP(U47064,Lookup!$A$1:$B$21,2,FALSE))","v":""},null,null,null,null,null,null,null,null,null,null,null,null,null,null,null,null,null,null,null,null,null,"X"]
[{"$f":"IF(C47206=\"\",\"\",VLOOKUP(D47206,Lookup!$D$1:$E$1051,2,FALSE))","v":""},{"$f":"IF(C47206=\"\",\"\",VLOOKUP(U47206,Lookup!$A$1:$B$21,2,FALSE))","v":""},null,null,null,null,null,null,null,null,null,null,null,null,null,null,null,null,null,null,null,null,null,"X"]
[{"$f":"IF(C47235=\"\",\"\",VLOOKUP(D47235,Lookup!$D$1:$E$1051,2,FALSE))","v":""},{"$f":"IF(C47235=\"\",\"\",VLOOKUP(U47235,Lookup!$A$1:$B$21,2,FALSE))","v":""},null,null,null,null,null,null,null,null,null,null,null,null,null,null,null,null,null,null,null,null,null,"X"]
[{"$f":"IF(C47386=\"\",\"\",VLOOKUP(D47386,Lookup!$D$1:$E$1051,2,FALSE))","v":""},{"$f":"IF(C47386=\"\",\"\",VLOOKUP(U47386,Lookup!$A$1:$B$21,2,FALSE))","v":""},null,null,null,null,null,null,null,null,null,null,null,null,null,null,null,null,null,null,null,null,null,"X"]
[{"$f":"IF(C47425=\"\",\"\",VLOOKUP(D47425,Lookup!$D$1:$E$1051,2,FALSE))","v":""},{"$f":"IF(C47425=\"\",\"\",VLOOKUP(U47425,Lookup!$A$1:$B$21,2,FALSE))","v":""},null,null,null,null,null,null,null,null,null,null,null,null,null,null,null,null,null,null,null,null,null,"X"]
[{"$f":"IF(C47563=\"\",\"\",VLOOKUP(D47563,Lookup!$D$1:$E$1051,2,FALSE))","v":""},{"$f":"IF(C47563=\"\",\"\",VLOOKUP(U47563,Lookup!$A$1:$B$21,2,FALSE))","v":""},null,null,null,null,null,null,null,null,null,null,null,null,null,null,null,null,null,null,null,null,null,"X"]
[{"$f":"IF(C47628=\"\",\"\",VLOOKUP(D47628,Lookup!$D$1:$E$1051,2,FALSE))","v":""},{"$f":"IF(C47628=\"\",\"\",VLOOKUP(U47628,Lookup!$A$1:$B$21,2,FALSE))","v":""},null,null,null,null,null,null,null,null,null,null,null,null,null,null,null,null,null,null,null,null,null,"X"]
[{"$f":"IF(C47743=\"\",\"\",VLOOKUP(D47743,Lookup!$D$1:$E$1051,2,FALSE))","v":""},{"$f":"IF(C47743=\"\",\"\",VLOOKUP(U47743,Lookup!$A$1:$B$21,2,FALSE))","v":""},null,null,null,null,null,null,null,null,null,null,null,null,null,null,null,null,null,null,null,null,null,"X"]
[{"$f":"IF(C47885=\"\",\"\",VLOOKUP(D47885,Lookup!$D$1:$E$1051,2,FALSE))","v":""},{"$f":"IF(C47885=\"\",\"\",VLOOKUP(U47885,Lookup!$A$1:$B$21,2,FALSE))","v":""},null,null,null,null,null,null,null,null,null,null,null,null,null,null,null,null,null,null,null,null,null,"X"]
[{"$f":"IF(C47924=\"\",\"\",VLOOKUP(D47924,Lookup!$D$1:$E$1051,2,FALSE))","v":""},{"$f":"IF(C47924=\"\",\"\",VLOOKUP(U47924,Lookup!$A$1:$B$21,2,FALSE))","v":""},null,null,null,null,null,null,null,null,null,null,null,null,null,null,null,null,null,null,null,null,null,"X"]
[{"$f":"IF(C48031=\"\",\"\",VLOOKUP(D48031,Lookup!$D$1:$E$1051,2,FALSE))","v":""},{"$f":"IF(C48031=\"\",\"\",VLOOKUP(U48031,Lookup!$A$1:$B$21,2,FALSE))","v":""},null,null,null,null,null,null,null,null,null,null,null,null,null,null,null,null,null,null,null,null,null,"X"]
[{"$f":"IF(C48104=\"\",\"\",VLOOKUP(D48104,Lookup!$D$1:$E$1051,2,FALSE))","v":""},{"$f":"IF(C48104=\"\",\"\",VLOOKUP(U48104,Lookup!$A$1:$B$21,2,FALSE))","v":""},null,null,null,null,null,null,null,null,null,null,null,null,null,null,null,null,null,null,null,null,null,"X"]
[{"$f":"IF(C48242=\"\",\"\",VLOOKUP(D48242,Lookup!$D$1:$E$1051,2,FALSE))","v":""},{"$f":"IF(C48242=\"\",\"\",VLOOKUP(U48242,Lookup!$A$1:$B$21,2,FALSE))","v":""},null,null,null,null,null,null,null,null,null,null,null,null,null,null,null,null,null,null,null,null,null,"X"]
[{"$f":"IF(C48380=\"\",\"\",VLOOKUP(D48380,Lookup!$D$1:$E$1051,2,FALSE))","v":""},{"$f":"IF(C48380=\"\",\"\",VLOOKUP(U48380,Lookup!$A$1:$B$21,2,FALSE))","v":""},null,null,null,null,null,null,null,null,null,null,null,null,null,null,null,null,null,null,null,null,null,"X"]
[{"$f":"IF(C48424=\"\",\"\",VLOOKUP(D48424,Lookup!$D$1:$E$1051,2,FALSE))","v":""},{"$f":"IF(C48424=\"\",\"\",VLOOKUP(U48424,Lookup!$A$1:$B$21,2,FALSE))","v":""},null,null,null,null,null,null,null,null,null,null,null,null,null,null,null,null,null,null,null,null,null,"X"]
[{"$f":"IF(C48560=\"\",\"\",VLOOKUP(D48560,Lookup!$D$1:$E$1051,2,FALSE))","v":""},{"$f":"IF(C48560=\"\",\"\",VLOOKUP(U48560,Lookup!$A$1:$B$21,2,FALSE))","v":""},null,null,null,null,null,null,null,null,null,null,null,null,null,null,null,null,null,null,null,null,null,"X"]
[{"$f":"IF(C48603=\"\",\"\",VLOOKUP(D48603,Lookup!$D$1:$E$1051,2,FALSE))","v":""},{"$f":"IF(C48603=\"\",\"\",VLOOKUP(U48603,Lookup!$A$1:$B$21,2,FALSE))","v":""},null,null,null,null,null,null,null,null,null,null,null,null,null,null,null,null,null,null,null,null,null,"X"]
[{"$f":"IF(C48741=\"\",\"\",VLOOKUP(D48741,Lookup!$D$1:$E$1051,2,FALSE))","v":""},{"$f":"IF(C48741=\"\",\"\",VLOOKUP(U48741,Lookup!$A$1:$B$21,2,FALSE))","v":""},null,null,null,null,null,null,null,null,null,null,null,null,null,null,null,null,null,null,null,null,null,"X"]
[{"$f":"IF(C48827=\"\",\"\",VLOOKUP(D48827,Lookup!$D$1:$E$1051,2,FALSE))","v":""},{"$f":"IF(C48827=\"\",\"\",VLOOKUP(U48827,Lookup!$A$1:$B$21,2,FALSE))","v":""},null,null,null,null,null,null,null,null,null,null,null,null,null,null,null,null,null,null,null,null,null,"X"]
[{"$f":"IF(C48921=\"\",\"\",VLOOKUP(D48921,Lookup!$D$1:$E$1051,2,FALSE))","v":""},{"$f":"IF(C48921=\"\",\"\",VLOOKUP(U48921,Lookup!$A$1:$B$21,2,FALSE))","v":""},null,null,null,null,null,null,null,null,null,null,null,null,null,null,null,null,null,null,null,null,null,"X"]
[{"$f":"IF(C49059=\"\",\"\",VLOOKUP(D49059,Lookup!$D$1:$E$1051,2,FALSE))","v":""},{"$f":"IF(C49059=\"\",\"\",VLOOKUP(U49059,Lookup!$A$1:$B$21,2,FALSE))","v":""},null,null,null,null,null,null,null,null,null,null,null,null,null,null,null,null,null,null,null,null,null,"X"]
[{"$f":"IF(C49102=\"\",\"\",VLOOKUP(D49102,Lookup!$D$1:$E$1051,2,FALSE))","v":""},{"$f":"IF(C49102=\"\",\"\",VLOOKUP(U49102,Lookup!$A$1:$B$21,2,FALSE))","v":""},null,null,null,null,null,null,null,null,null,null,null,null,null,null,null,null,null,null,null,null,null,"X"]
[{"$f":"IF(C49220=\"\",\"\",VLOOKUP(D49220,Lookup!$D$1:$E$1051,2,FALSE))","v":""},{"$f":"IF(C49220=\"\",\"\",VLOOKUP(U49220,Lookup!$A$1:$B$21,2,FALSE))","v":""},null,null,null,null,null,null,null,null,null,null,null,null,null,null,null,null,null,null,null,null,null,"X"]
[{"$f":"IF(C49377=\"\",\"\",VLOOKUP(D49377,Lookup!$D$1:$E$1051,2,FALSE))","v":""},{"$f":"IF(C49377=\"\",\"\",VLOOKUP(U49377,Lookup!$A$1:$B$21,2,FALSE))","v":""},null,null,null,null,null,null,null,null,null,null,null,null,null,null,null,null,null,null,null,null,null,"X"]
[{"$f":"IF(C49420=\"\",\"\",VLOOKUP(D49420,Lookup!$D$1:$E$1051,2,FALSE))","v":""},{"$f":"IF(C49420=\"\",\"\",VLOOKUP(U49420,Lookup!$A$1:$B$21,2,FALSE))","v":""},null,null,null,null,null,null,null,null,null,null,null,null,null,null,null,null,null,null,null,null,null,"X"]
[{"$f":"IF(C49558=\"\",\"\",VLOOKUP(D49558,Lookup!$D$1:$E$1051,2,FALSE))","v":""},{"$f":"IF(C49558=\"\",\"\",VLOOKUP(U49558,Lookup!$A$1:$B$21,2,FALSE))","v":""},null,null,null,null,null,null,null,null,null,null,null,null,null,null,null,null,null,null,null,null,null,"X"]
[{"$f":"IF(C49623=\"\",\"\",VLOOKUP(D49623,Lookup!$D$1:$E$1051,2,FALSE))","v":""},{"$f":"IF(C49623=\"\",\"\",VLOOKUP(U49623,Lookup!$A$1:$B$21,2,FALSE))","v":""},null,null,null,null,null,null,null,null,null,null,null,null,null,null,null,null,null,null,null,null,null,"X"]
[{"$f":"IF(C49738=\"\",\"\",VLOOKUP(D49738,Lookup!$D$1:$E$1051,2,FALSE))","v":""},{"$f":"IF(C49738=\"\",\"\",VLOOKUP(U49738,Lookup!$A$1:$B$21,2,FALSE))","v":""},null,null,null,null,null,null,null,null,null,null,null,null,null,null,null,null,null,null,null,null,null,"X"]
[{"$f":"IF(C49876=\"\",\"\",VLOOKUP(D49876,Lookup!$D$1:$E$1051,2,FALSE))","v":""},{"$f":"IF(C49876=\"\",\"\",VLOOKUP(U49876,Lookup!$A$1:$B$21,2,FALSE))","v":""},null,null,null,null,null,null,null,null,null,null,null,null,null,null,null,null,null,null,null,null,null,"X"]
[{"$f":"IF(C49919=\"\",\"\",VLOOKUP(D49919,Lookup!$D$1:$E$1051,2,FALSE))","v":""},{"$f":"IF(C49919=\"\",\"\",VLOOKUP(U49919,Lookup!$A$1:$B$21,2,FALSE))","v":""},null,null,null,null,null,null,null,null,null,null,null,null,null,null,null,null,null,null,null,null,null,"X"]
[{"$f":"IF(C50016=\"\",\"\",VLOOKUP(D50016,Lookup!$D$1:$E$1051,2,FALSE))","v":""},{"$f":"IF(C50016=\"\",\"\",VLOOKUP(U50016,Lookup!$A$1:$B$21,2,FALSE))","v":""},null,null,null,null,null,null,null,null,null,null,null,null,null,null,null,null,null,null,null,null,null,"X"]
[{"$f":"IF(C50095=\"\",\"\",VLOOKUP(D50095,Lookup!$D$1:$E$1051,2,FALSE))","v":""},{"$f":"IF(C50095=\"\",\"\",VLOOKUP(U50095,Lookup!$A$1:$B$21,2,FALSE))","v":""},null,null,null,null,null,null,null,null,null,null,null,null,null,null,null,null,null,null,null,null,null,"X"]
[{"$f":"IF(C50237=\"\",\"\",VLOOKUP(D50237,Lookup!$D$1:$E$1051,2,FALSE))","v":""},{"$f":"IF(C50237=\"\",\"\",VLOOKUP(U50237,Lookup!$A$1:$B$21,2,FALSE))","v":""},null,null,null,null,null,null,null,null,null,null,null,null,null,null,null,null,null,null,null,null,null,"X"]
[{"$f":"IF(C50375=\"\",\"\",VLOOKUP(D50375,Lookup!$D$1:$E$1051,2,FALSE))","v":""},{"$f":"IF(C50375=\"\",\"\",VLOOKUP(U50375,Lookup!$A$1:$B$21,2,FALSE))","v":""},null,null,null,null,null,null,null,null,null,null,null,null,null,null,null,null,null,null,null,null,null,"X"]
[{"$f":"IF(C50419=\"\",\"\",VLOOKUP(D50419,Lookup!$D$1:$E$1051,2,FALSE))","v":""},{"$f":"IF(C50419=\"\",\"\",VLOOKUP(U50419,Lookup!$A$1:$B$21,2,FALSE))","v":""},null,null,null,null,null,null,null,null,null,null,null,null,null,null,null,null,null,null,null,null,null,"X"]
[{"$f":"IF(C50555=\"\",\"\",VLOOKUP(D50555,Lookup!$D$1:$E$1051,2,FALSE))","v":""},{"$f":"IF(C50555=\"\",\"\",VLOOKUP(U50555,Lookup!$A$1:$B$21,2,FALSE))","v":""},null,null,null,null,null,null,null,null,null,null,null,null,null,null,null,null,null,null,null,null,null,"X"]
[{"$f":"IF(C50594=\"\",\"\",VLOOKUP(D50594,Lookup!$D$1:$E$1051,2,FALSE))","v":""},{"$f":"IF(C50594=\"\",\"\",VLOOKUP(U50594,Lookup!$A$1:$B$21,2,FALSE))","v":""},null,null,null,null,null,null,null,null,null,null,null,null,null,null,null,null,null,null,null,null,null,"X"]
[{"$f":"IF(C50736=\"\",\"\",VLOOKUP(D50736,Lookup!$D$1:$E$1051,2,FALSE))","v":""},{"$f":"IF(C50736=\"\",\"\",VLOOKUP(U50736,Lookup!$A$1:$B$21,2,FALSE))","v":""},null,null,null,null,null,null,null,null,null,null,null,null,null,null,null,null,null,null,null,null,null,"X"]
[{"$f":"IF(C50812=\"\",\"\",VLOOKUP(D50812,Lookup!$D$1:$E$1051,2,FALSE))","v":""},{"$f":"IF(C50812=\"\",\"\",VLOOKUP(U50812,Lookup!$A$1:$B$21,2,FALSE))","v":""},null,null,null,null,null,null,null,null,null,null,null,null,null,null,null,null,null,null,null,null,null,"X"]
[{"$f":"IF(C50912=\"\",\"\",VLOOKUP(D50912,Lookup!$D$1:$E$1051,2,FALSE))","v":""},{"$f":"IF(C50912=\"\",\"\",VLOOKUP(U50912,Lookup!$A$1:$B$21,2,FALSE))","v":""},null,null,null,null,null,null,null,null,null,null,null,null,null,null,null,null,null,null,null,null,null,"X"]
[{"$f":"IF(C51054=\"\",\"\",VLOOKUP(D51054,Lookup!$D$1:$E$1051,2,FALSE))","v":""},{"$f":"IF(C51054=\"\",\"\",VLOOKUP(U51054,Lookup!$A$1:$B$21,2,FALSE))","v":""},null,null,null,null,null,null,null,null,null,null,null,null,null,null,null,null,null,null,null,null,null,"X"]
[{"$f":"IF(C51093=\"\",\"\",VLOOKUP(D51093,Lookup!$D$1:$E$1051,2,FALSE))","v":""},{"$f":"IF(C51093=\"\",\"\",VLOOKUP(U51093,Lookup!$A$1:$B$21,2,FALSE))","v":""},null,null,null,null,null,null,null,null,null,null,null,null,null,null,null,null,null,null,null,null,null,"X"]
[{"$f":"IF(C51205=\"\",\"\",VLOOKUP(D51205,Lookup!$D$1:$E$1051,2,FALSE))","v":""},{"$f":"IF(C51205=\"\",\"\",VLOOKUP(U51205,Lookup!$A$1:$B$21,2,FALSE))","v":""},null,null,null,null,null,null,null,null,null,null,null,null,null,null,null,null,null,null,null,null,null,"X"]
[{"$f":"IF(C51273=\"\",\"\",VLOOKUP(D51273,Lookup!$D$1:$E$1051,2,FALSE))","v":""},{"$f":"IF(C51273=\"\",\"\",VLOOKUP(U51273,Lookup!$A$1:$B$21,2,FALSE))","v":""},null,null,null,null,null,null,null,null,null,null,null,null,null,null,null,null,null,null,null,null,null,"X"]
[{"$f":"IF(C51411=\"\",\"\",VLOOKUP(D51411,Lookup!$D$1:$E$1051,2,FALSE))","v":""},{"$f":"IF(C51411=\"\",\"\",VLOOKUP(U51411,Lookup!$A$1:$B$21,2,FALSE))","v":""},null,null,null,null,null,null,null,null,null,null,null,null,null,null,null,null,null,null,null,null,null,"X"]
[{"$f":"IF(C51553=\"\",\"\",VLOOKUP(D51553,Lookup!$D$1:$E$1051,2,FALSE))","v":""},{"$f":"IF(C51553=\"\",\"\",VLOOKUP(U51553,Lookup!$A$1:$B$21,2,FALSE))","v":""},null,null,null,null,null,null,null,null,null,null,null,null,null,null,null,null,null,null,null,null,null,"X"]
[{"$f":"IF(C51608=\"\",\"\",VLOOKUP(D51608,Lookup!$D$1:$E$1051,2,FALSE))","v":""},{"$f":"IF(C51608=\"\",\"\",VLOOKUP(U51608,Lookup!$A$1:$B$21,2,FALSE))","v":""},null,null,null,null,null,null,null,null,null,null,null,null,null,null,null,null,null,null,null,null,null,"X"]
[{"$f":"IF(C51729=\"\",\"\",VLOOKUP(D51729,Lookup!$D$1:$E$1051,2,FALSE))","v":""},{"$f":"IF(C51729=\"\",\"\",VLOOKUP(U51729,Lookup!$A$1:$B$21,2,FALSE))","v":""},null,null,null,null,null,null,null,null,null,null,null,null,null,null,null,null,null,null,null,null,null,"X"]
[{"$f":"IF(C51772=\"\",\"\",VLOOKUP(D51772,Lookup!$D$1:$E$1051,2,FALSE))","v":""},{"$f":"IF(C51772=\"\",\"\",VLOOKUP(U51772,Lookup!$A$1:$B$21,2,FALSE))","v":""},null,null,null,null,null,null,null,null,null,null,null,null,null,null,null,null,null,null,null,null,null,"X"]
[{"$f":"IF(C51910=\"\",\"\",VLOOKUP(D51910,Lookup!$D$1:$E$1051,2,FALSE))","v":""},{"$f":"IF(C51910=\"\",\"\",VLOOKUP(U51910,Lookup!$A$1:$B$21,2,FALSE))","v":""},null,null,null,null,null,null,null,null,null,null,null,null,null,null,null,null,null,null,null,null,null,"X"]
[{"$f":"IF(C52001=\"\",\"\",VLOOKUP(D52001,Lookup!$D$1:$E$1051,2,FALSE))","v":""},{"$f":"IF(C52001=\"\",\"\",VLOOKUP(U52001,Lookup!$A$1:$B$21,2,FALSE))","v":""},null,null,null,null,null,null,null,null,null,null,null,null,null,null,null,null,null,null,null,null,null,"X"]
[{"$f":"IF(C52090=\"\",\"\",VLOOKUP(D52090,Lookup!$D$1:$E$1051,2,FALSE))","v":""},{"$f":"IF(C52090=\"\",\"\",VLOOKUP(U52090,Lookup!$A$1:$B$21,2,FALSE))","v":""},null,null,null,null,null,null,null,null,null,null,null,null,null,null,null,null,null,null,null,null,null,"X"]
[{"$f":"IF(C52228=\"\",\"\",VLOOKUP(D52228,Lookup!$D$1:$E$1051,2,FALSE))","v":""},{"$f":"IF(C52228=\"\",\"\",VLOOKUP(U52228,Lookup!$A$1:$B$21,2,FALSE))","v":""},null,null,null,null,null,null,null,null,null,null,null,null,null,null,null,null,null,null,null,null,null,"X"]
[{"$f":"IF(C52271=\"\",\"\",VLOOKUP(D52271,Lookup!$D$1:$E$1051,2,FALSE))","v":""},{"$f":"IF(C52271=\"\",\"\",VLOOKUP(U52271,Lookup!$A$1:$B$21,2,FALSE))","v":""},null,null,null,null,null,null,null,null,null,null,null,null,null,null,null,null,null,null,null,null,null,"X"]
[{"$f":"IF(C52404=\"\",\"\",VLOOKUP(D52404,Lookup!$D$1:$E$1051,2,FALSE))","v":""},{"$f":"IF(C52404=\"\",\"\",VLOOKUP(U52404,Lookup!$A$1:$B$21,2,FALSE))","v":""},null,null,null,null,null,null,null,null,null,null,null,null,null,null,null,null,null,null,null,null,null,"X"]
[{"$f":"IF(C52451=\"\",\"\",VLOOKUP(D52451,Lookup!$D$1:$E$1051,2,FALSE))","v":""},{"$f":"IF(C52451=\"\",\"\",VLOOKUP(U52451,Lookup!$A$1:$B$21,2,FALSE))","v":""},null,null,null,null,null,null,null,null,null,null,null,null,null,null,null,null,null,null,null,null,null,"X"]
[{"$f":"IF(C52589=\"\",\"\",VLOOKUP(D52589,Lookup!$D$1:$E$1051,2,FALSE))","v":""},{"$f":"IF(C52589=\"\",\"\",VLOOKUP(U52589,Lookup!$A$1:$B$21,2,FALSE))","v":""},null,null,null,null,null,null,null,null,null,null,null,null,null,null,null,null,null,null,null,null,null,"X"]
[{"$f":"IF(C52727=\"\",\"\",VLOOKUP(D52727,Lookup!$D$1:$E$1051,2,FALSE))","v":""},{"$f":"IF(C52727=\"\",\"\",VLOOKUP(U52727,Lookup!$A$1:$B$21,2,FALSE))","v":""},null,null,null,null,null,null,null,null,null,null,null,null,null,null,null,null,null,null,null,null,null,"X"]
[{"$f":"IF(C52797=\"\",\"\",VLOOKUP(D52797,Lookup!$D$1:$E$1051,2,FALSE))","v":""},{"$f":"IF(C52797=\"\",\"\",VLOOKUP(U52797,Lookup!$A$1:$B$21,2,FALSE))","v":""},null,null,null,null,null,null,null,null,null,null,null,null,null,null,null,null,null,null,null,null,null,"X"]
[{"$f":"IF(C52907=\"\",\"\",VLOOKUP(D52907,Lookup!$D$1:$E$1051,2,FALSE))","v":""},{"$f":"IF(C52907=\"\",\"\",VLOOKUP(U52907,Lookup!$A$1:$B$21,2,FALSE))","v":""},null,null,null,null,null,null,null,null,null,null,null,null,null,null,null,null,null,null,null,null,null,"X"]
[{"$f":"IF(C52946=\"\",\"\",VLOOKUP(D52946,Lookup!$D$1:$E$1051,2,FALSE))","v":""},{"$f":"IF(C52946=\"\",\"\",VLOOKUP(U52946,Lookup!$A$1:$B$21,2,FALSE))","v":""},null,null,null,null,null,null,null,null,null,null,null,null,null,null,null,null,null,null,null,null,null,"X"]
[{"$f":"IF(C53088=\"\",\"\",VLOOKUP(D53088,Lookup!$D$1:$E$1051,2,FALSE))","v":""},{"$f":"IF(C53088=\"\",\"\",VLOOKUP(U53088,Lookup!$A$1:$B$21,2,FALSE))","v":""},null,null,null,null,null,null,null,null,null,null,null,null,null,null,null,null,null,null,null,null,null,"X"]
[{"$f":"IF(C53200=\"\",\"\",VLOOKUP(D53200,Lookup!$D$1:$E$1051,2,FALSE))","v":""},{"$f":"IF(C53200=\"\",\"\",VLOOKUP(U53200,Lookup!$A$1:$B$21,2,FALSE))","v":""},null,null,null,null,null,null,null,null,null,null,null,null,null,null,null,null,null,null,null,null,null,"X"]
[{"$f":"IF(C53268=\"\",\"\",VLOOKUP(D53268,Lookup!$D$1:$E$1051,2,FALSE))","v":""},{"$f":"IF(C53268=\"\",\"\",VLOOKUP(U53268,Lookup!$A$1:$B$21,2,FALSE))","v":""},null,null,null,null,null,null,null,null,null,null,null,null,null,null,null,null,null,null,null,null,null,"X"]
[{"$f":"IF(C53406=\"\",\"\",VLOOKUP(D53406,Lookup!$D$1:$E$1051,2,FALSE))","v":""},{"$f":"IF(C53406=\"\",\"\",VLOOKUP(U53406,Lookup!$A$1:$B$21,2,FALSE))","v":""},null,null,null,null,null,null,null,null,null,null,null,null,null,null,null,null,null,null,null,null,null,"X"]
[{"$f":"IF(C53445=\"\",\"\",VLOOKUP(D53445,Lookup!$D$1:$E$1051,2,FALSE))","v":""},{"$f":"IF(C53445=\"\",\"\",VLOOKUP(U53445,Lookup!$A$1:$B$21,2,FALSE))","v":""},null,null,null,null,null,null,null,null,null,null,null,null,null,null,null,null,null,null,null,null,null,"X"]
[{"$f":"IF(C53593=\"\",\"\",VLOOKUP(D53593,Lookup!$D$1:$E$1051,2,FALSE))","v":""},{"$f":"IF(C53593=\"\",\"\",VLOOKUP(U53593,Lookup!$A$1:$B$21,2,FALSE))","v":""},null,null,null,null,null,null,null,null,null,null,null,null,null,null,null,null,null,null,null,null,null,"X"]
[{"$f":"IF(C53724=\"\",\"\",VLOOKUP(D53724,Lookup!$D$1:$E$1051,2,FALSE))","v":""},{"$f":"IF(C53724=\"\",\"\",VLOOKUP(U53724,Lookup!$A$1:$B$21,2,FALSE))","v":""},null,null,null,null,null,null,null,null,null,null,null,null,null,null,null,null,null,null,null,null,null,"X"]
[{"$f":"IF(C53763=\"\",\"\",VLOOKUP(D53763,Lookup!$D$1:$E$1051,2,FALSE))","v":""},{"$f":"IF(C53763=\"\",\"\",VLOOKUP(U53763,Lookup!$A$1:$B$21,2,FALSE))","v":""},null,null,null,null,null,null,null,null,null,null,null,null,null,null,null,null,null,null,null,null,null,"X"]
[{"$f":"IF(C53905=\"\",\"\",VLOOKUP(D53905,Lookup!$D$1:$E$1051,2,FALSE))","v":""},{"$f":"IF(C53905=\"\",\"\",VLOOKUP(U53905,Lookup!$A$1:$B$21,2,FALSE))","v":""},null,null,null,null,null,null,null,null,null,null,null,null,null,null,null,null,null,null,null,null,null,"X"]
[{"$f":"IF(C53996=\"\",\"\",VLOOKUP(D53996,Lookup!$D$1:$E$1051,2,FALSE))","v":""},{"$f":"IF(C53996=\"\",\"\",VLOOKUP(U53996,Lookup!$A$1:$B$21,2,FALSE))","v":""},null,null,null,null,null,null,null,null,null,null,null,null,null,null,null,null,null,null,null,null,null,"X"]
[{"$f":"IF(C54085=\"\",\"\",VLOOKUP(D54085,Lookup!$D$1:$E$1051,2,FALSE))","v":""},{"$f":"IF(C54085=\"\",\"\",VLOOKUP(U54085,Lookup!$A$1:$B$21,2,FALSE))","v":""},null,null,null,null,null,null,null,null,null,null,null,null,null,null,null,null,null,null,null,null,null,"X"]
[{"$f":"IF(C54223=\"\",\"\",VLOOKUP(D54223,Lookup!$D$1:$E$1051,2,FALSE))","v":""},{"$f":"IF(C54223=\"\",\"\",VLOOKUP(U54223,Lookup!$A$1:$B$21,2,FALSE))","v":""},null,null,null,null,null,null,null,null,null,null,null,null,null,null,null,null,null,null,null,null,null,"X"]
[{"$f":"IF(C54262=\"\",\"\",VLOOKUP(D54262,Lookup!$D$1:$E$1051,2,FALSE))","v":""},{"$f":"IF(C54262=\"\",\"\",VLOOKUP(U54262,Lookup!$A$1:$B$21,2,FALSE))","v":""},null,null,null,null,null,null,null,null,null,null,null,null,null,null,null,null,null,null,null,null,null,"X"]
[{"$f":"IF(C54389=\"\",\"\",VLOOKUP(D54389,Lookup!$D$1:$E$1051,2,FALSE))","v":""},{"$f":"IF(C54389=\"\",\"\",VLOOKUP(U54389,Lookup!$A$1:$B$21,2,FALSE))","v":""},null,null,null,null,null,null,null,null,null,null,null,null,null,null,null,null,null,null,null,null,null,"X"]
[{"$f":"IF(C54442=\"\",\"\",VLOOKUP(D54442,Lookup!$D$1:$E$1051,2,FALSE))","v":""},{"$f":"IF(C54442=\"\",\"\",VLOOKUP(U54442,Lookup!$A$1:$B$21,2,FALSE))","v":""},null,null,null,null,null,null,null,null,null,null,null,null,null,null,null,null,null,null,null,null,null,"X"]
[{"$f":"IF(C54584=\"\",\"\",VLOOKUP(D54584,Lookup!$D$1:$E$1051,2,FALSE))","v":""},{"$f":"IF(C54584=\"\",\"\",VLOOKUP(U54584,Lookup!$A$1:$B$21,2,FALSE))","v":""},null,null,null,null,null,null,null,null,null,null,null,null,null,null,null,null,null,null,null,null,null,"X"]
[{"$f":"IF(C54623=\"\",\"\",VLOOKUP(D54623,Lookup!$D$1:$E$1051,2,FALSE))","v":""},{"$f":"IF(C54623=\"\",\"\",VLOOKUP(U54623,Lookup!$A$1:$B$21,2,FALSE))","v":""},null,null,null,null,null,null,null,null,null,null,null,null,null,null,null,null,null,null,null,null,null,"X"]
[{"$f":"IF(C54792=\"\",\"\",VLOOKUP(D54792,Lookup!$D$1:$E$1051,2,FALSE))","v":""},{"$f":"IF(C54792=\"\",\"\",VLOOKUP(U54792,Lookup!$A$1:$B$21,2,FALSE))","v":""},null,null,null,null,null,null,null,null,null,null,null,null,null,null,null,null,null,null,null,null,null,"X"]
[{"$f":"IF(C54902=\"\",\"\",VLOOKUP(D54902,Lookup!$D$1:$E$1051,2,FALSE))","v":""},{"$f":"IF(C54902=\"\",\"\",VLOOKUP(U54902,Lookup!$A$1:$B$21,2,FALSE))","v":""},null,null,null,null,null,null,null,null,null,null,null,null,null,null,null,null,null,null,null,null,null,"X"]
[{"$f":"IF(C54941=\"\",\"\",VLOOKUP(D54941,Lookup!$D$1:$E$1051,2,FALSE))","v":""},{"$f":"IF(C54941=\"\",\"\",VLOOKUP(U54941,Lookup!$A$1:$B$21,2,FALSE))","v":""},null,null,null,null,null,null,null,null,null,null,null,null,null,null,null,null,null,null,null,null,null,"X"]
[{"$f":"IF(C55079=\"\",\"\",VLOOKUP(D55079,Lookup!$D$1:$E$1051,2,FALSE))","v":""},{"$f":"IF(C55079=\"\",\"\",VLOOKUP(U55079,Lookup!$A$1:$B$21,2,FALSE))","v":""},null,null,null,null,null,null,null,null,null,null,null,null,null,null,null,null,null,null,null,null,null,"X"]
[{"$f":"IF(C55185=\"\",\"\",VLOOKUP(D55185,Lookup!$D$1:$E$1051,2,FALSE))","v":""},{"$f":"IF(C55185=\"\",\"\",VLOOKUP(U55185,Lookup!$A$1:$B$21,2,FALSE))","v":""},null,null,null,null,null,null,null,null,null,null,null,null,null,null,null,null,null,null,null,null,null,"X"]
[{"$f":"IF(C55259=\"\",\"\",VLOOKUP(D55259,Lookup!$D$1:$E$1051,2,FALSE))","v":""},{"$f":"IF(C55259=\"\",\"\",VLOOKUP(U55259,Lookup!$A$1:$B$21,2,FALSE))","v":""},null,null,null,null,null,null,null,null,null,null,null,null,null,null,null,null,null,null,null,null,null,"X"]
[{"$f":"IF(C55401=\"\",\"\",VLOOKUP(D55401,Lookup!$D$1:$E$1051,2,FALSE))","v":""},{"$f":"IF(C55401=\"\",\"\",VLOOKUP(U55401,Lookup!$A$1:$B$21,2,FALSE))","v":""},null,null,null,null,null,null,null,null,null,null,null,null,null,null,null,null,null,null,null,null,null,"X"]
[{"$f":"IF(C55440=\"\",\"\",VLOOKUP(D55440,Lookup!$D$1:$E$1051,2,FALSE))","v":""},{"$f":"IF(C55440=\"\",\"\",VLOOKUP(U55440,Lookup!$A$1:$B$21,2,FALSE))","v":""},null,null,null,null,null,null,null,null,null,null,null,null,null,null,null,null,null,null,null,null,null,"X"]
[{"$f":"IF(C55588=\"\",\"\",VLOOKUP(D55588,Lookup!$D$1:$E$1051,2,FALSE))","v":""},{"$f":"IF(C55588=\"\",\"\",VLOOKUP(U55588,Lookup!$A$1:$B$21,2,FALSE))","v":""},null,null,null,null,null,null,null,null,null,null,null,null,null,null,null,null,null,null,null,null,null,"X"]
[{"$f":"IF(C55620=\"\",\"\",VLOOKUP(D55620,Lookup!$D$1:$E$1051,2,FALSE))","v":""},{"$f":"IF(C55620=\"\",\"\",VLOOKUP(U55620,Lookup!$A$1:$B$21,2,FALSE))","v":""},null,null,null,null,null,null,null,null,null,null,null,null,null,null,null,null,null,null,null,null,null,"X"]
[{"$f":"IF(C55758=\"\",\"\",VLOOKUP(D55758,Lookup!$D$1:$E$1051,2,FALSE))","v":""},{"$f":"IF(C55758=\"\",\"\",VLOOKUP(U55758,Lookup!$A$1:$B$21,2,FALSE))","v":""},null,null,null,null,null,null,null,null,null,null,null,null,null,null,null,null,null,null,null,null,null,"X"]
[{"$f":"IF(C55896=\"\",\"\",VLOOKUP(D55896,Lookup!$D$1:$E$1051,2,FALSE))","v":""},{"$f":"IF(C55896=\"\",\"\",VLOOKUP(U55896,Lookup!$A$1:$B$21,2,FALSE))","v":""},null,null,null,null,null,null,null,null,null,null,null,null,null,null,null,null,null,null,null,null,null,"X"]
[{"$f":"IF(C55981=\"\",\"\",VLOOKUP(D55981,Lookup!$D$1:$E$1051,2,FALSE))","v":""},{"$f":"IF(C55981=\"\",\"\",VLOOKUP(U55981,Lookup!$A$1:$B$21,2,FALSE))","v":""},null,null,null,null,null,null,null,null,null,null,null,null,null,null,null,null,null,null,null,null,null,"X"]
[{"$f":"IF(C56076=\"\",\"\",VLOOKUP(D56076,Lookup!$D$1:$E$1051,2,FALSE))","v":""},{"$f":"IF(C56076=\"\",\"\",VLOOKUP(U56076,Lookup!$A$1:$B$21,2,FALSE))","v":""},null,null,null,null,null,null,null,null,null,null,null,null,null,null,null,null,null,null,null,null,null,"X"]
[{"$f":"IF(C56119=\"\",\"\",VLOOKUP(D56119,Lookup!$D$1:$E$1051,2,FALSE))","v":""},{"$f":"IF(C56119=\"\",\"\",VLOOKUP(U56119,Lookup!$A$1:$B$21,2,FALSE))","v":""},null,null,null,null,null,null,null,null,null,null,null,null,null,null,null,null,null,null,null,null,null,"X"]
[{"$f":"IF(C56257=\"\",\"\",VLOOKUP(D56257,Lookup!$D$1:$E$1051,2,FALSE))","v":""},{"$f":"IF(C56257=\"\",\"\",VLOOKUP(U56257,Lookup!$A$1:$B$21,2,FALSE))","v":""},null,null,null,null,null,null,null,null,null,null,null,null,null,null,null,null,null,null,null,null,null,"X"]
[{"$f":"IF(C56384=\"\",\"\",VLOOKUP(D56384,Lookup!$D$1:$E$1051,2,FALSE))","v":""},{"$f":"IF(C56384=\"\",\"\",VLOOKUP(U56384,Lookup!$A$1:$B$21,2,FALSE))","v":""},null,null,null,null,null,null,null,null,null,null,null,null,null,null,null,null,null,null,null,null,null,"X"]
[{"$f":"IF(C56437=\"\",\"\",VLOOKUP(D56437,Lookup!$D$1:$E$1051,2,FALSE))","v":""},{"$f":"IF(C56437=\"\",\"\",VLOOKUP(U56437,Lookup!$A$1:$B$21,2,FALSE))","v":""},null,null,null,null,null,null,null,null,null,null,null,null,null,null,null,null,null,null,null,null,null,"X"]
[{"$f":"IF(C56575=\"\",\"\",VLOOKUP(D56575,Lookup!$D$1:$E$1051,2,FALSE))","v":""},{"$f":"IF(C56575=\"\",\"\",VLOOKUP(U56575,Lookup!$A$1:$B$21,2,FALSE))","v":""},null,null,null,null,null,null,null,null,null,null,null,null,null,null,null,null,null,null,null,null,null,"X"]
[{"$f":"IF(C56618=\"\",\"\",VLOOKUP(D56618,Lookup!$D$1:$E$1051,2,FALSE))","v":""},{"$f":"IF(C56618=\"\",\"\",VLOOKUP(U56618,Lookup!$A$1:$B$21,2,FALSE))","v":""},null,null,null,null,null,null,null,null,null,null,null,null,null,null,null,null,null,null,null,null,null,"X"]
[{"$f":"IF(C56777=\"\",\"\",VLOOKUP(D56777,Lookup!$D$1:$E$1051,2,FALSE))","v":""},{"$f":"IF(C56777=\"\",\"\",VLOOKUP(U56777,Lookup!$A$1:$B$21,2,FALSE))","v":""},null,null,null,null,null,null,null,null,null,null,null,null,null,null,null,null,null,null,null,null,null,"X"]
[{"$f":"IF(C56794=\"\",\"\",VLOOKUP(D56794,Lookup!$D$1:$E$1051,2,FALSE))","v":""},{"$f":"IF(C56794=\"\",\"\",VLOOKUP(U56794,Lookup!$A$1:$B$21,2,FALSE))","v":""},null,null,null,null,null,null,null,null,null,null,null,null,null,null,null,null,null,null,null,null,null,"X"]
[{"$f":"IF(C56936=\"\",\"\",VLOOKUP(D56936,Lookup!$D$1:$E$1051,2,FALSE))","v":""},{"$f":"IF(C56936=\"\",\"\",VLOOKUP(U56936,Lookup!$A$1:$B$21,2,FALSE))","v":""},null,null,null,null,null,null,null,null,null,null,null,null,null,null,null,null,null,null,null,null,null,"X"]
[{"$f":"IF(C57074=\"\",\"\",VLOOKUP(D57074,Lookup!$D$1:$E$1051,2,FALSE))","v":""},{"$f":"IF(C57074=\"\",\"\",VLOOKUP(U57074,Lookup!$A$1:$B$21,2,FALSE))","v":""},null,null,null,null,null,null,null,null,null,null,null,null,null,null,null,null,null,null,null,null,null,"X"]
[{"$f":"IF(C57180=\"\",\"\",VLOOKUP(D57180,Lookup!$D$1:$E$1051,2,FALSE))","v":""},{"$f":"IF(C57180=\"\",\"\",VLOOKUP(U57180,Lookup!$A$1:$B$21,2,FALSE))","v":""},null,null,null,null,null,null,null,null,null,null,null,null,null,null,null,null,null,null,null,null,null,"X"]
[{"$f":"IF(C57254=\"\",\"\",VLOOKUP(D57254,Lookup!$D$1:$E$1051,2,FALSE))","v":""},{"$f":"IF(C57254=\"\",\"\",VLOOKUP(U57254,Lookup!$A$1:$B$21,2,FALSE))","v":""},null,null,null,null,null,null,null,null,null,null,null,null,null,null,null,null,null,null,null,null,null,"X"]
[{"$f":"IF(C57293=\"\",\"\",VLOOKUP(D57293,Lookup!$D$1:$E$1051,2,FALSE))","v":""},{"$f":"IF(C57293=\"\",\"\",VLOOKUP(U57293,Lookup!$A$1:$B$21,2,FALSE))","v":""},null,null,null,null,null,null,null,null,null,null,null,null,null,null,null,null,null,null,null,null,null,"X"]
[{"$f":"IF(C57435=\"\",\"\",VLOOKUP(D57435,Lookup!$D$1:$E$1051,2,FALSE))","v":""},{"$f":"IF(C57435=\"\",\"\",VLOOKUP(U57435,Lookup!$A$1:$B$21,2,FALSE))","v":""},null,null,null,null,null,null,null,null,null,null,null,null,null,null,null,null,null,null,null,null,null,"X"]
[{"$f":"IF(C57573=\"\",\"\",VLOOKUP(D57573,Lookup!$D$1:$E$1051,2,FALSE))","v":""},{"$f":"IF(C57573=\"\",\"\",VLOOKUP(U57573,Lookup!$A$1:$B$21,2,FALSE))","v":""},null,null,null,null,null,null,null,null,null,null,null,null,null,null,null,null,null,null,null,null,null,"X"]
[{"$f":"IF(C57611=\"\",\"\",VLOOKUP(D57611,Lookup!$D$1:$E$1051,2,FALSE))","v":""},{"$f":"IF(C57611=\"\",\"\",VLOOKUP(U57611,Lookup!$A$1:$B$21,2,FALSE))","v":""},null,null,null,null,null,null,null,null,null,null,null,null,null,null,null,null,null,null,null,null,null,"X"]
[{"$f":"IF(C57753=\"\",\"\",VLOOKUP(D57753,Lookup!$D$1:$E$1051,2,FALSE))","v":""},{"$f":"IF(C57753=\"\",\"\",VLOOKUP(U57753,Lookup!$A$1:$B$21,2,FALSE))","v":""},null,null,null,null,null,null,null,null,null,null,null,null,null,null,null,null,null,null,null,null,null,"X"]
[{"$f":"IF(C57792=\"\",\"\",VLOOKUP(D57792,Lookup!$D$1:$E$1051,2,FALSE))","v":""},{"$f":"IF(C57792=\"\",\"\",VLOOKUP(U57792,Lookup!$A$1:$B$21,2,FALSE))","v":""},null,null,null,null,null,null,null,null,null,null,null,null,null,null,null,null,null,null,null,null,null,"X"]
[{"$f":"IF(C57966=\"\",\"\",VLOOKUP(D57966,Lookup!$D$1:$E$1051,2,FALSE))","v":""},{"$f":"IF(C57966=\"\",\"\",VLOOKUP(U57966,Lookup!$A$1:$B$21,2,FALSE))","v":""},null,null,null,null,null,null,null,null,null,null,null,null,null,null,null,null,null,null,null,null,null,"X"]
[{"$f":"IF(C58071=\"\",\"\",VLOOKUP(D58071,Lookup!$D$1:$E$1051,2,FALSE))","v":""},{"$f":"IF(C58071=\"\",\"\",VLOOKUP(U58071,Lookup!$A$1:$B$21,2,FALSE))","v":""},null,null,null,null,null,null,null,null,null,null,null,null,null,null,null,null,null,null,null,null,null,"X"]
[{"$f":"IF(C58110=\"\",\"\",VLOOKUP(D58110,Lookup!$D$1:$E$1051,2,FALSE))","v":""},{"$f":"IF(C58110=\"\",\"\",VLOOKUP(U58110,Lookup!$A$1:$B$21,2,FALSE))","v":""},null,null,null,null,null,null,null,null,null,null,null,null,null,null,null,null,null,null,null,null,null,"X"]
[{"$f":"IF(C58252=\"\",\"\",VLOOKUP(D58252,Lookup!$D$1:$E$1051,2,FALSE))","v":""},{"$f":"IF(C58252=\"\",\"\",VLOOKUP(U58252,Lookup!$A$1:$B$21,2,FALSE))","v":""},null,null,null,null,null,null,null,null,null,null,null,null,null,null,null,null,null,null,null,null,null,"X"]
[{"$f":"IF(C58369=\"\",\"\",VLOOKUP(D58369,Lookup!$D$1:$E$1051,2,FALSE))","v":""},{"$f":"IF(C58369=\"\",\"\",VLOOKUP(U58369,Lookup!$A$1:$B$21,2,FALSE))","v":""},null,null,null,null,null,null,null,null,null,null,null,null,null,null,null,null,null,null,null,null,null,"X"]
[{"$f":"IF(C58428=\"\",\"\",VLOOKUP(D58428,Lookup!$D$1:$E$1051,2,FALSE))","v":""},{"$f":"IF(C58428=\"\",\"\",VLOOKUP(U58428,Lookup!$A$1:$B$21,2,FALSE))","v":""},null,null,null,null,null,null,null,null,null,null,null,null,null,null,null,null,null,null,null,null,null,"X"]
[{"$f":"IF(C58570=\"\",\"\",VLOOKUP(D58570,Lookup!$D$1:$E$1051,2,FALSE))","v":""},{"$f":"IF(C58570=\"\",\"\",VLOOKUP(U58570,Lookup!$A$1:$B$21,2,FALSE))","v":""},null,null,null,null,null,null,null,null,null,null,null,null,null,null,null,null,null,null,null,null,null,"X"]
[{"$f":"IF(C58609=\"\",\"\",VLOOKUP(D58609,Lookup!$D$1:$E$1051,2,FALSE))","v":""},{"$f":"IF(C58609=\"\",\"\",VLOOKUP(U58609,Lookup!$A$1:$B$21,2,FALSE))","v":""},null,null,null,null,null,null,null,null,null,null,null,null,null,null,null,null,null,null,null,null,null,"X"]
[{"$f":"IF(C58762=\"\",\"\",VLOOKUP(D58762,Lookup!$D$1:$E$1051,2,FALSE))","v":""},{"$f":"IF(C58762=\"\",\"\",VLOOKUP(U58762,Lookup!$A$1:$B$21,2,FALSE))","v":""},null,null,null,null,null,null,null,null,null,null,null,null,null,null,null,null,null,null,null,null,null,"X"]
[{"$f":"IF(C58789=\"\",\"\",VLOOKUP(D58789,Lookup!$D$1:$E$1051,2,FALSE))","v":""},{"$f":"IF(C58789=\"\",\"\",VLOOKUP(U58789,Lookup!$A$1:$B$21,2,FALSE))","v":""},null,null,null,null,null,null,null,null,null,null,null,null,null,null,null,null,null,null,null,null,null,"X"]
[{"$f":"IF(C58927=\"\",\"\",VLOOKUP(D58927,Lookup!$D$1:$E$1051,2,FALSE))","v":""},{"$f":"IF(C58927=\"\",\"\",VLOOKUP(U58927,Lookup!$A$1:$B$21,2,FALSE))","v":""},null,null,null,null,null,null,null,null,null,null,null,null,null,null,null,null,null,null,null,null,null,"X"]
[{"$f":"IF(C58970=\"\",\"\",VLOOKUP(D58970,Lookup!$D$1:$E$1051,2,FALSE))","v":""},{"$f":"IF(C58970=\"\",\"\",VLOOKUP(U58970,Lookup!$A$1:$B$21,2,FALSE))","v":""},null,null,null,null,null,null,null,null,null,null,null,null,null,null,null,null,null,null,null,null,null,"X"]
[{"$f":"IF(C59067=\"\",\"\",VLOOKUP(D59067,Lookup!$D$1:$E$1051,2,FALSE))","v":""},{"$f":"IF(C59067=\"\",\"\",VLOOKUP(U59067,Lookup!$A$1:$B$21,2,FALSE))","v":""},null,null,null,null,null,null,null,null,null,null,null,null,null,null,null,null,null,null,null,null,null,"X"]
[{"$f":"IF(C59245=\"\",\"\",VLOOKUP(D59245,Lookup!$D$1:$E$1051,2,FALSE))","v":""},{"$f":"IF(C59245=\"\",\"\",VLOOKUP(U59245,Lookup!$A$1:$B$21,2,FALSE))","v":""},null,null,null,null,null,null,null,null,null,null,null,null,null,null,null,null,null,null,null,null,null,"X"]
[{"$f":"IF(C59288=\"\",\"\",VLOOKUP(D59288,Lookup!$D$1:$E$1051,2,FALSE))","v":""},{"$f":"IF(C59288=\"\",\"\",VLOOKUP(U59288,Lookup!$A$1:$B$21,2,FALSE))","v":""},null,null,null,null,null,null,null,null,null,null,null,null,null,null,null,null,null,null,null,null,null,"X"]
[{"$f":"IF(C59426=\"\",\"\",VLOOKUP(D59426,Lookup!$D$1:$E$1051,2,FALSE))","v":""},{"$f":"IF(C59426=\"\",\"\",VLOOKUP(U59426,Lookup!$A$1:$B$21,2,FALSE))","v":""},null,null,null,null,null,null,null,null,null,null,null,null,null,null,null,null,null,null,null,null,null,"X"]
[{"$f":"IF(C59558=\"\",\"\",VLOOKUP(D59558,Lookup!$D$1:$E$1051,2,FALSE))","v":""},{"$f":"IF(C59558=\"\",\"\",VLOOKUP(U59558,Lookup!$A$1:$B$21,2,FALSE))","v":""},null,null,null,null,null,null,null,null,null,null,null,null,null,null,null,null,null,null,null,null,null,"X"]
[{"$f":"IF(C59606=\"\",\"\",VLOOKUP(D59606,Lookup!$D$1:$E$1051,2,FALSE))","v":""},{"$f":"IF(C59606=\"\",\"\",VLOOKUP(U59606,Lookup!$A$1:$B$21,2,FALSE))","v":""},null,null,null,null,null,null,null,null,null,null,null,null,null,null,null,null,null,null,null,null,null,"X"]
[{"$f":"IF(C59744=\"\",\"\",VLOOKUP(D59744,Lookup!$D$1:$E$1051,2,FALSE))","v":""},{"$f":"IF(C59744=\"\",\"\",VLOOKUP(U59744,Lookup!$A$1:$B$21,2,FALSE))","v":""},null,null,null,null,null,null,null,null,null,null,null,null,null,null,null,null,null,null,null,null,null,"X"]
[{"$f":"IF(C59787=\"\",\"\",VLOOKUP(D59787,Lookup!$D$1:$E$1051,2,FALSE))","v":""},{"$f":"IF(C59787=\"\",\"\",VLOOKUP(U59787,Lookup!$A$1:$B$21,2,FALSE))","v":""},null,null,null,null,null,null,null,null,null,null,null,null,null,null,null,null,null,null,null,null,null,"X"]
[{"$f":"IF(C59863=\"\",\"\",VLOOKUP(D59863,Lookup!$D$1:$E$1051,2,FALSE))","v":""},{"$f":"IF(C59863=\"\",\"\",VLOOKUP(U59863,Lookup!$A$1:$B$21,2,FALSE))","v":""},null,null,null,null,null,null,null,null,null,null,null,null,null,null,null,null,null,null,null,null,null,"X"]
[{"$f":"IF(C59967=\"\",\"\",VLOOKUP(D59967,Lookup!$D$1:$E$1051,2,FALSE))","v":""},{"$f":"IF(C59967=\"\",\"\",VLOOKUP(U59967,Lookup!$A$1:$B$21,2,FALSE))","v":""},null,null,null,null,null,null,null,null,null,null,null,null,null,null,null,null,null,null,null,null,null,"X"]
[{"$f":"IF(C60105=\"\",\"\",VLOOKUP(D60105,Lookup!$D$1:$E$1051,2,FALSE))","v":""},{"$f":"IF(C60105=\"\",\"\",VLOOKUP(U60105,Lookup!$A$1:$B$21,2,FALSE))","v":""},null,null,null,null,null,null,null,null,null,null,null,null,null,null,null,null,null,null,null,null,null,"X"]
[{"$f":"IF(C60243=\"\",\"\",VLOOKUP(D60243,Lookup!$D$1:$E$1051,2,FALSE))","v":""},{"$f":"IF(C60243=\"\",\"\",VLOOKUP(U60243,Lookup!$A$1:$B$21,2,FALSE))","v":""},null,null,null,null,null,null,null,null,null,null,null,null,null,null,null,null,null,null,null,null,null,"X"]
[{"$f":"IF(C60256=\"\",\"\",VLOOKUP(D60256,Lookup!$D$1:$E$1051,2,FALSE))","v":""},{"$f":"IF(C60256=\"\",\"\",VLOOKUP(U60256,Lookup!$A$1:$B$21,2,FALSE))","v":""},null,null,null,null,null,null,null,null,null,null,null,null,null,null,null,null,null,null,null,null,null,"X"]
[{"$f":"IF(C60423=\"\",\"\",VLOOKUP(D60423,Lookup!$D$1:$E$1051,2,FALSE))","v":""},{"$f":"IF(C60423=\"\",\"\",VLOOKUP(U60423,Lookup!$A$1:$B$21,2,FALSE))","v":""},null,null,null,null,null,null,null,null,null,null,null,null,null,null,null,null,null,null,null,null,null,"X"]
[{"$f":"IF(C60462=\"\",\"\",VLOOKUP(D60462,Lookup!$D$1:$E$1051,2,FALSE))","v":""},{"$f":"IF(C60462=\"\",\"\",VLOOKUP(U60462,Lookup!$A$1:$B$21,2,FALSE))","v":""},null,null,null,null,null,null,null,null,null,null,null,null,null,null,null,null,null,null,null,null,null,"X"]
[{"$f":"IF(C60604=\"\",\"\",VLOOKUP(D60604,Lookup!$D$1:$E$1051,2,FALSE))","v":""},{"$f":"IF(C60604=\"\",\"\",VLOOKUP(U60604,Lookup!$A$1:$B$21,2,FALSE))","v":""},null,null,null,null,null,null,null,null,null,null,null,null,null,null,null,null,null,null,null,null,null,"X"]
[{"$f":"IF(C60659=\"\",\"\",VLOOKUP(D60659,Lookup!$D$1:$E$1051,2,FALSE))","v":""},{"$f":"IF(C60659=\"\",\"\",VLOOKUP(U60659,Lookup!$A$1:$B$21,2,FALSE))","v":""},null,null,null,null,null,null,null,null,null,null,null,null,null,null,null,null,null,null,null,null,null,"X"]
[{"$f":"IF(C60784=\"\",\"\",VLOOKUP(D60784,Lookup!$D$1:$E$1051,2,FALSE))","v":""},{"$f":"IF(C60784=\"\",\"\",VLOOKUP(U60784,Lookup!$A$1:$B$21,2,FALSE))","v":""},null,null,null,null,null,null,null,null,null,null,null,null,null,null,null,null,null,null,null,null,null,"X"]
[{"$f":"IF(C60922=\"\",\"\",VLOOKUP(D60922,Lookup!$D$1:$E$1051,2,FALSE))","v":""},{"$f":"IF(C60922=\"\",\"\",VLOOKUP(U60922,Lookup!$A$1:$B$21,2,FALSE))","v":""},null,null,null,null,null,null,null,null,null,null,null,null,null,null,null,null,null,null,null,null,null,"X"]
[{"$f":"IF(C60961=\"\",\"\",VLOOKUP(D60961,Lookup!$D$1:$E$1051,2,FALSE))","v":""},{"$f":"IF(C60961=\"\",\"\",VLOOKUP(U60961,Lookup!$A$1:$B$21,2,FALSE))","v":""},null,null,null,null,null,null,null,null,null,null,null,null,null,null,null,null,null,null,null,null,null,"X"]
[{"$f":"IF(C61052=\"\",\"\",VLOOKUP(D61052,Lookup!$D$1:$E$1051,2,FALSE))","v":""},{"$f":"IF(C61052=\"\",\"\",VLOOKUP(U61052,Lookup!$A$1:$B$21,2,FALSE))","v":""},null,null,null,null,null,null,null,null,null,null,null,null,null,null,null,null,null,null,null,null,null,"X"]
[{"$f":"IF(C61141=\"\",\"\",VLOOKUP(D61141,Lookup!$D$1:$E$1051,2,FALSE))","v":""},{"$f":"IF(C61141=\"\",\"\",VLOOKUP(U61141,Lookup!$A$1:$B$21,2,FALSE))","v":""},null,null,null,null,null,null,null,null,null,null,null,null,null,null,null,null,null,null,null,null,null,"X"]
[{"$f":"IF(C61279=\"\",\"\",VLOOKUP(D61279,Lookup!$D$1:$E$1051,2,FALSE))","v":""},{"$f":"IF(C61279=\"\",\"\",VLOOKUP(U61279,Lookup!$A$1:$B$21,2,FALSE))","v":""},null,null,null,null,null,null,null,null,null,null,null,null,null,null,null,null,null,null,null,null,null,"X"]
[{"$f":"IF(C61421=\"\",\"\",VLOOKUP(D61421,Lookup!$D$1:$E$1051,2,FALSE))","v":""},{"$f":"IF(C61421=\"\",\"\",VLOOKUP(U61421,Lookup!$A$1:$B$21,2,FALSE))","v":""},null,null,null,null,null,null,null,null,null,null,null,null,null,null,null,null,null,null,null,null,null,"X"]
[{"$f":"IF(C61455=\"\",\"\",VLOOKUP(D61455,Lookup!$D$1:$E$1051,2,FALSE))","v":""},{"$f":"IF(C61455=\"\",\"\",VLOOKUP(U61455,Lookup!$A$1:$B$21,2,FALSE))","v":""},null,null,null,null,null,null,null,null,null,null,null,null,null,null,null,null,null,null,null,null,null,"X"]
[{"$f":"IF(C61601=\"\",\"\",VLOOKUP(D61601,Lookup!$D$1:$E$1051,2,FALSE))","v":""},{"$f":"IF(C61601=\"\",\"\",VLOOKUP(U61601,Lookup!$A$1:$B$21,2,FALSE))","v":""},null,null,null,null,null,null,null,null,null,null,null,null,null,null,null,null,null,null,null,null,null,"X"]
[{"$f":"IF(C61640=\"\",\"\",VLOOKUP(D61640,Lookup!$D$1:$E$1051,2,FALSE))","v":""},{"$f":"IF(C61640=\"\",\"\",VLOOKUP(U61640,Lookup!$A$1:$B$21,2,FALSE))","v":""},null,null,null,null,null,null,null,null,null,null,null,null,null,null,null,null,null,null,null,null,null,"X"]
[{"$f":"IF(C61778=\"\",\"\",VLOOKUP(D61778,Lookup!$D$1:$E$1051,2,FALSE))","v":""},{"$f":"IF(C61778=\"\",\"\",VLOOKUP(U61778,Lookup!$A$1:$B$21,2,FALSE))","v":""},null,null,null,null,null,null,null,null,null,null,null,null,null,null,null,null,null,null,null,null,null,"X"]
[{"$f":"IF(C61848=\"\",\"\",VLOOKUP(D61848,Lookup!$D$1:$E$1051,2,FALSE))","v":""},{"$f":"IF(C61848=\"\",\"\",VLOOKUP(U61848,Lookup!$A$1:$B$21,2,FALSE))","v":""},null,null,null,null,null,null,null,null,null,null,null,null,null,null,null,null,null,null,null,null,null,"X"]
[{"$f":"IF(C61958=\"\",\"\",VLOOKUP(D61958,Lookup!$D$1:$E$1051,2,FALSE))","v":""},{"$f":"IF(C61958=\"\",\"\",VLOOKUP(U61958,Lookup!$A$1:$B$21,2,FALSE))","v":""},null,null,null,null,null,null,null,null,null,null,null,null,null,null,null,null,null,null,null,null,null,"X"]
[{"$f":"IF(C62100=\"\",\"\",VLOOKUP(D62100,Lookup!$D$1:$E$1051,2,FALSE))","v":""},{"$f":"IF(C62100=\"\",\"\",VLOOKUP(U62100,Lookup!$A$1:$B$21,2,FALSE))","v":""},null,null,null,null,null,null,null,null,null,null,null,null,null,null,null,null,null,null,null,null,null,"X"]
[{"$f":"IF(C62139=\"\",\"\",VLOOKUP(D62139,Lookup!$D$1:$E$1051,2,FALSE))","v":""},{"$f":"IF(C62139=\"\",\"\",VLOOKUP(U62139,Lookup!$A$1:$B$21,2,FALSE))","v":""},null,null,null,null,null,null,null,null,null,null,null,null,null,null,null,null,null,null,null,null,null,"X"]
[{"$f":"IF(C62251=\"\",\"\",VLOOKUP(D62251,Lookup!$D$1:$E$1051,2,FALSE))","v":""},{"$f":"IF(C62251=\"\",\"\",VLOOKUP(U62251,Lookup!$A$1:$B$21,2,FALSE))","v":""},null,null,null,null,null,null,null,null,null,null,null,null,null,null,null,null,null,null,null,null,null,"X"]
[{"$f":"IF(C62418=\"\",\"\",VLOOKUP(D62418,Lookup!$D$1:$E$1051,2,FALSE))","v":""},{"$f":"IF(C62418=\"\",\"\",VLOOKUP(U62418,Lookup!$A$1:$B$21,2,FALSE))","v":""},null,null,null,null,null,null,null,null,null,null,null,null,null,null,null,null,null,null,null,null,null,"X"]
[{"$f":"IF(C62457=\"\",\"\",VLOOKUP(D62457,Lookup!$D$1:$E$1051,2,FALSE))","v":""},{"$f":"IF(C62457=\"\",\"\",VLOOKUP(U62457,Lookup!$A$1:$B$21,2,FALSE))","v":""},null,null,null,null,null,null,null,null,null,null,null,null,null,null,null,null,null,null,null,null,null,"X"]
[{"$f":"IF(C62595=\"\",\"\",VLOOKUP(D62595,Lookup!$D$1:$E$1051,2,FALSE))","v":""},{"$f":"IF(C62595=\"\",\"\",VLOOKUP(U62595,Lookup!$A$1:$B$21,2,FALSE))","v":""},null,null,null,null,null,null,null,null,null,null,null,null,null,null,null,null,null,null,null,null,null,"X"]
[{"$f":"IF(C62644=\"\",\"\",VLOOKUP(D62644,Lookup!$D$1:$E$1051,2,FALSE))","v":""},{"$f":"IF(C62644=\"\",\"\",VLOOKUP(U62644,Lookup!$A$1:$B$21,2,FALSE))","v":""},null,null,null,null,null,null,null,null,null,null,null,null,null,null,null,null,null,null,null,null,null,"X"]
[{"$f":"IF(C62775=\"\",\"\",VLOOKUP(D62775,Lookup!$D$1:$E$1051,2,FALSE))","v":""},{"$f":"IF(C62775=\"\",\"\",VLOOKUP(U62775,Lookup!$A$1:$B$21,2,FALSE))","v":""},null,null,null,null,null,null,null,null,null,null,null,null,null,null,null,null,null,null,null,null,null,"X"]
[{"$f":"IF(C62818=\"\",\"\",VLOOKUP(D62818,Lookup!$D$1:$E$1051,2,FALSE))","v":""},{"$f":"IF(C62818=\"\",\"\",VLOOKUP(U62818,Lookup!$A$1:$B$21,2,FALSE))","v":""},null,null,null,null,null,null,null,null,null,null,null,null,null,null,null,null,null,null,null,null,null,"X"]
[{"$f":"IF(C62956=\"\",\"\",VLOOKUP(D62956,Lookup!$D$1:$E$1051,2,FALSE))","v":""},{"$f":"IF(C62956=\"\",\"\",VLOOKUP(U62956,Lookup!$A$1:$B$21,2,FALSE))","v":""},null,null,null,null,null,null,null,null,null,null,null,null,null,null,null,null,null,null,null,null,null,"X"]
[{"$f":"IF(C63047=\"\",\"\",VLOOKUP(D63047,Lookup!$D$1:$E$1051,2,FALSE))","v":""},{"$f":"IF(C63047=\"\",\"\",VLOOKUP(U63047,Lookup!$A$1:$B$21,2,FALSE))","v":""},null,null,null,null,null,null,null,null,null,null,null,null,null,null,null,null,null,null,null,null,null,"X"]
[{"$f":"IF(C63136=\"\",\"\",VLOOKUP(D63136,Lookup!$D$1:$E$1051,2,FALSE))","v":""},{"$f":"IF(C63136=\"\",\"\",VLOOKUP(U63136,Lookup!$A$1:$B$21,2,FALSE))","v":""},null,null,null,null,null,null,null,null,null,null,null,null,null,null,null,null,null,null,null,null,null,"X"]
[{"$f":"IF(C63274=\"\",\"\",VLOOKUP(D63274,Lookup!$D$1:$E$1051,2,FALSE))","v":""},{"$f":"IF(C63274=\"\",\"\",VLOOKUP(U63274,Lookup!$A$1:$B$21,2,FALSE))","v":""},null,null,null,null,null,null,null,null,null,null,null,null,null,null,null,null,null,null,null,null,null,"X"]
[{"$f":"IF(C63317=\"\",\"\",VLOOKUP(D63317,Lookup!$D$1:$E$1051,2,FALSE))","v":""},{"$f":"IF(C63317=\"\",\"\",VLOOKUP(U63317,Lookup!$A$1:$B$21,2,FALSE))","v":""},null,null,null,null,null,null,null,null,null,null,null,null,null,null,null,null,null,null,null,null,null,"X"]
[{"$f":"IF(C63440=\"\",\"\",VLOOKUP(D63440,Lookup!$D$1:$E$1051,2,FALSE))","v":""},{"$f":"IF(C63440=\"\",\"\",VLOOKUP(U63440,Lookup!$A$1:$B$21,2,FALSE))","v":""},null,null,null,null,null,null,null,null,null,null,null,null,null,null,null,null,null,null,null,null,null,"X"]
[{"$f":"IF(C63592=\"\",\"\",VLOOKUP(D63592,Lookup!$D$1:$E$1051,2,FALSE))","v":""},{"$f":"IF(C63592=\"\",\"\",VLOOKUP(U63592,Lookup!$A$1:$B$21,2,FALSE))","v":""},null,null,null,null,null,null,null,null,null,null,null,null,null,null,null,null,null,null,null,null,null,"X"]
[{"$f":"IF(C63635=\"\",\"\",VLOOKUP(D63635,Lookup!$D$1:$E$1051,2,FALSE))","v":""},{"$f":"IF(C63635=\"\",\"\",VLOOKUP(U63635,Lookup!$A$1:$B$21,2,FALSE))","v":""},null,null,null,null,null,null,null,null,null,null,null,null,null,null,null,null,null,null,null,null,null,"X"]
[{"$f":"IF(C63773=\"\",\"\",VLOOKUP(D63773,Lookup!$D$1:$E$1051,2,FALSE))","v":""},{"$f":"IF(C63773=\"\",\"\",VLOOKUP(U63773,Lookup!$A$1:$B$21,2,FALSE))","v":""},null,null,null,null,null,null,null,null,null,null,null,null,null,null,null,null,null,null,null,null,null,"X"]
[{"$f":"IF(C63843=\"\",\"\",VLOOKUP(D63843,Lookup!$D$1:$E$1051,2,FALSE))","v":""},{"$f":"IF(C63843=\"\",\"\",VLOOKUP(U63843,Lookup!$A$1:$B$21,2,FALSE))","v":""},null,null,null,null,null,null,null,null,null,null,null,null,null,null,null,null,null,null,null,null,null,"X"]
[{"$f":"IF(C63953=\"\",\"\",VLOOKUP(D63953,Lookup!$D$1:$E$1051,2,FALSE))","v":""},{"$f":"IF(C63953=\"\",\"\",VLOOKUP(U63953,Lookup!$A$1:$B$21,2,FALSE))","v":""},null,null,null,null,null,null,null,null,null,null,null,null,null,null,null,null,null,null,null,null,null,"X"]
[{"$f":"IF(C64091=\"\",\"\",VLOOKUP(D64091,Lookup!$D$1:$E$1051,2,FALSE))","v":""},{"$f":"IF(C64091=\"\",\"\",VLOOKUP(U64091,Lookup!$A$1:$B$21,2,FALSE))","v":""},null,null,null,null,null,null,null,null,null,null,null,null,null,null,null,null,null,null,null,null,null,"X"]
[{"$f":"IF(C64134=\"\",\"\",VLOOKUP(D64134,Lookup!$D$1:$E$1051,2,FALSE))","v":""},{"$f":"IF(C64134=\"\",\"\",VLOOKUP(U64134,Lookup!$A$1:$B$21,2,FALSE))","v":""},null,null,null,null,null,null,null,null,null,null,null,null,null,null,null,null,null,null,null,null,null,"X"]
[{"$f":"IF(C64236=\"\",\"\",VLOOKUP(D64236,Lookup!$D$1:$E$1051,2,FALSE))","v":""},{"$f":"IF(C64236=\"\",\"\",VLOOKUP(U64236,Lookup!$A$1:$B$21,2,FALSE))","v":""},null,null,null,null,null,null,null,null,null,null,null,null,null,null,null,null,null,null,null,null,null,"X"]
[{"$f":"IF(C64310=\"\",\"\",VLOOKUP(D64310,Lookup!$D$1:$E$1051,2,FALSE))","v":""},{"$f":"IF(C64310=\"\",\"\",VLOOKUP(U64310,Lookup!$A$1:$B$21,2,FALSE))","v":""},null,null,null,null,null,null,null,null,null,null,null,null,null,null,null,null,null,null,null,null,null,"X"]
[{"$f":"IF(C64452=\"\",\"\",VLOOKUP(D64452,Lookup!$D$1:$E$1051,2,FALSE))","v":""},{"$f":"IF(C64452=\"\",\"\",VLOOKUP(U64452,Lookup!$A$1:$B$21,2,FALSE))","v":""},null,null,null,null,null,null,null,null,null,null,null,null,null,null,null,null,null,null,null,null,null,"X"]
[{"$f":"IF(C64590=\"\",\"\",VLOOKUP(D64590,Lookup!$D$1:$E$1051,2,FALSE))","v":""},{"$f":"IF(C64590=\"\",\"\",VLOOKUP(U64590,Lookup!$A$1:$B$21,2,FALSE))","v":""},null,null,null,null,null,null,null,null,null,null,null,null,null,null,null,null,null,null,null,null,null,"X"]
[{"$f":"IF(C64639=\"\",\"\",VLOOKUP(D64639,Lookup!$D$1:$E$1051,2,FALSE))","v":""},{"$f":"IF(C64639=\"\",\"\",VLOOKUP(U64639,Lookup!$A$1:$B$21,2,FALSE))","v":""},null,null,null,null,null,null,null,null,null,null,null,null,null,null,null,null,null,null,null,null,null,"X"]
[{"$f":"IF(C64770=\"\",\"\",VLOOKUP(D64770,Lookup!$D$1:$E$1051,2,FALSE))","v":""},{"$f":"IF(C64770=\"\",\"\",VLOOKUP(U64770,Lookup!$A$1:$B$21,2,FALSE))","v":""},null,null,null,null,null,null,null,null,null,null,null,null,null,null,null,null,null,null,null,null,null,"X"]
[{"$f":"IF(C64809=\"\",\"\",VLOOKUP(D64809,Lookup!$D$1:$E$1051,2,FALSE))","v":""},{"$f":"IF(C64809=\"\",\"\",VLOOKUP(U64809,Lookup!$A$1:$B$21,2,FALSE))","v":""},null,null,null,null,null,null,null,null,null,null,null,null,null,null,null,null,null,null,null,null,null,"X"]
[{"$f":"IF(C64951=\"\",\"\",VLOOKUP(D64951,Lookup!$D$1:$E$1051,2,FALSE))","v":""},{"$f":"IF(C64951=\"\",\"\",VLOOKUP(U64951,Lookup!$A$1:$B$21,2,FALSE))","v":""},null,null,null,null,null,null,null,null,null,null,null,null,null,null,null,null,null,null,null,null,null,"X"]
[{"$f":"IF(C65032=\"\",\"\",VLOOKUP(D65032,Lookup!$D$1:$E$1051,2,FALSE))","v":""},{"$f":"IF(C65032=\"\",\"\",VLOOKUP(U65032,Lookup!$A$1:$B$21,2,FALSE))","v":""},null,null,null,null,null,null,null,null,null,null,null,null,null,null,null,null,null,null,null,null,null,"X"]
[{"$f":"IF(C65127=\"\",\"\",VLOOKUP(D65127,Lookup!$D$1:$E$1051,2,FALSE))","v":""},{"$f":"IF(C65127=\"\",\"\",VLOOKUP(U65127,Lookup!$A$1:$B$21,2,FALSE))","v":""},null,null,null,null,null,null,null,null,null,null,null,null,null,null,null,null,null,null,null,null,null,"X"]
[{"$f":"IF(C65269=\"\",\"\",VLOOKUP(D65269,Lookup!$D$1:$E$1051,2,FALSE))","v":""},{"$f":"IF(C65269=\"\",\"\",VLOOKUP(U65269,Lookup!$A$1:$B$21,2,FALSE))","v":""},null,null,null,null,null,null,null,null,null,null,null,null,null,null,null,null,null,null,null,null,null,"X"]
[{"$f":"IF(C65308=\"\",\"\",VLOOKUP(D65308,Lookup!$D$1:$E$1051,2,FALSE))","v":""},{"$f":"IF(C65308=\"\",\"\",VLOOKUP(U65308,Lookup!$A$1:$B$21,2,FALSE))","v":""},null,null,null,null,null,null,null,null,null,null,null,null,null,null,null,null,null,null,null,null,null,"X"]
[{"$f":"IF(C65425=\"\",\"\",VLOOKUP(D65425,Lookup!$D$1:$E$1051,2,FALSE))","v":""},{"$f":"IF(C65425=\"\",\"\",VLOOKUP(U65425,Lookup!$A$1:$B$21,2,FALSE))","v":""},null,null,null,null,null,null,null,null,null,null,null,null,null,null,null,null,null,null,null,null,null,"X"]
[{"$f":"IF(C65488=\"\",\"\",VLOOKUP(D65488,Lookup!$D$1:$E$1051,2,FALSE))","v":""},{"$f":"IF(C65488=\"\",\"\",VLOOKUP(U65488,Lookup!$A$1:$B$21,2,FALSE))","v":""},null,null,null,null,null,null,null,null,null,null,null,null,null,null,null,null,null,null,null,null,null,"X"]
[{"$f":"IF(C65626=\"\",\"\",VLOOKUP(D65626,Lookup!$D$1:$E$1051,2,FALSE))","v":""},{"$f":"IF(C65626=\"\",\"\",VLOOKUP(U65626,Lookup!$A$1:$B$21,2,FALSE))","v":""},null,null,null,null,null,null,null,null,null,null,null,null,null,null,null,null,null,null,null,null,null,"X"]
[{"$f":"IF(C65768=\"\",\"\",VLOOKUP(D65768,Lookup!$D$1:$E$1051,2,FALSE))","v":""},{"$f":"IF(C65768=\"\",\"\",VLOOKUP(U65768,Lookup!$A$1:$B$21,2,FALSE))","v":""},null,null,null,null,null,null,null,null,null,null,null,null,null,null,null,null,null,null,null,null,null,"X"]
[{"$f":"IF(C65828=\"\",\"\",VLOOKUP(D65828,Lookup!$D$1:$E$1051,2,FALSE))","v":""},{"$f":"IF(C65828=\"\",\"\",VLOOKUP(U65828,Lookup!$A$1:$B$21,2,FALSE))","v":""},null,null,null,null,null,null,null,null,null,null,null,null,null,null,null,null,null,null,null,null,null,"X"]
[{"$f":"IF(C65944=\"\",\"\",VLOOKUP(D65944,Lookup!$D$1:$E$1051,2,FALSE))","v":""},{"$f":"IF(C65944=\"\",\"\",VLOOKUP(U65944,Lookup!$A$1:$B$21,2,FALSE))","v":""},null,null,null,null,null,null,null,null,null,null,null,null,null,null,null,null,null,null,null,null,null,"X"]
[{"$f":"IF(C65987=\"\",\"\",VLOOKUP(D65987,Lookup!$D$1:$E$1051,2,FALSE))","v":""},{"$f":"IF(C65987=\"\",\"\",VLOOKUP(U65987,Lookup!$A$1:$B$21,2,FALSE))","v":""},null,null,null,null,null,null,null,null,null,null,null,null,null,null,null,null,null,null,null,null,null,"X"]
[{"$f":"IF(C66125=\"\",\"\",VLOOKUP(D66125,Lookup!$D$1:$E$1051,2,FALSE))","v":""},{"$f":"IF(C66125=\"\",\"\",VLOOKUP(U66125,Lookup!$A$1:$B$21,2,FALSE))","v":""},null,null,null,null,null,null,null,null,null,null,null,null,null,null,null,null,null,null,null,null,null,"X"]
[{"$f":"IF(C66221=\"\",\"\",VLOOKUP(D66221,Lookup!$D$1:$E$1051,2,FALSE))","v":""},{"$f":"IF(C66221=\"\",\"\",VLOOKUP(U66221,Lookup!$A$1:$B$21,2,FALSE))","v":""},null,null,null,null,null,null,null,null,null,null,null,null,null,null,null,null,null,null,null,null,null,"X"]
[{"$f":"IF(C66305=\"\",\"\",VLOOKUP(D66305,Lookup!$D$1:$E$1051,2,FALSE))","v":""},{"$f":"IF(C66305=\"\",\"\",VLOOKUP(U66305,Lookup!$A$1:$B$21,2,FALSE))","v":""},null,null,null,null,null,null,null,null,null,null,null,null,null,null,null,null,null,null,null,null,null,"X"]
[{"$f":"IF(C66443=\"\",\"\",VLOOKUP(D66443,Lookup!$D$1:$E$1051,2,FALSE))","v":""},{"$f":"IF(C66443=\"\",\"\",VLOOKUP(U66443,Lookup!$A$1:$B$21,2,FALSE))","v":""},null,null,null,null,null,null,null,null,null,null,null,null,null,null,null,null,null,null,null,null,null,"X"]
[{"$f":"IF(C66486=\"\",\"\",VLOOKUP(D66486,Lookup!$D$1:$E$1051,2,FALSE))","v":""},{"$f":"IF(C66486=\"\",\"\",VLOOKUP(U66486,Lookup!$A$1:$B$21,2,FALSE))","v":""},null,null,null,null,null,null,null,null,null,null,null,null,null,null,null,null,null,null,null,null,null,"X"]
[{"$f":"IF(C66624=\"\",\"\",VLOOKUP(D66624,Lookup!$D$1:$E$1051,2,FALSE))","v":""},{"$f":"IF(C66624=\"\",\"\",VLOOKUP(U66624,Lookup!$A$1:$B$21,2,FALSE))","v":""},null,null,null,null,null,null,null,null,null,null,null,null,null,null,null,null,null,null,null,null,null,"X"]
[{"$f":"IF(C66765=\"\",\"\",VLOOKUP(D66765,Lookup!$D$1:$E$1051,2,FALSE))","v":""},{"$f":"IF(C66765=\"\",\"\",VLOOKUP(U66765,Lookup!$A$1:$B$21,2,FALSE))","v":""},null,null,null,null,null,null,null,null,null,null,null,null,null,null,null,null,null,null,null,null,null,"X"]
[{"$f":"IF(C66804=\"\",\"\",VLOOKUP(D66804,Lookup!$D$1:$E$1051,2,FALSE))","v":""},{"$f":"IF(C66804=\"\",\"\",VLOOKUP(U66804,Lookup!$A$1:$B$21,2,FALSE))","v":""},null,null,null,null,null,null,null,null,null,null,null,null,null,null,null,null,null,null,null,null,null,"X"]
[{"$f":"IF(C66942=\"\",\"\",VLOOKUP(D66942,Lookup!$D$1:$E$1051,2,FALSE))","v":""},{"$f":"IF(C66942=\"\",\"\",VLOOKUP(U66942,Lookup!$A$1:$B$21,2,FALSE))","v":""},null,null,null,null,null,null,null,null,null,null,null,null,null,null,null,null,null,null,null,null,null,"X"]
[{"$f":"IF(C67017=\"\",\"\",VLOOKUP(D67017,Lookup!$D$1:$E$1051,2,FALSE))","v":""},{"$f":"IF(C67017=\"\",\"\",VLOOKUP(U67017,Lookup!$A$1:$B$21,2,FALSE))","v":""},null,null,null,null,null,null,null,null,null,null,null,null,null,null,null,null,null,null,null,null,null,"X"]
[{"$f":"IF(C67122=\"\",\"\",VLOOKUP(D67122,Lookup!$D$1:$E$1051,2,FALSE))","v":""},{"$f":"IF(C67122=\"\",\"\",VLOOKUP(U67122,Lookup!$A$1:$B$21,2,FALSE))","v":""},null,null,null,null,null,null,null,null,null,null,null,null,null,null,null,null,null,null,null,null,null,"X"]
[{"$f":"IF(C67260=\"\",\"\",VLOOKUP(D67260,Lookup!$D$1:$E$1051,2,FALSE))","v":""},{"$f":"IF(C67260=\"\",\"\",VLOOKUP(U67260,Lookup!$A$1:$B$21,2,FALSE))","v":""},null,null,null,null,null,null,null,null,null,null,null,null,null,null,null,null,null,null,null,null,null,"X"]
[{"$f":"IF(C67303=\"\",\"\",VLOOKUP(D67303,Lookup!$D$1:$E$1051,2,FALSE))","v":""},{"$f":"IF(C67303=\"\",\"\",VLOOKUP(U67303,Lookup!$A$1:$B$21,2,FALSE))","v":""},null,null,null,null,null,null,null,null,null,null,null,null,null,null,null,null,null,null,null,null,null,"X"]
[{"$f":"IF(C67420=\"\",\"\",VLOOKUP(D67420,Lookup!$D$1:$E$1051,2,FALSE))","v":""},{"$f":"IF(C67420=\"\",\"\",VLOOKUP(U67420,Lookup!$A$1:$B$21,2,FALSE))","v":""},null,null,null,null,null,null,null,null,null,null,null,null,null,null,null,null,null,null,null,null,null,"X"]
[{"$f":"IF(C67483=\"\",\"\",VLOOKUP(D67483,Lookup!$D$1:$E$1051,2,FALSE))","v":""},{"$f":"IF(C67483=\"\",\"\",VLOOKUP(U67483,Lookup!$A$1:$B$21,2,FALSE))","v":""},null,null,null,null,null,null,null,null,null,null,null,null,null,null,null,null,null,null,null,null,null,"X"]
[{"$f":"IF(C67621=\"\",\"\",VLOOKUP(D67621,Lookup!$D$1:$E$1051,2,FALSE))","v":""},{"$f":"IF(C67621=\"\",\"\",VLOOKUP(U67621,Lookup!$A$1:$B$21,2,FALSE))","v":""},null,null,null,null,null,null,null,null,null,null,null,null,null,null,null,null,null,null,null,null,null,"X"]
[{"$f":"IF(C67660=\"\",\"\",VLOOKUP(D67660,Lookup!$D$1:$E$1051,2,FALSE))","v":""},{"$f":"IF(C67660=\"\",\"\",VLOOKUP(U67660,Lookup!$A$1:$B$21,2,FALSE))","v":""},null,null,null,null,null,null,null,null,null,null,null,null,null,null,null,null,null,null,null,null,null,"X"]
[{"$f":"IF(C67813=\"\",\"\",VLOOKUP(D67813,Lookup!$D$1:$E$1051,2,FALSE))","v":""},{"$f":"IF(C67813=\"\",\"\",VLOOKUP(U67813,Lookup!$A$1:$B$21,2,FALSE))","v":""},null,null,null,null,null,null,null,null,null,null,null,null,null,null,null,null,null,null,null,null,null,"X"]
[{"$f":"IF(C67939=\"\",\"\",VLOOKUP(D67939,Lookup!$D$1:$E$1051,2,FALSE))","v":""},{"$f":"IF(C67939=\"\",\"\",VLOOKUP(U67939,Lookup!$A$1:$B$21,2,FALSE))","v":""},null,null,null,null,null,null,null,null,null,null,null,null,null,null,null,null,null,null,null,null,null,"X"]
[{"$f":"IF(C67978=\"\",\"\",VLOOKUP(D67978,Lookup!$D$1:$E$1051,2,FALSE))","v":""},{"$f":"IF(C67978=\"\",\"\",VLOOKUP(U67978,Lookup!$A$1:$B$21,2,FALSE))","v":""},null,null,null,null,null,null,null,null,null,null,null,null,null,null,null,null,null,null,null,null,null,"X"]
[{"$f":"IF(C68120=\"\",\"\",VLOOKUP(D68120,Lookup!$D$1:$E$1051,2,FALSE))","v":""},{"$f":"IF(C68120=\"\",\"\",VLOOKUP(U68120,Lookup!$A$1:$B$21,2,FALSE))","v":""},null,null,null,null,null,null,null,null,null,null,null,null,null,null,null,null,null,null,null,null,null,"X"]
[{"$f":"IF(C68216=\"\",\"\",VLOOKUP(D68216,Lookup!$D$1:$E$1051,2,FALSE))","v":""},{"$f":"IF(C68216=\"\",\"\",VLOOKUP(U68216,Lookup!$A$1:$B$21,2,FALSE))","v":""},null,null,null,null,null,null,null,null,null,null,null,null,null,null,null,null,null,null,null,null,null,"X"]
[{"$f":"IF(C68300=\"\",\"\",VLOOKUP(D68300,Lookup!$D$1:$E$1051,2,FALSE))","v":""},{"$f":"IF(C68300=\"\",\"\",VLOOKUP(U68300,Lookup!$A$1:$B$21,2,FALSE))","v":""},null,null,null,null,null,null,null,null,null,null,null,null,null,null,null,null,null,null,null,null,null,"X"]
[{"$f":"IF(C68438=\"\",\"\",VLOOKUP(D68438,Lookup!$D$1:$E$1051,2,FALSE))","v":""},{"$f":"IF(C68438=\"\",\"\",VLOOKUP(U68438,Lookup!$A$1:$B$21,2,FALSE))","v":""},null,null,null,null,null,null,null,null,null,null,null,null,null,null,null,null,null,null,null,null,null,"X"]
[{"$f":"IF(C68477=\"\",\"\",VLOOKUP(D68477,Lookup!$D$1:$E$1051,2,FALSE))","v":""},{"$f":"IF(C68477=\"\",\"\",VLOOKUP(U68477,Lookup!$A$1:$B$21,2,FALSE))","v":""},null,null,null,null,null,null,null,null,null,null,null,null,null,null,null,null,null,null,null,null,null,"X"]
[{"$f":"IF(C68609=\"\",\"\",VLOOKUP(D68609,Lookup!$D$1:$E$1051,2,FALSE))","v":""},{"$f":"IF(C68609=\"\",\"\",VLOOKUP(U68609,Lookup!$A$1:$B$21,2,FALSE))","v":""},null,null,null,null,null,null,null,null,null,null,null,null,null,null,null,null,null,null,null,null,null,"X"]
[{"$f":"IF(C68657=\"\",\"\",VLOOKUP(D68657,Lookup!$D$1:$E$1051,2,FALSE))","v":""},{"$f":"IF(C68657=\"\",\"\",VLOOKUP(U68657,Lookup!$A$1:$B$21,2,FALSE))","v":""},null,null,null,null,null,null,null,null,null,null,null,null,null,null,null,null,null,null,null,null,null,"X"]
[{"$f":"IF(C68799=\"\",\"\",VLOOKUP(D68799,Lookup!$D$1:$E$1051,2,FALSE))","v":""},{"$f":"IF(C68799=\"\",\"\",VLOOKUP(U68799,Lookup!$A$1:$B$21,2,FALSE))","v":""},null,null,null,null,null,null,null,null,null,null,null,null,null,null,null,null,null,null,null,null,null,"X"]
[{"$f":"IF(C68937=\"\",\"\",VLOOKUP(D68937,Lookup!$D$1:$E$1051,2,FALSE))","v":""},{"$f":"IF(C68937=\"\",\"\",VLOOKUP(U68937,Lookup!$A$1:$B$21,2,FALSE))","v":""},null,null,null,null,null,null,null,null,null,null,null,null,null,null,null,null,null,null,null,null,null,"X"]
[{"$f":"IF(C69012=\"\",\"\",VLOOKUP(D69012,Lookup!$D$1:$E$1051,2,FALSE))","v":""},{"$f":"IF(C69012=\"\",\"\",VLOOKUP(U69012,Lookup!$A$1:$B$21,2,FALSE))","v":""},null,null,null,null,null,null,null,null,null,null,null,null,null,null,null,null,null,null,null,null,null,"X"]
[{"$f":"IF(C69117=\"\",\"\",VLOOKUP(D69117,Lookup!$D$1:$E$1051,2,FALSE))","v":""},{"$f":"IF(C69117=\"\",\"\",VLOOKUP(U69117,Lookup!$A$1:$B$21,2,FALSE))","v":""},null,null,null,null,null,null,null,null,null,null,null,null,null,null,null,null,null,null,null,null,null,"X"]
[{"$f":"IF(C69156=\"\",\"\",VLOOKUP(D69156,Lookup!$D$1:$E$1051,2,FALSE))","v":""},{"$f":"IF(C69156=\"\",\"\",VLOOKUP(U69156,Lookup!$A$1:$B$21,2,FALSE))","v":""},null,null,null,null,null,null,null,null,null,null,null,null,null,null,null,null,null,null,null,null,null,"X"]
[{"$f":"IF(C69294=\"\",\"\",VLOOKUP(D69294,Lookup!$D$1:$E$1051,2,FALSE))","v":""},{"$f":"IF(C69294=\"\",\"\",VLOOKUP(U69294,Lookup!$A$1:$B$21,2,FALSE))","v":""},null,null,null,null,null,null,null,null,null,null,null,null,null,null,null,null,null,null,null,null,null,"X"]
[{"$f":"IF(C69405=\"\",\"\",VLOOKUP(D69405,Lookup!$D$1:$E$1051,2,FALSE))","v":""},{"$f":"IF(C69405=\"\",\"\",VLOOKUP(U69405,Lookup!$A$1:$B$21,2,FALSE))","v":""},null,null,null,null,null,null,null,null,null,null,null,null,null,null,null,null,null,null,null,null,null,"X"]
[{"$f":"IF(C69474=\"\",\"\",VLOOKUP(D69474,Lookup!$D$1:$E$1051,2,FALSE))","v":""},{"$f":"IF(C69474=\"\",\"\",VLOOKUP(U69474,Lookup!$A$1:$B$21,2,FALSE))","v":""},null,null,null,null,null,null,null,null,null,null,null,null,null,null,null,null,null,null,null,null,null,"X"]
[{"$f":"IF(C69616=\"\",\"\",VLOOKUP(D69616,Lookup!$D$1:$E$1051,2,FALSE))","v":""},{"$f":"IF(C69616=\"\",\"\",VLOOKUP(U69616,Lookup!$A$1:$B$21,2,FALSE))","v":""},null,null,null,null,null,null,null,null,null,null,null,null,null,null,null,null,null,null,null,null,null,"X"]
[{"$f":"IF(C69655=\"\",\"\",VLOOKUP(D69655,Lookup!$D$1:$E$1051,2,FALSE))","v":""},{"$f":"IF(C69655=\"\",\"\",VLOOKUP(U69655,Lookup!$A$1:$B$21,2,FALSE))","v":""},null,null,null,null,null,null,null,null,null,null,null,null,null,null,null,null,null,null,null,null,null,"X"]
[{"$f":"IF(C69808=\"\",\"\",VLOOKUP(D69808,Lookup!$D$1:$E$1051,2,FALSE))","v":""},{"$f":"IF(C69808=\"\",\"\",VLOOKUP(U69808,Lookup!$A$1:$B$21,2,FALSE))","v":""},null,null,null,null,null,null,null,null,null,null,null,null,null,null,null,null,null,null,null,null,null,"X"]
[{"$f":"IF(C69835=\"\",\"\",VLOOKUP(D69835,Lookup!$D$1:$E$1051,2,FALSE))","v":""},{"$f":"IF(C69835=\"\",\"\",VLOOKUP(U69835,Lookup!$A$1:$B$21,2,FALSE))","v":""},null,null,null,null,null,null,null,null,null,null,null,null,null,null,null,null,null,null,null,null,null,"X"]
[{"$f":"IF(C69973=\"\",\"\",VLOOKUP(D69973,Lookup!$D$1:$E$1051,2,FALSE))","v":""},{"$f":"IF(C69973=\"\",\"\",VLOOKUP(U69973,Lookup!$A$1:$B$21,2,FALSE))","v":""},null,null,null,null,null,null,null,null,null,null,null,null,null,null,null,null,null,null,null,null,null,"X"]
[{"$f":"IF(C70111=\"\",\"\",VLOOKUP(D70111,Lookup!$D$1:$E$1051,2,FALSE))","v":""},{"$f":"IF(C70111=\"\",\"\",VLOOKUP(U70111,Lookup!$A$1:$B$21,2,FALSE))","v":""},null,null,null,null,null,null,null,null,null,null,null,null,null,null,null,null,null,null,null,null,null,"X"]
[{"$f":"IF(C70201=\"\",\"\",VLOOKUP(D70201,Lookup!$D$1:$E$1051,2,FALSE))","v":""},{"$f":"IF(C70201=\"\",\"\",VLOOKUP(U70201,Lookup!$A$1:$B$21,2,FALSE))","v":""},null,null,null,null,null,null,null,null,null,null,null,null,null,null,null,null,null,null,null,null,null,"X"]
[{"$f":"IF(C70291=\"\",\"\",VLOOKUP(D70291,Lookup!$D$1:$E$1051,2,FALSE))","v":""},{"$f":"IF(C70291=\"\",\"\",VLOOKUP(U70291,Lookup!$A$1:$B$21,2,FALSE))","v":""},null,null,null,null,null,null,null,null,null,null,null,null,null,null,null,null,null,null,null,null,null,"X"]
[{"$f":"IF(C70334=\"\",\"\",VLOOKUP(D70334,Lookup!$D$1:$E$1051,2,FALSE))","v":""},{"$f":"IF(C70334=\"\",\"\",VLOOKUP(U70334,Lookup!$A$1:$B$21,2,FALSE))","v":""},null,null,null,null,null,null,null,null,null,null,null,null,null,null,null,null,null,null,null,null,null,"X"]
[{"$f":"IF(C70472=\"\",\"\",VLOOKUP(D70472,Lookup!$D$1:$E$1051,2,FALSE))","v":""},{"$f":"IF(C70472=\"\",\"\",VLOOKUP(U70472,Lookup!$A$1:$B$21,2,FALSE))","v":""},null,null,null,null,null,null,null,null,null,null,null,null,null,null,null,null,null,null,null,null,null,"X"]
[{"$f":"IF(C70604=\"\",\"\",VLOOKUP(D70604,Lookup!$D$1:$E$1051,2,FALSE))","v":""},{"$f":"IF(C70604=\"\",\"\",VLOOKUP(U70604,Lookup!$A$1:$B$21,2,FALSE))","v":""},null,null,null,null,null,null,null,null,null,null,null,null,null,null,null,null,null,null,null,null,null,"X"]
[{"$f":"IF(C70652=\"\",\"\",VLOOKUP(D70652,Lookup!$D$1:$E$1051,2,FALSE))","v":""},{"$f":"IF(C70652=\"\",\"\",VLOOKUP(U70652,Lookup!$A$1:$B$21,2,FALSE))","v":""},null,null,null,null,null,null,null,null,null,null,null,null,null,null,null,null,null,null,null,null,null,"X"]
[{"$f":"IF(C70790=\"\",\"\",VLOOKUP(D70790,Lookup!$D$1:$E$1051,2,FALSE))","v":""},{"$f":"IF(C70790=\"\",\"\",VLOOKUP(U70790,Lookup!$A$1:$B$21,2,FALSE))","v":""},null,null,null,null,null,null,null,null,null,null,null,null,null,null,null,null,null,null,null,null,null,"X"]
[{"$f":"IF(C70833=\"\",\"\",VLOOKUP(D70833,Lookup!$D$1:$E$1051,2,FALSE))","v":""},{"$f":"IF(C70833=\"\",\"\",VLOOKUP(U70833,Lookup!$A$1:$B$21,2,FALSE))","v":""},null,null,null,null,null,null,null,null,null,null,null,null,null,null,null,null,null,null,null,null,null,"X"]
[{"$f":"IF(C70997=\"\",\"\",VLOOKUP(D70997,Lookup!$D$1:$E$1051,2,FALSE))","v":""},{"$f":"IF(C70997=\"\",\"\",VLOOKUP(U70997,Lookup!$A$1:$B$21,2,FALSE))","v":""},null,null,null,null,null,null,null,null,null,null,null,null,null,null,null,null,null,null,null,null,null,"X"]
[{"$f":"IF(C71108=\"\",\"\",VLOOKUP(D71108,Lookup!$D$1:$E$1051,2,FALSE))","v":""},{"$f":"IF(C71108=\"\",\"\",VLOOKUP(U71108,Lookup!$A$1:$B$21,2,FALSE))","v":""},null,null,null,null,null,null,null,null,null,null,null,null,null,null,null,null,null,null,null,null,null,"X"]
[{"$f":"IF(C71151=\"\",\"\",VLOOKUP(D71151,Lookup!$D$1:$E$1051,2,FALSE))","v":""},{"$f":"IF(C71151=\"\",\"\",VLOOKUP(U71151,Lookup!$A$1:$B$21,2,FALSE))","v":""},null,null,null,null,null,null,null,null,null,null,null,null,null,null,null,null,null,null,null,null,null,"X"]
[{"$f":"IF(C71289=\"\",\"\",VLOOKUP(D71289,Lookup!$D$1:$E$1051,2,FALSE))","v":""},{"$f":"IF(C71289=\"\",\"\",VLOOKUP(U71289,Lookup!$A$1:$B$21,2,FALSE))","v":""},null,null,null,null,null,null,null,null,null,null,null,null,null,null,null,null,null,null,null,null,null,"X"]
[{"$f":"IF(C71400=\"\",\"\",VLOOKUP(D71400,Lookup!$D$1:$E$1051,2,FALSE))","v":""},{"$f":"IF(C71400=\"\",\"\",VLOOKUP(U71400,Lookup!$A$1:$B$21,2,FALSE))","v":""},null,null,null,null,null,null,null,null,null,null,null,null,null,null,null,null,null,null,null,null,null,"X"]
[{"$f":"IF(C71469=\"\",\"\",VLOOKUP(D71469,Lookup!$D$1:$E$1051,2,FALSE))","v":""},{"$f":"IF(C71469=\"\",\"\",VLOOKUP(U71469,Lookup!$A$1:$B$21,2,FALSE))","v":""},null,null,null,null,null,null,null,null,null,null,null,null,null,null,null,null,null,null,null,null,null,"X"]
[{"$f":"IF(C71508=\"\",\"\",VLOOKUP(D71508,Lookup!$D$1:$E$1051,2,FALSE))","v":""},{"$f":"IF(C71508=\"\",\"\",VLOOKUP(U71508,Lookup!$A$1:$B$21,2,FALSE))","v":""},null,null,null,null,null,null,null,null,null,null,null,null,null,null,null,null,null,null,null,null,null,"X"]
[{"$f":"IF(C71650=\"\",\"\",VLOOKUP(D71650,Lookup!$D$1:$E$1051,2,FALSE))","v":""},{"$f":"IF(C71650=\"\",\"\",VLOOKUP(U71650,Lookup!$A$1:$B$21,2,FALSE))","v":""},null,null,null,null,null,null,null,null,null,null,null,null,null,null,null,null,null,null,null,null,null,"X"]
[{"$f":"IF(C71793=\"\",\"\",VLOOKUP(D71793,Lookup!$D$1:$E$1051,2,FALSE))","v":""},{"$f":"IF(C71793=\"\",\"\",VLOOKUP(U71793,Lookup!$A$1:$B$21,2,FALSE))","v":""},null,null,null,null,null,null,null,null,null,null,null,null,null,null,null,null,null,null,null,null,null,"X"]
[{"$f":"IF(C71826=\"\",\"\",VLOOKUP(D71826,Lookup!$D$1:$E$1051,2,FALSE))","v":""},{"$f":"IF(C71826=\"\",\"\",VLOOKUP(U71826,Lookup!$A$1:$B$21,2,FALSE))","v":""},null,null,null,null,null,null,null,null,null,null,null,null,null,null,null,null,null,null,null,null,null,"X"]
[{"$f":"IF(C71968=\"\",\"\",VLOOKUP(D71968,Lookup!$D$1:$E$1051,2,FALSE))","v":""},{"$f":"IF(C71968=\"\",\"\",VLOOKUP(U71968,Lookup!$A$1:$B$21,2,FALSE))","v":""},null,null,null,null,null,null,null,null,null,null,null,null,null,null,null,null,null,null,null,null,null,"X"]
[{"$f":"IF(C72007=\"\",\"\",VLOOKUP(D72007,Lookup!$D$1:$E$1051,2,FALSE))","v":""},{"$f":"IF(C72007=\"\",\"\",VLOOKUP(U72007,Lookup!$A$1:$B$21,2,FALSE))","v":""},null,null,null,null,null,null,null,null,null,null,null,null,null,null,null,null,null,null,null,null,null,"X"]
[{"$f":"IF(C72186=\"\",\"\",VLOOKUP(D72186,Lookup!$D$1:$E$1051,2,FALSE))","v":""},{"$f":"IF(C72186=\"\",\"\",VLOOKUP(U72186,Lookup!$A$1:$B$21,2,FALSE))","v":""},null,null,null,null,null,null,null,null,null,null,null,null,null,null,null,null,null,null,null,null,null,"X"]
[{"$f":"IF(C72286=\"\",\"\",VLOOKUP(D72286,Lookup!$D$1:$E$1051,2,FALSE))","v":""},{"$f":"IF(C72286=\"\",\"\",VLOOKUP(U72286,Lookup!$A$1:$B$21,2,FALSE))","v":""},null,null,null,null,null,null,null,null,null,null,null,null,null,null,null,null,null,null,null,null,null,"X"]
[{"$f":"IF(C72325=\"\",\"\",VLOOKUP(D72325,Lookup!$D$1:$E$1051,2,FALSE))","v":""},{"$f":"IF(C72325=\"\",\"\",VLOOKUP(U72325,Lookup!$A$1:$B$21,2,FALSE))","v":""},null,null,null,null,null,null,null,null,null,null,null,null,null,null,null,null,null,null,null,null,null,"X"]
[{"$f":"IF(C72467=\"\",\"\",VLOOKUP(D72467,Lookup!$D$1:$E$1051,2,FALSE))","v":""},{"$f":"IF(C72467=\"\",\"\",VLOOKUP(U72467,Lookup!$A$1:$B$21,2,FALSE))","v":""},null,null,null,null,null,null,null,null,null,null,null,null,null,null,null,null,null,null,null,null,null,"X"]
[{"$f":"IF(C72589=\"\",\"\",VLOOKUP(D72589,Lookup!$D$1:$E$1051,2,FALSE))","v":""},{"$f":"IF(C72589=\"\",\"\",VLOOKUP(U72589,Lookup!$A$1:$B$21,2,FALSE))","v":""},null,null,null,null,null,null,null,null,null,null,null,null,null,null,null,null,null,null,null,null,null,"X"]
[{"$f":"IF(C72643=\"\",\"\",VLOOKUP(D72643,Lookup!$D$1:$E$1051,2,FALSE))","v":""},{"$f":"IF(C72643=\"\",\"\",VLOOKUP(U72643,Lookup!$A$1:$B$21,2,FALSE))","v":""},null,null,null,null,null,null,null,null,null,null,null,null,null,null,null,null,null,null,null,null,null,"X"]
[{"$f":"IF(C72785=\"\",\"\",VLOOKUP(D72785,Lookup!$D$1:$E$1051,2,FALSE))","v":""},{"$f":"IF(C72785=\"\",\"\",VLOOKUP(U72785,Lookup!$A$1:$B$21,2,FALSE))","v":""},null,null,null,null,null,null,null,null,null,null,null,null,null,null,null,null,null,null,null,null,null,"X"]
[{"$f":"IF(C72824=\"\",\"\",VLOOKUP(D72824,Lookup!$D$1:$E$1051,2,FALSE))","v":""},{"$f":"IF(C72824=\"\",\"\",VLOOKUP(U72824,Lookup!$A$1:$B$21,2,FALSE))","v":""},null,null,null,null,null,null,null,null,null,null,null,null,null,null,null,null,null,null,null,null,null,"X"]
[{"$f":"IF(C72982=\"\",\"\",VLOOKUP(D72982,Lookup!$D$1:$E$1051,2,FALSE))","v":""},{"$f":"IF(C72982=\"\",\"\",VLOOKUP(U72982,Lookup!$A$1:$B$21,2,FALSE))","v":""},null,null,null,null,null,null,null,null,null,null,null,null,null,null,null,null,null,null,null,null,null,"X"]
[{"$f":"IF(C73004=\"\",\"\",VLOOKUP(D73004,Lookup!$D$1:$E$1051,2,FALSE))","v":""},{"$f":"IF(C73004=\"\",\"\",VLOOKUP(U73004,Lookup!$A$1:$B$21,2,FALSE))","v":""},null,null,null,null,null,null,null,null,null,null,null,null,null,null,null,null,null,null,null,null,null,"X"]
[{"$f":"IF(C73142=\"\",\"\",VLOOKUP(D73142,Lookup!$D$1:$E$1051,2,FALSE))","v":""},{"$f":"IF(C73142=\"\",\"\",VLOOKUP(U73142,Lookup!$A$1:$B$21,2,FALSE))","v":""},null,null,null,null,null,null,null,null,null,null,null,null,null,null,null,null,null,null,null,null,null,"X"]
[{"$f":"IF(C73284=\"\",\"\",VLOOKUP(D73284,Lookup!$D$1:$E$1051,2,FALSE))","v":""},{"$f":"IF(C73284=\"\",\"\",VLOOKUP(U73284,Lookup!$A$1:$B$21,2,FALSE))","v":""},null,null,null,null,null,null,null,null,null,null,null,null,null,null,null,null,null,null,null,null,null,"X"]
[{"$f":"IF(C73287=\"\",\"\",VLOOKUP(D73287,Lookup!$D$1:$E$1051,2,FALSE))","v":""},{"$f":"IF(C73287=\"\",\"\",VLOOKUP(U73287,Lookup!$A$1:$B$21,2,FALSE))","v":""},null,null,null,null,null,null,null,null,null,null,null,null,null,null,null,null,null,null,null,null,null,"X"]
[{"$f":"IF(C73460=\"\",\"\",VLOOKUP(D73460,Lookup!$D$1:$E$1051,2,FALSE))","v":""},{"$f":"IF(C73460=\"\",\"\",VLOOKUP(U73460,Lookup!$A$1:$B$21,2,FALSE))","v":""},null,null,null,null,null,null,null,null,null,null,null,null,null,null,null,null,null,null,null,null,null,"X"]
[{"$f":"IF(C73503=\"\",\"\",VLOOKUP(D73503,Lookup!$D$1:$E$1051,2,FALSE))","v":""},{"$f":"IF(C73503=\"\",\"\",VLOOKUP(U73503,Lookup!$A$1:$B$21,2,FALSE))","v":""},null,null,null,null,null,null,null,null,null,null,null,null,null,null,null,null,null,null,null,null,null,"X"]
[{"$f":"IF(C73641=\"\",\"\",VLOOKUP(D73641,Lookup!$D$1:$E$1051,2,FALSE))","v":""},{"$f":"IF(C73641=\"\",\"\",VLOOKUP(U73641,Lookup!$A$1:$B$21,2,FALSE))","v":""},null,null,null,null,null,null,null,null,null,null,null,null,null,null,null,null,null,null,null,null,null,"X"]
[{"$f":"IF(C73778=\"\",\"\",VLOOKUP(D73778,Lookup!$D$1:$E$1051,2,FALSE))","v":""},{"$f":"IF(C73778=\"\",\"\",VLOOKUP(U73778,Lookup!$A$1:$B$21,2,FALSE))","v":""},null,null,null,null,null,null,null,null,null,null,null,null,null,null,null,null,null,null,null,null,null,"X"]
[{"$f":"IF(C73821=\"\",\"\",VLOOKUP(D73821,Lookup!$D$1:$E$1051,2,FALSE))","v":""},{"$f":"IF(C73821=\"\",\"\",VLOOKUP(U73821,Lookup!$A$1:$B$21,2,FALSE))","v":""},null,null,null,null,null,null,null,null,null,null,null,null,null,null,null,null,null,null,null,null,null,"X"]
[{"$f":"IF(C73959=\"\",\"\",VLOOKUP(D73959,Lookup!$D$1:$E$1051,2,FALSE))","v":""},{"$f":"IF(C73959=\"\",\"\",VLOOKUP(U73959,Lookup!$A$1:$B$21,2,FALSE))","v":""},null,null,null,null,null,null,null,null,null,null,null,null,null,null,null,null,null,null,null,null,null,"X"]
[{"$f":"IF(C74002=\"\",\"\",VLOOKUP(D74002,Lookup!$D$1:$E$1051,2,FALSE))","v":""},{"$f":"IF(C74002=\"\",\"\",VLOOKUP(U74002,Lookup!$A$1:$B$21,2,FALSE))","v":""},null,null,null,null,null,null,null,null,null,null,null,null,null,null,null,null,null,null,null,null,null,"X"]
[{"$f":"IF(C74083=\"\",\"\",VLOOKUP(D74083,Lookup!$D$1:$E$1051,2,FALSE))","v":""},{"$f":"IF(C74083=\"\",\"\",VLOOKUP(U74083,Lookup!$A$1:$B$21,2,FALSE))","v":""},null,null,null,null,null,null,null,null,null,null,null,null,null,null,null,null,null,null,null,null,null,"X"]
[{"$f":"IF(C74182=\"\",\"\",VLOOKUP(D74182,Lookup!$D$1:$E$1051,2,FALSE))","v":""},{"$f":"IF(C74182=\"\",\"\",VLOOKUP(U74182,Lookup!$A$1:$B$21,2,FALSE))","v":""},null,null,null,null,null,null,null,null,null,null,null,null,null,null,null,null,null,null,null,null,null,"X"]
[{"$f":"IF(C74320=\"\",\"\",VLOOKUP(D74320,Lookup!$D$1:$E$1051,2,FALSE))","v":""},{"$f":"IF(C74320=\"\",\"\",VLOOKUP(U74320,Lookup!$A$1:$B$21,2,FALSE))","v":""},null,null,null,null,null,null,null,null,null,null,null,null,null,null,null,null,null,null,null,null,null,"X"]
[{"$f":"IF(C74458=\"\",\"\",VLOOKUP(D74458,Lookup!$D$1:$E$1051,2,FALSE))","v":""},{"$f":"IF(C74458=\"\",\"\",VLOOKUP(U74458,Lookup!$A$1:$B$21,2,FALSE))","v":""},null,null,null,null,null,null,null,null,null,null,null,null,null,null,null,null,null,null,null,null,null,"X"]
[{"$f":"IF(C74476=\"\",\"\",VLOOKUP(D74476,Lookup!$D$1:$E$1051,2,FALSE))","v":""},{"$f":"IF(C74476=\"\",\"\",VLOOKUP(U74476,Lookup!$A$1:$B$21,2,FALSE))","v":""},null,null,null,null,null,null,null,null,null,null,null,null,null,null,null,null,null,null,null,null,null,"X"]
[{"$f":"IF(C74638=\"\",\"\",VLOOKUP(D74638,Lookup!$D$1:$E$1051,2,FALSE))","v":""},{"$f":"IF(C74638=\"\",\"\",VLOOKUP(U74638,Lookup!$A$1:$B$21,2,FALSE))","v":""},null,null,null,null,null,null,null,null,null,null,null,null,null,null,null,null,null,null,null,null,null,"X"]
[{"$f":"IF(C74677=\"\",\"\",VLOOKUP(D74677,Lookup!$D$1:$E$1051,2,FALSE))","v":""},{"$f":"IF(C74677=\"\",\"\",VLOOKUP(U74677,Lookup!$A$1:$B$21,2,FALSE))","v":""},null,null,null,null,null,null,null,null,null,null,null,null,null,null,null,null,null,null,null,null,null,"X"]
[{"$f":"IF(C74819=\"\",\"\",VLOOKUP(D74819,Lookup!$D$1:$E$1051,2,FALSE))","v":""},{"$f":"IF(C74819=\"\",\"\",VLOOKUP(U74819,Lookup!$A$1:$B$21,2,FALSE))","v":""},null,null,null,null,null,null,null,null,null,null,null,null,null,null,null,null,null,null,null,null,null,"X"]
[{"$f":"IF(C74879=\"\",\"\",VLOOKUP(D74879,Lookup!$D$1:$E$1051,2,FALSE))","v":""},{"$f":"IF(C74879=\"\",\"\",VLOOKUP(U74879,Lookup!$A$1:$B$21,2,FALSE))","v":""},null,null,null,null,null,null,null,null,null,null,null,null,null,null,null,null,null,null,null,null,null,"X"]
[{"$f":"IF(C74999=\"\",\"\",VLOOKUP(D74999,Lookup!$D$1:$E$1051,2,FALSE))","v":""},{"$f":"IF(C74999=\"\",\"\",VLOOKUP(U74999,Lookup!$A$1:$B$21,2,FALSE))","v":""},null,null,null,null,null,null,null,null,null,null,null,null,null,null,null,null,null,null,null,null,null,"X"]
[{"$f":"IF(C75137=\"\",\"\",VLOOKUP(D75137,Lookup!$D$1:$E$1051,2,FALSE))","v":""},{"$f":"IF(C75137=\"\",\"\",VLOOKUP(U75137,Lookup!$A$1:$B$21,2,FALSE))","v":""},null,null,null,null,null,null,null,null,null,null,null,null,null,null,null,null,null,null,null,null,null,"X"]
[{"$f":"IF(C75176=\"\",\"\",VLOOKUP(D75176,Lookup!$D$1:$E$1051,2,FALSE))","v":""},{"$f":"IF(C75176=\"\",\"\",VLOOKUP(U75176,Lookup!$A$1:$B$21,2,FALSE))","v":""},null,null,null,null,null,null,null,null,null,null,null,null,null,null,null,null,null,null,null,null,null,"X"]
[{"$f":"IF(C75272=\"\",\"\",VLOOKUP(D75272,Lookup!$D$1:$E$1051,2,FALSE))","v":""},{"$f":"IF(C75272=\"\",\"\",VLOOKUP(U75272,Lookup!$A$1:$B$21,2,FALSE))","v":""},null,null,null,null,null,null,null,null,null,null,null,null,null,null,null,null,null,null,null,null,null,"X"]
[{"$f":"IF(C75455=\"\",\"\",VLOOKUP(D75455,Lookup!$D$1:$E$1051,2,FALSE))","v":""},{"$f":"IF(C75455=\"\",\"\",VLOOKUP(U75455,Lookup!$A$1:$B$21,2,FALSE))","v":""},null,null,null,null,null,null,null,null,null,null,null,null,null,null,null,null,null,null,null,null,null,"X"]
[{"$f":"IF(C75498=\"\",\"\",VLOOKUP(D75498,Lookup!$D$1:$E$1051,2,FALSE))","v":""},{"$f":"IF(C75498=\"\",\"\",VLOOKUP(U75498,Lookup!$A$1:$B$21,2,FALSE))","v":""},null,null,null,null,null,null,null,null,null,null,null,null,null,null,null,null,null,null,null,null,null,"X"]
[{"$f":"IF(C75636=\"\",\"\",VLOOKUP(D75636,Lookup!$D$1:$E$1051,2,FALSE))","v":""},{"$f":"IF(C75636=\"\",\"\",VLOOKUP(U75636,Lookup!$A$1:$B$21,2,FALSE))","v":""},null,null,null,null,null,null,null,null,null,null,null,null,null,null,null,null,null,null,null,null,null,"X"]
[{"$f":"IF(C75675=\"\",\"\",VLOOKUP(D75675,Lookup!$D$1:$E$1051,2,FALSE))","v":""},{"$f":"IF(C75675=\"\",\"\",VLOOKUP(U75675,Lookup!$A$1:$B$21,2,FALSE))","v":""},null,null,null,null,null,null,null,null,null,null,null,null,null,null,null,null,null,null,null,null,null,"X"]
[{"$f":"IF(C75816=\"\",\"\",VLOOKUP(D75816,Lookup!$D$1:$E$1051,2,FALSE))","v":""},{"$f":"IF(C75816=\"\",\"\",VLOOKUP(U75816,Lookup!$A$1:$B$21,2,FALSE))","v":""},null,null,null,null,null,null,null,null,null,null,null,null,null,null,null,null,null,null,null,null,null,"X"]
[{"$f":"IF(C75855=\"\",\"\",VLOOKUP(D75855,Lookup!$D$1:$E$1051,2,FALSE))","v":""},{"$f":"IF(C75855=\"\",\"\",VLOOKUP(U75855,Lookup!$A$1:$B$21,2,FALSE))","v":""},null,null,null,null,null,null,null,null,null,null,null,null,null,null,null,null,null,null,null,null,null,"X"]
[{"$f":"IF(C75993=\"\",\"\",VLOOKUP(D75993,Lookup!$D$1:$E$1051,2,FALSE))","v":""},{"$f":"IF(C75993=\"\",\"\",VLOOKUP(U75993,Lookup!$A$1:$B$21,2,FALSE))","v":""},null,null,null,null,null,null,null,null,null,null,null,null,null,null,null,null,null,null,null,null,null,"X"]
[{"$f":"IF(C76068=\"\",\"\",VLOOKUP(D76068,Lookup!$D$1:$E$1051,2,FALSE))","v":""},{"$f":"IF(C76068=\"\",\"\",VLOOKUP(U76068,Lookup!$A$1:$B$21,2,FALSE))","v":""},null,null,null,null,null,null,null,null,null,null,null,null,null,null,null,null,null,null,null,null,null,"X"]
[{"$f":"IF(C76173=\"\",\"\",VLOOKUP(D76173,Lookup!$D$1:$E$1051,2,FALSE))","v":""},{"$f":"IF(C76173=\"\",\"\",VLOOKUP(U76173,Lookup!$A$1:$B$21,2,FALSE))","v":""},null,null,null,null,null,null,null,null,null,null,null,null,null,null,null,null,null,null,null,null,null,"X"]
[{"$f":"IF(C76315=\"\",\"\",VLOOKUP(D76315,Lookup!$D$1:$E$1051,2,FALSE))","v":""},{"$f":"IF(C76315=\"\",\"\",VLOOKUP(U76315,Lookup!$A$1:$B$21,2,FALSE))","v":""},null,null,null,null,null,null,null,null,null,null,null,null,null,null,null,null,null,null,null,null,null,"X"]
[{"$f":"IF(C76354=\"\",\"\",VLOOKUP(D76354,Lookup!$D$1:$E$1051,2,FALSE))","v":""},{"$f":"IF(C76354=\"\",\"\",VLOOKUP(U76354,Lookup!$A$1:$B$21,2,FALSE))","v":""},null,null,null,null,null,null,null,null,null,null,null,null,null,null,null,null,null,null,null,null,null,"X"]
[{"$f":"IF(C76471=\"\",\"\",VLOOKUP(D76471,Lookup!$D$1:$E$1051,2,FALSE))","v":""},{"$f":"IF(C76471=\"\",\"\",VLOOKUP(U76471,Lookup!$A$1:$B$21,2,FALSE))","v":""},null,null,null,null,null,null,null,null,null,null,null,null,null,null,null,null,null,null,null,null,null,"X"]
[{"$f":"IF(C76633=\"\",\"\",VLOOKUP(D76633,Lookup!$D$1:$E$1051,2,FALSE))","v":""},{"$f":"IF(C76633=\"\",\"\",VLOOKUP(U76633,Lookup!$A$1:$B$21,2,FALSE))","v":""},null,null,null,null,null,null,null,null,null,null,null,null,null,null,null,null,null,null,null,null,null,"X"]
[{"$f":"IF(C76672=\"\",\"\",VLOOKUP(D76672,Lookup!$D$1:$E$1051,2,FALSE))","v":""},{"$f":"IF(C76672=\"\",\"\",VLOOKUP(U76672,Lookup!$A$1:$B$21,2,FALSE))","v":""},null,null,null,null,null,null,null,null,null,null,null,null,null,null,null,null,null,null,null,null,null,"X"]
[{"$f":"IF(C76810=\"\",\"\",VLOOKUP(D76810,Lookup!$D$1:$E$1051,2,FALSE))","v":""},{"$f":"IF(C76810=\"\",\"\",VLOOKUP(U76810,Lookup!$A$1:$B$21,2,FALSE))","v":""},null,null,null,null,null,null,null,null,null,null,null,null,null,null,null,null,null,null,null,null,null,"X"]
[{"$f":"IF(C76864=\"\",\"\",VLOOKUP(D76864,Lookup!$D$1:$E$1051,2,FALSE))","v":""},{"$f":"IF(C76864=\"\",\"\",VLOOKUP(U76864,Lookup!$A$1:$B$21,2,FALSE))","v":""},null,null,null,null,null,null,null,null,null,null,null,null,null,null,null,null,null,null,null,null,null,"X"]
[{"$f":"IF(C76990=\"\",\"\",VLOOKUP(D76990,Lookup!$D$1:$E$1051,2,FALSE))","v":""},{"$f":"IF(C76990=\"\",\"\",VLOOKUP(U76990,Lookup!$A$1:$B$21,2,FALSE))","v":""},null,null,null,null,null,null,null,null,null,null,null,null,null,null,null,null,null,null,null,null,null,"X"]
[{"$f":"IF(C77132=\"\",\"\",VLOOKUP(D77132,Lookup!$D$1:$E$1051,2,FALSE))","v":""},{"$f":"IF(C77132=\"\",\"\",VLOOKUP(U77132,Lookup!$A$1:$B$21,2,FALSE))","v":""},null,null,null,null,null,null,null,null,null,null,null,null,null,null,null,null,null,null,null,null,null,"X"]
[{"$f":"IF(C77171=\"\",\"\",VLOOKUP(D77171,Lookup!$D$1:$E$1051,2,FALSE))","v":""},{"$f":"IF(C77171=\"\",\"\",VLOOKUP(U77171,Lookup!$A$1:$B$21,2,FALSE))","v":""},null,null,null,null,null,null,null,null,null,null,null,null,null,null,null,null,null,null,null,null,null,"X"]
[{"$f":"IF(C77267=\"\",\"\",VLOOKUP(D77267,Lookup!$D$1:$E$1051,2,FALSE))","v":""},{"$f":"IF(C77267=\"\",\"\",VLOOKUP(U77267,Lookup!$A$1:$B$21,2,FALSE))","v":""},null,null,null,null,null,null,null,null,null,null,null,null,null,null,null,null,null,null,null,null,null,"X"]
[{"$f":"IF(C77351=\"\",\"\",VLOOKUP(D77351,Lookup!$D$1:$E$1051,2,FALSE))","v":""},{"$f":"IF(C77351=\"\",\"\",VLOOKUP(U77351,Lookup!$A$1:$B$21,2,FALSE))","v":""},null,null,null,null,null,null,null,null,null,null,null,null,null,null,null,null,null,null,null,null,null,"X"]
[{"$f":"IF(C77489=\"\",\"\",VLOOKUP(D77489,Lookup!$D$1:$E$1051,2,FALSE))","v":""},{"$f":"IF(C77489=\"\",\"\",VLOOKUP(U77489,Lookup!$A$1:$B$21,2,FALSE))","v":""},null,null,null,null,null,null,null,null,null,null,null,null,null,null,null,null,null,null,null,null,null,"X"]
[{"$f":"IF(C77532=\"\",\"\",VLOOKUP(D77532,Lookup!$D$1:$E$1051,2,FALSE))","v":""},{"$f":"IF(C77532=\"\",\"\",VLOOKUP(U77532,Lookup!$A$1:$B$21,2,FALSE))","v":""},null,null,null,null,null,null,null,null,null,null,null,null,null,null,null,null,null,null,null,null,null,"X"]
[{"$f":"IF(C77660=\"\",\"\",VLOOKUP(D77660,Lookup!$D$1:$E$1051,2,FALSE))","v":""},{"$f":"IF(C77660=\"\",\"\",VLOOKUP(U77660,Lookup!$A$1:$B$21,2,FALSE))","v":""},null,null,null,null,null,null,null,null,null,null,null,null,null,null,null,null,null,null,null,null,null,"X"]
[{"$f":"IF(C77807=\"\",\"\",VLOOKUP(D77807,Lookup!$D$1:$E$1051,2,FALSE))","v":""},{"$f":"IF(C77807=\"\",\"\",VLOOKUP(U77807,Lookup!$A$1:$B$21,2,FALSE))","v":""},null,null,null,null,null,null,null,null,null,null,null,null,null,null,null,null,null,null,null,null,null,"X"]
[{"$f":"IF(C77850=\"\",\"\",VLOOKUP(D77850,Lookup!$D$1:$E$1051,2,FALSE))","v":""},{"$f":"IF(C77850=\"\",\"\",VLOOKUP(U77850,Lookup!$A$1:$B$21,2,FALSE))","v":""},null,null,null,null,null,null,null,null,null,null,null,null,null,null,null,null,null,null,null,null,null,"X"]
[{"$f":"IF(C77988=\"\",\"\",VLOOKUP(D77988,Lookup!$D$1:$E$1051,2,FALSE))","v":""},{"$f":"IF(C77988=\"\",\"\",VLOOKUP(U77988,Lookup!$A$1:$B$21,2,FALSE))","v":""},null,null,null,null,null,null,null,null,null,null,null,null,null,null,null,null,null,null,null,null,null,"X"]
[{"$f":"IF(C78063=\"\",\"\",VLOOKUP(D78063,Lookup!$D$1:$E$1051,2,FALSE))","v":""},{"$f":"IF(C78063=\"\",\"\",VLOOKUP(U78063,Lookup!$A$1:$B$21,2,FALSE))","v":""},null,null,null,null,null,null,null,null,null,null,null,null,null,null,null,null,null,null,null,null,null,"X"]
[{"$f":"IF(C78168=\"\",\"\",VLOOKUP(D78168,Lookup!$D$1:$E$1051,2,FALSE))","v":""},{"$f":"IF(C78168=\"\",\"\",VLOOKUP(U78168,Lookup!$A$1:$B$21,2,FALSE))","v":""},null,null,null,null,null,null,null,null,null,null,null,null,null,null,null,null,null,null,null,null,null,"X"]
[{"$f":"IF(C78306=\"\",\"\",VLOOKUP(D78306,Lookup!$D$1:$E$1051,2,FALSE))","v":""},{"$f":"IF(C78306=\"\",\"\",VLOOKUP(U78306,Lookup!$A$1:$B$21,2,FALSE))","v":""},null,null,null,null,null,null,null,null,null,null,null,null,null,null,null,null,null,null,null,null,null,"X"]
[{"$f":"IF(C78349=\"\",\"\",VLOOKUP(D78349,Lookup!$D$1:$E$1051,2,FALSE))","v":""},{"$f":"IF(C78349=\"\",\"\",VLOOKUP(U78349,Lookup!$A$1:$B$21,2,FALSE))","v":""},null,null,null,null,null,null,null,null,null,null,null,null,null,null,null,null,null,null,null,null,null,"X"]
[{"$f":"IF(C78456=\"\",\"\",VLOOKUP(D78456,Lookup!$D$1:$E$1051,2,FALSE))","v":""},{"$f":"IF(C78456=\"\",\"\",VLOOKUP(U78456,Lookup!$A$1:$B$21,2,FALSE))","v":""},null,null,null,null,null,null,null,null,null,null,null,null,null,null,null,null,null,null,null,null,null,"X"]
[{"$f":"IF(C78525=\"\",\"\",VLOOKUP(D78525,Lookup!$D$1:$E$1051,2,FALSE))","v":""},{"$f":"IF(C78525=\"\",\"\",VLOOKUP(U78525,Lookup!$A$1:$B$21,2,FALSE))","v":""},null,null,null,null,null,null,null,null,null,null,null,null,null,null,null,null,null,null,null,null,null,"X"]
[{"$f":"IF(C78667=\"\",\"\",VLOOKUP(D78667,Lookup!$D$1:$E$1051,2,FALSE))","v":""},{"$f":"IF(C78667=\"\",\"\",VLOOKUP(U78667,Lookup!$A$1:$B$21,2,FALSE))","v":""},null,null,null,null,null,null,null,null,null,null,null,null,null,null,null,null,null,null,null,null,null,"X"]
[{"$f":"IF(C78805=\"\",\"\",VLOOKUP(D78805,Lookup!$D$1:$E$1051,2,FALSE))","v":""},{"$f":"IF(C78805=\"\",\"\",VLOOKUP(U78805,Lookup!$A$1:$B$21,2,FALSE))","v":""},null,null,null,null,null,null,null,null,null,null,null,null,null,null,null,null,null,null,null,null,null,"X"]
[{"$f":"IF(C78859=\"\",\"\",VLOOKUP(D78859,Lookup!$D$1:$E$1051,2,FALSE))","v":""},{"$f":"IF(C78859=\"\",\"\",VLOOKUP(U78859,Lookup!$A$1:$B$21,2,FALSE))","v":""},null,null,null,null,null,null,null,null,null,null,null,null,null,null,null,null,null,null,null,null,null,"X"]
[{"$f":"IF(C78985=\"\",\"\",VLOOKUP(D78985,Lookup!$D$1:$E$1051,2,FALSE))","v":""},{"$f":"IF(C78985=\"\",\"\",VLOOKUP(U78985,Lookup!$A$1:$B$21,2,FALSE))","v":""},null,null,null,null,null,null,null,null,null,null,null,null,null,null,null,null,null,null,null,null,null,"X"]
[{"$f":"IF(C79024=\"\",\"\",VLOOKUP(D79024,Lookup!$D$1:$E$1051,2,FALSE))","v":""},{"$f":"IF(C79024=\"\",\"\",VLOOKUP(U79024,Lookup!$A$1:$B$21,2,FALSE))","v":""},null,null,null,null,null,null,null,null,null,null,null,null,null,null,null,null,null,null,null,null,null,"X"]
[{"$f":"IF(C79166=\"\",\"\",VLOOKUP(D79166,Lookup!$D$1:$E$1051,2,FALSE))","v":""},{"$f":"IF(C79166=\"\",\"\",VLOOKUP(U79166,Lookup!$A$1:$B$21,2,FALSE))","v":""},null,null,null,null,null,null,null,null,null,null,null,null,null,null,null,null,null,null,null,null,null,"X"]
[{"$f":"IF(C79252=\"\",\"\",VLOOKUP(D79252,Lookup!$D$1:$E$1051,2,FALSE))","v":""},{"$f":"IF(C79252=\"\",\"\",VLOOKUP(U79252,Lookup!$A$1:$B$21,2,FALSE))","v":""},null,null,null,null,null,null,null,null,null,null,null,null,null,null,null,null,null,null,null,null,null,"X"]
[{"$f":"IF(C79342=\"\",\"\",VLOOKUP(D79342,Lookup!$D$1:$E$1051,2,FALSE))","v":""},{"$f":"IF(C79342=\"\",\"\",VLOOKUP(U79342,Lookup!$A$1:$B$21,2,FALSE))","v":""},null,null,null,null,null,null,null,null,null,null,null,null,null,null,null,null,null,null,null,null,null,"X"]
[{"$f":"IF(C79484=\"\",\"\",VLOOKUP(D79484,Lookup!$D$1:$E$1051,2,FALSE))","v":""},{"$f":"IF(C79484=\"\",\"\",VLOOKUP(U79484,Lookup!$A$1:$B$21,2,FALSE))","v":""},null,null,null,null,null,null,null,null,null,null,null,null,null,null,null,null,null,null,null,null,null,"X"]
[{"$f":"IF(C79523=\"\",\"\",VLOOKUP(D79523,Lookup!$D$1:$E$1051,2,FALSE))","v":""},{"$f":"IF(C79523=\"\",\"\",VLOOKUP(U79523,Lookup!$A$1:$B$21,2,FALSE))","v":""},null,null,null,null,null,null,null,null,null,null,null,null,null,null,null,null,null,null,null,null,null,"X"]
[{"$f":"IF(C79645=\"\",\"\",VLOOKUP(D79645,Lookup!$D$1:$E$1051,2,FALSE))","v":""},{"$f":"IF(C79645=\"\",\"\",VLOOKUP(U79645,Lookup!$A$1:$B$21,2,FALSE))","v":""},null,null,null,null,null,null,null,null,null,null,null,null,null,null,null,null,null,null,null,null,null,"X"]
[{"$f":"IF(C79802=\"\",\"\",VLOOKUP(D79802,Lookup!$D$1:$E$1051,2,FALSE))","v":""},{"$f":"IF(C79802=\"\",\"\",VLOOKUP(U79802,Lookup!$A$1:$B$21,2,FALSE))","v":""},null,null,null,null,null,null,null,null,null,null,null,null,null,null,null,null,null,null,null,null,null,"X"]
[{"$f":"IF(C79841=\"\",\"\",VLOOKUP(D79841,Lookup!$D$1:$E$1051,2,FALSE))","v":""},{"$f":"IF(C79841=\"\",\"\",VLOOKUP(U79841,Lookup!$A$1:$B$21,2,FALSE))","v":""},null,null,null,null,null,null,null,null,null,null,null,null,null,null,null,null,null,null,null,null,null,"X"]
[{"$f":"IF(C79983=\"\",\"\",VLOOKUP(D79983,Lookup!$D$1:$E$1051,2,FALSE))","v":""},{"$f":"IF(C79983=\"\",\"\",VLOOKUP(U79983,Lookup!$A$1:$B$21,2,FALSE))","v":""},null,null,null,null,null,null,null,null,null,null,null,null,null,null,null,null,null,null,null,null,null,"X"]
[{"$f":"IF(C80048=\"\",\"\",VLOOKUP(D80048,Lookup!$D$1:$E$1051,2,FALSE))","v":""},{"$f":"IF(C80048=\"\",\"\",VLOOKUP(U80048,Lookup!$A$1:$B$21,2,FALSE))","v":""},null,null,null,null,null,null,null,null,null,null,null,null,null,null,null,null,null,null,null,null,null,"X"]
[{"$f":"IF(C80159=\"\",\"\",VLOOKUP(D80159,Lookup!$D$1:$E$1051,2,FALSE))","v":""},{"$f":"IF(C80159=\"\",\"\",VLOOKUP(U80159,Lookup!$A$1:$B$21,2,FALSE))","v":""},null,null,null,null,null,null,null,null,null,null,null,null,null,null,null,null,null,null,null,null,null,"X"]
[{"$f":"IF(C80202=\"\",\"\",VLOOKUP(D80202,Lookup!$D$1:$E$1051,2,FALSE))","v":""},{"$f":"IF(C80202=\"\",\"\",VLOOKUP(U80202,Lookup!$A$1:$B$21,2,FALSE))","v":""},null,null,null,null,null,null,null,null,null,null,null,null,null,null,null,null,null,null,null,null,null,"X"]
[{"$f":"IF(C80340=\"\",\"\",VLOOKUP(D80340,Lookup!$D$1:$E$1051,2,FALSE))","v":""},{"$f":"IF(C80340=\"\",\"\",VLOOKUP(U80340,Lookup!$A$1:$B$21,2,FALSE))","v":""},null,null,null,null,null,null,null,null,null,null,null,null,null,null,null,null,null,null,null,null,null,"X"]
[{"$f":"IF(C80441=\"\",\"\",VLOOKUP(D80441,Lookup!$D$1:$E$1051,2,FALSE))","v":""},{"$f":"IF(C80441=\"\",\"\",VLOOKUP(U80441,Lookup!$A$1:$B$21,2,FALSE))","v":""},null,null,null,null,null,null,null,null,null,null,null,null,null,null,null,null,null,null,null,null,null,"X"]
[{"$f":"IF(C80520=\"\",\"\",VLOOKUP(D80520,Lookup!$D$1:$E$1051,2,FALSE))","v":""},{"$f":"IF(C80520=\"\",\"\",VLOOKUP(U80520,Lookup!$A$1:$B$21,2,FALSE))","v":""},null,null,null,null,null,null,null,null,null,null,null,null,null,null,null,null,null,null,null,null,null,"X"]
[{"$f":"IF(C80658=\"\",\"\",VLOOKUP(D80658,Lookup!$D$1:$E$1051,2,FALSE))","v":""},{"$f":"IF(C80658=\"\",\"\",VLOOKUP(U80658,Lookup!$A$1:$B$21,2,FALSE))","v":""},null,null,null,null,null,null,null,null,null,null,null,null,null,null,null,null,null,null,null,null,null,"X"]
[{"$f":"IF(C80701=\"\",\"\",VLOOKUP(D80701,Lookup!$D$1:$E$1051,2,FALSE))","v":""},{"$f":"IF(C80701=\"\",\"\",VLOOKUP(U80701,Lookup!$A$1:$B$21,2,FALSE))","v":""},null,null,null,null,null,null,null,null,null,null,null,null,null,null,null,null,null,null,null,null,null,"X"]
[{"$f":"IF(C80844=\"\",\"\",VLOOKUP(D80844,Lookup!$D$1:$E$1051,2,FALSE))","v":""},{"$f":"IF(C80844=\"\",\"\",VLOOKUP(U80844,Lookup!$A$1:$B$21,2,FALSE))","v":""},null,null,null,null,null,null,null,null,null,null,null,null,null,null,null,null,null,null,null,null,null,"X"]
[{"$f":"IF(C80980=\"\",\"\",VLOOKUP(D80980,Lookup!$D$1:$E$1051,2,FALSE))","v":""},{"$f":"IF(C80980=\"\",\"\",VLOOKUP(U80980,Lookup!$A$1:$B$21,2,FALSE))","v":""},null,null,null,null,null,null,null,null,null,null,null,null,null,null,null,null,null,null,null,null,null,"X"]
[{"$f":"IF(C81019=\"\",\"\",VLOOKUP(D81019,Lookup!$D$1:$E$1051,2,FALSE))","v":""},{"$f":"IF(C81019=\"\",\"\",VLOOKUP(U81019,Lookup!$A$1:$B$21,2,FALSE))","v":""},null,null,null,null,null,null,null,null,null,null,null,null,null,null,null,null,null,null,null,null,null,"X"]
[{"$f":"IF(C81157=\"\",\"\",VLOOKUP(D81157,Lookup!$D$1:$E$1051,2,FALSE))","v":""},{"$f":"IF(C81157=\"\",\"\",VLOOKUP(U81157,Lookup!$A$1:$B$21,2,FALSE))","v":""},null,null,null,null,null,null,null,null,null,null,null,null,null,null,null,null,null,null,null,null,null,"X"]
[{"$f":"IF(C81237=\"\",\"\",VLOOKUP(D81237,Lookup!$D$1:$E$1051,2,FALSE))","v":""},{"$f":"IF(C81237=\"\",\"\",VLOOKUP(U81237,Lookup!$A$1:$B$21,2,FALSE))","v":""},null,null,null,null,null,null,null,null,null,null,null,null,null,null,null,null,null,null,null,null,null,"X"]
[{"$f":"IF(C81337=\"\",\"\",VLOOKUP(D81337,Lookup!$D$1:$E$1051,2,FALSE))","v":""},{"$f":"IF(C81337=\"\",\"\",VLOOKUP(U81337,Lookup!$A$1:$B$21,2,FALSE))","v":""},null,null,null,null,null,null,null,null,null,null,null,null,null,null,null,null,null,null,null,null,null,"X"]
[{"$f":"IF(C81475=\"\",\"\",VLOOKUP(D81475,Lookup!$D$1:$E$1051,2,FALSE))","v":""},{"$f":"IF(C81475=\"\",\"\",VLOOKUP(U81475,Lookup!$A$1:$B$21,2,FALSE))","v":""},null,null,null,null,null,null,null,null,null,null,null,null,null,null,null,null,null,null,null,null,null,"X"]
[{"$f":"IF(C81518=\"\",\"\",VLOOKUP(D81518,Lookup!$D$1:$E$1051,2,FALSE))","v":""},{"$f":"IF(C81518=\"\",\"\",VLOOKUP(U81518,Lookup!$A$1:$B$21,2,FALSE))","v":""},null,null,null,null,null,null,null,null,null,null,null,null,null,null,null,null,null,null,null,null,null,"X"]
[{"$f":"IF(C81640=\"\",\"\",VLOOKUP(D81640,Lookup!$D$1:$E$1051,2,FALSE))","v":""},{"$f":"IF(C81640=\"\",\"\",VLOOKUP(U81640,Lookup!$A$1:$B$21,2,FALSE))","v":""},null,null,null,null,null,null,null,null,null,null,null,null,null,null,null,null,null,null,null,null,null,"X"]
[{"$f":"IF(C81698=\"\",\"\",VLOOKUP(D81698,Lookup!$D$1:$E$1051,2,FALSE))","v":""},{"$f":"IF(C81698=\"\",\"\",VLOOKUP(U81698,Lookup!$A$1:$B$21,2,FALSE))","v":""},null,null,null,null,null,null,null,null,null,null,null,null,null,null,null,null,null,null,null,null,null,"X"]
[{"$f":"IF(C81836=\"\",\"\",VLOOKUP(D81836,Lookup!$D$1:$E$1051,2,FALSE))","v":""},{"$f":"IF(C81836=\"\",\"\",VLOOKUP(U81836,Lookup!$A$1:$B$21,2,FALSE))","v":""},null,null,null,null,null,null,null,null,null,null,null,null,null,null,null,null,null,null,null,null,null,"X"]
[{"$f":"IF(C81974=\"\",\"\",VLOOKUP(D81974,Lookup!$D$1:$E$1051,2,FALSE))","v":""},{"$f":"IF(C81974=\"\",\"\",VLOOKUP(U81974,Lookup!$A$1:$B$21,2,FALSE))","v":""},null,null,null,null,null,null,null,null,null,null,null,null,null,null,null,null,null,null,null,null,null,"X"]
[{"$f":"IF(C82033=\"\",\"\",VLOOKUP(D82033,Lookup!$D$1:$E$1051,2,FALSE))","v":""},{"$f":"IF(C82033=\"\",\"\",VLOOKUP(U82033,Lookup!$A$1:$B$21,2,FALSE))","v":""},null,null,null,null,null,null,null,null,null,null,null,null,null,null,null,null,null,null,null,null,null,"X"]
[{"$f":"IF(C82154=\"\",\"\",VLOOKUP(D82154,Lookup!$D$1:$E$1051,2,FALSE))","v":""},{"$f":"IF(C82154=\"\",\"\",VLOOKUP(U82154,Lookup!$A$1:$B$21,2,FALSE))","v":""},null,null,null,null,null,null,null,null,null,null,null,null,null,null,null,null,null,null,null,null,null,"X"]
[{"$f":"IF(C82193=\"\",\"\",VLOOKUP(D82193,Lookup!$D$1:$E$1051,2,FALSE))","v":""},{"$f":"IF(C82193=\"\",\"\",VLOOKUP(U82193,Lookup!$A$1:$B$21,2,FALSE))","v":""},null,null,null,null,null,null,null,null,null,null,null,null,null,null,null,null,null,null,null,null,null,"X"]
[{"$f":"IF(C82335=\"\",\"\",VLOOKUP(D82335,Lookup!$D$1:$E$1051,2,FALSE))","v":""},{"$f":"IF(C82335=\"\",\"\",VLOOKUP(U82335,Lookup!$A$1:$B$21,2,FALSE))","v":""},null,null,null,null,null,null,null,null,null,null,null,null,null,null,null,null,null,null,null,null,null,"X"]
[{"$f":"IF(C82436=\"\",\"\",VLOOKUP(D82436,Lookup!$D$1:$E$1051,2,FALSE))","v":""},{"$f":"IF(C82436=\"\",\"\",VLOOKUP(U82436,Lookup!$A$1:$B$21,2,FALSE))","v":""},null,null,null,null,null,null,null,null,null,null,null,null,null,null,null,null,null,null,null,null,null,"X"]
[{"$f":"IF(C82515=\"\",\"\",VLOOKUP(D82515,Lookup!$D$1:$E$1051,2,FALSE))","v":""},{"$f":"IF(C82515=\"\",\"\",VLOOKUP(U82515,Lookup!$A$1:$B$21,2,FALSE))","v":""},null,null,null,null,null,null,null,null,null,null,null,null,null,null,null,null,null,null,null,null,null,"X"]
[{"$f":"IF(C82653=\"\",\"\",VLOOKUP(D82653,Lookup!$D$1:$E$1051,2,FALSE))","v":""},{"$f":"IF(C82653=\"\",\"\",VLOOKUP(U82653,Lookup!$A$1:$B$21,2,FALSE))","v":""},null,null,null,null,null,null,null,null,null,null,null,null,null,null,null,null,null,null,null,null,null,"X"]
[{"$f":"IF(C82692=\"\",\"\",VLOOKUP(D82692,Lookup!$D$1:$E$1051,2,FALSE))","v":""},{"$f":"IF(C82692=\"\",\"\",VLOOKUP(U82692,Lookup!$A$1:$B$21,2,FALSE))","v":""},null,null,null,null,null,null,null,null,null,null,null,null,null,null,null,null,null,null,null,null,null,"X"]
[{"$f":"IF(C82829=\"\",\"\",VLOOKUP(D82829,Lookup!$D$1:$E$1051,2,FALSE))","v":""},{"$f":"IF(C82829=\"\",\"\",VLOOKUP(U82829,Lookup!$A$1:$B$21,2,FALSE))","v":""},null,null,null,null,null,null,null,null,null,null,null,null,null,null,null,null,null,null,null,null,null,"X"]
[{"$f":"IF(C82872=\"\",\"\",VLOOKUP(D82872,Lookup!$D$1:$E$1051,2,FALSE))","v":""},{"$f":"IF(C82872=\"\",\"\",VLOOKUP(U82872,Lookup!$A$1:$B$21,2,FALSE))","v":""},null,null,null,null,null,null,null,null,null,null,null,null,null,null,null,null,null,null,null,null,null,"X"]
[{"$f":"IF(C83014=\"\",\"\",VLOOKUP(D83014,Lookup!$D$1:$E$1051,2,FALSE))","v":""},{"$f":"IF(C83014=\"\",\"\",VLOOKUP(U83014,Lookup!$A$1:$B$21,2,FALSE))","v":""},null,null,null,null,null,null,null,null,null,null,null,null,null,null,null,null,null,null,null,null,null,"X"]
[{"$f":"IF(C83152=\"\",\"\",VLOOKUP(D83152,Lookup!$D$1:$E$1051,2,FALSE))","v":""},{"$f":"IF(C83152=\"\",\"\",VLOOKUP(U83152,Lookup!$A$1:$B$21,2,FALSE))","v":""},null,null,null,null,null,null,null,null,null,null,null,null,null,null,null,null,null,null,null,null,null,"X"]
[{"$f":"IF(C83232=\"\",\"\",VLOOKUP(D83232,Lookup!$D$1:$E$1051,2,FALSE))","v":""},{"$f":"IF(C83232=\"\",\"\",VLOOKUP(U83232,Lookup!$A$1:$B$21,2,FALSE))","v":""},null,null,null,null,null,null,null,null,null,null,null,null,null,null,null,null,null,null,null,null,null,"X"]
[{"$f":"IF(C83332=\"\",\"\",VLOOKUP(D83332,Lookup!$D$1:$E$1051,2,FALSE))","v":""},{"$f":"IF(C83332=\"\",\"\",VLOOKUP(U83332,Lookup!$A$1:$B$21,2,FALSE))","v":""},null,null,null,null,null,null,null,null,null,null,null,null,null,null,null,null,null,null,null,null,null,"X"]
[{"$f":"IF(C83371=\"\",\"\",VLOOKUP(D83371,Lookup!$D$1:$E$1051,2,FALSE))","v":""},{"$f":"IF(C83371=\"\",\"\",VLOOKUP(U83371,Lookup!$A$1:$B$21,2,FALSE))","v":""},null,null,null,null,null,null,null,null,null,null,null,null,null,null,null,null,null,null,null,null,null,"X"]
[{"$f":"IF(C83509=\"\",\"\",VLOOKUP(D83509,Lookup!$D$1:$E$1051,2,FALSE))","v":""},{"$f":"IF(C83509=\"\",\"\",VLOOKUP(U83509,Lookup!$A$1:$B$21,2,FALSE))","v":""},null,null,null,null,null,null,null,null,null,null,null,null,null,null,null,null,null,null,null,null,null,"X"]
[{"$f":"IF(C83625=\"\",\"\",VLOOKUP(D83625,Lookup!$D$1:$E$1051,2,FALSE))","v":""},{"$f":"IF(C83625=\"\",\"\",VLOOKUP(U83625,Lookup!$A$1:$B$21,2,FALSE))","v":""},null,null,null,null,null,null,null,null,null,null,null,null,null,null,null,null,null,null,null,null,null,"X"]
[{"$f":"IF(C83689=\"\",\"\",VLOOKUP(D83689,Lookup!$D$1:$E$1051,2,FALSE))","v":""},{"$f":"IF(C83689=\"\",\"\",VLOOKUP(U83689,Lookup!$A$1:$B$21,2,FALSE))","v":""},null,null,null,null,null,null,null,null,null,null,null,null,null,null,null,null,null,null,null,null,null,"X"]
[{"$f":"IF(C83831=\"\",\"\",VLOOKUP(D83831,Lookup!$D$1:$E$1051,2,FALSE))","v":""},{"$f":"IF(C83831=\"\",\"\",VLOOKUP(U83831,Lookup!$A$1:$B$21,2,FALSE))","v":""},null,null,null,null,null,null,null,null,null,null,null,null,null,null,null,null,null,null,null,null,null,"X"]
[{"$f":"IF(C83870=\"\",\"\",VLOOKUP(D83870,Lookup!$D$1:$E$1051,2,FALSE))","v":""},{"$f":"IF(C83870=\"\",\"\",VLOOKUP(U83870,Lookup!$A$1:$B$21,2,FALSE))","v":""},null,null,null,null,null,null,null,null,null,null,null,null,null,null,null,null,null,null,null,null,null,"X"]
[{"$f":"IF(C84028=\"\",\"\",VLOOKUP(D84028,Lookup!$D$1:$E$1051,2,FALSE))","v":""},{"$f":"IF(C84028=\"\",\"\",VLOOKUP(U84028,Lookup!$A$1:$B$21,2,FALSE))","v":""},null,null,null,null,null,null,null,null,null,null,null,null,null,null,null,null,null,null,null,null,null,"X"]
[{"$f":"IF(C84050=\"\",\"\",VLOOKUP(D84050,Lookup!$D$1:$E$1051,2,FALSE))","v":""},{"$f":"IF(C84050=\"\",\"\",VLOOKUP(U84050,Lookup!$A$1:$B$21,2,FALSE))","v":""},null,null,null,null,null,null,null,null,null,null,null,null,null,null,null,null,null,null,null,null,null,"X"]
[{"$f":"IF(C84188=\"\",\"\",VLOOKUP(D84188,Lookup!$D$1:$E$1051,2,FALSE))","v":""},{"$f":"IF(C84188=\"\",\"\",VLOOKUP(U84188,Lookup!$A$1:$B$21,2,FALSE))","v":""},null,null,null,null,null,null,null,null,null,null,null,null,null,null,null,null,null,null,null,null,null,"X"]
[{"$f":"IF(C84326=\"\",\"\",VLOOKUP(D84326,Lookup!$D$1:$E$1051,2,FALSE))","v":""},{"$f":"IF(C84326=\"\",\"\",VLOOKUP(U84326,Lookup!$A$1:$B$21,2,FALSE))","v":""},null,null,null,null,null,null,null,null,null,null,null,null,null,null,null,null,null,null,null,null,null,"X"]
[{"$f":"IF(C84421=\"\",\"\",VLOOKUP(D84421,Lookup!$D$1:$E$1051,2,FALSE))","v":""},{"$f":"IF(C84421=\"\",\"\",VLOOKUP(U84421,Lookup!$A$1:$B$21,2,FALSE))","v":""},null,null,null,null,null,null,null,null,null,null,null,null,null,null,null,null,null,null,null,null,null,"X"]
[{"$f":"IF(C84506=\"\",\"\",VLOOKUP(D84506,Lookup!$D$1:$E$1051,2,FALSE))","v":""},{"$f":"IF(C84506=\"\",\"\",VLOOKUP(U84506,Lookup!$A$1:$B$21,2,FALSE))","v":""},null,null,null,null,null,null,null,null,null,null,null,null,null,null,null,null,null,null,null,null,null,"X"]
[{"$f":"IF(C84549=\"\",\"\",VLOOKUP(D84549,Lookup!$D$1:$E$1051,2,FALSE))","v":""},{"$f":"IF(C84549=\"\",\"\",VLOOKUP(U84549,Lookup!$A$1:$B$21,2,FALSE))","v":""},null,null,null,null,null,null,null,null,null,null,null,null,null,null,null,null,null,null,null,null,null,"X"]
[{"$f":"IF(C84687=\"\",\"\",VLOOKUP(D84687,Lookup!$D$1:$E$1051,2,FALSE))","v":""},{"$f":"IF(C84687=\"\",\"\",VLOOKUP(U84687,Lookup!$A$1:$B$21,2,FALSE))","v":""},null,null,null,null,null,null,null,null,null,null,null,null,null,null,null,null,null,null,null,null,null,"X"]
[{"$f":"IF(C84824=\"\",\"\",VLOOKUP(D84824,Lookup!$D$1:$E$1051,2,FALSE))","v":""},{"$f":"IF(C84824=\"\",\"\",VLOOKUP(U84824,Lookup!$A$1:$B$21,2,FALSE))","v":""},null,null,null,null,null,null,null,null,null,null,null,null,null,null,null,null,null,null,null,null,null,"X"]
[{"$f":"IF(C84867=\"\",\"\",VLOOKUP(D84867,Lookup!$D$1:$E$1051,2,FALSE))","v":""},{"$f":"IF(C84867=\"\",\"\",VLOOKUP(U84867,Lookup!$A$1:$B$21,2,FALSE))","v":""},null,null,null,null,null,null,null,null,null,null,null,null,null,null,null,null,null,null,null,null,null,"X"]
[{"$f":"IF(C85005=\"\",\"\",VLOOKUP(D85005,Lookup!$D$1:$E$1051,2,FALSE))","v":""},{"$f":"IF(C85005=\"\",\"\",VLOOKUP(U85005,Lookup!$A$1:$B$21,2,FALSE))","v":""},null,null,null,null,null,null,null,null,null,null,null,null,null,null,null,null,null,null,null,null,null,"X"]
[{"$f":"IF(C85048=\"\",\"\",VLOOKUP(D85048,Lookup!$D$1:$E$1051,2,FALSE))","v":""},{"$f":"IF(C85048=\"\",\"\",VLOOKUP(U85048,Lookup!$A$1:$B$21,2,FALSE))","v":""},null,null,null,null,null,null,null,null,null,null,null,null,null,null,null,null,null,null,null,null,null,"X"]
[{"$f":"IF(C85217=\"\",\"\",VLOOKUP(D85217,Lookup!$D$1:$E$1051,2,FALSE))","v":""},{"$f":"IF(C85217=\"\",\"\",VLOOKUP(U85217,Lookup!$A$1:$B$21,2,FALSE))","v":""},null,null,null,null,null,null,null,null,null,null,null,null,null,null,null,null,null,null,null,null,null,"X"]
[{"$f":"IF(C85323=\"\",\"\",VLOOKUP(D85323,Lookup!$D$1:$E$1051,2,FALSE))","v":""},{"$f":"IF(C85323=\"\",\"\",VLOOKUP(U85323,Lookup!$A$1:$B$21,2,FALSE))","v":""},null,null,null,null,null,null,null,null,null,null,null,null,null,null,null,null,null,null,null,null,null,"X"]
[{"$f":"IF(C85366=\"\",\"\",VLOOKUP(D85366,Lookup!$D$1:$E$1051,2,FALSE))","v":""},{"$f":"IF(C85366=\"\",\"\",VLOOKUP(U85366,Lookup!$A$1:$B$21,2,FALSE))","v":""},null,null,null,null,null,null,null,null,null,null,null,null,null,null,null,null,null,null,null,null,null,"X"]
[{"$f":"IF(C85504=\"\",\"\",VLOOKUP(D85504,Lookup!$D$1:$E$1051,2,FALSE))","v":""},{"$f":"IF(C85504=\"\",\"\",VLOOKUP(U85504,Lookup!$A$1:$B$21,2,FALSE))","v":""},null,null,null,null,null,null,null,null,null,null,null,null,null,null,null,null,null,null,null,null,null,"X"]
[{"$f":"IF(C85620=\"\",\"\",VLOOKUP(D85620,Lookup!$D$1:$E$1051,2,FALSE))","v":""},{"$f":"IF(C85620=\"\",\"\",VLOOKUP(U85620,Lookup!$A$1:$B$21,2,FALSE))","v":""},null,null,null,null,null,null,null,null,null,null,null,null,null,null,null,null,null,null,null,null,null,"X"]
[{"$f":"IF(C85684=\"\",\"\",VLOOKUP(D85684,Lookup!$D$1:$E$1051,2,FALSE))","v":""},{"$f":"IF(C85684=\"\",\"\",VLOOKUP(U85684,Lookup!$A$1:$B$21,2,FALSE))","v":""},null,null,null,null,null,null,null,null,null,null,null,null,null,null,null,null,null,null,null,null,null,"X"]
[{"$f":"IF(C85822=\"\",\"\",VLOOKUP(D85822,Lookup!$D$1:$E$1051,2,FALSE))","v":""},{"$f":"IF(C85822=\"\",\"\",VLOOKUP(U85822,Lookup!$A$1:$B$21,2,FALSE))","v":""},null,null,null,null,null,null,null,null,null,null,null,null,null,null,null,null,null,null,null,null,null,"X"]
[{"$f":"IF(C85865=\"\",\"\",VLOOKUP(D85865,Lookup!$D$1:$E$1051,2,FALSE))","v":""},{"$f":"IF(C85865=\"\",\"\",VLOOKUP(U85865,Lookup!$A$1:$B$21,2,FALSE))","v":""},null,null,null,null,null,null,null,null,null,null,null,null,null,null,null,null,null,null,null,null,null,"X"]
[{"$f":"IF(C86013=\"\",\"\",VLOOKUP(D86013,Lookup!$D$1:$E$1051,2,FALSE))","v":""},{"$f":"IF(C86013=\"\",\"\",VLOOKUP(U86013,Lookup!$A$1:$B$21,2,FALSE))","v":""},null,null,null,null,null,null,null,null,null,null,null,null,null,null,null,null,null,null,null,null,null,"X"]
[{"$f":"IF(C86041=\"\",\"\",VLOOKUP(D86041,Lookup!$D$1:$E$1051,2,FALSE))","v":""},{"$f":"IF(C86041=\"\",\"\",VLOOKUP(U86041,Lookup!$A$1:$B$21,2,FALSE))","v":""},null,null,null,null,null,null,null,null,null,null,null,null,null,null,null,null,null,null,null,null,null,"X"]
[{"$f":"IF(C86183=\"\",\"\",VLOOKUP(D86183,Lookup!$D$1:$E$1051,2,FALSE))","v":""},{"$f":"IF(C86183=\"\",\"\",VLOOKUP(U86183,Lookup!$A$1:$B$21,2,FALSE))","v":""},null,null,null,null,null,null,null,null,null,null,null,null,null,null,null,null,null,null,null,null,null,"X"]
[{"$f":"IF(C86222=\"\",\"\",VLOOKUP(D86222,Lookup!$D$1:$E$1051,2,FALSE))","v":""},{"$f":"IF(C86222=\"\",\"\",VLOOKUP(U86222,Lookup!$A$1:$B$21,2,FALSE))","v":""},null,null,null,null,null,null,null,null,null,null,null,null,null,null,null,null,null,null,null,null,null,"X"]
[{"$f":"IF(C86406=\"\",\"\",VLOOKUP(D86406,Lookup!$D$1:$E$1051,2,FALSE))","v":""},{"$f":"IF(C86406=\"\",\"\",VLOOKUP(U86406,Lookup!$A$1:$B$21,2,FALSE))","v":""},null,null,null,null,null,null,null,null,null,null,null,null,null,null,null,null,null,null,null,null,null,"X"]
[{"$f":"IF(C86501=\"\",\"\",VLOOKUP(D86501,Lookup!$D$1:$E$1051,2,FALSE))","v":""},{"$f":"IF(C86501=\"\",\"\",VLOOKUP(U86501,Lookup!$A$1:$B$21,2,FALSE))","v":""},null,null,null,null,null,null,null,null,null,null,null,null,null,null,null,null,null,null,null,null,null,"X"]
[{"$f":"IF(C86540=\"\",\"\",VLOOKUP(D86540,Lookup!$D$1:$E$1051,2,FALSE))","v":""},{"$f":"IF(C86540=\"\",\"\",VLOOKUP(U86540,Lookup!$A$1:$B$21,2,FALSE))","v":""},null,null,null,null,null,null,null,null,null,null,null,null,null,null,null,null,null,null,null,null,null,"X"]
[{"$f":"IF(C86682=\"\",\"\",VLOOKUP(D86682,Lookup!$D$1:$E$1051,2,FALSE))","v":""},{"$f":"IF(C86682=\"\",\"\",VLOOKUP(U86682,Lookup!$A$1:$B$21,2,FALSE))","v":""},null,null,null,null,null,null,null,null,null,null,null,null,null,null,null,null,null,null,null,null,null,"X"]
[{"$f":"IF(C86809=\"\",\"\",VLOOKUP(D86809,Lookup!$D$1:$E$1051,2,FALSE))","v":""},{"$f":"IF(C86809=\"\",\"\",VLOOKUP(U86809,Lookup!$A$1:$B$21,2,FALSE))","v":""},null,null,null,null,null,null,null,null,null,null,null,null,null,null,null,null,null,null,null,null,null,"X"]
[{"$f":"IF(C86858=\"\",\"\",VLOOKUP(D86858,Lookup!$D$1:$E$1051,2,FALSE))","v":""},{"$f":"IF(C86858=\"\",\"\",VLOOKUP(U86858,Lookup!$A$1:$B$21,2,FALSE))","v":""},null,null,null,null,null,null,null,null,null,null,null,null,null,null,null,null,null,null,null,null,null,"X"]
[{"$f":"IF(C87000=\"\",\"\",VLOOKUP(D87000,Lookup!$D$1:$E$1051,2,FALSE))","v":""},{"$f":"IF(C87000=\"\",\"\",VLOOKUP(U87000,Lookup!$A$1:$B$21,2,FALSE))","v":""},null,null,null,null,null,null,null,null,null,null,null,null,null,null,null,null,null,null,null,null,null,"X"]
[{"$f":"IF(C87039=\"\",\"\",VLOOKUP(D87039,Lookup!$D$1:$E$1051,2,FALSE))","v":""},{"$f":"IF(C87039=\"\",\"\",VLOOKUP(U87039,Lookup!$A$1:$B$21,2,FALSE))","v":""},null,null,null,null,null,null,null,null,null,null,null,null,null,null,null,null,null,null,null,null,null,"X"]
[{"$f":"IF(C87202=\"\",\"\",VLOOKUP(D87202,Lookup!$D$1:$E$1051,2,FALSE))","v":""},{"$f":"IF(C87202=\"\",\"\",VLOOKUP(U87202,Lookup!$A$1:$B$21,2,FALSE))","v":""},null,null,null,null,null,null,null,null,null,null,null,null,null,null,null,null,null,null,null,null,null,"X"]
[{"$f":"IF(C87219=\"\",\"\",VLOOKUP(D87219,Lookup!$D$1:$E$1051,2,FALSE))","v":""},{"$f":"IF(C87219=\"\",\"\",VLOOKUP(U87219,Lookup!$A$1:$B$21,2,FALSE))","v":""},null,null,null,null,null,null,null,null,null,null,null,null,null,null,null,null,null,null,null,null,null,"X"]
[{"$f":"IF(C87357=\"\",\"\",VLOOKUP(D87357,Lookup!$D$1:$E$1051,2,FALSE))","v":""},{"$f":"IF(C87357=\"\",\"\",VLOOKUP(U87357,Lookup!$A$1:$B$21,2,FALSE))","v":""},null,null,null,null,null,null,null,null,null,null,null,null,null,null,null,null,null,null,null,null,null,"X"]
[{"$f":"IF(C87499=\"\",\"\",VLOOKUP(D87499,Lookup!$D$1:$E$1051,2,FALSE))","v":""},{"$f":"IF(C87499=\"\",\"\",VLOOKUP(U87499,Lookup!$A$1:$B$21,2,FALSE))","v":""},null,null,null,null,null,null,null,null,null,null,null,null,null,null,null,null,null,null,null,null,null,"X"]
[{"$f":"IF(C87507=\"\",\"\",VLOOKUP(D87507,Lookup!$D$1:$E$1051,2,FALSE))","v":""},{"$f":"IF(C87507=\"\",\"\",VLOOKUP(U87507,Lookup!$A$1:$B$21,2,FALSE))","v":""},null,null,null,null,null,null,null,null,null,null,null,null,null,null,null,null,null,null,null,null,null,"X"]
[{"$f":"IF(C87675=\"\",\"\",VLOOKUP(D87675,Lookup!$D$1:$E$1051,2,FALSE))","v":""},{"$f":"IF(C87675=\"\",\"\",VLOOKUP(U87675,Lookup!$A$1:$B$21,2,FALSE))","v":""},null,null,null,null,null,null,null,null,null,null,null,null,null,null,null,null,null,null,null,null,null,"X"]
[{"$f":"IF(C87718=\"\",\"\",VLOOKUP(D87718,Lookup!$D$1:$E$1051,2,FALSE))","v":""},{"$f":"IF(C87718=\"\",\"\",VLOOKUP(U87718,Lookup!$A$1:$B$21,2,FALSE))","v":""},null,null,null,null,null,null,null,null,null,null,null,null,null,null,null,null,null,null,null,null,null,"X"]
[{"$f":"IF(C87856=\"\",\"\",VLOOKUP(D87856,Lookup!$D$1:$E$1051,2,FALSE))","v":""},{"$f":"IF(C87856=\"\",\"\",VLOOKUP(U87856,Lookup!$A$1:$B$21,2,FALSE))","v":""},null,null,null,null,null,null,null,null,null,null,null,null,null,null,null,null,null,null,null,null,null,"X"]
[{"$f":"IF(C87998=\"\",\"\",VLOOKUP(D87998,Lookup!$D$1:$E$1051,2,FALSE))","v":""},{"$f":"IF(C87998=\"\",\"\",VLOOKUP(U87998,Lookup!$A$1:$B$21,2,FALSE))","v":""},null,null,null,null,null,null,null,null,null,null,null,null,null,null,null,null,null,null,null,null,null,"X"]
[{"$f":"IF(C88036=\"\",\"\",VLOOKUP(D88036,Lookup!$D$1:$E$1051,2,FALSE))","v":""},{"$f":"IF(C88036=\"\",\"\",VLOOKUP(U88036,Lookup!$A$1:$B$21,2,FALSE))","v":""},null,null,null,null,null,null,null,null,null,null,null,null,null,null,null,null,null,null,null,null,null,"X"]
[{"$f":"IF(C88174=\"\",\"\",VLOOKUP(D88174,Lookup!$D$1:$E$1051,2,FALSE))","v":""},{"$f":"IF(C88174=\"\",\"\",VLOOKUP(U88174,Lookup!$A$1:$B$21,2,FALSE))","v":""},null,null,null,null,null,null,null,null,null,null,null,null,null,null,null,null,null,null,null,null,null,"X"]
[{"$f":"IF(C88217=\"\",\"\",VLOOKUP(D88217,Lookup!$D$1:$E$1051,2,FALSE))","v":""},{"$f":"IF(C88217=\"\",\"\",VLOOKUP(U88217,Lookup!$A$1:$B$21,2,FALSE))","v":""},null,null,null,null,null,null,null,null,null,null,null,null,null,null,null,null,null,null,null,null,null,"X"]
[{"$f":"IF(C88303=\"\",\"\",VLOOKUP(D88303,Lookup!$D$1:$E$1051,2,FALSE))","v":""},{"$f":"IF(C88303=\"\",\"\",VLOOKUP(U88303,Lookup!$A$1:$B$21,2,FALSE))","v":""},null,null,null,null,null,null,null,null,null,null,null,null,null,null,null,null,null,null,null,null,null,"X"]
[{"$f":"IF(C88397=\"\",\"\",VLOOKUP(D88397,Lookup!$D$1:$E$1051,2,FALSE))","v":""},{"$f":"IF(C88397=\"\",\"\",VLOOKUP(U88397,Lookup!$A$1:$B$21,2,FALSE))","v":""},null,null,null,null,null,null,null,null,null,null,null,null,null,null,null,null,null,null,null,null,null,"X"]
[{"$f":"IF(C88535=\"\",\"\",VLOOKUP(D88535,Lookup!$D$1:$E$1051,2,FALSE))","v":""},{"$f":"IF(C88535=\"\",\"\",VLOOKUP(U88535,Lookup!$A$1:$B$21,2,FALSE))","v":""},null,null,null,null,null,null,null,null,null,null,null,null,null,null,null,null,null,null,null,null,null,"X"]
[{"$f":"IF(C88673=\"\",\"\",VLOOKUP(D88673,Lookup!$D$1:$E$1051,2,FALSE))","v":""},{"$f":"IF(C88673=\"\",\"\",VLOOKUP(U88673,Lookup!$A$1:$B$21,2,FALSE))","v":""},null,null,null,null,null,null,null,null,null,null,null,null,null,null,null,null,null,null,null,null,null,"X"]
[{"$f":"IF(C88696=\"\",\"\",VLOOKUP(D88696,Lookup!$D$1:$E$1051,2,FALSE))","v":""},{"$f":"IF(C88696=\"\",\"\",VLOOKUP(U88696,Lookup!$A$1:$B$21,2,FALSE))","v":""},null,null,null,null,null,null,null,null,null,null,null,null,null,null,null,null,null,null,null,null,null,"X"]
[{"$f":"IF(C88853=\"\",\"\",VLOOKUP(D88853,Lookup!$D$1:$E$1051,2,FALSE))","v":""},{"$f":"IF(C88853=\"\",\"\",VLOOKUP(U88853,Lookup!$A$1:$B$21,2,FALSE))","v":""},null,null,null,null,null,null,null,null,null,null,null,null,null,null,null,null,null,null,null,null,null,"X"]
[{"$f":"IF(C88892=\"\",\"\",VLOOKUP(D88892,Lookup!$D$1:$E$1051,2,FALSE))","v":""},{"$f":"IF(C88892=\"\",\"\",VLOOKUP(U88892,Lookup!$A$1:$B$21,2,FALSE))","v":""},null,null,null,null,null,null,null,null,null,null,null,null,null,null,null,null,null,null,null,null,null,"X"]
[{"$f":"IF(C89034=\"\",\"\",VLOOKUP(D89034,Lookup!$D$1:$E$1051,2,FALSE))","v":""},{"$f":"IF(C89034=\"\",\"\",VLOOKUP(U89034,Lookup!$A$1:$B$21,2,FALSE))","v":""},null,null,null,null,null,null,null,null,null,null,null,null,null,null,null,null,null,null,null,null,null,"X"]
[{"$f":"IF(C89099=\"\",\"\",VLOOKUP(D89099,Lookup!$D$1:$E$1051,2,FALSE))","v":""},{"$f":"IF(C89099=\"\",\"\",VLOOKUP(U89099,Lookup!$A$1:$B$21,2,FALSE))","v":""},null,null,null,null,null,null,null,null,null,null,null,null,null,null,null,null,null,null,null,null,null,"X"]
[{"$f":"IF(C89214=\"\",\"\",VLOOKUP(D89214,Lookup!$D$1:$E$1051,2,FALSE))","v":""},{"$f":"IF(C89214=\"\",\"\",VLOOKUP(U89214,Lookup!$A$1:$B$21,2,FALSE))","v":""},null,null,null,null,null,null,null,null,null,null,null,null,null,null,null,null,null,null,null,null,null,"X"]
[{"$f":"IF(C89352=\"\",\"\",VLOOKUP(D89352,Lookup!$D$1:$E$1051,2,FALSE))","v":""},{"$f":"IF(C89352=\"\",\"\",VLOOKUP(U89352,Lookup!$A$1:$B$21,2,FALSE))","v":""},null,null,null,null,null,null,null,null,null,null,null,null,null,null,null,null,null,null,null,null,null,"X"]
[{"$f":"IF(C89391=\"\",\"\",VLOOKUP(D89391,Lookup!$D$1:$E$1051,2,FALSE))","v":""},{"$f":"IF(C89391=\"\",\"\",VLOOKUP(U89391,Lookup!$A$1:$B$21,2,FALSE))","v":""},null,null,null,null,null,null,null,null,null,null,null,null,null,null,null,null,null,null,null,null,null,"X"]
[{"$f":"IF(C89492=\"\",\"\",VLOOKUP(D89492,Lookup!$D$1:$E$1051,2,FALSE))","v":""},{"$f":"IF(C89492=\"\",\"\",VLOOKUP(U89492,Lookup!$A$1:$B$21,2,FALSE))","v":""},null,null,null,null,null,null,null,null,null,null,null,null,null,null,null,null,null,null,null,null,null,"X"]
[{"$f":"IF(C89670=\"\",\"\",VLOOKUP(D89670,Lookup!$D$1:$E$1051,2,FALSE))","v":""},{"$f":"IF(C89670=\"\",\"\",VLOOKUP(U89670,Lookup!$A$1:$B$21,2,FALSE))","v":""},null,null,null,null,null,null,null,null,null,null,null,null,null,null,null,null,null,null,null,null,null,"X"]
[{"$f":"IF(C89713=\"\",\"\",VLOOKUP(D89713,Lookup!$D$1:$E$1051,2,FALSE))","v":""},{"$f":"IF(C89713=\"\",\"\",VLOOKUP(U89713,Lookup!$A$1:$B$21,2,FALSE))","v":""},null,null,null,null,null,null,null,null,null,null,null,null,null,null,null,null,null,null,null,null,null,"X"]
[{"$f":"IF(C89851=\"\",\"\",VLOOKUP(D89851,Lookup!$D$1:$E$1051,2,FALSE))","v":""},{"$f":"IF(C89851=\"\",\"\",VLOOKUP(U89851,Lookup!$A$1:$B$21,2,FALSE))","v":""},null,null,null,null,null,null,null,null,null,null,null,null,null,null,null,null,null,null,null,null,null,"X"]
[{"$f":"IF(C89895=\"\",\"\",VLOOKUP(D89895,Lookup!$D$1:$E$1051,2,FALSE))","v":""},{"$f":"IF(C89895=\"\",\"\",VLOOKUP(U89895,Lookup!$A$1:$B$21,2,FALSE))","v":""},null,null,null,null,null,null,null,null,null,null,null,null,null,null,null,null,null,null,null,null,null,"X"]
[{"$f":"IF(C90031=\"\",\"\",VLOOKUP(D90031,Lookup!$D$1:$E$1051,2,FALSE))","v":""},{"$f":"IF(C90031=\"\",\"\",VLOOKUP(U90031,Lookup!$A$1:$B$21,2,FALSE))","v":""},null,null,null,null,null,null,null,null,null,null,null,null,null,null,null,null,null,null,null,null,null,"X"]
[{"$f":"IF(C90169=\"\",\"\",VLOOKUP(D90169,Lookup!$D$1:$E$1051,2,FALSE))","v":""},{"$f":"IF(C90169=\"\",\"\",VLOOKUP(U90169,Lookup!$A$1:$B$21,2,FALSE))","v":""},null,null,null,null,null,null,null,null,null,null,null,null,null,null,null,null,null,null,null,null,null,"X"]
[{"$f":"IF(C90208=\"\",\"\",VLOOKUP(D90208,Lookup!$D$1:$E$1051,2,FALSE))","v":""},{"$f":"IF(C90208=\"\",\"\",VLOOKUP(U90208,Lookup!$A$1:$B$21,2,FALSE))","v":""},null,null,null,null,null,null,null,null,null,null,null,null,null,null,null,null,null,null,null,null,null,"X"]
[{"$f":"IF(C90288=\"\",\"\",VLOOKUP(D90288,Lookup!$D$1:$E$1051,2,FALSE))","v":""},{"$f":"IF(C90288=\"\",\"\",VLOOKUP(U90288,Lookup!$A$1:$B$21,2,FALSE))","v":""},null,null,null,null,null,null,null,null,null,null,null,null,null,null,null,null,null,null,null,null,null,"X"]
[{"$f":"IF(C90388=\"\",\"\",VLOOKUP(D90388,Lookup!$D$1:$E$1051,2,FALSE))","v":""},{"$f":"IF(C90388=\"\",\"\",VLOOKUP(U90388,Lookup!$A$1:$B$21,2,FALSE))","v":""},null,null,null,null,null,null,null,null,null,null,null,null,null,null,null,null,null,null,null,null,null,"X"]
[{"$f":"IF(C90530=\"\",\"\",VLOOKUP(D90530,Lookup!$D$1:$E$1051,2,FALSE))","v":""},{"$f":"IF(C90530=\"\",\"\",VLOOKUP(U90530,Lookup!$A$1:$B$21,2,FALSE))","v":""},null,null,null,null,null,null,null,null,null,null,null,null,null,null,null,null,null,null,null,null,null,"X"]
[{"$f":"IF(C90569=\"\",\"\",VLOOKUP(D90569,Lookup!$D$1:$E$1051,2,FALSE))","v":""},{"$f":"IF(C90569=\"\",\"\",VLOOKUP(U90569,Lookup!$A$1:$B$21,2,FALSE))","v":""},null,null,null,null,null,null,null,null,null,null,null,null,null,null,null,null,null,null,null,null,null,"X"]
[{"$f":"IF(C90691=\"\",\"\",VLOOKUP(D90691,Lookup!$D$1:$E$1051,2,FALSE))","v":""},{"$f":"IF(C90691=\"\",\"\",VLOOKUP(U90691,Lookup!$A$1:$B$21,2,FALSE))","v":""},null,null,null,null,null,null,null,null,null,null,null,null,null,null,null,null,null,null,null,null,null,"X"]
[{"$f":"IF(C90848=\"\",\"\",VLOOKUP(D90848,Lookup!$D$1:$E$1051,2,FALSE))","v":""},{"$f":"IF(C90848=\"\",\"\",VLOOKUP(U90848,Lookup!$A$1:$B$21,2,FALSE))","v":""},null,null,null,null,null,null,null,null,null,null,null,null,null,null,null,null,null,null,null,null,null,"X"]
[{"$f":"IF(C90887=\"\",\"\",VLOOKUP(D90887,Lookup!$D$1:$E$1051,2,FALSE))","v":""},{"$f":"IF(C90887=\"\",\"\",VLOOKUP(U90887,Lookup!$A$1:$B$21,2,FALSE))","v":""},null,null,null,null,null,null,null,null,null,null,null,null,null,null,null,null,null,null,null,null,null,"X"]
[{"$f":"IF(C91025=\"\",\"\",VLOOKUP(D91025,Lookup!$D$1:$E$1051,2,FALSE))","v":""},{"$f":"IF(C91025=\"\",\"\",VLOOKUP(U91025,Lookup!$A$1:$B$21,2,FALSE))","v":""},null,null,null,null,null,null,null,null,null,null,null,null,null,null,null,null,null,null,null,null,null,"X"]
[{"$f":"IF(C91084=\"\",\"\",VLOOKUP(D91084,Lookup!$D$1:$E$1051,2,FALSE))","v":""},{"$f":"IF(C91084=\"\",\"\",VLOOKUP(U91084,Lookup!$A$1:$B$21,2,FALSE))","v":""},null,null,null,null,null,null,null,null,null,null,null,null,null,null,null,null,null,null,null,null,null,"X"]
[{"$f":"IF(C91205=\"\",\"\",VLOOKUP(D91205,Lookup!$D$1:$E$1051,2,FALSE))","v":""},{"$f":"IF(C91205=\"\",\"\",VLOOKUP(U91205,Lookup!$A$1:$B$21,2,FALSE))","v":""},null,null,null,null,null,null,null,null,null,null,null,null,null,null,null,null,null,null,null,null,null,"X"]
[{"$f":"IF(C91347=\"\",\"\",VLOOKUP(D91347,Lookup!$D$1:$E$1051,2,FALSE))","v":""},{"$f":"IF(C91347=\"\",\"\",VLOOKUP(U91347,Lookup!$A$1:$B$21,2,FALSE))","v":""},null,null,null,null,null,null,null,null,null,null,null,null,null,null,null,null,null,null,null,null,null,"X"]
[{"$f":"IF(C91386=\"\",\"\",VLOOKUP(D91386,Lookup!$D$1:$E$1051,2,FALSE))","v":""},{"$f":"IF(C91386=\"\",\"\",VLOOKUP(U91386,Lookup!$A$1:$B$21,2,FALSE))","v":""},null,null,null,null,null,null,null,null,null,null,null,null,null,null,null,null,null,null,null,null,null,"X"]
[{"$f":"IF(C91487=\"\",\"\",VLOOKUP(D91487,Lookup!$D$1:$E$1051,2,FALSE))","v":""},{"$f":"IF(C91487=\"\",\"\",VLOOKUP(U91487,Lookup!$A$1:$B$21,2,FALSE))","v":""},null,null,null,null,null,null,null,null,null,null,null,null,null,null,null,null,null,null,null,null,null,"X"]
[{"$f":"IF(C91566=\"\",\"\",VLOOKUP(D91566,Lookup!$D$1:$E$1051,2,FALSE))","v":""},{"$f":"IF(C91566=\"\",\"\",VLOOKUP(U91566,Lookup!$A$1:$B$21,2,FALSE))","v":""},null,null,null,null,null,null,null,null,null,null,null,null,null,null,null,null,null,null,null,null,null,"X"]
[{"$f":"IF(C91704=\"\",\"\",VLOOKUP(D91704,Lookup!$D$1:$E$1051,2,FALSE))","v":""},{"$f":"IF(C91704=\"\",\"\",VLOOKUP(U91704,Lookup!$A$1:$B$21,2,FALSE))","v":""},null,null,null,null,null,null,null,null,null,null,null,null,null,null,null,null,null,null,null,null,null,"X"]
[{"$f":"IF(C91846=\"\",\"\",VLOOKUP(D91846,Lookup!$D$1:$E$1051,2,FALSE))","v":""},{"$f":"IF(C91846=\"\",\"\",VLOOKUP(U91846,Lookup!$A$1:$B$21,2,FALSE))","v":""},null,null,null,null,null,null,null,null,null,null,null,null,null,null,null,null,null,null,null,null,null,"X"]
[{"$f":"IF(C91880=\"\",\"\",VLOOKUP(D91880,Lookup!$D$1:$E$1051,2,FALSE))","v":""},{"$f":"IF(C91880=\"\",\"\",VLOOKUP(U91880,Lookup!$A$1:$B$21,2,FALSE))","v":""},null,null,null,null,null,null,null,null,null,null,null,null,null,null,null,null,null,null,null,null,null,"X"]
[{"$f":"IF(C92022=\"\",\"\",VLOOKUP(D92022,Lookup!$D$1:$E$1051,2,FALSE))","v":""},{"$f":"IF(C92022=\"\",\"\",VLOOKUP(U92022,Lookup!$A$1:$B$21,2,FALSE))","v":""},null,null,null,null,null,null,null,null,null,null,null,null,null,null,null,null,null,null,null,null,null,"X"]
[{"$f":"IF(C92065=\"\",\"\",VLOOKUP(D92065,Lookup!$D$1:$E$1051,2,FALSE))","v":""},{"$f":"IF(C92065=\"\",\"\",VLOOKUP(U92065,Lookup!$A$1:$B$21,2,FALSE))","v":""},null,null,null,null,null,null,null,null,null,null,null,null,null,null,null,null,null,null,null,null,null,"X"]
[{"$f":"IF(C92203=\"\",\"\",VLOOKUP(D92203,Lookup!$D$1:$E$1051,2,FALSE))","v":""},{"$f":"IF(C92203=\"\",\"\",VLOOKUP(U92203,Lookup!$A$1:$B$21,2,FALSE))","v":""},null,null,null,null,null,null,null,null,null,null,null,null,null,null,null,null,null,null,null,null,null,"X"]
[{"$f":"IF(C92283=\"\",\"\",VLOOKUP(D92283,Lookup!$D$1:$E$1051,2,FALSE))","v":""},{"$f":"IF(C92283=\"\",\"\",VLOOKUP(U92283,Lookup!$A$1:$B$21,2,FALSE))","v":""},null,null,null,null,null,null,null,null,null,null,null,null,null,null,null,null,null,null,null,null,null,"X"]
[{"$f":"IF(C92383=\"\",\"\",VLOOKUP(D92383,Lookup!$D$1:$E$1051,2,FALSE))","v":""},{"$f":"IF(C92383=\"\",\"\",VLOOKUP(U92383,Lookup!$A$1:$B$21,2,FALSE))","v":""},null,null,null,null,null,null,null,null,null,null,null,null,null,null,null,null,null,null,null,null,null,"X"]
[{"$f":"IF(C92521=\"\",\"\",VLOOKUP(D92521,Lookup!$D$1:$E$1051,2,FALSE))","v":""},{"$f":"IF(C92521=\"\",\"\",VLOOKUP(U92521,Lookup!$A$1:$B$21,2,FALSE))","v":""},null,null,null,null,null,null,null,null,null,null,null,null,null,null,null,null,null,null,null,null,null,"X"]
[{"$f":"IF(C92564=\"\",\"\",VLOOKUP(D92564,Lookup!$D$1:$E$1051,2,FALSE))","v":""},{"$f":"IF(C92564=\"\",\"\",VLOOKUP(U92564,Lookup!$A$1:$B$21,2,FALSE))","v":""},null,null,null,null,null,null,null,null,null,null,null,null,null,null,null,null,null,null,null,null,null,"X"]
[{"$f":"IF(C92676=\"\",\"\",VLOOKUP(D92676,Lookup!$D$1:$E$1051,2,FALSE))","v":""},{"$f":"IF(C92676=\"\",\"\",VLOOKUP(U92676,Lookup!$A$1:$B$21,2,FALSE))","v":""},null,null,null,null,null,null,null,null,null,null,null,null,null,null,null,null,null,null,null,null,null,"X"]
[{"$f":"IF(C92740=\"\",\"\",VLOOKUP(D92740,Lookup!$D$1:$E$1051,2,FALSE))","v":""},{"$f":"IF(C92740=\"\",\"\",VLOOKUP(U92740,Lookup!$A$1:$B$21,2,FALSE))","v":""},null,null,null,null,null,null,null,null,null,null,null,null,null,null,null,null,null,null,null,null,null,"X"]
[{"$f":"IF(C92882=\"\",\"\",VLOOKUP(D92882,Lookup!$D$1:$E$1051,2,FALSE))","v":""},{"$f":"IF(C92882=\"\",\"\",VLOOKUP(U92882,Lookup!$A$1:$B$21,2,FALSE))","v":""},null,null,null,null,null,null,null,null,null,null,null,null,null,null,null,null,null,null,null,null,null,"X"]
[{"$f":"IF(C93020=\"\",\"\",VLOOKUP(D93020,Lookup!$D$1:$E$1051,2,FALSE))","v":""},{"$f":"IF(C93020=\"\",\"\",VLOOKUP(U93020,Lookup!$A$1:$B$21,2,FALSE))","v":""},null,null,null,null,null,null,null,null,null,null,null,null,null,null,null,null,null,null,null,null,null,"X"]
[{"$f":"IF(C93079=\"\",\"\",VLOOKUP(D93079,Lookup!$D$1:$E$1051,2,FALSE))","v":""},{"$f":"IF(C93079=\"\",\"\",VLOOKUP(U93079,Lookup!$A$1:$B$21,2,FALSE))","v":""},null,null,null,null,null,null,null,null,null,null,null,null,null,null,null,null,null,null,null,null,null,"X"]
[{"$f":"IF(C93200=\"\",\"\",VLOOKUP(D93200,Lookup!$D$1:$E$1051,2,FALSE))","v":""},{"$f":"IF(C93200=\"\",\"\",VLOOKUP(U93200,Lookup!$A$1:$B$21,2,FALSE))","v":""},null,null,null,null,null,null,null,null,null,null,null,null,null,null,null,null,null,null,null,null,null,"X"]
[{"$f":"IF(C93239=\"\",\"\",VLOOKUP(D93239,Lookup!$D$1:$E$1051,2,FALSE))","v":""},{"$f":"IF(C93239=\"\",\"\",VLOOKUP(U93239,Lookup!$A$1:$B$21,2,FALSE))","v":""},null,null,null,null,null,null,null,null,null,null,null,null,null,null,null,null,null,null,null,null,null,"X"]
[{"$f":"IF(C93381=\"\",\"\",VLOOKUP(D93381,Lookup!$D$1:$E$1051,2,FALSE))","v":""},{"$f":"IF(C93381=\"\",\"\",VLOOKUP(U93381,Lookup!$A$1:$B$21,2,FALSE))","v":""},null,null,null,null,null,null,null,null,null,null,null,null,null,null,null,null,null,null,null,null,null,"X"]
[{"$f":"IF(C93472=\"\",\"\",VLOOKUP(D93472,Lookup!$D$1:$E$1051,2,FALSE))","v":""},{"$f":"IF(C93472=\"\",\"\",VLOOKUP(U93472,Lookup!$A$1:$B$21,2,FALSE))","v":""},null,null,null,null,null,null,null,null,null,null,null,null,null,null,null,null,null,null,null,null,null,"X"]
[{"$f":"IF(C93557=\"\",\"\",VLOOKUP(D93557,Lookup!$D$1:$E$1051,2,FALSE))","v":""},{"$f":"IF(C93557=\"\",\"\",VLOOKUP(U93557,Lookup!$A$1:$B$21,2,FALSE))","v":""},null,null,null,null,null,null,null,null,null,null,null,null,null,null,null,null,null,null,null,null,null,"X"]
[{"$f":"IF(C93699=\"\",\"\",VLOOKUP(D93699,Lookup!$D$1:$E$1051,2,FALSE))","v":""},{"$f":"IF(C93699=\"\",\"\",VLOOKUP(U93699,Lookup!$A$1:$B$21,2,FALSE))","v":""},null,null,null,null,null,null,null,null,null,null,null,null,null,null,null,null,null,null,null,null,null,"X"]
[{"$f":"IF(C93738=\"\",\"\",VLOOKUP(D93738,Lookup!$D$1:$E$1051,2,FALSE))","v":""},{"$f":"IF(C93738=\"\",\"\",VLOOKUP(U93738,Lookup!$A$1:$B$21,2,FALSE))","v":""},null,null,null,null,null,null,null,null,null,null,null,null,null,null,null,null,null,null,null,null,null,"X"]
[{"$f":"IF(C93865=\"\",\"\",VLOOKUP(D93865,Lookup!$D$1:$E$1051,2,FALSE))","v":""},{"$f":"IF(C93865=\"\",\"\",VLOOKUP(U93865,Lookup!$A$1:$B$21,2,FALSE))","v":""},null,null,null,null,null,null,null,null,null,null,null,null,null,null,null,null,null,null,null,null,null,"X"]
[{"$f":"IF(C94017=\"\",\"\",VLOOKUP(D94017,Lookup!$D$1:$E$1051,2,FALSE))","v":""},{"$f":"IF(C94017=\"\",\"\",VLOOKUP(U94017,Lookup!$A$1:$B$21,2,FALSE))","v":""},null,null,null,null,null,null,null,null,null,null,null,null,null,null,null,null,null,null,null,null,null,"X"]
[{"$f":"IF(C94056=\"\",\"\",VLOOKUP(D94056,Lookup!$D$1:$E$1051,2,FALSE))","v":""},{"$f":"IF(C94056=\"\",\"\",VLOOKUP(U94056,Lookup!$A$1:$B$21,2,FALSE))","v":""},null,null,null,null,null,null,null,null,null,null,null,null,null,null,null,null,null,null,null,null,null,"X"]
[{"$f":"IF(C94198=\"\",\"\",VLOOKUP(D94198,Lookup!$D$1:$E$1051,2,FALSE))","v":""},{"$f":"IF(C94198=\"\",\"\",VLOOKUP(U94198,Lookup!$A$1:$B$21,2,FALSE))","v":""},null,null,null,null,null,null,null,null,null,null,null,null,null,null,null,null,null,null,null,null,null,"X"]
[{"$f":"IF(C94268=\"\",\"\",VLOOKUP(D94268,Lookup!$D$1:$E$1051,2,FALSE))","v":""},{"$f":"IF(C94268=\"\",\"\",VLOOKUP(U94268,Lookup!$A$1:$B$21,2,FALSE))","v":""},null,null,null,null,null,null,null,null,null,null,null,null,null,null,null,null,null,null,null,null,null,"X"]
[{"$f":"IF(C94374=\"\",\"\",VLOOKUP(D94374,Lookup!$D$1:$E$1051,2,FALSE))","v":""},{"$f":"IF(C94374=\"\",\"\",VLOOKUP(U94374,Lookup!$A$1:$B$21,2,FALSE))","v":""},null,null,null,null,null,null,null,null,null,null,null,null,null,null,null,null,null,null,null,null,null,"X"]
[{"$f":"IF(C94516=\"\",\"\",VLOOKUP(D94516,Lookup!$D$1:$E$1051,2,FALSE))","v":""},{"$f":"IF(C94516=\"\",\"\",VLOOKUP(U94516,Lookup!$A$1:$B$21,2,FALSE))","v":""},null,null,null,null,null,null,null,null,null,null,null,null,null,null,null,null,null,null,null,null,null,"X"]
[{"$f":"IF(C94555=\"\",\"\",VLOOKUP(D94555,Lookup!$D$1:$E$1051,2,FALSE))","v":""},{"$f":"IF(C94555=\"\",\"\",VLOOKUP(U94555,Lookup!$A$1:$B$21,2,FALSE))","v":""},null,null,null,null,null,null,null,null,null,null,null,null,null,null,null,null,null,null,null,null,null,"X"]
[{"$f":"IF(C94661=\"\",\"\",VLOOKUP(D94661,Lookup!$D$1:$E$1051,2,FALSE))","v":""},{"$f":"IF(C94661=\"\",\"\",VLOOKUP(U94661,Lookup!$A$1:$B$21,2,FALSE))","v":""},null,null,null,null,null,null,null,null,null,null,null,null,null,null,null,null,null,null,null,null,null,"X"]
[{"$f":"IF(C94735=\"\",\"\",VLOOKUP(D94735,Lookup!$D$1:$E$1051,2,FALSE))","v":""},{"$f":"IF(C94735=\"\",\"\",VLOOKUP(U94735,Lookup!$A$1:$B$21,2,FALSE))","v":""},null,null,null,null,null,null,null,null,null,null,null,null,null,null,null,null,null,null,null,null,null,"X"]
[{"$f":"IF(C94873=\"\",\"\",VLOOKUP(D94873,Lookup!$D$1:$E$1051,2,FALSE))","v":""},{"$f":"IF(C94873=\"\",\"\",VLOOKUP(U94873,Lookup!$A$1:$B$21,2,FALSE))","v":""},null,null,null,null,null,null,null,null,null,null,null,null,null,null,null,null,null,null,null,null,null,"X"]
[{"$f":"IF(C94916=\"\",\"\",VLOOKUP(D94916,Lookup!$D$1:$E$1051,2,FALSE))","v":""},{"$f":"IF(C94916=\"\",\"\",VLOOKUP(U94916,Lookup!$A$1:$B$21,2,FALSE))","v":""},null,null,null,null,null,null,null,null,null,null,null,null,null,null,null,null,null,null,null,null,null,"X"]
[{"$f":"IF(C95064=\"\",\"\",VLOOKUP(D95064,Lookup!$D$1:$E$1051,2,FALSE))","v":""},{"$f":"IF(C95064=\"\",\"\",VLOOKUP(U95064,Lookup!$A$1:$B$21,2,FALSE))","v":""},null,null,null,null,null,null,null,null,null,null,null,null,null,null,null,null,null,null,null,null,null,"X"]
[{"$f":"IF(C95195=\"\",\"\",VLOOKUP(D95195,Lookup!$D$1:$E$1051,2,FALSE))","v":""},{"$f":"IF(C95195=\"\",\"\",VLOOKUP(U95195,Lookup!$A$1:$B$21,2,FALSE))","v":""},null,null,null,null,null,null,null,null,null,null,null,null,null,null,null,null,null,null,null,null,null,"X"]
[{"$f":"IF(C95234=\"\",\"\",VLOOKUP(D95234,Lookup!$D$1:$E$1051,2,FALSE))","v":""},{"$f":"IF(C95234=\"\",\"\",VLOOKUP(U95234,Lookup!$A$1:$B$21,2,FALSE))","v":""},null,null,null,null,null,null,null,null,null,null,null,null,null,null,null,null,null,null,null,null,null,"X"]
[{"$f":"IF(C95372=\"\",\"\",VLOOKUP(D95372,Lookup!$D$1:$E$1051,2,FALSE))","v":""},{"$f":"IF(C95372=\"\",\"\",VLOOKUP(U95372,Lookup!$A$1:$B$21,2,FALSE))","v":""},null,null,null,null,null,null,null,null,null,null,null,null,null,null,null,null,null,null,null,null,null,"X"]
[{"$f":"IF(C95457=\"\",\"\",VLOOKUP(D95457,Lookup!$D$1:$E$1051,2,FALSE))","v":""},{"$f":"IF(C95457=\"\",\"\",VLOOKUP(U95457,Lookup!$A$1:$B$21,2,FALSE))","v":""},null,null,null,null,null,null,null,null,null,null,null,null,null,null,null,null,null,null,null,null,null,"X"]
[{"$f":"IF(C95552=\"\",\"\",VLOOKUP(D95552,Lookup!$D$1:$E$1051,2,FALSE))","v":""},{"$f":"IF(C95552=\"\",\"\",VLOOKUP(U95552,Lookup!$A$1:$B$21,2,FALSE))","v":""},null,null,null,null,null,null,null,null,null,null,null,null,null,null,null,null,null,null,null,null,null,"X"]
[{"$f":"IF(C95690=\"\",\"\",VLOOKUP(D95690,Lookup!$D$1:$E$1051,2,FALSE))","v":""},{"$f":"IF(C95690=\"\",\"\",VLOOKUP(U95690,Lookup!$A$1:$B$21,2,FALSE))","v":""},null,null,null,null,null,null,null,null,null,null,null,null,null,null,null,null,null,null,null,null,null,"X"]
[{"$f":"IF(C95733=\"\",\"\",VLOOKUP(D95733,Lookup!$D$1:$E$1051,2,FALSE))","v":""},{"$f":"IF(C95733=\"\",\"\",VLOOKUP(U95733,Lookup!$A$1:$B$21,2,FALSE))","v":""},null,null,null,null,null,null,null,null,null,null,null,null,null,null,null,null,null,null,null,null,null,"X"]
[{"$f":"IF(C95860=\"\",\"\",VLOOKUP(D95860,Lookup!$D$1:$E$1051,2,FALSE))","v":""},{"$f":"IF(C95860=\"\",\"\",VLOOKUP(U95860,Lookup!$A$1:$B$21,2,FALSE))","v":""},null,null,null,null,null,null,null,null,null,null,null,null,null,null,null,null,null,null,null,null,null,"X"]
[{"$f":"IF(C95913=\"\",\"\",VLOOKUP(D95913,Lookup!$D$1:$E$1051,2,FALSE))","v":""},{"$f":"IF(C95913=\"\",\"\",VLOOKUP(U95913,Lookup!$A$1:$B$21,2,FALSE))","v":""},null,null,null,null,null,null,null,null,null,null,null,null,null,null,null,null,null,null,null,null,null,"X"]
[{"$f":"IF(C96051=\"\",\"\",VLOOKUP(D96051,Lookup!$D$1:$E$1051,2,FALSE))","v":""},{"$f":"IF(C96051=\"\",\"\",VLOOKUP(U96051,Lookup!$A$1:$B$21,2,FALSE))","v":""},null,null,null,null,null,null,null,null,null,null,null,null,null,null,null,null,null,null,null,null,null,"X"]
[{"$f":"IF(C96189=\"\",\"\",VLOOKUP(D96189,Lookup!$D$1:$E$1051,2,FALSE))","v":""},{"$f":"IF(C96189=\"\",\"\",VLOOKUP(U96189,Lookup!$A$1:$B$21,2,FALSE))","v":""},null,null,null,null,null,null,null,null,null,null,null,null,null,null,null,null,null,null,null,null,null,"X"]
[{"$f":"IF(C96253=\"\",\"\",VLOOKUP(D96253,Lookup!$D$1:$E$1051,2,FALSE))","v":""},{"$f":"IF(C96253=\"\",\"\",VLOOKUP(U96253,Lookup!$A$1:$B$21,2,FALSE))","v":""},null,null,null,null,null,null,null,null,null,null,null,null,null,null,null,null,null,null,null,null,null,"X"]
[{"$f":"IF(C96369=\"\",\"\",VLOOKUP(D96369,Lookup!$D$1:$E$1051,2,FALSE))","v":""},{"$f":"IF(C96369=\"\",\"\",VLOOKUP(U96369,Lookup!$A$1:$B$21,2,FALSE))","v":""},null,null,null,null,null,null,null,null,null,null,null,null,null,null,null,null,null,null,null,null,null,"X"]
[{"$f":"IF(C96408=\"\",\"\",VLOOKUP(D96408,Lookup!$D$1:$E$1051,2,FALSE))","v":""},{"$f":"IF(C96408=\"\",\"\",VLOOKUP(U96408,Lookup!$A$1:$B$21,2,FALSE))","v":""},null,null,null,null,null,null,null,null,null,null,null,null,null,null,null,null,null,null,null,null,null,"X"]
[{"$f":"IF(C96550=\"\",\"\",VLOOKUP(D96550,Lookup!$D$1:$E$1051,2,FALSE))","v":""},{"$f":"IF(C96550=\"\",\"\",VLOOKUP(U96550,Lookup!$A$1:$B$21,2,FALSE))","v":""},null,null,null,null,null,null,null,null,null,null,null,null,null,null,null,null,null,null,null,null,null,"X"]
[{"$f":"IF(C96656=\"\",\"\",VLOOKUP(D96656,Lookup!$D$1:$E$1051,2,FALSE))","v":""},{"$f":"IF(C96656=\"\",\"\",VLOOKUP(U96656,Lookup!$A$1:$B$21,2,FALSE))","v":""},null,null,null,null,null,null,null,null,null,null,null,null,null,null,null,null,null,null,null,null,null,"X"]
[{"$f":"IF(C96730=\"\",\"\",VLOOKUP(D96730,Lookup!$D$1:$E$1051,2,FALSE))","v":""},{"$f":"IF(C96730=\"\",\"\",VLOOKUP(U96730,Lookup!$A$1:$B$21,2,FALSE))","v":""},null,null,null,null,null,null,null,null,null,null,null,null,null,null,null,null,null,null,null,null,null,"X"]
[{"$f":"IF(C96868=\"\",\"\",VLOOKUP(D96868,Lookup!$D$1:$E$1051,2,FALSE))","v":""},{"$f":"IF(C96868=\"\",\"\",VLOOKUP(U96868,Lookup!$A$1:$B$21,2,FALSE))","v":""},null,null,null,null,null,null,null,null,null,null,null,null,null,null,null,null,null,null,null,null,null,"X"]
[{"$f":"IF(C96907=\"\",\"\",VLOOKUP(D96907,Lookup!$D$1:$E$1051,2,FALSE))","v":""},{"$f":"IF(C96907=\"\",\"\",VLOOKUP(U96907,Lookup!$A$1:$B$21,2,FALSE))","v":""},null,null,null,null,null,null,null,null,null,null,null,null,null,null,null,null,null,null,null,null,null,"X"]
[{"$f":"IF(C97049=\"\",\"\",VLOOKUP(D97049,Lookup!$D$1:$E$1051,2,FALSE))","v":""},{"$f":"IF(C97049=\"\",\"\",VLOOKUP(U97049,Lookup!$A$1:$B$21,2,FALSE))","v":""},null,null,null,null,null,null,null,null,null,null,null,null,null,null,null,null,null,null,null,null,null,"X"]
[{"$f":"IF(C97087=\"\",\"\",VLOOKUP(D97087,Lookup!$D$1:$E$1051,2,FALSE))","v":""},{"$f":"IF(C97087=\"\",\"\",VLOOKUP(U97087,Lookup!$A$1:$B$21,2,FALSE))","v":""},null,null,null,null,null,null,null,null,null,null,null,null,null,null,null,null,null,null,null,null,null,"X"]
[{"$f":"IF(C97229=\"\",\"\",VLOOKUP(D97229,Lookup!$D$1:$E$1051,2,FALSE))","v":""},{"$f":"IF(C97229=\"\",\"\",VLOOKUP(U97229,Lookup!$A$1:$B$21,2,FALSE))","v":""},null,null,null,null,null,null,null,null,null,null,null,null,null,null,null,null,null,null,null,null,null,"X"]
[{"$f":"IF(C97367=\"\",\"\",VLOOKUP(D97367,Lookup!$D$1:$E$1051,2,FALSE))","v":""},{"$f":"IF(C97367=\"\",\"\",VLOOKUP(U97367,Lookup!$A$1:$B$21,2,FALSE))","v":""},null,null,null,null,null,null,null,null,null,null,null,null,null,null,null,null,null,null,null,null,null,"X"]
[{"$f":"IF(C97452=\"\",\"\",VLOOKUP(D97452,Lookup!$D$1:$E$1051,2,FALSE))","v":""},{"$f":"IF(C97452=\"\",\"\",VLOOKUP(U97452,Lookup!$A$1:$B$21,2,FALSE))","v":""},null,null,null,null,null,null,null,null,null,null,null,null,null,null,null,null,null,null,null,null,null,"X"]
[{"$f":"IF(C97547=\"\",\"\",VLOOKUP(D97547,Lookup!$D$1:$E$1051,2,FALSE))","v":""},{"$f":"IF(C97547=\"\",\"\",VLOOKUP(U97547,Lookup!$A$1:$B$21,2,FALSE))","v":""},null,null,null,null,null,null,null,null,null,null,null,null,null,null,null,null,null,null,null,null,null,"X"]
[{"$f":"IF(C97586=\"\",\"\",VLOOKUP(D97586,Lookup!$D$1:$E$1051,2,FALSE))","v":""},{"$f":"IF(C97586=\"\",\"\",VLOOKUP(U97586,Lookup!$A$1:$B$21,2,FALSE))","v":""},null,null,null,null,null,null,null,null,null,null,null,null,null,null,null,null,null,null,null,null,null,"X"]
[{"$f":"IF(C97724=\"\",\"\",VLOOKUP(D97724,Lookup!$D$1:$E$1051,2,FALSE))","v":""},{"$f":"IF(C97724=\"\",\"\",VLOOKUP(U97724,Lookup!$A$1:$B$21,2,FALSE))","v":""},null,null,null,null,null,null,null,null,null,null,null,null,null,null,null,null,null,null,null,null,null,"X"]
[{"$f":"IF(C97845=\"\",\"\",VLOOKUP(D97845,Lookup!$D$1:$E$1051,2,FALSE))","v":""},{"$f":"IF(C97845=\"\",\"\",VLOOKUP(U97845,Lookup!$A$1:$B$21,2,FALSE))","v":""},null,null,null,null,null,null,null,null,null,null,null,null,null,null,null,null,null,null,null,null,null,"X"]
[{"$f":"IF(C97904=\"\",\"\",VLOOKUP(D97904,Lookup!$D$1:$E$1051,2,FALSE))","v":""},{"$f":"IF(C97904=\"\",\"\",VLOOKUP(U97904,Lookup!$A$1:$B$21,2,FALSE))","v":""},null,null,null,null,null,null,null,null,null,null,null,null,null,null,null,null,null,null,null,null,null,"X"]
[{"$f":"IF(C98046=\"\",\"\",VLOOKUP(D98046,Lookup!$D$1:$E$1051,2,FALSE))","v":""},{"$f":"IF(C98046=\"\",\"\",VLOOKUP(U98046,Lookup!$A$1:$B$21,2,FALSE))","v":""},null,null,null,null,null,null,null,null,null,null,null,null,null,null,null,null,null,null,null,null,null,"X"]
[{"$f":"IF(C98085=\"\",\"\",VLOOKUP(D98085,Lookup!$D$1:$E$1051,2,FALSE))","v":""},{"$f":"IF(C98085=\"\",\"\",VLOOKUP(U98085,Lookup!$A$1:$B$21,2,FALSE))","v":""},null,null,null,null,null,null,null,null,null,null,null,null,null,null,null,null,null,null,null,null,null,"X"]
[{"$f":"IF(C98248=\"\",\"\",VLOOKUP(D98248,Lookup!$D$1:$E$1051,2,FALSE))","v":""},{"$f":"IF(C98248=\"\",\"\",VLOOKUP(U98248,Lookup!$A$1:$B$21,2,FALSE))","v":""},null,null,null,null,null,null,null,null,null,null,null,null,null,null,null,null,null,null,null,null,null,"X"]
[{"$f":"IF(C98364=\"\",\"\",VLOOKUP(D98364,Lookup!$D$1:$E$1051,2,FALSE))","v":""},{"$f":"IF(C98364=\"\",\"\",VLOOKUP(U98364,Lookup!$A$1:$B$21,2,FALSE))","v":""},null,null,null,null,null,null,null,null,null,null,null,null,null,null,null,null,null,null,null,null,null,"X"]
[{"$f":"IF(C98403=\"\",\"\",VLOOKUP(D98403,Lookup!$D$1:$E$1051,2,FALSE))","v":""},{"$f":"IF(C98403=\"\",\"\",VLOOKUP(U98403,Lookup!$A$1:$B$21,2,FALSE))","v":""},null,null,null,null,null,null,null,null,null,null,null,null,null,null,null,null,null,null,null,null,null,"X"]
[{"$f":"IF(C98545=\"\",\"\",VLOOKUP(D98545,Lookup!$D$1:$E$1051,2,FALSE))","v":""},{"$f":"IF(C98545=\"\",\"\",VLOOKUP(U98545,Lookup!$A$1:$B$21,2,FALSE))","v":""},null,null,null,null,null,null,null,null,null,null,null,null,null,null,null,null,null,null,null,null,null,"X"]
[{"$f":"IF(C98641=\"\",\"\",VLOOKUP(D98641,Lookup!$D$1:$E$1051,2,FALSE))","v":""},{"$f":"IF(C98641=\"\",\"\",VLOOKUP(U98641,Lookup!$A$1:$B$21,2,FALSE))","v":""},null,null,null,null,null,null,null,null,null,null,null,null,null,null,null,null,null,null,null,null,null,"X"]
[{"$f":"IF(C98721=\"\",\"\",VLOOKUP(D98721,Lookup!$D$1:$E$1051,2,FALSE))","v":""},{"$f":"IF(C98721=\"\",\"\",VLOOKUP(U98721,Lookup!$A$1:$B$21,2,FALSE))","v":""},null,null,null,null,null,null,null,null,null,null,null,null,null,null,null,null,null,null,null,null,null,"X"]
[{"$f":"IF(C98764=\"\",\"\",VLOOKUP(D98764,Lookup!$D$1:$E$1051,2,FALSE))","v":""},{"$f":"IF(C98764=\"\",\"\",VLOOKUP(U98764,Lookup!$A$1:$B$21,2,FALSE))","v":""},null,null,null,null,null,null,null,null,null,null,null,null,null,null,null,null,null,null,null,null,null,"X"]
[{"$f":"IF(C98902=\"\",\"\",VLOOKUP(D98902,Lookup!$D$1:$E$1051,2,FALSE))","v":""},{"$f":"IF(C98902=\"\",\"\",VLOOKUP(U98902,Lookup!$A$1:$B$21,2,FALSE))","v":""},null,null,null,null,null,null,null,null,null,null,null,null,null,null,null,null,null,null,null,null,null,"X"]
[{"$f":"IF(C99044=\"\",\"\",VLOOKUP(D99044,Lookup!$D$1:$E$1051,2,FALSE))","v":""},{"$f":"IF(C99044=\"\",\"\",VLOOKUP(U99044,Lookup!$A$1:$B$21,2,FALSE))","v":""},null,null,null,null,null,null,null,null,null,null,null,null,null,null,null,null,null,null,null,null,null,"X"]
[{"$f":"IF(C99082=\"\",\"\",VLOOKUP(D99082,Lookup!$D$1:$E$1051,2,FALSE))","v":""},{"$f":"IF(C99082=\"\",\"\",VLOOKUP(U99082,Lookup!$A$1:$B$21,2,FALSE))","v":""},null,null,null,null,null,null,null,null,null,null,null,null,null,null,null,null,null,null,null,null,null,"X"]
[{"$f":"IF(C99220=\"\",\"\",VLOOKUP(D99220,Lookup!$D$1:$E$1051,2,FALSE))","v":""},{"$f":"IF(C99220=\"\",\"\",VLOOKUP(U99220,Lookup!$A$1:$B$21,2,FALSE))","v":""},null,null,null,null,null,null,null,null,null,null,null,null,null,null,null,null,null,null,null,null,null,"X"]
[{"$f":"IF(C99263=\"\",\"\",VLOOKUP(D99263,Lookup!$D$1:$E$1051,2,FALSE))","v":""},{"$f":"IF(C99263=\"\",\"\",VLOOKUP(U99263,Lookup!$A$1:$B$21,2,FALSE))","v":""},null,null,null,null,null,null,null,null,null,null,null,null,null,null,null,null,null,null,null,null,null,"X"]
[{"$f":"IF(C99437=\"\",\"\",VLOOKUP(D99437,Lookup!$D$1:$E$1051,2,FALSE))","v":""},{"$f":"IF(C99437=\"\",\"\",VLOOKUP(U99437,Lookup!$A$1:$B$21,2,FALSE))","v":""},null,null,null,null,null,null,null,null,null,null,null,null,null,null,null,null,null,null,null,null,null,"X"]
[{"$f":"IF(C99538=\"\",\"\",VLOOKUP(D99538,Lookup!$D$1:$E$1051,2,FALSE))","v":""},{"$f":"IF(C99538=\"\",\"\",VLOOKUP(U99538,Lookup!$A$1:$B$21,2,FALSE))","v":""},null,null,null,null,null,null,null,null,null,null,null,null,null,null,null,null,null,null,null,null,null,"X"]
[{"$f":"IF(C99581=\"\",\"\",VLOOKUP(D99581,Lookup!$D$1:$E$1051,2,FALSE))","v":""},{"$f":"IF(C99581=\"\",\"\",VLOOKUP(U99581,Lookup!$A$1:$B$21,2,FALSE))","v":""},null,null,null,null,null,null,null,null,null,null,null,null,null,null,null,null,null,null,null,null,null,"X"]
[{"$f":"IF(C99719=\"\",\"\",VLOOKUP(D99719,Lookup!$D$1:$E$1051,2,FALSE))","v":""},{"$f":"IF(C99719=\"\",\"\",VLOOKUP(U99719,Lookup!$A$1:$B$21,2,FALSE))","v":""},null,null,null,null,null,null,null,null,null,null,null,null,null,null,null,null,null,null,null,null,null,"X"]
[{"$f":"IF(C99751=\"\",\"\",VLOOKUP(D99751,Lookup!$D$1:$E$1051,2,FALSE))","v":""},{"$f":"IF(C99751=\"\",\"\",VLOOKUP(U99751,Lookup!$A$1:$B$21,2,FALSE))","v":""},null,null,null,null,null,null,null,null,null,null,null,null,null,null,null,null,null,null,null,null,null,"X"]
[{"$f":"IF(C99752=\"\",\"\",VLOOKUP(D99752,Lookup!$D$1:$E$1051,2,FALSE))","v":""},{"$f":"IF(C99752=\"\",\"\",VLOOKUP(U99752,Lookup!$A$1:$B$21,2,FALSE))","v":""},null,null,null,null,null,null,null,null,null,null,null,null,null,null,null,null,null,null,null,null,null,"X"]
[{"$f":"IF(C99753=\"\",\"\",VLOOKUP(D99753,Lookup!$D$1:$E$1051,2,FALSE))","v":""},{"$f":"IF(C99753=\"\",\"\",VLOOKUP(U99753,Lookup!$A$1:$B$21,2,FALSE))","v":""},null,null,null,null,null,null,null,null,null,null,null,null,null,null,null,null,null,null,null,null,null,"X"]
[{"$f":"IF(C99754=\"\",\"\",VLOOKUP(D99754,Lookup!$D$1:$E$1051,2,FALSE))","v":""},{"$f":"IF(C99754=\"\",\"\",VLOOKUP(U99754,Lookup!$A$1:$B$21,2,FALSE))","v":""},null,null,null,null,null,null,null,null,null,null,null,null,null,null,null,null,null,null,null,null,null,"X"]
[{"$f":"IF(C99755=\"\",\"\",VLOOKUP(D99755,Lookup!$D$1:$E$1051,2,FALSE))","v":""},{"$f":"IF(C99755=\"\",\"\",VLOOKUP(U99755,Lookup!$A$1:$B$21,2,FALSE))","v":""},null,null,null,null,null,null,null,null,null,null,null,null,null,null,null,null,null,null,null,null,null,"X"]
[{"$f":"IF(C99756=\"\",\"\",VLOOKUP(D99756,Lookup!$D$1:$E$1051,2,FALSE))","v":""},{"$f":"IF(C99756=\"\",\"\",VLOOKUP(U99756,Lookup!$A$1:$B$21,2,FALSE))","v":""},null,null,null,null,null,null,null,null,null,null,null,null,null,null,null,null,null,null,null,null,null,"X"]
[{"$f":"IF(C99757=\"\",\"\",VLOOKUP(D99757,Lookup!$D$1:$E$1051,2,FALSE))","v":""},{"$f":"IF(C99757=\"\",\"\",VLOOKUP(U99757,Lookup!$A$1:$B$21,2,FALSE))","v":""},null,null,null,null,null,null,null,null,null,null,null,null,null,null,null,null,null,null,null,null,null,"X"]
[{"$f":"IF(C99758=\"\",\"\",VLOOKUP(D99758,Lookup!$D$1:$E$1051,2,FALSE))","v":""},{"$f":"IF(C99758=\"\",\"\",VLOOKUP(U99758,Lookup!$A$1:$B$21,2,FALSE))","v":""},null,null,null,null,null,null,null,null,null,null,null,null,null,null,null,null,null,null,null,null,null,"X"]
[{"$f":"IF(C99759=\"\",\"\",VLOOKUP(D99759,Lookup!$D$1:$E$1051,2,FALSE))","v":""},{"$f":"IF(C99759=\"\",\"\",VLOOKUP(U99759,Lookup!$A$1:$B$21,2,FALSE))","v":""},null,null,null,null,null,null,null,null,null,null,null,null,null,null,null,null,null,null,null,null,null,"X"]
[{"$f":"IF(C99760=\"\",\"\",VLOOKUP(D99760,Lookup!$D$1:$E$1051,2,FALSE))","v":""},{"$f":"IF(C99760=\"\",\"\",VLOOKUP(U99760,Lookup!$A$1:$B$21,2,FALSE))","v":""},null,null,null,null,null,null,null,null,null,null,null,null,null,null,null,null,null,null,null,null,null,"X"]
[{"$f":"IF(C99761=\"\",\"\",VLOOKUP(D99761,Lookup!$D$1:$E$1051,2,FALSE))","v":""},{"$f":"IF(C99761=\"\",\"\",VLOOKUP(U99761,Lookup!$A$1:$B$21,2,FALSE))","v":""},null,null,null,null,null,null,null,null,null,null,null,null,null,null,null,null,null,null,null,null,null,"X"]
[{"$f":"IF(C99762=\"\",\"\",VLOOKUP(D99762,Lookup!$D$1:$E$1051,2,FALSE))","v":""},{"$f":"IF(C99762=\"\",\"\",VLOOKUP(U99762,Lookup!$A$1:$B$21,2,FALSE))","v":""},null,null,null,null,null,null,null,null,null,null,null,null,null,null,null,null,null,null,null,null,null,"X"]
[{"$f":"IF(C99763=\"\",\"\",VLOOKUP(D99763,Lookup!$D$1:$E$1051,2,FALSE))","v":""},{"$f":"IF(C99763=\"\",\"\",VLOOKUP(U99763,Lookup!$A$1:$B$21,2,FALSE))","v":""},null,null,null,null,null,null,null,null,null,null,null,null,null,null,null,null,null,null,null,null,null,"X"]
[{"$f":"IF(C99764=\"\",\"\",VLOOKUP(D99764,Lookup!$D$1:$E$1051,2,FALSE))","v":""},{"$f":"IF(C99764=\"\",\"\",VLOOKUP(U99764,Lookup!$A$1:$B$21,2,FALSE))","v":""},null,null,null,null,null,null,null,null,null,null,null,null,null,null,null,null,null,null,null,null,null,"X"]
[{"$f":"IF(C99765=\"\",\"\",VLOOKUP(D99765,Lookup!$D$1:$E$1051,2,FALSE))","v":""},{"$f":"IF(C99765=\"\",\"\",VLOOKUP(U99765,Lookup!$A$1:$B$21,2,FALSE))","v":""},null,null,null,null,null,null,null,null,null,null,null,null,null,null,null,null,null,null,null,null,null,"X"]
[{"$f":"IF(C99766=\"\",\"\",VLOOKUP(D99766,Lookup!$D$1:$E$1051,2,FALSE))","v":""},{"$f":"IF(C99766=\"\",\"\",VLOOKUP(U99766,Lookup!$A$1:$B$21,2,FALSE))","v":""},null,null,null,null,null,null,null,null,null,null,null,null,null,null,null,null,null,null,null,null,null,"X"]
[{"$f":"IF(C99767=\"\",\"\",VLOOKUP(D99767,Lookup!$D$1:$E$1051,2,FALSE))","v":""},{"$f":"IF(C99767=\"\",\"\",VLOOKUP(U99767,Lookup!$A$1:$B$21,2,FALSE))","v":""},null,null,null,null,null,null,null,null,null,null,null,null,null,null,null,null,null,null,null,null,null,"X"]
[{"$f":"IF(C99768=\"\",\"\",VLOOKUP(D99768,Lookup!$D$1:$E$1051,2,FALSE))","v":""},{"$f":"IF(C99768=\"\",\"\",VLOOKUP(U99768,Lookup!$A$1:$B$21,2,FALSE))","v":""},null,null,null,null,null,null,null,null,null,null,null,null,null,null,null,null,null,null,null,null,null,"X"]
[{"$f":"IF(C99769=\"\",\"\",VLOOKUP(D99769,Lookup!$D$1:$E$1051,2,FALSE))","v":""},{"$f":"IF(C99769=\"\",\"\",VLOOKUP(U99769,Lookup!$A$1:$B$21,2,FALSE))","v":""},null,null,null,null,null,null,null,null,null,null,null,null,null,null,null,null,null,null,null,null,null,"X"]
[{"$f":"IF(C99770=\"\",\"\",VLOOKUP(D99770,Lookup!$D$1:$E$1051,2,FALSE))","v":""},{"$f":"IF(C99770=\"\",\"\",VLOOKUP(U99770,Lookup!$A$1:$B$21,2,FALSE))","v":""},null,null,null,null,null,null,null,null,null,null,null,null,null,null,null,null,null,null,null,null,null,"X"]
[{"$f":"IF(C99771=\"\",\"\",VLOOKUP(D99771,Lookup!$D$1:$E$1051,2,FALSE))","v":""},{"$f":"IF(C99771=\"\",\"\",VLOOKUP(U99771,Lookup!$A$1:$B$21,2,FALSE))","v":""},null,null,null,null,null,null,null,null,null,null,null,null,null,null,null,null,null,null,null,null,null,"X"]
[{"$f":"IF(C99772=\"\",\"\",VLOOKUP(D99772,Lookup!$D$1:$E$1051,2,FALSE))","v":""},{"$f":"IF(C99772=\"\",\"\",VLOOKUP(U99772,Lookup!$A$1:$B$21,2,FALSE))","v":""},null,null,null,null,null,null,null,null,null,null,null,null,null,null,null,null,null,null,null,null,null,"X"]
[{"$f":"IF(C99773=\"\",\"\",VLOOKUP(D99773,Lookup!$D$1:$E$1051,2,FALSE))","v":""},{"$f":"IF(C99773=\"\",\"\",VLOOKUP(U99773,Lookup!$A$1:$B$21,2,FALSE))","v":""},null,null,null,null,null,null,null,null,null,null,null,null,null,null,null,null,null,null,null,null,null,"X"]
[{"$f":"IF(C99774=\"\",\"\",VLOOKUP(D99774,Lookup!$D$1:$E$1051,2,FALSE))","v":""},{"$f":"IF(C99774=\"\",\"\",VLOOKUP(U99774,Lookup!$A$1:$B$21,2,FALSE))","v":""},null,null,null,null,null,null,null,null,null,null,null,null,null,null,null,null,null,null,null,null,null,"X"]
[{"$f":"IF(C99775=\"\",\"\",VLOOKUP(D99775,Lookup!$D$1:$E$1051,2,FALSE))","v":""},{"$f":"IF(C99775=\"\",\"\",VLOOKUP(U99775,Lookup!$A$1:$B$21,2,FALSE))","v":""},null,null,null,null,null,null,null,null,null,null,null,null,null,null,null,null,null,null,null,null,null,"X"]
[{"$f":"IF(C99776=\"\",\"\",VLOOKUP(D99776,Lookup!$D$1:$E$1051,2,FALSE))","v":""},{"$f":"IF(C99776=\"\",\"\",VLOOKUP(U99776,Lookup!$A$1:$B$21,2,FALSE))","v":""},null,null,null,null,null,null,null,null,null,null,null,null,null,null,null,null,null,null,null,null,null,"X"]
[{"$f":"IF(C99777=\"\",\"\",VLOOKUP(D99777,Lookup!$D$1:$E$1051,2,FALSE))","v":""},{"$f":"IF(C99777=\"\",\"\",VLOOKUP(U99777,Lookup!$A$1:$B$21,2,FALSE))","v":""},null,null,null,null,null,null,null,null,null,null,null,null,null,null,null,null,null,null,null,null,null,"X"]
[{"$f":"IF(C99778=\"\",\"\",VLOOKUP(D99778,Lookup!$D$1:$E$1051,2,FALSE))","v":""},{"$f":"IF(C99778=\"\",\"\",VLOOKUP(U99778,Lookup!$A$1:$B$21,2,FALSE))","v":""},null,null,null,null,null,null,null,null,null,null,null,null,null,null,null,null,null,null,null,null,null,"X"]
[{"$f":"IF(C99779=\"\",\"\",VLOOKUP(D99779,Lookup!$D$1:$E$1051,2,FALSE))","v":""},{"$f":"IF(C99779=\"\",\"\",VLOOKUP(U99779,Lookup!$A$1:$B$21,2,FALSE))","v":""},null,null,null,null,null,null,null,null,null,null,null,null,null,null,null,null,null,null,null,null,null,"X"]
[{"$f":"IF(C99780=\"\",\"\",VLOOKUP(D99780,Lookup!$D$1:$E$1051,2,FALSE))","v":""},{"$f":"IF(C99780=\"\",\"\",VLOOKUP(U99780,Lookup!$A$1:$B$21,2,FALSE))","v":""},null,null,null,null,null,null,null,null,null,null,null,null,null,null,null,null,null,null,null,null,null,"X"]
[{"$f":"IF(C99781=\"\",\"\",VLOOKUP(D99781,Lookup!$D$1:$E$1051,2,FALSE))","v":""},{"$f":"IF(C99781=\"\",\"\",VLOOKUP(U99781,Lookup!$A$1:$B$21,2,FALSE))","v":""},null,null,null,null,null,null,null,null,null,null,null,null,null,null,null,null,null,null,null,null,null,"X"]
[{"$f":"IF(C99782=\"\",\"\",VLOOKUP(D99782,Lookup!$D$1:$E$1051,2,FALSE))","v":""},{"$f":"IF(C99782=\"\",\"\",VLOOKUP(U99782,Lookup!$A$1:$B$21,2,FALSE))","v":""},null,null,null,null,null,null,null,null,null,null,null,null,null,null,null,null,null,null,null,null,null,"X"]
[{"$f":"IF(C99783=\"\",\"\",VLOOKUP(D99783,Lookup!$D$1:$E$1051,2,FALSE))","v":""},{"$f":"IF(C99783=\"\",\"\",VLOOKUP(U99783,Lookup!$A$1:$B$21,2,FALSE))","v":""},null,null,null,null,null,null,null,null,null,null,null,null,null,null,null,null,null,null,null,null,null,"X"]
[{"$f":"IF(C99784=\"\",\"\",VLOOKUP(D99784,Lookup!$D$1:$E$1051,2,FALSE))","v":""},{"$f":"IF(C99784=\"\",\"\",VLOOKUP(U99784,Lookup!$A$1:$B$21,2,FALSE))","v":""},null,null,null,null,null,null,null,null,null,null,null,null,null,null,null,null,null,null,null,null,null,"X"]
[{"$f":"IF(C99785=\"\",\"\",VLOOKUP(D99785,Lookup!$D$1:$E$1051,2,FALSE))","v":""},{"$f":"IF(C99785=\"\",\"\",VLOOKUP(U99785,Lookup!$A$1:$B$21,2,FALSE))","v":""},null,null,null,null,null,null,null,null,null,null,null,null,null,null,null,null,null,null,null,null,null,"X"]
[{"$f":"IF(C99786=\"\",\"\",VLOOKUP(D99786,Lookup!$D$1:$E$1051,2,FALSE))","v":""},{"$f":"IF(C99786=\"\",\"\",VLOOKUP(U99786,Lookup!$A$1:$B$21,2,FALSE))","v":""},null,null,null,null,null,null,null,null,null,null,null,null,null,null,null,null,null,null,null,null,null,"X"]
[{"$f":"IF(C99787=\"\",\"\",VLOOKUP(D99787,Lookup!$D$1:$E$1051,2,FALSE))","v":""},{"$f":"IF(C99787=\"\",\"\",VLOOKUP(U99787,Lookup!$A$1:$B$21,2,FALSE))","v":""},null,null,null,null,null,null,null,null,null,null,null,null,null,null,null,null,null,null,null,null,null,"X"]
[{"$f":"IF(C99788=\"\",\"\",VLOOKUP(D99788,Lookup!$D$1:$E$1051,2,FALSE))","v":""},{"$f":"IF(C99788=\"\",\"\",VLOOKUP(U99788,Lookup!$A$1:$B$21,2,FALSE))","v":""},null,null,null,null,null,null,null,null,null,null,null,null,null,null,null,null,null,null,null,null,null,"X"]
[{"$f":"IF(C99789=\"\",\"\",VLOOKUP(D99789,Lookup!$D$1:$E$1051,2,FALSE))","v":""},{"$f":"IF(C99789=\"\",\"\",VLOOKUP(U99789,Lookup!$A$1:$B$21,2,FALSE))","v":""},null,null,null,null,null,null,null,null,null,null,null,null,null,null,null,null,null,null,null,null,null,"X"]
[{"$f":"IF(C99790=\"\",\"\",VLOOKUP(D99790,Lookup!$D$1:$E$1051,2,FALSE))","v":""},{"$f":"IF(C99790=\"\",\"\",VLOOKUP(U99790,Lookup!$A$1:$B$21,2,FALSE))","v":""},null,null,null,null,null,null,null,null,null,null,null,null,null,null,null,null,null,null,null,null,null,"X"]
[{"$f":"IF(C99791=\"\",\"\",VLOOKUP(D99791,Lookup!$D$1:$E$1051,2,FALSE))","v":""},{"$f":"IF(C99791=\"\",\"\",VLOOKUP(U99791,Lookup!$A$1:$B$21,2,FALSE))","v":""},null,null,null,null,null,null,null,null,null,null,null,null,null,null,null,null,null,null,null,null,null,"X"]
[{"$f":"IF(C99792=\"\",\"\",VLOOKUP(D99792,Lookup!$D$1:$E$1051,2,FALSE))","v":""},{"$f":"IF(C99792=\"\",\"\",VLOOKUP(U99792,Lookup!$A$1:$B$21,2,FALSE))","v":""},null,null,null,null,null,null,null,null,null,null,null,null,null,null,null,null,null,null,null,null,null,"X"]
[{"$f":"IF(C99793=\"\",\"\",VLOOKUP(D99793,Lookup!$D$1:$E$1051,2,FALSE))","v":""},{"$f":"IF(C99793=\"\",\"\",VLOOKUP(U99793,Lookup!$A$1:$B$21,2,FALSE))","v":""},null,null,null,null,null,null,null,null,null,null,null,null,null,null,null,null,null,null,null,null,null,"X"]
[{"$f":"IF(C99794=\"\",\"\",VLOOKUP(D99794,Lookup!$D$1:$E$1051,2,FALSE))","v":""},{"$f":"IF(C99794=\"\",\"\",VLOOKUP(U99794,Lookup!$A$1:$B$21,2,FALSE))","v":""},null,null,null,null,null,null,null,null,null,null,null,null,null,null,null,null,null,null,null,null,null,"X"]
[{"$f":"IF(C99795=\"\",\"\",VLOOKUP(D99795,Lookup!$D$1:$E$1051,2,FALSE))","v":""},{"$f":"IF(C99795=\"\",\"\",VLOOKUP(U99795,Lookup!$A$1:$B$21,2,FALSE))","v":""},null,null,null,null,null,null,null,null,null,null,null,null,null,null,null,null,null,null,null,null,null,"X"]
[{"$f":"IF(C99796=\"\",\"\",VLOOKUP(D99796,Lookup!$D$1:$E$1051,2,FALSE))","v":""},{"$f":"IF(C99796=\"\",\"\",VLOOKUP(U99796,Lookup!$A$1:$B$21,2,FALSE))","v":""},null,null,null,null,null,null,null,null,null,null,null,null,null,null,null,null,null,null,null,null,null,"X"]
[{"$f":"IF(C99797=\"\",\"\",VLOOKUP(D99797,Lookup!$D$1:$E$1051,2,FALSE))","v":""},{"$f":"IF(C99797=\"\",\"\",VLOOKUP(U99797,Lookup!$A$1:$B$21,2,FALSE))","v":""},null,null,null,null,null,null,null,null,null,null,null,null,null,null,null,null,null,null,null,null,null,"X"]
[{"$f":"IF(C99798=\"\",\"\",VLOOKUP(D99798,Lookup!$D$1:$E$1051,2,FALSE))","v":""},{"$f":"IF(C99798=\"\",\"\",VLOOKUP(U99798,Lookup!$A$1:$B$21,2,FALSE))","v":""},null,null,null,null,null,null,null,null,null,null,null,null,null,null,null,null,null,null,null,null,null,"X"]
[{"$f":"IF(C99799=\"\",\"\",VLOOKUP(D99799,Lookup!$D$1:$E$1051,2,FALSE))","v":""},{"$f":"IF(C99799=\"\",\"\",VLOOKUP(U99799,Lookup!$A$1:$B$21,2,FALSE))","v":""},null,null,null,null,null,null,null,null,null,null,null,null,null,null,null,null,null,null,null,null,null,"X"]
[{"$f":"IF(C99800=\"\",\"\",VLOOKUP(D99800,Lookup!$D$1:$E$1051,2,FALSE))","v":""},{"$f":"IF(C99800=\"\",\"\",VLOOKUP(U99800,Lookup!$A$1:$B$21,2,FALSE))","v":""},null,null,null,null,null,null,null,null,null,null,null,null,null,null,null,null,null,null,null,null,null,"X"]
[{"$f":"IF(C99801=\"\",\"\",VLOOKUP(D99801,Lookup!$D$1:$E$1051,2,FALSE))","v":""},{"$f":"IF(C99801=\"\",\"\",VLOOKUP(U99801,Lookup!$A$1:$B$21,2,FALSE))","v":""},null,null,null,null,null,null,null,null,null,null,null,null,null,null,null,null,null,null,null,null,null,"X"]
[{"$f":"IF(C99802=\"\",\"\",VLOOKUP(D99802,Lookup!$D$1:$E$1051,2,FALSE))","v":""},{"$f":"IF(C99802=\"\",\"\",VLOOKUP(U99802,Lookup!$A$1:$B$21,2,FALSE))","v":""},null,null,null,null,null,null,null,null,null,null,null,null,null,null,null,null,null,null,null,null,null,"X"]
[{"$f":"IF(C99803=\"\",\"\",VLOOKUP(D99803,Lookup!$D$1:$E$1051,2,FALSE))","v":""},{"$f":"IF(C99803=\"\",\"\",VLOOKUP(U99803,Lookup!$A$1:$B$21,2,FALSE))","v":""},null,null,null,null,null,null,null,null,null,null,null,null,null,null,null,null,null,null,null,null,null,"X"]
[{"$f":"IF(C99804=\"\",\"\",VLOOKUP(D99804,Lookup!$D$1:$E$1051,2,FALSE))","v":""},{"$f":"IF(C99804=\"\",\"\",VLOOKUP(U99804,Lookup!$A$1:$B$21,2,FALSE))","v":""},null,null,null,null,null,null,null,null,null,null,null,null,null,null,null,null,null,null,null,null,null,"X"]
[{"$f":"IF(C99805=\"\",\"\",VLOOKUP(D99805,Lookup!$D$1:$E$1051,2,FALSE))","v":""},{"$f":"IF(C99805=\"\",\"\",VLOOKUP(U99805,Lookup!$A$1:$B$21,2,FALSE))","v":""},null,null,null,null,null,null,null,null,null,null,null,null,null,null,null,null,null,null,null,null,null,"X"]
[{"$f":"IF(C99806=\"\",\"\",VLOOKUP(D99806,Lookup!$D$1:$E$1051,2,FALSE))","v":""},{"$f":"IF(C99806=\"\",\"\",VLOOKUP(U99806,Lookup!$A$1:$B$21,2,FALSE))","v":""},null,null,null,null,null,null,null,null,null,null,null,null,null,null,null,null,null,null,null,null,null,"X"]
[{"$f":"IF(C99807=\"\",\"\",VLOOKUP(D99807,Lookup!$D$1:$E$1051,2,FALSE))","v":""},{"$f":"IF(C99807=\"\",\"\",VLOOKUP(U99807,Lookup!$A$1:$B$21,2,FALSE))","v":""},null,null,null,null,null,null,null,null,null,null,null,null,null,null,null,null,null,null,null,null,null,"X"]
[{"$f":"IF(C99808=\"\",\"\",VLOOKUP(D99808,Lookup!$D$1:$E$1051,2,FALSE))","v":""},{"$f":"IF(C99808=\"\",\"\",VLOOKUP(U99808,Lookup!$A$1:$B$21,2,FALSE))","v":""},null,null,null,null,null,null,null,null,null,null,null,null,null,null,null,null,null,null,null,null,null,"X"]
[{"$f":"IF(C99809=\"\",\"\",VLOOKUP(D99809,Lookup!$D$1:$E$1051,2,FALSE))","v":""},{"$f":"IF(C99809=\"\",\"\",VLOOKUP(U99809,Lookup!$A$1:$B$21,2,FALSE))","v":""},null,null,null,null,null,null,null,null,null,null,null,null,null,null,null,null,null,null,null,null,null,"X"]
[{"$f":"IF(C99810=\"\",\"\",VLOOKUP(D99810,Lookup!$D$1:$E$1051,2,FALSE))","v":""},{"$f":"IF(C99810=\"\",\"\",VLOOKUP(U99810,Lookup!$A$1:$B$21,2,FALSE))","v":""},null,null,null,null,null,null,null,null,null,null,null,null,null,null,null,null,null,null,null,null,null,"X"]
[{"$f":"IF(C99811=\"\",\"\",VLOOKUP(D99811,Lookup!$D$1:$E$1051,2,FALSE))","v":""},{"$f":"IF(C99811=\"\",\"\",VLOOKUP(U99811,Lookup!$A$1:$B$21,2,FALSE))","v":""},null,null,null,null,null,null,null,null,null,null,null,null,null,null,null,null,null,null,null,null,null,"X"]
[{"$f":"IF(C99812=\"\",\"\",VLOOKUP(D99812,Lookup!$D$1:$E$1051,2,FALSE))","v":""},{"$f":"IF(C99812=\"\",\"\",VLOOKUP(U99812,Lookup!$A$1:$B$21,2,FALSE))","v":""},null,null,null,null,null,null,null,null,null,null,null,null,null,null,null,null,null,null,null,null,null,"X"]
[{"$f":"IF(C99813=\"\",\"\",VLOOKUP(D99813,Lookup!$D$1:$E$1051,2,FALSE))","v":""},{"$f":"IF(C99813=\"\",\"\",VLOOKUP(U99813,Lookup!$A$1:$B$21,2,FALSE))","v":""},null,null,null,null,null,null,null,null,null,null,null,null,null,null,null,null,null,null,null,null,null,"X"]
[{"$f":"IF(C99814=\"\",\"\",VLOOKUP(D99814,Lookup!$D$1:$E$1051,2,FALSE))","v":""},{"$f":"IF(C99814=\"\",\"\",VLOOKUP(U99814,Lookup!$A$1:$B$21,2,FALSE))","v":""},null,null,null,null,null,null,null,null,null,null,null,null,null,null,null,null,null,null,null,null,null,"X"]
[{"$f":"IF(C99815=\"\",\"\",VLOOKUP(D99815,Lookup!$D$1:$E$1051,2,FALSE))","v":""},{"$f":"IF(C99815=\"\",\"\",VLOOKUP(U99815,Lookup!$A$1:$B$21,2,FALSE))","v":""},null,null,null,null,null,null,null,null,null,null,null,null,null,null,null,null,null,null,null,null,null,"X"]
[{"$f":"IF(C99816=\"\",\"\",VLOOKUP(D99816,Lookup!$D$1:$E$1051,2,FALSE))","v":""},{"$f":"IF(C99816=\"\",\"\",VLOOKUP(U99816,Lookup!$A$1:$B$21,2,FALSE))","v":""},null,null,null,null,null,null,null,null,null,null,null,null,null,null,null,null,null,null,null,null,null,"X"]
[{"$f":"IF(C99817=\"\",\"\",VLOOKUP(D99817,Lookup!$D$1:$E$1051,2,FALSE))","v":""},{"$f":"IF(C99817=\"\",\"\",VLOOKUP(U99817,Lookup!$A$1:$B$21,2,FALSE))","v":""},null,null,null,null,null,null,null,null,null,null,null,null,null,null,null,null,null,null,null,null,null,"X"]
[{"$f":"IF(C99818=\"\",\"\",VLOOKUP(D99818,Lookup!$D$1:$E$1051,2,FALSE))","v":""},{"$f":"IF(C99818=\"\",\"\",VLOOKUP(U99818,Lookup!$A$1:$B$21,2,FALSE))","v":""},null,null,null,null,null,null,null,null,null,null,null,null,null,null,null,null,null,null,null,null,null,"X"]
[{"$f":"IF(C99819=\"\",\"\",VLOOKUP(D99819,Lookup!$D$1:$E$1051,2,FALSE))","v":""},{"$f":"IF(C99819=\"\",\"\",VLOOKUP(U99819,Lookup!$A$1:$B$21,2,FALSE))","v":""},null,null,null,null,null,null,null,null,null,null,null,null,null,null,null,null,null,null,null,null,null,"X"]
[{"$f":"IF(C99820=\"\",\"\",VLOOKUP(D99820,Lookup!$D$1:$E$1051,2,FALSE))","v":""},{"$f":"IF(C99820=\"\",\"\",VLOOKUP(U99820,Lookup!$A$1:$B$21,2,FALSE))","v":""},null,null,null,null,null,null,null,null,null,null,null,null,null,null,null,null,null,null,null,null,null,"X"]
[{"$f":"IF(C99821=\"\",\"\",VLOOKUP(D99821,Lookup!$D$1:$E$1051,2,FALSE))","v":""},{"$f":"IF(C99821=\"\",\"\",VLOOKUP(U99821,Lookup!$A$1:$B$21,2,FALSE))","v":""},null,null,null,null,null,null,null,null,null,null,null,null,null,null,null,null,null,null,null,null,null,"X"]
[{"$f":"IF(C99822=\"\",\"\",VLOOKUP(D99822,Lookup!$D$1:$E$1051,2,FALSE))","v":""},{"$f":"IF(C99822=\"\",\"\",VLOOKUP(U99822,Lookup!$A$1:$B$21,2,FALSE))","v":""},null,null,null,null,null,null,null,null,null,null,null,null,null,null,null,null,null,null,null,null,null,"X"]
[{"$f":"IF(C99823=\"\",\"\",VLOOKUP(D99823,Lookup!$D$1:$E$1051,2,FALSE))","v":""},{"$f":"IF(C99823=\"\",\"\",VLOOKUP(U99823,Lookup!$A$1:$B$21,2,FALSE))","v":""},null,null,null,null,null,null,null,null,null,null,null,null,null,null,null,null,null,null,null,null,null,"X"]
[{"$f":"IF(C99824=\"\",\"\",VLOOKUP(D99824,Lookup!$D$1:$E$1051,2,FALSE))","v":""},{"$f":"IF(C99824=\"\",\"\",VLOOKUP(U99824,Lookup!$A$1:$B$21,2,FALSE))","v":""},null,null,null,null,null,null,null,null,null,null,null,null,null,null,null,null,null,null,null,null,null,"X"]
[{"$f":"IF(C99825=\"\",\"\",VLOOKUP(D99825,Lookup!$D$1:$E$1051,2,FALSE))","v":""},{"$f":"IF(C99825=\"\",\"\",VLOOKUP(U99825,Lookup!$A$1:$B$21,2,FALSE))","v":""},null,null,null,null,null,null,null,null,null,null,null,null,null,null,null,null,null,null,null,null,null,"X"]
[{"$f":"IF(C99826=\"\",\"\",VLOOKUP(D99826,Lookup!$D$1:$E$1051,2,FALSE))","v":""},{"$f":"IF(C99826=\"\",\"\",VLOOKUP(U99826,Lookup!$A$1:$B$21,2,FALSE))","v":""},null,null,null,null,null,null,null,null,null,null,null,null,null,null,null,null,null,null,null,null,null,"X"]
[{"$f":"IF(C99827=\"\",\"\",VLOOKUP(D99827,Lookup!$D$1:$E$1051,2,FALSE))","v":""},{"$f":"IF(C99827=\"\",\"\",VLOOKUP(U99827,Lookup!$A$1:$B$21,2,FALSE))","v":""},null,null,null,null,null,null,null,null,null,null,null,null,null,null,null,null,null,null,null,null,null,"X"]
[{"$f":"IF(C99828=\"\",\"\",VLOOKUP(D99828,Lookup!$D$1:$E$1051,2,FALSE))","v":""},{"$f":"IF(C99828=\"\",\"\",VLOOKUP(U99828,Lookup!$A$1:$B$21,2,FALSE))","v":""},null,null,null,null,null,null,null,null,null,null,null,null,null,null,null,null,null,null,null,null,null,"X"]
[{"$f":"IF(C99829=\"\",\"\",VLOOKUP(D99829,Lookup!$D$1:$E$1051,2,FALSE))","v":""},{"$f":"IF(C99829=\"\",\"\",VLOOKUP(U99829,Lookup!$A$1:$B$21,2,FALSE))","v":""},null,null,null,null,null,null,null,null,null,null,null,null,null,null,null,null,null,null,null,null,null,"X"]
[{"$f":"IF(C99830=\"\",\"\",VLOOKUP(D99830,Lookup!$D$1:$E$1051,2,FALSE))","v":""},{"$f":"IF(C99830=\"\",\"\",VLOOKUP(U99830,Lookup!$A$1:$B$21,2,FALSE))","v":""},null,null,null,null,null,null,null,null,null,null,null,null,null,null,null,null,null,null,null,null,null,"X"]
[{"$f":"IF(C99831=\"\",\"\",VLOOKUP(D99831,Lookup!$D$1:$E$1051,2,FALSE))","v":""},{"$f":"IF(C99831=\"\",\"\",VLOOKUP(U99831,Lookup!$A$1:$B$21,2,FALSE))","v":""},null,null,null,null,null,null,null,null,null,null,null,null,null,null,null,null,null,null,null,null,null,"X"]
[{"$f":"IF(C99832=\"\",\"\",VLOOKUP(D99832,Lookup!$D$1:$E$1051,2,FALSE))","v":""},{"$f":"IF(C99832=\"\",\"\",VLOOKUP(U99832,Lookup!$A$1:$B$21,2,FALSE))","v":""},null,null,null,null,null,null,null,null,null,null,null,null,null,null,null,null,null,null,null,null,null,"X"]
[{"$f":"IF(C99833=\"\",\"\",VLOOKUP(D99833,Lookup!$D$1:$E$1051,2,FALSE))","v":""},{"$f":"IF(C99833=\"\",\"\",VLOOKUP(U99833,Lookup!$A$1:$B$21,2,FALSE))","v":""},null,null,null,null,null,null,null,null,null,null,null,null,null,null,null,null,null,null,null,null,null,"X"]
[{"$f":"IF(C99834=\"\",\"\",VLOOKUP(D99834,Lookup!$D$1:$E$1051,2,FALSE))","v":""},{"$f":"IF(C99834=\"\",\"\",VLOOKUP(U99834,Lookup!$A$1:$B$21,2,FALSE))","v":""},null,null,null,null,null,null,null,null,null,null,null,null,null,null,null,null,null,null,null,null,null,"X"]
[{"$f":"IF(C99835=\"\",\"\",VLOOKUP(D99835,Lookup!$D$1:$E$1051,2,FALSE))","v":""},{"$f":"IF(C99835=\"\",\"\",VLOOKUP(U99835,Lookup!$A$1:$B$21,2,FALSE))","v":""},null,null,null,null,null,null,null,null,null,null,null,null,null,null,null,null,null,null,null,null,null,"X"]
[{"$f":"IF(C99836=\"\",\"\",VLOOKUP(D99836,Lookup!$D$1:$E$1051,2,FALSE))","v":""},{"$f":"IF(C99836=\"\",\"\",VLOOKUP(U99836,Lookup!$A$1:$B$21,2,FALSE))","v":""},null,null,null,null,null,null,null,null,null,null,null,null,null,null,null,null,null,null,null,null,null,"X"]
[{"$f":"IF(C99837=\"\",\"\",VLOOKUP(D99837,Lookup!$D$1:$E$1051,2,FALSE))","v":""},{"$f":"IF(C99837=\"\",\"\",VLOOKUP(U99837,Lookup!$A$1:$B$21,2,FALSE))","v":""},null,null,null,null,null,null,null,null,null,null,null,null,null,null,null,null,null,null,null,null,null,"X"]
[{"$f":"IF(C99838=\"\",\"\",VLOOKUP(D99838,Lookup!$D$1:$E$1051,2,FALSE))","v":""},{"$f":"IF(C99838=\"\",\"\",VLOOKUP(U99838,Lookup!$A$1:$B$21,2,FALSE))","v":""},null,null,null,null,null,null,null,null,null,null,null,null,null,null,null,null,null,null,null,null,null,"X"]
[{"$f":"IF(C99839=\"\",\"\",VLOOKUP(D99839,Lookup!$D$1:$E$1051,2,FALSE))","v":""},{"$f":"IF(C99839=\"\",\"\",VLOOKUP(U99839,Lookup!$A$1:$B$21,2,FALSE))","v":""},null,null,null,null,null,null,null,null,null,null,null,null,null,null,null,null,null,null,null,null,null,"X"]
[{"$f":"IF(C99840=\"\",\"\",VLOOKUP(D99840,Lookup!$D$1:$E$1051,2,FALSE))","v":""},{"$f":"IF(C99840=\"\",\"\",VLOOKUP(U99840,Lookup!$A$1:$B$21,2,FALSE))","v":""},null,null,null,null,null,null,null,null,null,null,null,null,null,null,null,null,null,null,null,null,null,"X"]
[{"$f":"IF(C99841=\"\",\"\",VLOOKUP(D99841,Lookup!$D$1:$E$1051,2,FALSE))","v":""},{"$f":"IF(C99841=\"\",\"\",VLOOKUP(U99841,Lookup!$A$1:$B$21,2,FALSE))","v":""},null,null,null,null,null,null,null,null,null,null,null,null,null,null,null,null,null,null,null,null,null,"X"]
[{"$f":"IF(C99842=\"\",\"\",VLOOKUP(D99842,Lookup!$D$1:$E$1051,2,FALSE))","v":""},{"$f":"IF(C99842=\"\",\"\",VLOOKUP(U99842,Lookup!$A$1:$B$21,2,FALSE))","v":""},null,null,null,null,null,null,null,null,null,null,null,null,null,null,null,null,null,null,null,null,null,"X"]
[{"$f":"IF(C99843=\"\",\"\",VLOOKUP(D99843,Lookup!$D$1:$E$1051,2,FALSE))","v":""},{"$f":"IF(C99843=\"\",\"\",VLOOKUP(U99843,Lookup!$A$1:$B$21,2,FALSE))","v":""},null,null,null,null,null,null,null,null,null,null,null,null,null,null,null,null,null,null,null,null,null,"X"]
[{"$f":"IF(C99844=\"\",\"\",VLOOKUP(D99844,Lookup!$D$1:$E$1051,2,FALSE))","v":""},{"$f":"IF(C99844=\"\",\"\",VLOOKUP(U99844,Lookup!$A$1:$B$21,2,FALSE))","v":""},null,null,null,null,null,null,null,null,null,null,null,null,null,null,null,null,null,null,null,null,null,"X"]
[{"$f":"IF(C99845=\"\",\"\",VLOOKUP(D99845,Lookup!$D$1:$E$1051,2,FALSE))","v":""},{"$f":"IF(C99845=\"\",\"\",VLOOKUP(U99845,Lookup!$A$1:$B$21,2,FALSE))","v":""},null,null,null,null,null,null,null,null,null,null,null,null,null,null,null,null,null,null,null,null,null,"X"]
[{"$f":"IF(C99846=\"\",\"\",VLOOKUP(D99846,Lookup!$D$1:$E$1051,2,FALSE))","v":""},{"$f":"IF(C99846=\"\",\"\",VLOOKUP(U99846,Lookup!$A$1:$B$21,2,FALSE))","v":""},null,null,null,null,null,null,null,null,null,null,null,null,null,null,null,null,null,null,null,null,null,"X"]
[{"$f":"IF(C99847=\"\",\"\",VLOOKUP(D99847,Lookup!$D$1:$E$1051,2,FALSE))","v":""},{"$f":"IF(C99847=\"\",\"\",VLOOKUP(U99847,Lookup!$A$1:$B$21,2,FALSE))","v":""},null,null,null,null,null,null,null,null,null,null,null,null,null,null,null,null,null,null,null,null,null,"X"]
[{"$f":"IF(C99848=\"\",\"\",VLOOKUP(D99848,Lookup!$D$1:$E$1051,2,FALSE))","v":""},{"$f":"IF(C99848=\"\",\"\",VLOOKUP(U99848,Lookup!$A$1:$B$21,2,FALSE))","v":""},null,null,null,null,null,null,null,null,null,null,null,null,null,null,null,null,null,null,null,null,null,"X"]
[{"$f":"IF(C99849=\"\",\"\",VLOOKUP(D99849,Lookup!$D$1:$E$1051,2,FALSE))","v":""},{"$f":"IF(C99849=\"\",\"\",VLOOKUP(U99849,Lookup!$A$1:$B$21,2,FALSE))","v":""},null,null,null,null,null,null,null,null,null,null,null,null,null,null,null,null,null,null,null,null,null,"X"]
[{"$f":"IF(C99850=\"\",\"\",VLOOKUP(D99850,Lookup!$D$1:$E$1051,2,FALSE))","v":""},{"$f":"IF(C99850=\"\",\"\",VLOOKUP(U99850,Lookup!$A$1:$B$21,2,FALSE))","v":""},null,null,null,null,null,null,null,null,null,null,null,null,null,null,null,null,null,null,null,null,null,"X"]
[{"$f":"IF(C99851=\"\",\"\",VLOOKUP(D99851,Lookup!$D$1:$E$1051,2,FALSE))","v":""},{"$f":"IF(C99851=\"\",\"\",VLOOKUP(U99851,Lookup!$A$1:$B$21,2,FALSE))","v":""},null,null,null,null,null,null,null,null,null,null,null,null,null,null,null,null,null,null,null,null,null,"X"]
[{"$f":"IF(C99852=\"\",\"\",VLOOKUP(D99852,Lookup!$D$1:$E$1051,2,FALSE))","v":""},{"$f":"IF(C99852=\"\",\"\",VLOOKUP(U99852,Lookup!$A$1:$B$21,2,FALSE))","v":""},null,null,null,null,null,null,null,null,null,null,null,null,null,null,null,null,null,null,null,null,null,"X"]
[{"$f":"IF(C99853=\"\",\"\",VLOOKUP(D99853,Lookup!$D$1:$E$1051,2,FALSE))","v":""},{"$f":"IF(C99853=\"\",\"\",VLOOKUP(U99853,Lookup!$A$1:$B$21,2,FALSE))","v":""},null,null,null,null,null,null,null,null,null,null,null,null,null,null,null,null,null,null,null,null,null,"X"]
[{"$f":"IF(C99854=\"\",\"\",VLOOKUP(D99854,Lookup!$D$1:$E$1051,2,FALSE))","v":""},{"$f":"IF(C99854=\"\",\"\",VLOOKUP(U99854,Lookup!$A$1:$B$21,2,FALSE))","v":""},null,null,null,null,null,null,null,null,null,null,null,null,null,null,null,null,null,null,null,null,null,"X"]
[{"$f":"IF(C99855=\"\",\"\",VLOOKUP(D99855,Lookup!$D$1:$E$1051,2,FALSE))","v":""},{"$f":"IF(C99855=\"\",\"\",VLOOKUP(U99855,Lookup!$A$1:$B$21,2,FALSE))","v":""},null,null,null,null,null,null,null,null,null,null,null,null,null,null,null,null,null,null,null,null,null,"X"]
[{"$f":"IF(C99856=\"\",\"\",VLOOKUP(D99856,Lookup!$D$1:$E$1051,2,FALSE))","v":""},{"$f":"IF(C99856=\"\",\"\",VLOOKUP(U99856,Lookup!$A$1:$B$21,2,FALSE))","v":""},null,null,null,null,null,null,null,null,null,null,null,null,null,null,null,null,null,null,null,null,null,"X"]
[{"$f":"IF(C99857=\"\",\"\",VLOOKUP(D99857,Lookup!$D$1:$E$1051,2,FALSE))","v":""},{"$f":"IF(C99857=\"\",\"\",VLOOKUP(U99857,Lookup!$A$1:$B$21,2,FALSE))","v":""},null,null,null,null,null,null,null,null,null,null,null,null,null,null,null,null,null,null,null,null,null,"X"]
[{"$f":"IF(C99858=\"\",\"\",VLOOKUP(D99858,Lookup!$D$1:$E$1051,2,FALSE))","v":""},{"$f":"IF(C99858=\"\",\"\",VLOOKUP(U99858,Lookup!$A$1:$B$21,2,FALSE))","v":""},null,null,null,null,null,null,null,null,null,null,null,null,null,null,null,null,null,null,null,null,null,"X"]
[{"$f":"IF(C99859=\"\",\"\",VLOOKUP(D99859,Lookup!$D$1:$E$1051,2,FALSE))","v":""},{"$f":"IF(C99859=\"\",\"\",VLOOKUP(U99859,Lookup!$A$1:$B$21,2,FALSE))","v":""},null,null,null,null,null,null,null,null,null,null,null,null,null,null,null,null,null,null,null,null,null,"X"]
[{"$f":"IF(C99860=\"\",\"\",VLOOKUP(D99860,Lookup!$D$1:$E$1051,2,FALSE))","v":""},{"$f":"IF(C99860=\"\",\"\",VLOOKUP(U99860,Lookup!$A$1:$B$21,2,FALSE))","v":""},null,null,null,null,null,null,null,null,null,null,null,null,null,null,null,null,null,null,null,null,null,"X"]
[{"$f":"IF(C99861=\"\",\"\",VLOOKUP(D99861,Lookup!$D$1:$E$1051,2,FALSE))","v":""},{"$f":"IF(C99861=\"\",\"\",VLOOKUP(U99861,Lookup!$A$1:$B$21,2,FALSE))","v":""},null,null,null,null,null,null,null,null,null,null,null,null,null,null,null,null,null,null,null,null,null,"X"]
[{"$f":"IF(C99862=\"\",\"\",VLOOKUP(D99862,Lookup!$D$1:$E$1051,2,FALSE))","v":""},{"$f":"IF(C99862=\"\",\"\",VLOOKUP(U99862,Lookup!$A$1:$B$21,2,FALSE))","v":""},null,null,null,null,null,null,null,null,null,null,null,null,null,null,null,null,null,null,null,null,null,"X"]
[{"$f":"IF(C99863=\"\",\"\",VLOOKUP(D99863,Lookup!$D$1:$E$1051,2,FALSE))","v":""},{"$f":"IF(C99863=\"\",\"\",VLOOKUP(U99863,Lookup!$A$1:$B$21,2,FALSE))","v":""},null,null,null,null,null,null,null,null,null,null,null,null,null,null,null,null,null,null,null,null,null,"X"]
[{"$f":"IF(C99864=\"\",\"\",VLOOKUP(D99864,Lookup!$D$1:$E$1051,2,FALSE))","v":""},{"$f":"IF(C99864=\"\",\"\",VLOOKUP(U99864,Lookup!$A$1:$B$21,2,FALSE))","v":""},null,null,null,null,null,null,null,null,null,null,null,null,null,null,null,null,null,null,null,null,null,"X"]
[{"$f":"IF(C99865=\"\",\"\",VLOOKUP(D99865,Lookup!$D$1:$E$1051,2,FALSE))","v":""},{"$f":"IF(C99865=\"\",\"\",VLOOKUP(U99865,Lookup!$A$1:$B$21,2,FALSE))","v":""},null,null,null,null,null,null,null,null,null,null,null,null,null,null,null,null,null,null,null,null,null,"X"]
[{"$f":"IF(C99866=\"\",\"\",VLOOKUP(D99866,Lookup!$D$1:$E$1051,2,FALSE))","v":""},{"$f":"IF(C99866=\"\",\"\",VLOOKUP(U99866,Lookup!$A$1:$B$21,2,FALSE))","v":""},null,null,null,null,null,null,null,null,null,null,null,null,null,null,null,null,null,null,null,null,null,"X"]
[{"$f":"IF(C99867=\"\",\"\",VLOOKUP(D99867,Lookup!$D$1:$E$1051,2,FALSE))","v":""},{"$f":"IF(C99867=\"\",\"\",VLOOKUP(U99867,Lookup!$A$1:$B$21,2,FALSE))","v":""},null,null,null,null,null,null,null,null,null,null,null,null,null,null,null,null,null,null,null,null,null,"X"]
[{"$f":"IF(C99868=\"\",\"\",VLOOKUP(D99868,Lookup!$D$1:$E$1051,2,FALSE))","v":""},{"$f":"IF(C99868=\"\",\"\",VLOOKUP(U99868,Lookup!$A$1:$B$21,2,FALSE))","v":""},null,null,null,null,null,null,null,null,null,null,null,null,null,null,null,null,null,null,null,null,null,"X"]
[{"$f":"IF(C99869=\"\",\"\",VLOOKUP(D99869,Lookup!$D$1:$E$1051,2,FALSE))","v":""},{"$f":"IF(C99869=\"\",\"\",VLOOKUP(U99869,Lookup!$A$1:$B$21,2,FALSE))","v":""},null,null,null,null,null,null,null,null,null,null,null,null,null,null,null,null,null,null,null,null,null,"X"]
[{"$f":"IF(C99870=\"\",\"\",VLOOKUP(D99870,Lookup!$D$1:$E$1051,2,FALSE))","v":""},{"$f":"IF(C99870=\"\",\"\",VLOOKUP(U99870,Lookup!$A$1:$B$21,2,FALSE))","v":""},null,null,null,null,null,null,null,null,null,null,null,null,null,null,null,null,null,null,null,null,null,"X"]
[{"$f":"IF(C99871=\"\",\"\",VLOOKUP(D99871,Lookup!$D$1:$E$1051,2,FALSE))","v":""},{"$f":"IF(C99871=\"\",\"\",VLOOKUP(U99871,Lookup!$A$1:$B$21,2,FALSE))","v":""},null,null,null,null,null,null,null,null,null,null,null,null,null,null,null,null,null,null,null,null,null,"X"]
[{"$f":"IF(C99872=\"\",\"\",VLOOKUP(D99872,Lookup!$D$1:$E$1051,2,FALSE))","v":""},{"$f":"IF(C99872=\"\",\"\",VLOOKUP(U99872,Lookup!$A$1:$B$21,2,FALSE))","v":""},null,null,null,null,null,null,null,null,null,null,null,null,null,null,null,null,null,null,null,null,null,"X"]
[{"$f":"IF(C99873=\"\",\"\",VLOOKUP(D99873,Lookup!$D$1:$E$1051,2,FALSE))","v":""},{"$f":"IF(C99873=\"\",\"\",VLOOKUP(U99873,Lookup!$A$1:$B$21,2,FALSE))","v":""},null,null,null,null,null,null,null,null,null,null,null,null,null,null,null,null,null,null,null,null,null,"X"]
[{"$f":"IF(C99874=\"\",\"\",VLOOKUP(D99874,Lookup!$D$1:$E$1051,2,FALSE))","v":""},{"$f":"IF(C99874=\"\",\"\",VLOOKUP(U99874,Lookup!$A$1:$B$21,2,FALSE))","v":""},null,null,null,null,null,null,null,null,null,null,null,null,null,null,null,null,null,null,null,null,null,"X"]
[{"$f":"IF(C99875=\"\",\"\",VLOOKUP(D99875,Lookup!$D$1:$E$1051,2,FALSE))","v":""},{"$f":"IF(C99875=\"\",\"\",VLOOKUP(U99875,Lookup!$A$1:$B$21,2,FALSE))","v":""},null,null,null,null,null,null,null,null,null,null,null,null,null,null,null,null,null,null,null,null,null,"X"]
[{"$f":"IF(C99876=\"\",\"\",VLOOKUP(D99876,Lookup!$D$1:$E$1051,2,FALSE))","v":""},{"$f":"IF(C99876=\"\",\"\",VLOOKUP(U99876,Lookup!$A$1:$B$21,2,FALSE))","v":""},null,null,null,null,null,null,null,null,null,null,null,null,null,null,null,null,null,null,null,null,null,"X"]
[{"$f":"IF(C99877=\"\",\"\",VLOOKUP(D99877,Lookup!$D$1:$E$1051,2,FALSE))","v":""},{"$f":"IF(C99877=\"\",\"\",VLOOKUP(U99877,Lookup!$A$1:$B$21,2,FALSE))","v":""},null,null,null,null,null,null,null,null,null,null,null,null,null,null,null,null,null,null,null,null,null,"X"]
[{"$f":"IF(C99878=\"\",\"\",VLOOKUP(D99878,Lookup!$D$1:$E$1051,2,FALSE))","v":""},{"$f":"IF(C99878=\"\",\"\",VLOOKUP(U99878,Lookup!$A$1:$B$21,2,FALSE))","v":""},null,null,null,null,null,null,null,null,null,null,null,null,null,null,null,null,null,null,null,null,null,"X"]
[{"$f":"IF(C99879=\"\",\"\",VLOOKUP(D99879,Lookup!$D$1:$E$1051,2,FALSE))","v":""},{"$f":"IF(C99879=\"\",\"\",VLOOKUP(U99879,Lookup!$A$1:$B$21,2,FALSE))","v":""},null,null,null,null,null,null,null,null,null,null,null,null,null,null,null,null,null,null,null,null,null,"X"]
[{"$f":"IF(C99880=\"\",\"\",VLOOKUP(D99880,Lookup!$D$1:$E$1051,2,FALSE))","v":""},{"$f":"IF(C99880=\"\",\"\",VLOOKUP(U99880,Lookup!$A$1:$B$21,2,FALSE))","v":""},null,null,null,null,null,null,null,null,null,null,null,null,null,null,null,null,null,null,null,null,null,"X"]
[{"$f":"IF(C99881=\"\",\"\",VLOOKUP(D99881,Lookup!$D$1:$E$1051,2,FALSE))","v":""},{"$f":"IF(C99881=\"\",\"\",VLOOKUP(U99881,Lookup!$A$1:$B$21,2,FALSE))","v":""},null,null,null,null,null,null,null,null,null,null,null,null,null,null,null,null,null,null,null,null,null,"X"]
[{"$f":"IF(C99882=\"\",\"\",VLOOKUP(D99882,Lookup!$D$1:$E$1051,2,FALSE))","v":""},{"$f":"IF(C99882=\"\",\"\",VLOOKUP(U99882,Lookup!$A$1:$B$21,2,FALSE))","v":""},null,null,null,null,null,null,null,null,null,null,null,null,null,null,null,null,null,null,null,null,null,"X"]
[{"$f":"IF(C99883=\"\",\"\",VLOOKUP(D99883,Lookup!$D$1:$E$1051,2,FALSE))","v":""},{"$f":"IF(C99883=\"\",\"\",VLOOKUP(U99883,Lookup!$A$1:$B$21,2,FALSE))","v":""},null,null,null,null,null,null,null,null,null,null,null,null,null,null,null,null,null,null,null,null,null,"X"]
[{"$f":"IF(C99884=\"\",\"\",VLOOKUP(D99884,Lookup!$D$1:$E$1051,2,FALSE))","v":""},{"$f":"IF(C99884=\"\",\"\",VLOOKUP(U99884,Lookup!$A$1:$B$21,2,FALSE))","v":""},null,null,null,null,null,null,null,null,null,null,null,null,null,null,null,null,null,null,null,null,null,"X"]
[{"$f":"IF(C99885=\"\",\"\",VLOOKUP(D99885,Lookup!$D$1:$E$1051,2,FALSE))","v":""},{"$f":"IF(C99885=\"\",\"\",VLOOKUP(U99885,Lookup!$A$1:$B$21,2,FALSE))","v":""},null,null,null,null,null,null,null,null,null,null,null,null,null,null,null,null,null,null,null,null,null,"X"]
[{"$f":"IF(C99886=\"\",\"\",VLOOKUP(D99886,Lookup!$D$1:$E$1051,2,FALSE))","v":""},{"$f":"IF(C99886=\"\",\"\",VLOOKUP(U99886,Lookup!$A$1:$B$21,2,FALSE))","v":""},null,null,null,null,null,null,null,null,null,null,null,null,null,null,null,null,null,null,null,null,null,"X"]
[{"$f":"IF(C99887=\"\",\"\",VLOOKUP(D99887,Lookup!$D$1:$E$1051,2,FALSE))","v":""},{"$f":"IF(C99887=\"\",\"\",VLOOKUP(U99887,Lookup!$A$1:$B$21,2,FALSE))","v":""},null,null,null,null,null,null,null,null,null,null,null,null,null,null,null,null,null,null,null,null,null,"X"]
[{"$f":"IF(C99888=\"\",\"\",VLOOKUP(D99888,Lookup!$D$1:$E$1051,2,FALSE))","v":""},{"$f":"IF(C99888=\"\",\"\",VLOOKUP(U99888,Lookup!$A$1:$B$21,2,FALSE))","v":""},null,null,null,null,null,null,null,null,null,null,null,null,null,null,null,null,null,null,null,null,null,"X"]
[{"$f":"IF(C99889=\"\",\"\",VLOOKUP(D99889,Lookup!$D$1:$E$1051,2,FALSE))","v":""},{"$f":"IF(C99889=\"\",\"\",VLOOKUP(U99889,Lookup!$A$1:$B$21,2,FALSE))","v":""},null,null,null,null,null,null,null,null,null,null,null,null,null,null,null,null,null,null,null,null,null,"X"]
[{"$f":"IF(C99890=\"\",\"\",VLOOKUP(D99890,Lookup!$D$1:$E$1051,2,FALSE))","v":""},{"$f":"IF(C99890=\"\",\"\",VLOOKUP(U99890,Lookup!$A$1:$B$21,2,FALSE))","v":""},null,null,null,null,null,null,null,null,null,null,null,null,null,null,null,null,null,null,null,null,null,"X"]
[{"$f":"IF(C99891=\"\",\"\",VLOOKUP(D99891,Lookup!$D$1:$E$1051,2,FALSE))","v":""},{"$f":"IF(C99891=\"\",\"\",VLOOKUP(U99891,Lookup!$A$1:$B$21,2,FALSE))","v":""},null,null,null,null,null,null,null,null,null,null,null,null,null,null,null,null,null,null,null,null,null,"X"]
[{"$f":"IF(C99892=\"\",\"\",VLOOKUP(D99892,Lookup!$D$1:$E$1051,2,FALSE))","v":""},{"$f":"IF(C99892=\"\",\"\",VLOOKUP(U99892,Lookup!$A$1:$B$21,2,FALSE))","v":""},null,null,null,null,null,null,null,null,null,null,null,null,null,null,null,null,null,null,null,null,null,"X"]
[{"$f":"IF(C99893=\"\",\"\",VLOOKUP(D99893,Lookup!$D$1:$E$1051,2,FALSE))","v":""},{"$f":"IF(C99893=\"\",\"\",VLOOKUP(U99893,Lookup!$A$1:$B$21,2,FALSE))","v":""},null,null,null,null,null,null,null,null,null,null,null,null,null,null,null,null,null,null,null,null,null,"X"]
[{"$f":"IF(C99894=\"\",\"\",VLOOKUP(D99894,Lookup!$D$1:$E$1051,2,FALSE))","v":""},{"$f":"IF(C99894=\"\",\"\",VLOOKUP(U99894,Lookup!$A$1:$B$21,2,FALSE))","v":""},null,null,null,null,null,null,null,null,null,null,null,null,null,null,null,null,null,null,null,null,null,"X"]
[{"$f":"IF(C99895=\"\",\"\",VLOOKUP(D99895,Lookup!$D$1:$E$1051,2,FALSE))","v":""},{"$f":"IF(C99895=\"\",\"\",VLOOKUP(U99895,Lookup!$A$1:$B$21,2,FALSE))","v":""},null,null,null,null,null,null,null,null,null,null,null,null,null,null,null,null,null,null,null,null,null,"X"]
[{"$f":"IF(C99896=\"\",\"\",VLOOKUP(D99896,Lookup!$D$1:$E$1051,2,FALSE))","v":""},{"$f":"IF(C99896=\"\",\"\",VLOOKUP(U99896,Lookup!$A$1:$B$21,2,FALSE))","v":""},null,null,null,null,null,null,null,null,null,null,null,null,null,null,null,null,null,null,null,null,null,"X"]
[{"$f":"IF(C99897=\"\",\"\",VLOOKUP(D99897,Lookup!$D$1:$E$1051,2,FALSE))","v":""},{"$f":"IF(C99897=\"\",\"\",VLOOKUP(U99897,Lookup!$A$1:$B$21,2,FALSE))","v":""},null,null,null,null,null,null,null,null,null,null,null,null,null,null,null,null,null,null,null,null,null,"X"]
[{"$f":"IF(C99898=\"\",\"\",VLOOKUP(D99898,Lookup!$D$1:$E$1051,2,FALSE))","v":""},{"$f":"IF(C99898=\"\",\"\",VLOOKUP(U99898,Lookup!$A$1:$B$21,2,FALSE))","v":""},null,null,null,null,null,null,null,null,null,null,null,null,null,null,null,null,null,null,null,null,null,"X"]
[{"$f":"IF(C99899=\"\",\"\",VLOOKUP(D99899,Lookup!$D$1:$E$1051,2,FALSE))","v":""},{"$f":"IF(C99899=\"\",\"\",VLOOKUP(U99899,Lookup!$A$1:$B$21,2,FALSE))","v":""},null,null,null,null,null,null,null,null,null,null,null,null,null,null,null,null,null,null,null,null,null,"X"]
[{"$f":"IF(C99900=\"\",\"\",VLOOKUP(D99900,Lookup!$D$1:$E$1051,2,FALSE))","v":""},{"$f":"IF(C99900=\"\",\"\",VLOOKUP(U99900,Lookup!$A$1:$B$21,2,FALSE))","v":""},null,null,null,null,null,null,null,null,null,null,null,null,null,null,null,null,null,null,null,null,null,"X"]
[{"$f":"IF(C99901=\"\",\"\",VLOOKUP(D99901,Lookup!$D$1:$E$1051,2,FALSE))","v":""},{"$f":"IF(C99901=\"\",\"\",VLOOKUP(U99901,Lookup!$A$1:$B$21,2,FALSE))","v":""},null,null,null,null,null,null,null,null,null,null,null,null,null,null,null,null,null,null,null,null,null,"X"]
[{"$f":"IF(C99902=\"\",\"\",VLOOKUP(D99902,Lookup!$D$1:$E$1051,2,FALSE))","v":""},{"$f":"IF(C99902=\"\",\"\",VLOOKUP(U99902,Lookup!$A$1:$B$21,2,FALSE))","v":""},null,null,null,null,null,null,null,null,null,null,null,null,null,null,null,null,null,null,null,null,null,"X"]
[{"$f":"IF(C99903=\"\",\"\",VLOOKUP(D99903,Lookup!$D$1:$E$1051,2,FALSE))","v":""},{"$f":"IF(C99903=\"\",\"\",VLOOKUP(U99903,Lookup!$A$1:$B$21,2,FALSE))","v":""},null,null,null,null,null,null,null,null,null,null,null,null,null,null,null,null,null,null,null,null,null,"X"]
[{"$f":"IF(C99904=\"\",\"\",VLOOKUP(D99904,Lookup!$D$1:$E$1051,2,FALSE))","v":""},{"$f":"IF(C99904=\"\",\"\",VLOOKUP(U99904,Lookup!$A$1:$B$21,2,FALSE))","v":""},null,null,null,null,null,null,null,null,null,null,null,null,null,null,null,null,null,null,null,null,null,"X"]
[{"$f":"IF(C99905=\"\",\"\",VLOOKUP(D99905,Lookup!$D$1:$E$1051,2,FALSE))","v":""},{"$f":"IF(C99905=\"\",\"\",VLOOKUP(U99905,Lookup!$A$1:$B$21,2,FALSE))","v":""},null,null,null,null,null,null,null,null,null,null,null,null,null,null,null,null,null,null,null,null,null,"X"]
[{"$f":"IF(C99906=\"\",\"\",VLOOKUP(D99906,Lookup!$D$1:$E$1051,2,FALSE))","v":""},{"$f":"IF(C99906=\"\",\"\",VLOOKUP(U99906,Lookup!$A$1:$B$21,2,FALSE))","v":""},null,null,null,null,null,null,null,null,null,null,null,null,null,null,null,null,null,null,null,null,null,"X"]
[{"$f":"IF(C99907=\"\",\"\",VLOOKUP(D99907,Lookup!$D$1:$E$1051,2,FALSE))","v":""},{"$f":"IF(C99907=\"\",\"\",VLOOKUP(U99907,Lookup!$A$1:$B$21,2,FALSE))","v":""},null,null,null,null,null,null,null,null,null,null,null,null,null,null,null,null,null,null,null,null,null,"X"]
[{"$f":"IF(C99908=\"\",\"\",VLOOKUP(D99908,Lookup!$D$1:$E$1051,2,FALSE))","v":""},{"$f":"IF(C99908=\"\",\"\",VLOOKUP(U99908,Lookup!$A$1:$B$21,2,FALSE))","v":""},null,null,null,null,null,null,null,null,null,null,null,null,null,null,null,null,null,null,null,null,null,"X"]
[{"$f":"IF(C99909=\"\",\"\",VLOOKUP(D99909,Lookup!$D$1:$E$1051,2,FALSE))","v":""},{"$f":"IF(C99909=\"\",\"\",VLOOKUP(U99909,Lookup!$A$1:$B$21,2,FALSE))","v":""},null,null,null,null,null,null,null,null,null,null,null,null,null,null,null,null,null,null,null,null,null,"X"]
[{"$f":"IF(C99910=\"\",\"\",VLOOKUP(D99910,Lookup!$D$1:$E$1051,2,FALSE))","v":""},{"$f":"IF(C99910=\"\",\"\",VLOOKUP(U99910,Lookup!$A$1:$B$21,2,FALSE))","v":""},null,null,null,null,null,null,null,null,null,null,null,null,null,null,null,null,null,null,null,null,null,"X"]
[{"$f":"IF(C99911=\"\",\"\",VLOOKUP(D99911,Lookup!$D$1:$E$1051,2,FALSE))","v":""},{"$f":"IF(C99911=\"\",\"\",VLOOKUP(U99911,Lookup!$A$1:$B$21,2,FALSE))","v":""},null,null,null,null,null,null,null,null,null,null,null,null,null,null,null,null,null,null,null,null,null,"X"]
[{"$f":"IF(C99912=\"\",\"\",VLOOKUP(D99912,Lookup!$D$1:$E$1051,2,FALSE))","v":""},{"$f":"IF(C99912=\"\",\"\",VLOOKUP(U99912,Lookup!$A$1:$B$21,2,FALSE))","v":""},null,null,null,null,null,null,null,null,null,null,null,null,null,null,null,null,null,null,null,null,null,"X"]
[{"$f":"IF(C99913=\"\",\"\",VLOOKUP(D99913,Lookup!$D$1:$E$1051,2,FALSE))","v":""},{"$f":"IF(C99913=\"\",\"\",VLOOKUP(U99913,Lookup!$A$1:$B$21,2,FALSE))","v":""},null,null,null,null,null,null,null,null,null,null,null,null,null,null,null,null,null,null,null,null,null,"X"]
[{"$f":"IF(C99914=\"\",\"\",VLOOKUP(D99914,Lookup!$D$1:$E$1051,2,FALSE))","v":""},{"$f":"IF(C99914=\"\",\"\",VLOOKUP(U99914,Lookup!$A$1:$B$21,2,FALSE))","v":""},null,null,null,null,null,null,null,null,null,null,null,null,null,null,null,null,null,null,null,null,null,"X"]
[{"$f":"IF(C99915=\"\",\"\",VLOOKUP(D99915,Lookup!$D$1:$E$1051,2,FALSE))","v":""},{"$f":"IF(C99915=\"\",\"\",VLOOKUP(U99915,Lookup!$A$1:$B$21,2,FALSE))","v":""},null,null,null,null,null,null,null,null,null,null,null,null,null,null,null,null,null,null,null,null,null,"X"]
[{"$f":"IF(C99916=\"\",\"\",VLOOKUP(D99916,Lookup!$D$1:$E$1051,2,FALSE))","v":""},{"$f":"IF(C99916=\"\",\"\",VLOOKUP(U99916,Lookup!$A$1:$B$21,2,FALSE))","v":""},null,null,null,null,null,null,null,null,null,null,null,null,null,null,null,null,null,null,null,null,null,"X"]
[{"$f":"IF(C99917=\"\",\"\",VLOOKUP(D99917,Lookup!$D$1:$E$1051,2,FALSE))","v":""},{"$f":"IF(C99917=\"\",\"\",VLOOKUP(U99917,Lookup!$A$1:$B$21,2,FALSE))","v":""},null,null,null,null,null,null,null,null,null,null,null,null,null,null,null,null,null,null,null,null,null,"X"]
[{"$f":"IF(C99918=\"\",\"\",VLOOKUP(D99918,Lookup!$D$1:$E$1051,2,FALSE))","v":""},{"$f":"IF(C99918=\"\",\"\",VLOOKUP(U99918,Lookup!$A$1:$B$21,2,FALSE))","v":""},null,null,null,null,null,null,null,null,null,null,null,null,null,null,null,null,null,null,null,null,null,"X"]
[{"$f":"IF(C99919=\"\",\"\",VLOOKUP(D99919,Lookup!$D$1:$E$1051,2,FALSE))","v":""},{"$f":"IF(C99919=\"\",\"\",VLOOKUP(U99919,Lookup!$A$1:$B$21,2,FALSE))","v":""},null,null,null,null,null,null,null,null,null,null,null,null,null,null,null,null,null,null,null,null,null,"X"]
[{"$f":"IF(C99920=\"\",\"\",VLOOKUP(D99920,Lookup!$D$1:$E$1051,2,FALSE))","v":""},{"$f":"IF(C99920=\"\",\"\",VLOOKUP(U99920,Lookup!$A$1:$B$21,2,FALSE))","v":""},null,null,null,null,null,null,null,null,null,null,null,null,null,null,null,null,null,null,null,null,null,"X"]
[{"$f":"IF(C99921=\"\",\"\",VLOOKUP(D99921,Lookup!$D$1:$E$1051,2,FALSE))","v":""},{"$f":"IF(C99921=\"\",\"\",VLOOKUP(U99921,Lookup!$A$1:$B$21,2,FALSE))","v":""},null,null,null,null,null,null,null,null,null,null,null,null,null,null,null,null,null,null,null,null,null,"X"]
[{"$f":"IF(C99922=\"\",\"\",VLOOKUP(D99922,Lookup!$D$1:$E$1051,2,FALSE))","v":""},{"$f":"IF(C99922=\"\",\"\",VLOOKUP(U99922,Lookup!$A$1:$B$21,2,FALSE))","v":""},null,null,null,null,null,null,null,null,null,null,null,null,null,null,null,null,null,null,null,null,null,"X"]
[{"$f":"IF(C99923=\"\",\"\",VLOOKUP(D99923,Lookup!$D$1:$E$1051,2,FALSE))","v":""},{"$f":"IF(C99923=\"\",\"\",VLOOKUP(U99923,Lookup!$A$1:$B$21,2,FALSE))","v":""},null,null,null,null,null,null,null,null,null,null,null,null,null,null,null,null,null,null,null,null,null,"X"]
[{"$f":"IF(C99924=\"\",\"\",VLOOKUP(D99924,Lookup!$D$1:$E$1051,2,FALSE))","v":""},{"$f":"IF(C99924=\"\",\"\",VLOOKUP(U99924,Lookup!$A$1:$B$21,2,FALSE))","v":""},null,null,null,null,null,null,null,null,null,null,null,null,null,null,null,null,null,null,null,null,null,"X"]
[{"$f":"IF(C99925=\"\",\"\",VLOOKUP(D99925,Lookup!$D$1:$E$1051,2,FALSE))","v":""},{"$f":"IF(C99925=\"\",\"\",VLOOKUP(U99925,Lookup!$A$1:$B$21,2,FALSE))","v":""},null,null,null,null,null,null,null,null,null,null,null,null,null,null,null,null,null,null,null,null,null,"X"]
[{"$f":"IF(C99926=\"\",\"\",VLOOKUP(D99926,Lookup!$D$1:$E$1051,2,FALSE))","v":""},{"$f":"IF(C99926=\"\",\"\",VLOOKUP(U99926,Lookup!$A$1:$B$21,2,FALSE))","v":""},null,null,null,null,null,null,null,null,null,null,null,null,null,null,null,null,null,null,null,null,null,"X"]
[{"$f":"IF(C99927=\"\",\"\",VLOOKUP(D99927,Lookup!$D$1:$E$1051,2,FALSE))","v":""},{"$f":"IF(C99927=\"\",\"\",VLOOKUP(U99927,Lookup!$A$1:$B$21,2,FALSE))","v":""},null,null,null,null,null,null,null,null,null,null,null,null,null,null,null,null,null,null,null,null,null,"X"]
[{"$f":"IF(C99928=\"\",\"\",VLOOKUP(D99928,Lookup!$D$1:$E$1051,2,FALSE))","v":""},{"$f":"IF(C99928=\"\",\"\",VLOOKUP(U99928,Lookup!$A$1:$B$21,2,FALSE))","v":""},null,null,null,null,null,null,null,null,null,null,null,null,null,null,null,null,null,null,null,null,null,"X"]
[{"$f":"IF(C99929=\"\",\"\",VLOOKUP(D99929,Lookup!$D$1:$E$1051,2,FALSE))","v":""},{"$f":"IF(C99929=\"\",\"\",VLOOKUP(U99929,Lookup!$A$1:$B$21,2,FALSE))","v":""},null,null,null,null,null,null,null,null,null,null,null,null,null,null,null,null,null,null,null,null,null,"X"]
[{"$f":"IF(C99930=\"\",\"\",VLOOKUP(D99930,Lookup!$D$1:$E$1051,2,FALSE))","v":""},{"$f":"IF(C99930=\"\",\"\",VLOOKUP(U99930,Lookup!$A$1:$B$21,2,FALSE))","v":""},null,null,null,null,null,null,null,null,null,null,null,null,null,null,null,null,null,null,null,null,null,"X"]
[{"$f":"IF(C99931=\"\",\"\",VLOOKUP(D99931,Lookup!$D$1:$E$1051,2,FALSE))","v":""},{"$f":"IF(C99931=\"\",\"\",VLOOKUP(U99931,Lookup!$A$1:$B$21,2,FALSE))","v":""},null,null,null,null,null,null,null,null,null,null,null,null,null,null,null,null,null,null,null,null,null,"X"]
[{"$f":"IF(C99932=\"\",\"\",VLOOKUP(D99932,Lookup!$D$1:$E$1051,2,FALSE))","v":""},{"$f":"IF(C99932=\"\",\"\",VLOOKUP(U99932,Lookup!$A$1:$B$21,2,FALSE))","v":""},null,null,null,null,null,null,null,null,null,null,null,null,null,null,null,null,null,null,null,null,null,"X"]
[{"$f":"IF(C99933=\"\",\"\",VLOOKUP(D99933,Lookup!$D$1:$E$1051,2,FALSE))","v":""},{"$f":"IF(C99933=\"\",\"\",VLOOKUP(U99933,Lookup!$A$1:$B$21,2,FALSE))","v":""},null,null,null,null,null,null,null,null,null,null,null,null,null,null,null,null,null,null,null,null,null,"X"]
[{"$f":"IF(C99934=\"\",\"\",VLOOKUP(D99934,Lookup!$D$1:$E$1051,2,FALSE))","v":""},{"$f":"IF(C99934=\"\",\"\",VLOOKUP(U99934,Lookup!$A$1:$B$21,2,FALSE))","v":""},null,null,null,null,null,null,null,null,null,null,null,null,null,null,null,null,null,null,null,null,null,"X"]
[{"$f":"IF(C99935=\"\",\"\",VLOOKUP(D99935,Lookup!$D$1:$E$1051,2,FALSE))","v":""},{"$f":"IF(C99935=\"\",\"\",VLOOKUP(U99935,Lookup!$A$1:$B$21,2,FALSE))","v":""},null,null,null,null,null,null,null,null,null,null,null,null,null,null,null,null,null,null,null,null,null,"X"]
[{"$f":"IF(C99936=\"\",\"\",VLOOKUP(D99936,Lookup!$D$1:$E$1051,2,FALSE))","v":""},{"$f":"IF(C99936=\"\",\"\",VLOOKUP(U99936,Lookup!$A$1:$B$21,2,FALSE))","v":""},null,null,null,null,null,null,null,null,null,null,null,null,null,null,null,null,null,null,null,null,null,"X"]
[{"$f":"IF(C99937=\"\",\"\",VLOOKUP(D99937,Lookup!$D$1:$E$1051,2,FALSE))","v":""},{"$f":"IF(C99937=\"\",\"\",VLOOKUP(U99937,Lookup!$A$1:$B$21,2,FALSE))","v":""},null,null,null,null,null,null,null,null,null,null,null,null,null,null,null,null,null,null,null,null,null,"X"]
[{"$f":"IF(C99938=\"\",\"\",VLOOKUP(D99938,Lookup!$D$1:$E$1051,2,FALSE))","v":""},{"$f":"IF(C99938=\"\",\"\",VLOOKUP(U99938,Lookup!$A$1:$B$21,2,FALSE))","v":""},null,null,null,null,null,null,null,null,null,null,null,null,null,null,null,null,null,null,null,null,null,"X"]
[{"$f":"IF(C99939=\"\",\"\",VLOOKUP(D99939,Lookup!$D$1:$E$1051,2,FALSE))","v":""},{"$f":"IF(C99939=\"\",\"\",VLOOKUP(U99939,Lookup!$A$1:$B$21,2,FALSE))","v":""},null,null,null,null,null,null,null,null,null,null,null,null,null,null,null,null,null,null,null,null,null,"X"]
[{"$f":"IF(C99940=\"\",\"\",VLOOKUP(D99940,Lookup!$D$1:$E$1051,2,FALSE))","v":""},{"$f":"IF(C99940=\"\",\"\",VLOOKUP(U99940,Lookup!$A$1:$B$21,2,FALSE))","v":""},null,null,null,null,null,null,null,null,null,null,null,null,null,null,null,null,null,null,null,null,null,"X"]
[{"$f":"IF(C99941=\"\",\"\",VLOOKUP(D99941,Lookup!$D$1:$E$1051,2,FALSE))","v":""},{"$f":"IF(C99941=\"\",\"\",VLOOKUP(U99941,Lookup!$A$1:$B$21,2,FALSE))","v":""},null,null,null,null,null,null,null,null,null,null,null,null,null,null,null,null,null,null,null,null,null,"X"]
[{"$f":"IF(C99942=\"\",\"\",VLOOKUP(D99942,Lookup!$D$1:$E$1051,2,FALSE))","v":""},{"$f":"IF(C99942=\"\",\"\",VLOOKUP(U99942,Lookup!$A$1:$B$21,2,FALSE))","v":""},null,null,null,null,null,null,null,null,null,null,null,null,null,null,null,null,null,null,null,null,null,"X"]
[{"$f":"IF(C99943=\"\",\"\",VLOOKUP(D99943,Lookup!$D$1:$E$1051,2,FALSE))","v":""},{"$f":"IF(C99943=\"\",\"\",VLOOKUP(U99943,Lookup!$A$1:$B$21,2,FALSE))","v":""},null,null,null,null,null,null,null,null,null,null,null,null,null,null,null,null,null,null,null,null,null,"X"]
[{"$f":"IF(C99944=\"\",\"\",VLOOKUP(D99944,Lookup!$D$1:$E$1051,2,FALSE))","v":""},{"$f":"IF(C99944=\"\",\"\",VLOOKUP(U99944,Lookup!$A$1:$B$21,2,FALSE))","v":""},null,null,null,null,null,null,null,null,null,null,null,null,null,null,null,null,null,null,null,null,null,"X"]
[{"$f":"IF(C99945=\"\",\"\",VLOOKUP(D99945,Lookup!$D$1:$E$1051,2,FALSE))","v":""},{"$f":"IF(C99945=\"\",\"\",VLOOKUP(U99945,Lookup!$A$1:$B$21,2,FALSE))","v":""},null,null,null,null,null,null,null,null,null,null,null,null,null,null,null,null,null,null,null,null,null,"X"]
[{"$f":"IF(C99946=\"\",\"\",VLOOKUP(D99946,Lookup!$D$1:$E$1051,2,FALSE))","v":""},{"$f":"IF(C99946=\"\",\"\",VLOOKUP(U99946,Lookup!$A$1:$B$21,2,FALSE))","v":""},null,null,null,null,null,null,null,null,null,null,null,null,null,null,null,null,null,null,null,null,null,"X"]
[{"$f":"IF(C99947=\"\",\"\",VLOOKUP(D99947,Lookup!$D$1:$E$1051,2,FALSE))","v":""},{"$f":"IF(C99947=\"\",\"\",VLOOKUP(U99947,Lookup!$A$1:$B$21,2,FALSE))","v":""},null,null,null,null,null,null,null,null,null,null,null,null,null,null,null,null,null,null,null,null,null,"X"]
[{"$f":"IF(C99948=\"\",\"\",VLOOKUP(D99948,Lookup!$D$1:$E$1051,2,FALSE))","v":""},{"$f":"IF(C99948=\"\",\"\",VLOOKUP(U99948,Lookup!$A$1:$B$21,2,FALSE))","v":""},null,null,null,null,null,null,null,null,null,null,null,null,null,null,null,null,null,null,null,null,null,"X"]
[{"$f":"IF(C99949=\"\",\"\",VLOOKUP(D99949,Lookup!$D$1:$E$1051,2,FALSE))","v":""},{"$f":"IF(C99949=\"\",\"\",VLOOKUP(U99949,Lookup!$A$1:$B$21,2,FALSE))","v":""},null,null,null,null,null,null,null,null,null,null,null,null,null,null,null,null,null,null,null,null,null,"X"]
[{"$f":"IF(C99950=\"\",\"\",VLOOKUP(D99950,Lookup!$D$1:$E$1051,2,FALSE))","v":""},{"$f":"IF(C99950=\"\",\"\",VLOOKUP(U99950,Lookup!$A$1:$B$21,2,FALSE))","v":""},null,null,null,null,null,null,null,null,null,null,null,null,null,null,null,null,null,null,null,null,null,"X"]
[{"$f":"IF(C99951=\"\",\"\",VLOOKUP(D99951,Lookup!$D$1:$E$1051,2,FALSE))","v":""},{"$f":"IF(C99951=\"\",\"\",VLOOKUP(U99951,Lookup!$A$1:$B$21,2,FALSE))","v":""},null,null,null,null,null,null,null,null,null,null,null,null,null,null,null,null,null,null,null,null,null,"X"]
[{"$f":"IF(C99952=\"\",\"\",VLOOKUP(D99952,Lookup!$D$1:$E$1051,2,FALSE))","v":""},{"$f":"IF(C99952=\"\",\"\",VLOOKUP(U99952,Lookup!$A$1:$B$21,2,FALSE))","v":""},null,null,null,null,null,null,null,null,null,null,null,null,null,null,null,null,null,null,null,null,null,"X"]
[{"$f":"IF(C99953=\"\",\"\",VLOOKUP(D99953,Lookup!$D$1:$E$1051,2,FALSE))","v":""},{"$f":"IF(C99953=\"\",\"\",VLOOKUP(U99953,Lookup!$A$1:$B$21,2,FALSE))","v":""},null,null,null,null,null,null,null,null,null,null,null,null,null,null,null,null,null,null,null,null,null,"X"]
[{"$f":"IF(C99954=\"\",\"\",VLOOKUP(D99954,Lookup!$D$1:$E$1051,2,FALSE))","v":""},{"$f":"IF(C99954=\"\",\"\",VLOOKUP(U99954,Lookup!$A$1:$B$21,2,FALSE))","v":""},null,null,null,null,null,null,null,null,null,null,null,null,null,null,null,null,null,null,null,null,null,"X"]
[{"$f":"IF(C99955=\"\",\"\",VLOOKUP(D99955,Lookup!$D$1:$E$1051,2,FALSE))","v":""},{"$f":"IF(C99955=\"\",\"\",VLOOKUP(U99955,Lookup!$A$1:$B$21,2,FALSE))","v":""},null,null,null,null,null,null,null,null,null,null,null,null,null,null,null,null,null,null,null,null,null,"X"]
[{"$f":"IF(C99956=\"\",\"\",VLOOKUP(D99956,Lookup!$D$1:$E$1051,2,FALSE))","v":""},{"$f":"IF(C99956=\"\",\"\",VLOOKUP(U99956,Lookup!$A$1:$B$21,2,FALSE))","v":""},null,null,null,null,null,null,null,null,null,null,null,null,null,null,null,null,null,null,null,null,null,"X"]
[{"$f":"IF(C99957=\"\",\"\",VLOOKUP(D99957,Lookup!$D$1:$E$1051,2,FALSE))","v":""},{"$f":"IF(C99957=\"\",\"\",VLOOKUP(U99957,Lookup!$A$1:$B$21,2,FALSE))","v":""},null,null,null,null,null,null,null,null,null,null,null,null,null,null,null,null,null,null,null,null,null,"X"]
[{"$f":"IF(C99958=\"\",\"\",VLOOKUP(D99958,Lookup!$D$1:$E$1051,2,FALSE))","v":""},{"$f":"IF(C99958=\"\",\"\",VLOOKUP(U99958,Lookup!$A$1:$B$21,2,FALSE))","v":""},null,null,null,null,null,null,null,null,null,null,null,null,null,null,null,null,null,null,null,null,null,"X"]
[{"$f":"IF(C99959=\"\",\"\",VLOOKUP(D99959,Lookup!$D$1:$E$1051,2,FALSE))","v":""},{"$f":"IF(C99959=\"\",\"\",VLOOKUP(U99959,Lookup!$A$1:$B$21,2,FALSE))","v":""},null,null,null,null,null,null,null,null,null,null,null,null,null,null,null,null,null,null,null,null,null,"X"]
[{"$f":"IF(C99960=\"\",\"\",VLOOKUP(D99960,Lookup!$D$1:$E$1051,2,FALSE))","v":""},{"$f":"IF(C99960=\"\",\"\",VLOOKUP(U99960,Lookup!$A$1:$B$21,2,FALSE))","v":""},null,null,null,null,null,null,null,null,null,null,null,null,null,null,null,null,null,null,null,null,null,"X"]
[{"$f":"IF(C99961=\"\",\"\",VLOOKUP(D99961,Lookup!$D$1:$E$1051,2,FALSE))","v":""},{"$f":"IF(C99961=\"\",\"\",VLOOKUP(U99961,Lookup!$A$1:$B$21,2,FALSE))","v":""},null,null,null,null,null,null,null,null,null,null,null,null,null,null,null,null,null,null,null,null,null,"X"]
[{"$f":"IF(C99962=\"\",\"\",VLOOKUP(D99962,Lookup!$D$1:$E$1051,2,FALSE))","v":""},{"$f":"IF(C99962=\"\",\"\",VLOOKUP(U99962,Lookup!$A$1:$B$21,2,FALSE))","v":""},null,null,null,null,null,null,null,null,null,null,null,null,null,null,null,null,null,null,null,null,null,"X"]
[{"$f":"IF(C99963=\"\",\"\",VLOOKUP(D99963,Lookup!$D$1:$E$1051,2,FALSE))","v":""},{"$f":"IF(C99963=\"\",\"\",VLOOKUP(U99963,Lookup!$A$1:$B$21,2,FALSE))","v":""},null,null,null,null,null,null,null,null,null,null,null,null,null,null,null,null,null,null,null,null,null,"X"]
[{"$f":"IF(C99964=\"\",\"\",VLOOKUP(D99964,Lookup!$D$1:$E$1051,2,FALSE))","v":""},{"$f":"IF(C99964=\"\",\"\",VLOOKUP(U99964,Lookup!$A$1:$B$21,2,FALSE))","v":""},null,null,null,null,null,null,null,null,null,null,null,null,null,null,null,null,null,null,null,null,null,"X"]
[{"$f":"IF(C99965=\"\",\"\",VLOOKUP(D99965,Lookup!$D$1:$E$1051,2,FALSE))","v":""},{"$f":"IF(C99965=\"\",\"\",VLOOKUP(U99965,Lookup!$A$1:$B$21,2,FALSE))","v":""},null,null,null,null,null,null,null,null,null,null,null,null,null,null,null,null,null,null,null,null,null,"X"]
[{"$f":"IF(C99966=\"\",\"\",VLOOKUP(D99966,Lookup!$D$1:$E$1051,2,FALSE))","v":""},{"$f":"IF(C99966=\"\",\"\",VLOOKUP(U99966,Lookup!$A$1:$B$21,2,FALSE))","v":""},null,null,null,null,null,null,null,null,null,null,null,null,null,null,null,null,null,null,null,null,null,"X"]
[{"$f":"IF(C99967=\"\",\"\",VLOOKUP(D99967,Lookup!$D$1:$E$1051,2,FALSE))","v":""},{"$f":"IF(C99967=\"\",\"\",VLOOKUP(U99967,Lookup!$A$1:$B$21,2,FALSE))","v":""},null,null,null,null,null,null,null,null,null,null,null,null,null,null,null,null,null,null,null,null,null,"X"]
[{"$f":"IF(C99968=\"\",\"\",VLOOKUP(D99968,Lookup!$D$1:$E$1051,2,FALSE))","v":""},{"$f":"IF(C99968=\"\",\"\",VLOOKUP(U99968,Lookup!$A$1:$B$21,2,FALSE))","v":""},null,null,null,null,null,null,null,null,null,null,null,null,null,null,null,null,null,null,null,null,null,"X"]
[{"$f":"IF(C99969=\"\",\"\",VLOOKUP(D99969,Lookup!$D$1:$E$1051,2,FALSE))","v":""},{"$f":"IF(C99969=\"\",\"\",VLOOKUP(U99969,Lookup!$A$1:$B$21,2,FALSE))","v":""},null,null,null,null,null,null,null,null,null,null,null,null,null,null,null,null,null,null,null,null,null,"X"]
[{"$f":"IF(C99970=\"\",\"\",VLOOKUP(D99970,Lookup!$D$1:$E$1051,2,FALSE))","v":""},{"$f":"IF(C99970=\"\",\"\",VLOOKUP(U99970,Lookup!$A$1:$B$21,2,FALSE))","v":""},null,null,null,null,null,null,null,null,null,null,null,null,null,null,null,null,null,null,null,null,null,"X"]
[{"$f":"IF(C99971=\"\",\"\",VLOOKUP(D99971,Lookup!$D$1:$E$1051,2,FALSE))","v":""},{"$f":"IF(C99971=\"\",\"\",VLOOKUP(U99971,Lookup!$A$1:$B$21,2,FALSE))","v":""},null,null,null,null,null,null,null,null,null,null,null,null,null,null,null,null,null,null,null,null,null,"X"]
[{"$f":"IF(C99972=\"\",\"\",VLOOKUP(D99972,Lookup!$D$1:$E$1051,2,FALSE))","v":""},{"$f":"IF(C99972=\"\",\"\",VLOOKUP(U99972,Lookup!$A$1:$B$21,2,FALSE))","v":""},null,null,null,null,null,null,null,null,null,null,null,null,null,null,null,null,null,null,null,null,null,"X"]
[{"$f":"IF(C99973=\"\",\"\",VLOOKUP(D99973,Lookup!$D$1:$E$1051,2,FALSE))","v":""},{"$f":"IF(C99973=\"\",\"\",VLOOKUP(U99973,Lookup!$A$1:$B$21,2,FALSE))","v":""},null,null,null,null,null,null,null,null,null,null,null,null,null,null,null,null,null,null,null,null,null,"X"]
[{"$f":"IF(C99974=\"\",\"\",VLOOKUP(D99974,Lookup!$D$1:$E$1051,2,FALSE))","v":""},{"$f":"IF(C99974=\"\",\"\",VLOOKUP(U99974,Lookup!$A$1:$B$21,2,FALSE))","v":""},null,null,null,null,null,null,null,null,null,null,null,null,null,null,null,null,null,null,null,null,null,"X"]
[{"$f":"IF(C99975=\"\",\"\",VLOOKUP(D99975,Lookup!$D$1:$E$1051,2,FALSE))","v":""},{"$f":"IF(C99975=\"\",\"\",VLOOKUP(U99975,Lookup!$A$1:$B$21,2,FALSE))","v":""},null,null,null,null,null,null,null,null,null,null,null,null,null,null,null,null,null,null,null,null,null,"X"]
[{"$f":"IF(C99976=\"\",\"\",VLOOKUP(D99976,Lookup!$D$1:$E$1051,2,FALSE))","v":""},{"$f":"IF(C99976=\"\",\"\",VLOOKUP(U99976,Lookup!$A$1:$B$21,2,FALSE))","v":""},null,null,null,null,null,null,null,null,null,null,null,null,null,null,null,null,null,null,null,null,null,"X"]
[{"$f":"IF(C99977=\"\",\"\",VLOOKUP(D99977,Lookup!$D$1:$E$1051,2,FALSE))","v":""},{"$f":"IF(C99977=\"\",\"\",VLOOKUP(U99977,Lookup!$A$1:$B$21,2,FALSE))","v":""},null,null,null,null,null,null,null,null,null,null,null,null,null,null,null,null,null,null,null,null,null,"X"]
[{"$f":"IF(C99978=\"\",\"\",VLOOKUP(D99978,Lookup!$D$1:$E$1051,2,FALSE))","v":""},{"$f":"IF(C99978=\"\",\"\",VLOOKUP(U99978,Lookup!$A$1:$B$21,2,FALSE))","v":""},null,null,null,null,null,null,null,null,null,null,null,null,null,null,null,null,null,null,null,null,null,"X"]
[{"$f":"IF(C99979=\"\",\"\",VLOOKUP(D99979,Lookup!$D$1:$E$1051,2,FALSE))","v":""},{"$f":"IF(C99979=\"\",\"\",VLOOKUP(U99979,Lookup!$A$1:$B$21,2,FALSE))","v":""},null,null,null,null,null,null,null,null,null,null,null,null,null,null,null,null,null,null,null,null,null,"X"]
[{"$f":"IF(C99980=\"\",\"\",VLOOKUP(D99980,Lookup!$D$1:$E$1051,2,FALSE))","v":""},{"$f":"IF(C99980=\"\",\"\",VLOOKUP(U99980,Lookup!$A$1:$B$21,2,FALSE))","v":""},null,null,null,null,null,null,null,null,null,null,null,null,null,null,null,null,null,null,null,null,null,"X"]
[{"$f":"IF(C99981=\"\",\"\",VLOOKUP(D99981,Lookup!$D$1:$E$1051,2,FALSE))","v":""},{"$f":"IF(C99981=\"\",\"\",VLOOKUP(U99981,Lookup!$A$1:$B$21,2,FALSE))","v":""},null,null,null,null,null,null,null,null,null,null,null,null,null,null,null,null,null,null,null,null,null,"X"]
[{"$f":"IF(C99982=\"\",\"\",VLOOKUP(D99982,Lookup!$D$1:$E$1051,2,FALSE))","v":""},{"$f":"IF(C99982=\"\",\"\",VLOOKUP(U99982,Lookup!$A$1:$B$21,2,FALSE))","v":""},null,null,null,null,null,null,null,null,null,null,null,null,null,null,null,null,null,null,null,null,null,"X"]
[{"$f":"IF(C99983=\"\",\"\",VLOOKUP(D99983,Lookup!$D$1:$E$1051,2,FALSE))","v":""},{"$f":"IF(C99983=\"\",\"\",VLOOKUP(U99983,Lookup!$A$1:$B$21,2,FALSE))","v":""},null,null,null,null,null,null,null,null,null,null,null,null,null,null,null,null,null,null,null,null,null,"X"]
[{"$f":"IF(C99984=\"\",\"\",VLOOKUP(D99984,Lookup!$D$1:$E$1051,2,FALSE))","v":""},{"$f":"IF(C99984=\"\",\"\",VLOOKUP(U99984,Lookup!$A$1:$B$21,2,FALSE))","v":""},null,null,null,null,null,null,null,null,null,null,null,null,null,null,null,null,null,null,null,null,null,"X"]
[{"$f":"IF(C99985=\"\",\"\",VLOOKUP(D99985,Lookup!$D$1:$E$1051,2,FALSE))","v":""},{"$f":"IF(C99985=\"\",\"\",VLOOKUP(U99985,Lookup!$A$1:$B$21,2,FALSE))","v":""},null,null,null,null,null,null,null,null,null,null,null,null,null,null,null,null,null,null,null,null,null,"X"]
[{"$f":"IF(C99986=\"\",\"\",VLOOKUP(D99986,Lookup!$D$1:$E$1051,2,FALSE))","v":""},{"$f":"IF(C99986=\"\",\"\",VLOOKUP(U99986,Lookup!$A$1:$B$21,2,FALSE))","v":""},null,null,null,null,null,null,null,null,null,null,null,null,null,null,null,null,null,null,null,null,null,"X"]
[{"$f":"IF(C99987=\"\",\"\",VLOOKUP(D99987,Lookup!$D$1:$E$1051,2,FALSE))","v":""},{"$f":"IF(C99987=\"\",\"\",VLOOKUP(U99987,Lookup!$A$1:$B$21,2,FALSE))","v":""},null,null,null,null,null,null,null,null,null,null,null,null,null,null,null,null,null,null,null,null,null,"X"]
[{"$f":"IF(C99988=\"\",\"\",VLOOKUP(D99988,Lookup!$D$1:$E$1051,2,FALSE))","v":""},{"$f":"IF(C99988=\"\",\"\",VLOOKUP(U99988,Lookup!$A$1:$B$21,2,FALSE))","v":""},null,null,null,null,null,null,null,null,null,null,null,null,null,null,null,null,null,null,null,null,null,"X"]
[{"$f":"IF(C99989=\"\",\"\",VLOOKUP(D99989,Lookup!$D$1:$E$1051,2,FALSE))","v":""},{"$f":"IF(C99989=\"\",\"\",VLOOKUP(U99989,Lookup!$A$1:$B$21,2,FALSE))","v":""},null,null,null,null,null,null,null,null,null,null,null,null,null,null,null,null,null,null,null,null,null,"X"]
[{"$f":"IF(C99990=\"\",\"\",VLOOKUP(D99990,Lookup!$D$1:$E$1051,2,FALSE))","v":""},{"$f":"IF(C99990=\"\",\"\",VLOOKUP(U99990,Lookup!$A$1:$B$21,2,FALSE))","v":""},null,null,null,null,null,null,null,null,null,null,null,null,null,null,null,null,null,null,null,null,null,"X"]
[{"$f":"IF(C99991=\"\",\"\",VLOOKUP(D99991,Lookup!$D$1:$E$1051,2,FALSE))","v":""},{"$f":"IF(C99991=\"\",\"\",VLOOKUP(U99991,Lookup!$A$1:$B$21,2,FALSE))","v":""},null,null,null,null,null,null,null,null,null,null,null,null,null,null,null,null,null,null,null,null,null,"X"]
[{"$f":"IF(C99992=\"\",\"\",VLOOKUP(D99992,Lookup!$D$1:$E$1051,2,FALSE))","v":""},{"$f":"IF(C99992=\"\",\"\",VLOOKUP(U99992,Lookup!$A$1:$B$21,2,FALSE))","v":""},null,null,null,null,null,null,null,null,null,null,null,null,null,null,null,null,null,null,null,null,null,"X"]
[{"$f":"IF(C99993=\"\",\"\",VLOOKUP(D99993,Lookup!$D$1:$E$1051,2,FALSE))","v":""},{"$f":"IF(C99993=\"\",\"\",VLOOKUP(U99993,Lookup!$A$1:$B$21,2,FALSE))","v":""},null,null,null,null,null,null,null,null,null,null,null,null,null,null,null,null,null,null,null,null,null,"X"]
[{"$f":"IF(C99994=\"\",\"\",VLOOKUP(D99994,Lookup!$D$1:$E$1051,2,FALSE))","v":""},{"$f":"IF(C99994=\"\",\"\",VLOOKUP(U99994,Lookup!$A$1:$B$21,2,FALSE))","v":""},null,null,null,null,null,null,null,null,null,null,null,null,null,null,null,null,null,null,null,null,null,"X"]
[{"$f":"IF(C99995=\"\",\"\",VLOOKUP(D99995,Lookup!$D$1:$E$1051,2,FALSE))","v":""},{"$f":"IF(C99995=\"\",\"\",VLOOKUP(U99995,Lookup!$A$1:$B$21,2,FALSE))","v":""},null,null,null,null,null,null,null,null,null,null,null,null,null,null,null,null,null,null,null,null,null,"X"]
[{"$f":"IF(C99996=\"\",\"\",VLOOKUP(D99996,Lookup!$D$1:$E$1051,2,FALSE))","v":""},{"$f":"IF(C99996=\"\",\"\",VLOOKUP(U99996,Lookup!$A$1:$B$21,2,FALSE))","v":""},null,null,null,null,null,null,null,null,null,null,null,null,null,null,null,null,null,null,null,null,null,"X"]
[{"$f":"IF(C99997=\"\",\"\",VLOOKUP(D99997,Lookup!$D$1:$E$1051,2,FALSE))","v":""},{"$f":"IF(C99997=\"\",\"\",VLOOKUP(U99997,Lookup!$A$1:$B$21,2,FALSE))","v":""},null,null,null,null,null,null,null,null,null,null,null,null,null,null,null,null,null,null,null,null,null,"X"]
[{"$f":"IF(C99998=\"\",\"\",VLOOKUP(D99998,Lookup!$D$1:$E$1051,2,FALSE))","v":""},{"$f":"IF(C99998=\"\",\"\",VLOOKUP(U99998,Lookup!$A$1:$B$21,2,FALSE))","v":""},null,null,null,null,null,null,null,null,null,null,null,null,null,null,null,null,null,null,null,null,null,"X"]
[{"$f":"IF(C99999=\"\",\"\",VLOOKUP(D99999,Lookup!$D$1:$E$1051,2,FALSE))","v":""},{"$f":"IF(C99999=\"\",\"\",VLOOKUP(U99999,Lookup!$A$1:$B$21,2,FALSE))","v":""},null,null,null,null,null,null,null,null,null,null,null,null,null,null,null,null,null,null,null,null,null,"X"]
[{"$f":"IF(C100000=\"\",\"\",VLOOKUP(D100000,Lookup!$D$1:$E$1051,2,FALSE))","v":""},{"$f":"IF(C100000=\"\",\"\",VLOOKUP(U100000,Lookup!$A$1:$B$21,2,FALSE))","v":""},null,null,null,null,null,null,null,null,null,null,null,null,null,null,null,null,null,null,null,null,null,"X"]

{"sheet":"Lookup","index":1,"n_rows":1051,"n_cols":5,"rows_kept":1051,"cut":false,"hidden":true,"merged":[]}
["H In appropriate habitat","Possible",null,"Black-bellied Whistling-Duck","Black-bellied Whistling-Duck"]
["S Singing male","Possible",null,"Black-bellied Whistling-Duck (fulgens)","Black-bellied Whistling-Duck"]
["S7 Singing male Present 7+ days","Probable",null,"Black-bellied Whistling-Duck (autumnalis)","Black-bellied Whistling-Duck"]
["P Pair in Suitable Habitat","Probable",null,"West Indian Whistling-Duck","West Indian Whistling-Duck"]
["T Territorial Defense","Probable",null,"Fulvous Whistling-Duck","Fulvous Whistling-Duck"]
["C Courtship, Display, or Copulation","Probable",null,"Greater White-fronted Goose","Greater White-fronted Goose"]
["N Visiting {0} Nest Site","Probable",null,"Greater White-fronted Goose (Greenland)","Greater White-fronted Goose"]
["A Agitated Behavior","Probable",null,"Greater White-fronted Goose (Western)","Greater White-fronted Goose"]
["B Woodpecker/Wren Nest Building","Probable",null,"Greater White-fronted Goose (Tule)","Greater White-fronted Goose"]
["PE Physiological Evidence","Confirmed",null,"Greater White-fronted Goose (Eurasian)","Greater White-fronted Goose"]
["CN Carrying Nesting Material","Confirmed",null,"Snow Goose","Snow Goose"]
["NB Nest Building","Confirmed",null,"Ross's Goose","Ross's Goose"]
["DD Distraction Display","Confirmed",null,"Brant","Brant"]
["UN Used Nest (enter 0 if no birds seen)","Confirmed",null,"Brant (Atlantic)","Brant"]
["ON Occupied Nest","Confirmed",null,"Brant (Black)","Brant"]
["FL Recently Fledged Young","Confirmed",null,"Brant (Gray-bellied)","Brant"]
["CF Carrying Food","Confirmed",null,"Brant (Atlantic x Black)","Brant"]
["FY Feeding Young","Confirmed",null,"Barnacle Goose","Barnacle Goose"]
["FS Carrying Fecal Sac","Confirmed",null,"Cackling Goose","Cackling Goose"]
["NE Nest with Eggs","Confirmed",null,"Cackling Goose (Aleutian)","Cackling Goose"]
["NY Nest with Young","Confirmed",null,"Cackling Goose (Richardson's)","Cackling Goose"]
[null,null,null,"Cackling Goose (minima)","Cackling Goose"]
[null,null,null,"Cackling Goose (Taverner's)","Cackling Goose"]
[null,null,null,"Canada Goose","Canada Goose"]
[null,null,null,"Canada Goose (moffitti/maxima)","Canada Goose"]
[null,null,null,"Canada Goose (occidentalis/fulva)","Canada Goose"]
[null,null,null,"Canada Goose (canadensis/interior)","Canada Goose"]
[null,null,null,"Canada Goose (parvipes)","Canada Goose"]
[null,null,null,"Mute Swan","Mute Swan"]
[null,null,null,"Trumpeter Swan","Trumpeter Swan"]
[null,null,null,"Tundra Swan","Tundra Swan"]
[null,null,null,"Tundra Swan (Whistling)","Tundra Swan"]
[null,null,null,"Tundra Swan (Bewick's)","Tundra Swan"]
[null,null,null,"Tundra Swan (Whistling x Bewick's)","Tundra Swan"]
[null,null,null,"Wood Duck","Wood Duck"]
[null,null,null,"Gadwall","Gadwall"]
[null,null,null,"Gadwall (Common)","Gadwall"]
[null,null,null,"Gadwall (Coues's)","Gadwall"]
[null,null,null,"Eurasian Wigeon","Eurasian Wigeon"]
[null,null,null,"American Wigeon","American Wigeon"]
[null,null,null,"American Black Duck","American Black Duck"]
[null,null,null,"Mallard","Mallard"]
[null,null,null,"Mallard (Northern)","Mallard"]
[null,null,null,"Mallard (Mexican)","Mallard"]
[null,null,null,"Mallard (Mexican intergrade)","Mallard"]
[null,null,null,"Blue-winged Teal","Blue-winged Teal"]
[null,null,null,"Cinnamon Teal","Cinnamon Teal"]
[null,null,null,"Northern Shoveler","Northern Shoveler"]
[null,null,null,"White-cheeked Pintail","White-cheeked Pintail"]
[null,null,null,"White-cheeked Pintail (White-cheeked)","White-cheeked Pintail"]
[null,null,null,"White-cheeked Pintail (Galapagos)","White-cheeked Pintail"]
[null,null,null,"Northern Pintail","Northern Pintail"]
[null,null,null,"Garganey","Garganey"]
[null,null,null,"Green-winged Teal","Green-winged Teal"]
[null,null,null,"Green-winged Teal (Eurasian)","Green-winged Teal"]
[null,null,null,"Green-winged Teal (American)","Green-winged Teal"]
[null,null,null,"Green-winged Teal (intergrade)","Green-winged Teal"]
[null,null,null,"Canvasback","Canvasback"]
[null,null,null,"Redhead","Redhead"]
[null,null,null,"Ring-necked Duck","Ring-necked Duck"]
[null,null,null,"Tufted Duck","Tufted Duck"]
[null,null,null,"Greater Scaup","Greater Scaup"]
[null,null,null,"Lesser Scaup","Lesser Scaup"]
[null,null,null,"King Eider","King Eider"]
[null,null,null,"Common Eider","Common Eider"]
[null,null,null,"Common Eider (Eurasian)","Common Eider"]
[null,null,null,"Common Eider (Faeroe Is.)","Common Eider"]
[null,null,null,"Common Eider (Pacific)","Common Eider"]
[null,null,null,"Common Eider (Dresser's)","Common Eider"]
[null,null,null,"Common Eider (Northern)","Common Eider"]
[null,null,null,"Common Eider (Hudson Bay)","Common Eider"]
[null,null,null,"Harlequin Duck","Harlequin Duck"]
[null,null,null,"Surf Scoter","Surf Scoter"]
[null,null,null,"White-winged Scoter","White-winged Scoter"]
[null,null,null,"White-winged Scoter (Velvet)","White-winged Scoter"]
[null,null,null,"White-winged Scoter (Siberian)","White-winged Scoter"]
[null,null,null,"White-winged Scoter (North American)","White-winged Scoter"]
[null,null,null,"Black Scoter","Black Scoter"]
[null,null,null,"Long-tailed Duck","Long-tailed Duck"]
[null,null,null,"Bufflehead","Bufflehead"]
[null,null,null,"Common Goldeneye","Common Goldeneye"]
[null,null,null,"Barrow's Goldeneye","Barrow's Goldeneye"]
[null,null,null,"Hooded Merganser","Hooded Merganser"]
[null,null,null,"Common Merganser","Common Merganser"]
[null,null,null,"Common Merganser (Eurasian)","Common Merganser"]
[null,null,null,"Common Merganser (North American)","Common Merganser"]
[null,null,null,"Red-breasted Merganser","Red-breasted Merganser"]
[null,null,null,"Ruddy Duck","Ruddy Duck"]
[null,null,null,"Ruddy Duck (Ruddy)","Ruddy Duck"]
[null,null,null,"Ruddy Duck (Andean)","Ruddy Duck"]
[null,null,null,"Northern Bobwhite","Northern Bobwhite"]
[null,null,null,"Northern Bobwhite (Eastern)","Northern Bobwhite"]
[null,null,null,"Northern Bobwhite (graysoni)","Northern Bobwhite"]
[null,null,null,"Northern Bobwhite (pectoralis)","Northern Bobwhite"]
[null,null,null,"Northern Bobwhite (Masked)","Northern Bobwhite"]
[null,null,null,"Ring-necked Pheasant","Ring-necked Pheasant"]
[null,null,null,"Ring-necked Pheasant (Ring-necked)","Ring-necked Pheasant"]
[null,null,null,"Ring-necked Pheasant (Green)","Ring-necked Pheasant"]
[null,null,null,"Ruffed Grouse","Ruffed Grouse"]
[null,null,null,"Wild Turkey","Wild Turkey"]
[null,null,null,"Red-throated Loon","Red-throated Loon"]
[null,null,null,"Pacific Loon","Pacific Loon"]
[null,null,null,"Common Loon","Common Loon"]
[null,null,null,"Pied-billed Grebe","Pied-billed Grebe"]
[null,null,null,"Horned Grebe","Horned Grebe"]
[null,null,null,"Red-necked Grebe","Red-necked Grebe"]
[null,null,null,"Eared Grebe","Eared Grebe"]
[null,null,null,"Western Grebe","Western Grebe"]
[null,null,null,"Clark's Grebe","Clark's Grebe"]
[null,null,null,"American Flamingo","American Flamingo"]
[null,null,null,"Yellow-nosed Albatross","Yellow-nosed Albatross"]
[null,null,null,"Yellow-nosed Albatross (Atlantic)","Yellow-nosed Albatross"]
[null,null,null,"Yellow-nosed Albatross (Indian)","Yellow-nosed Albatross"]
[null,null,null,"Black-browed Albatross","Black-browed Albatross"]
[null,null,null,"Black-browed Albatross (Black-browed)","Black-browed Albatross"]
[null,null,null,"Black-browed Albatross (Campbell)","Black-browed Albatross"]
[null,null,null,"Northern Fulmar","Northern Fulmar"]
[null,null,null,"Northern Fulmar (glacialis)","Northern Fulmar"]
[null,null,null,"Northern Fulmar (auduboni)","Northern Fulmar"]
[null,null,null,"Northern Fulmar (rodgersii)","Northern Fulmar"]
[null,null,null,"Trindade Petrel","Trindade Petrel"]
[null,null,null,"Fea's Petrel","Fea's Petrel"]
[null,null,null,"Fea's Petrel (Fea's)","Fea's Petrel"]
[null,null,null,"Fea's Petrel (Desertas)","Fea's Petrel"]
[null,null,null,"Bermuda Petrel","Bermuda Petrel"]
[null,null,null,"Black-capped Petrel","Black-capped Petrel"]
[null,null,null,"Black-capped Petrel (hasitata)","Black-capped Petrel"]
[null,null,null,"Black-capped Petrel (Jamaican)","Black-capped Petrel"]
[null,null,null,"Black-capped Petrel (White-faced)","Black-capped Petrel"]
[null,null,null,"Black-capped Petrel (Dark-faced)","Black-capped Petrel"]
[null,null,null,"Bulwer's Petrel","Bulwer's Petrel"]
[null,null,null,"Cory's Shearwater","Cory's Shearwater"]
[null,null,null,"Cory's Shearwater (Scopoli's)","Cory's Shearwater"]
[null,null,null,"Cory's Shearwater (borealis)","Cory's Shearwater"]
[null,null,null,"Great Shearwater","Great Shearwater"]
[null,null,null,"Sooty Shearwater","Sooty Shearwater"]
[null,null,null,"Manx Shearwater","Manx Shearwater"]
[null,null,null,"Audubon's Shearwater","Audubon's Shearwater"]
[null,null,null,"Wilson's Storm-Petrel","Wilson's Storm-Petrel"]
[null,null,null,"Wilson's Storm-Petrel (Wilson's)","Wilson's Storm-Petrel"]
[null,null,null,"Wilson's Storm-Petrel (Fuegian)","Wilson's Storm-Petrel"]
[null,null,null,"White-faced Storm-Petrel","White-faced Storm-Petrel"]
[null,null,null,"Leach's Storm-Petrel","Leach's Storm-Petrel"]
[null,null,null,"Leach's Storm-Petrel (Leach's)","Leach's Storm-Petrel"]
[null,null,null,"Leach's Storm-Petrel (Chapman's)","Leach's Storm-Petrel"]
[null,null,null,"Band-rumped Storm-Petrel","Band-rumped Storm-Petrel"]
[null,null,null,"Band-rumped Storm-Petrel (Madeiran)","Band-rumped Storm-Petrel"]
[null,null,null,"Band-rumped Storm-Petrel (Grant's)","Band-rumped Storm-Petrel"]
[null,null,null,"Band-rumped Storm-Petrel (Darwin's)","Band-rumped Storm-Petrel"]
[null,null,null,"White-tailed Tropicbird","White-tailed Tropicbird"]
[null,null,null,"White-tailed Tropicbird (Indian Ocean)","White-tailed Tropicbird"]
[null,null,null,"White-tailed Tropicbird (Golden)","White-tailed Tropicbird"]
[null,null,null,"White-tailed Tropicbird (Europa I.)","White-tailed Tropicbird"]
[null,null,null,"White-tailed Tropicbird (Atlantic)","White-tailed Tropicbird"]
[null,null,null,"White-tailed Tropicbird (Pacific)","White-tailed Tropicbird"]
[null,null,null,"White-tailed Tropicbird (Ascension)","White-tailed Tropicbird"]
[null,null,null,"Red-billed Tropicbird","Red-billed Tropicbird"]
[null,null,null,"Wood Stork","Wood Stork"]
[null,null,null,"Magnificent Frigatebird","Magnificent Frigatebird"]
[null,null,null,"Brown Booby","Brown Booby"]
[null,null,null,"Brown Booby (Brewster's)","Brown Booby"]
[null,null,null,"Brown Booby (Atlantic)","Brown Booby"]
[null,null,null,"Brown Booby (Forster's)","Brown Booby"]
[null,null,null,"Brown Booby (Colombian)","Brown Booby"]
[null,null,null,"Northern Gannet","Northern Gannet"]
[null,null,null,"Great Cormorant","Great Cormorant"]
[null,null,null,"Great Cormorant (North Atlantic)","Great Cormorant"]
[null,null,null,"Great Cormorant (Australasian)","Great Cormorant"]
[null,null,null,"Great Cormorant (Eurasian)","Great Cormorant"]
[null,null,null,"Great Cormorant (Moroccan)","Great Cormorant"]
[null,null,null,"Great Cormorant (White-breasted)","Great Cormorant"]
[null,null,null,"Neotropic Cormorant","Neotropic Cormorant"]
[null,null,null,"Double-crested Cormorant","Double-crested Cormorant"]
[null,null,null,"Anhinga","Anhinga"]
[null,null,null,"American White Pelican","American White Pelican"]
[null,null,null,"Brown Pelican","Brown Pelican"]
[null,null,null,"Brown Pelican (Atlantic)","Brown Pelican"]
[null,null,null,"Brown Pelican (California)","Brown Pelican"]
[null,null,null,"Brown Pelican (Southern)","Brown Pelican"]
[null,null,null,"American Bittern","American Bittern"]
[null,null,null,"Least Bittern","Least Bittern"]
[null,null,null,"Great Blue Heron","Great Blue Heron"]
[null,null,null,"Great Blue Heron (Blue form)","Great Blue Heron"]
[null,null,null,"Great Blue Heron (White form)","Great Blue Heron"]
[null,null,null,"Great Blue Heron (Wurdemann's)","Great Blue Heron"]
[null,null,null,"Great Egret","Great Egret"]
[null,null,null,"Great Egret (Eurasian)","Great Egret"]
[null,null,null,"Great Egret (African)","Great Egret"]
[null,null,null,"Great Egret (American)","Great Egret"]
[null,null,null,"Great Egret (Australasian)","Great Egret"]
[null,null,null,"Little Egret","Little Egret"]
[null,null,null,"Little Egret (Western)","Little Egret"]
[null,null,null,"Little Egret (Australasian)","Little Egret"]
[null,null,null,"Little Egret (Dimorphic)","Little Egret"]
[null,null,null,"Snowy Egret","Snowy Egret"]
[null,null,null,"Little Blue Heron","Little Blue Heron"]
[null,null,null,"Tricolored Heron","Tricolored Heron"]
[null,null,null,"Reddish Egret","Reddish Egret"]
[null,null,null,"Cattle Egret","Cattle Egret"]
[null,null,null,"Cattle Egret (Western)","Cattle Egret"]
[null,null,null,"Cattle Egret (Eastern)","Cattle Egret"]
[null,null,null,"Green Heron","Green Heron"]
[null,null,null,"Green Heron (virescens/bahamensis)","Green Heron"]
[null,null,null,"Green Heron (anthonyi)","Green Heron"]
[null,null,null,"Green Heron (frazari)","Green Heron"]
[null,null,null,"Black-crowned Night-Heron","Black-crowned Night-Heron"]
[null,null,null,"Black-crowned Night-Heron (Eurasian)","Black-crowned Night-Heron"]
[null,null,null,"Black-crowned Night-Heron (American)","Black-crowned Night-Heron"]
[null,null,null,"Black-crowned Night-Heron (Dusky)","Black-crowned Night-Heron"]
[null,null,null,"Black-crowned Night-Heron (Falklands)","Black-crowned Night-Heron"]
[null,null,null,"Yellow-crowned Night-Heron","Yellow-crowned Night-Heron"]
[null,null,null,"Yellow-crowned Night-Heron (Yellow-crowned)","Yellow-crowned Night-Heron"]
[null,null,null,"Yellow-crowned Night-Heron (Galapagos)","Yellow-crowned Night-Heron"]
[null,null,null,"White Ibis","White Ibis"]
[null,null,null,"Glossy Ibis","Glossy Ibis"]
[null,null,null,"White-faced Ibis","White-faced Ibis"]
[null,null,null,"Roseate Spoonbill","Roseate Spoonbill"]
[null,null,null,"Black Vulture","Black Vulture"]
[null,null,null,"Turkey Vulture","Turkey Vulture"]
[null,null,null,"Turkey Vulture (Northern)","Turkey Vulture"]
[null,null,null,"Turkey Vulture (Tropical)","Turkey Vulture"]
[null,null,null,"Turkey Vulture (South Temperate)","Turkey Vulture"]
[null,null,null,"Osprey","Osprey"]
[null,null,null,"Osprey (haliaetus)","Osprey"]
[null,null,null,"Osprey (carolinensis)","Osprey"]
[null,null,null,"Osprey (ridgwayi)","Osprey"]
[null,null,null,"Osprey (Australasian)","Osprey"]
[null,null,null,"White-tailed Kite","White-tailed Kite"]
[null,null,null,"Swallow-tailed Kite","Swallow-tailed Kite"]
[null,null,null,"Golden Eagle","Golden Eagle"]
[null,null,null,"Mississippi Kite","Mississippi Kite"]
[null,null,null,"Eurasian Marsh-Harrier","Eurasian Marsh-Harrier"]
[null,null,null,"Northern Harrier","Northern Harrier"]
[null,null,null,"Northern Harrier (Eurasian)","Northern Harrier"]
[null,null,null,"Northern Harrier (American)","Northern Harrier"]
[null,null,null,"Sharp-shinned Hawk","Sharp-shinned Hawk"]
[null,null,null,"Sharp-shinned Hawk (Caribbean)","Sharp-shinned Hawk"]
[null,null,null,"Sharp-shinned Hawk (Northern)","Sharp-shinned Hawk"]
[null,null,null,"Sharp-shinned Hawk (White-breasted)","Sharp-shinned Hawk"]
[null,null,null,"Sharp-shinned Hawk (Plain-breasted)","Sharp-shinned Hawk"]
[null,null,null,"Sharp-shinned Hawk (Rufous-thighed)","Sharp-shinned Hawk"]
[null,null,null,"Cooper's Hawk","Cooper's Hawk"]
[null,null,null,"Northern Goshawk","Northern Goshawk"]
[null,null,null,"Northern Goshawk (Eurasian)","Northern Goshawk"]
[null,null,null,"Northern Goshawk (American)","Northern Goshawk"]
[null,null,null,"Bald Eagle","Bald Eagle"]
[null,null,null,"Red-shouldered Hawk","Red-shouldered Hawk"]
[null,null,null,"Red-shouldered Hawk (lineatus Group)","Red-shouldered Hawk"]
[null,null,null,"Red-shouldered Hawk (extimus)","Red-shouldered Hawk"]
[null,null,null,"Red-shouldered Hawk (elegans)","Red-shouldered Hawk"]
[null,null,null,"Broad-winged Hawk","Broad-winged Hawk"]
[null,null,null,"Broad-winged Hawk (Northern)","Broad-winged Hawk"]
[null,null,null,"Broad-winged Hawk (Caribbean)","Broad-winged Hawk"]
[null,null,null,"Swainson's Hawk","Swainson's Hawk"]
[null,null,null,"Zone-tailed Hawk","Zone-tailed Hawk"]
[null,null,null,"Red-tailed Hawk","Red-tailed Hawk"]
[null,null,null,"Red-tailed Hawk (calurus/alascensis)","Red-tailed Hawk"]
[null,null,null,"Red-tailed Hawk (borealis)","Red-tailed Hawk"]
[null,null,null,"Red-tailed Hawk (abieticola)","Red-tailed Hawk"]
[null,null,null,"Red-tailed Hawk (Harlan's)","Red-tailed Hawk"]
[null,null,null,"Red-tailed Hawk (Krider's)","Red-tailed Hawk"]
[null,null,null,"Red-tailed Hawk (fuertesi)","Red-tailed Hawk"]
[null,null,null,"Red-tailed Hawk (kemsiesi/hadropus)","Red-tailed Hawk"]
[null,null,null,"Red-tailed Hawk (costaricensis)","Red-tailed Hawk"]
[null,null,null,"Red-tailed Hawk (fumosus)","Red-tailed Hawk"]
[null,null,null,"Red-tailed Hawk (socorroensis)","Red-tailed Hawk"]
[null,null,null,"Red-tailed Hawk (umbrinus)","Red-tailed Hawk"]
[null,null,null,"Red-tailed Hawk (jamaicensis)","Red-tailed Hawk"]
[null,null,null,"Red-tailed Hawk (solitudinis)","Red-tailed Hawk"]
[null,null,null,"Rough-legged Hawk","Rough-legged Hawk"]
[null,null,null,"Ferruginous Hawk","Ferruginous Hawk"]
[null,null,null,"Yellow Rail","Yellow Rail"]
[null,null,null,"Yellow Rail (Northern)","Yellow Rail"]
[null,null,null,"Yellow Rail (Goldman's)","Yellow Rail"]
[null,null,null,"Black Rail","Black Rail"]
[null,null,null,"Black Rail (Northern)","Black Rail"]
[null,null,null,"Black Rail (Southern South America)","Black Rail"]
[null,null,null,"Black Rail (Junin)","Black Rail"]
[null,null,null,"King Rail","King Rail"]
[null,null,null,"King Rail (Northern)","King Rail"]
[null,null,null,"King Rail (Cuban)","King Rail"]
[null,null,null,"Clapper Rail","Clapper Rail"]
[null,null,null,"Clapper Rail (Atlantic Coast)","Clapper Rail"]
[null,null,null,"Clapper Rail (Gulf Coast)","Clapper Rail"]
[null,null,null,"Clapper Rail (Caribbean)","Clapper Rail"]
[null,null,null,"Clapper Rail (Yucatan)","Clapper Rail"]
[null,null,null,"Virginia Rail","Virginia Rail"]
[null,null,null,"Virginia Rail (Virginia)","Virginia Rail"]
[null,null,null,"Virginia Rail (Ecuadorian)","Virginia Rail"]
[null,null,null,"Sora","Sora"]
[null,null,null,"Paint-billed Crake","Paint-billed Crake"]
[null,null,null,"Purple Gallinule","Purple Gallinule"]
[null,null,null,"Common Gallinule","Common Gallinule"]
[null,null,null,"Common Gallinule (American)","Common Gallinule"]
[null,null,null,"Common Gallinule (Altiplano)","Common Gallinule"]
[null,null,null,"Common Gallinule (Hawaiian)","Common Gallinule"]
[null,null,null,"American Coot","American Coot"]
[null,null,null,"American Coot (Red-shielded)","American Coot"]
[null,null,null,"American Coot (White-shielded)","American Coot"]
[null,null,null,"Limpkin","Limpkin"]
[null,null,null,"Limpkin (Speckled)","Limpkin"]
[null,null,null,"Limpkin (Brown-backed)","Limpkin"]
[null,null,null,"Sandhill Crane","Sandhill Crane"]
[null,null,null,"Sandhill Crane (canadensis)","Sandhill Crane"]
[null,null,null,"Sandhill Crane (tabida/rowani)","Sandhill Crane"]
[null,null,null,"Sandhill Crane (pulla)","Sandhill Crane"]
[null,null,null,"Sandhill Crane (pratensis)","Sandhill Crane"]
[null,null,null,"Sandhill Crane (nesiotes)","Sandhill Crane"]
[null,null,null,"Black-necked Stilt","Black-necked Stilt"]
[null,null,null,"Black-necked Stilt (Black-necked)","Black-necked Stilt"]
[null,null,null,"Black-necked Stilt (Hawaiian)","Black-necked Stilt"]
[null,null,null,"Black-necked Stilt (White-backed)","Black-necked Stilt"]
[null,null,null,"Black-necked Stilt (Black-necked x White-backed)","Black-necked Stilt"]
[null,null,null,"American Avocet","American Avocet"]
[null,null,null,"American Oystercatcher","American Oystercatcher"]
[null,null,null,"Black-bellied Plover","Black-bellied Plover"]
[null,null,null,"American Golden-Plover","American Golden-Plover"]
[null,null,null,"Northern Lapwing","Northern Lapwing"]
[null,null,null,"Lesser Sand-Plover","Lesser Sand-Plover"]
[null,null,null,"Lesser Sand-Plover (Tibetan)","Lesser Sand-Plover"]
[null,null,null,"Lesser Sand-Plover (Mongolian)","Lesser Sand-Plover"]
[null,null,null,"Snowy Plover","Snowy Plover"]
[null,null,null,"Snowy Plover (nivosus)","Snowy Plover"]
[null,null,null,"Snowy Plover (occidentalis)","Snowy Plover"]
[null,null,null,"Wilson's Plover","Wilson's Plover"]
[null,null,null,"Semipalmated Plover","Semipalmated Plover"]
[null,null,null,"Piping Plover","Piping Plover"]
[null,null,null,"Killdeer","Killdeer"]
[null,null,null,"Mountain Plover","Mountain Plover"]
[null,null,null,"Upland Sandpiper","Upland Sandpiper"]
[null,null,null,"Whimbrel","Whimbrel"]
[null,null,null,"Whimbrel (European)","Whimbrel"]
[null,null,null,"Whimbrel (Steppe)","Whimbrel"]
[null,null,null,"Whimbrel (Siberian)","Whimbrel"]
[null,null,null,"Whimbrel (White-rumped)","Whimbrel"]
[null,null,null,"Whimbrel (Hudsonian)","Whimbrel"]
[null,null,null,"Long-billed Curlew","Long-billed Curlew"]
[null,null,null,"Black-tailed Godwit","Black-tailed Godwit"]
[null,null,null,"Black-tailed Godwit (islandica)","Black-tailed Godwit"]
[null,null,null,"Black-tailed Godwit (limosa)","Black-tailed Godwit"]
[null,null,null,"Black-tailed Godwit (melanuroides)","Black-tailed Godwit"]
[null,null,null,"Hudsonian Godwit","Hudsonian Godwit"]
[null,null,null,"Bar-tailed Godwit","Bar-tailed Godwit"]
[null,null,null,"Bar-tailed Godwit (European)","Bar-tailed Godwit"]
[null,null,null,"Bar-tailed Godwit (Siberian)","Bar-tailed Godwit"]
[null,null,null,"Marbled Godwit","Marbled Godwit"]
[null,null,null,"Ruddy Turnstone","Ruddy Turnstone"]
[null,null,null,"Red Knot","Red Knot"]
[null,null,null,"Ruff","Ruff"]
[null,null,null,"Sharp-tailed Sandpiper","Sharp-tailed Sandpiper"]
[null,null,null,"Stilt Sandpiper","Stilt Sandpiper"]
[null,null,null,"Curlew Sandpiper","Curlew Sandpiper"]
[null,null,null,"Red-necked Stint","Red-necked Stint"]
[null,null,null,"Sanderling","Sanderling"]
[null,null,null,"Dunlin","Dunlin"]
[null,null,null,"Dunlin (pacifica/arcticola)","Dunlin"]
[null,null,null,"Dunlin (hudsonia)","Dunlin"]
[null,null,null,"Dunlin (arctica)","Dunlin"]
[null,null,null,"Dunlin (schinzii)","Dunlin"]
[null,null,null,"Dunlin (alpina)","Dunlin"]
[null,null,null,"Dunlin (sakhalina Group)","Dunlin"]
[null,null,null,"Purple Sandpiper","Purple Sandpiper"]
[null,null,null,"Baird's Sandpiper","Baird's Sandpiper"]
[null,null,null,"Least Sandpiper","Least Sandpiper"]
[null,null,null,"White-rumped Sandpiper","White-rumped Sandpiper"]
[null,null,null,"Buff-breasted Sandpiper","Buff-breasted Sandpiper"]
[null,null,null,"Pectoral Sandpiper","Pectoral Sandpiper"]
[null,null,null,"Semipalmated Sandpiper","Semipalmated Sandpiper"]
[null,null,null,"Western Sandpiper","Western Sandpiper"]
[null,null,null,"Short-billed Dowitcher","Short-billed Dowitcher"]
[null,null,null,"Short-billed Dowitcher (griseus)","Short-billed Dowitcher"]
[null,null,null,"Short-billed Dowitcher (hendersoni)","Short-billed Dowitcher"]
[null,null,null,"Short-billed Dowitcher (caurinus)","Short-billed Dowitcher"]
[null,null,null,"Long-billed Dowitcher","Long-billed Dowitcher"]
[null,null,null,"Wilson's Snipe","Wilson's Snipe"]
[null,null,null,"Eurasian Woodcock","Eurasian Woodcock"]
[null,null,null,"American Woodcock","American Woodcock"]
[null,null,null,"Terek Sandpiper","Terek Sandpiper"]
[null,null,null,"Wilson's Phalarope","Wilson's Phalarope"]
[null,null,null,"Red-necked Phalarope","Red-necked Phalarope"]
[null,null,null,"Red Phalarope","Red Phalarope"]
[null,null,null,"Spotted Sandpiper","Spotted Sandpiper"]
[null,null,null,"Solitary Sandpiper","Solitary Sandpiper"]
[null,null,null,"Solitary Sandpiper (solitaria)","Solitary Sandpiper"]
[null,null,null,"Solitary Sandpiper (cinnamomea)","Solitary Sandpiper"]
[null,null,null,"Greater Yellowlegs","Greater Yellowlegs"]
[null,null,null,"Willet","Willet"]
[null,null,null,"Willet (Eastern)","Willet"]
[null,null,null,"Willet (Western)","Willet"]
[null,null,null,"Lesser Yellowlegs","Lesser Yellowlegs"]
[null,null,null,"Great Skua","Great Skua"]
[null,null,null,"South Polar Skua","South Polar Skua"]
[null,null,null,"Pomarine Jaeger","Pomarine Jaeger"]
[null,null,null,"Parasitic Jaeger","Parasitic Jaeger"]
[null,null,null,"Long-tailed Jaeger","Long-tailed Jaeger"]
[null,null,null,"Dovekie","Dovekie"]
[null,null,null,"Common Murre","Common Murre"]
[null,null,null,"Thick-billed Murre","Thick-billed Murre"]
[null,null,null,"Razorbill","Razorbill"]
[null,null,null,"Black Guillemot","Black Guillemot"]
[null,null,null,"Black Guillemot (grylle Group)","Black Guillemot"]
[null,null,null,"Ancient Murrelet","Ancient Murrelet"]
[null,null,null,"Atlantic Puffin","Atlantic Puffin"]
[null,null,null,"Black-legged Kittiwake","Black-legged Kittiwake"]
[null,null,null,"Black-legged Kittiwake (tridactyla)","Black-legged Kittiwake"]
[null,null,null,"Black-legged Kittiwake (pollicaris)","Black-legged Kittiwake"]
[null,null,null,"Sabine's Gull","Sabine's Gull"]
[null,null,null,"Bonaparte's Gull","Bonaparte's Gull"]
[null,null,null,"Black-headed Gull","Black-headed Gull"]
[null,null,null,"Little Gull","Little Gull"]
[null,null,null,"Laughing Gull","Laughing Gull"]
[null,null,null,"Franklin's Gull","Franklin's Gull"]
[null,null,null,"Black-tailed Gull","Black-tailed Gull"]
[null,null,null,"Heermann's Gull","Heermann's Gull"]
[null,null,null,"Mew Gull","Mew Gull"]
[null,null,null,"Mew Gull (European)","Mew Gull"]
[null,null,null,"Mew Gull (Russian)","Mew Gull"]
[null,null,null,"Mew Gull (Kamchatka)","Mew Gull"]
[null,null,null,"Mew Gull (American)","Mew Gull"]
[null,null,null,"Ring-billed Gull","Ring-billed Gull"]
[null,null,null,"California Gull","California Gull"]
[null,null,null,"Herring Gull","Herring Gull"]
[null,null,null,"Herring Gull (American)","Herring Gull"]
[null,null,null,"Herring Gull (Vega)","Herring Gull"]
[null,null,null,"Herring Gull (Mongolian)","Herring Gull"]
[null,null,null,"Herring Gull (European)","Herring Gull"]
[null,null,null,"Yellow-legged Gull","Yellow-legged Gull"]
[null,null,null,"Yellow-legged Gull (atlantis)","Yellow-legged Gull"]
[null,null,null,"Yellow-legged Gull (michahellis)","Yellow-legged Gull"]
[null,null,null,"Thayer's Gull","Thayer's Gull"]
[null,null,null,"Iceland Gull","Iceland Gull"]
[null,null,null,"Iceland Gull (kumlieni)","Iceland Gull"]
[null,null,null,"Iceland Gull (glaucoides)","Iceland Gull"]
[null,null,null,"Lesser Black-backed Gull","Lesser Black-backed Gull"]
[null,null,null,"Lesser Black-backed Gull (fuscus)","Lesser Black-backed Gull"]
[null,null,null,"Lesser Black-backed Gull (intermedius)","Lesser Black-backed Gull"]
[null,null,null,"Lesser Black-backed Gull (graellsii)","Lesser Black-backed Gull"]
[null,null,null,"Lesser Black-backed Gull (Heuglin's)","Lesser Black-backed Gull"]
[null,null,null,"Lesser Black-backed Gull (Steppe)","Lesser Black-backed Gull"]
[null,null,null,"Lesser Black-backed Gull (taimyrensis)","Lesser Black-backed Gull"]
[null,null,null,"Glaucous Gull","Glaucous Gull"]
[null,null,null,"Great Black-backed Gull","Great Black-backed Gull"]
[null,null,null,"Brown Noddy","Brown Noddy"]
[null,null,null,"Sooty Tern","Sooty Tern"]
[null,null,null,"Bridled Tern","Bridled Tern"]
[null,null,null,"Least Tern","Least Tern"]
[null,null,null,"Gull-billed Tern","Gull-billed Tern"]
[null,null,null,"Gull-billed Tern (Gull-billed)","Gull-billed Tern"]
[null,null,null,"Gull-billed Tern (Australian)","Gull-billed Tern"]
[null,null,null,"Caspian Tern","Caspian Tern"]
[null,null,null,"Black Tern","Black Tern"]
[null,null,null,"Black Tern (Eurasian)","Black Tern"]
[null,null,null,"Black Tern (American)","Black Tern"]
[null,null,null,"White-winged Tern","White-winged Tern"]
[null,null,null,"Roseate Tern","Roseate Tern"]
[null,null,null,"Common Tern","Common Tern"]
[null,null,null,"Common Tern (hirundo)","Common Tern"]
[null,null,null,"Common Tern (longipennis)","Common Tern"]
[null,null,null,"Arctic Tern","Arctic Tern"]
[null,null,null,"Forster's Tern","Forster's Tern"]
[null,null,null,"Royal Tern","Royal Tern"]
[null,null,null,"Royal Tern (African)","Royal Tern"]
[null,null,null,"Royal Tern (American)","Royal Tern"]
[null,null,null,"Sandwich Tern","Sandwich Tern"]
[null,null,null,"Sandwich Tern (Eurasian)","Sandwich Tern"]
[null,null,null,"Sandwich Tern (Cabot's)","Sandwich Tern"]
[null,null,null,"Sandwich Tern (Cayenne)","Sandwich Tern"]
[null,null,null,"Sandwich Tern (Cabot's x Cayenne)","Sandwich Tern"]
[null,null,null,"Elegant Tern","Elegant Tern"]
[null,null,null,"Black Skimmer","Black Skimmer"]
[null,null,null,"Black Skimmer (niger)","Black Skimmer"]
[null,null,null,"Black Skimmer (cinerascens)","Black Skimmer"]
[null,null,null,"Black Skimmer (intercedens)","Black Skimmer"]
[null,null,null,"Rock Pigeon (Feral Pigeon)","Rock Pigeon (Feral Pigeon)"]
[null,null,null,"White-crowned Pigeon","White-crowned Pigeon"]
[null,null,null,"Eurasian Collared-Dove","Eurasian Collared-Dove"]
[null,null,null,"Common Ground-Dove","Common Ground-Dove"]
[null,null,null,"White-winged Dove","White-winged Dove"]
[null,null,null,"Mourning Dove","Mourning Dove"]
[null,null,null,"Mourning Dove (Caribbean)","Mourning Dove"]
[null,null,null,"Mourning Dove (Mainland)","Mourning Dove"]
[null,null,null,"Groove-billed Ani","Groove-billed Ani"]
[null,null,null,"Yellow-billed Cuckoo","Yellow-billed Cuckoo"]
[null,null,null,"Black-billed Cuckoo","Black-billed Cuckoo"]
[null,null,null,"Barn Owl","Barn Owl"]
[null,null,null,"Barn Owl (Eurasian)","Barn Owl"]
[null,null,null,"Barn Owl (Madeiran)","Barn Owl"]
[null,null,null,"Barn Owl (Canary Islands)","Barn Owl"]
[null,null,null,"Barn Owl (African)","Barn Owl"]
[null,null,null,"Barn Owl (Bioko)","Barn Owl"]
[null,null,null,"Barn Owl (Cape Verde)","Barn Owl"]
[null,null,null,"Barn Owl (Sao Tome)","Barn Owl"]
[null,null,null,"Barn Owl (Boang)","Barn Owl"]
[null,null,null,"Barn Owl (Australian)","Barn Owl"]
[null,null,null,"Barn Owl (American)","Barn Owl"]
[null,null,null,"Barn Owl (Curacao)","Barn Owl"]
[null,null,null,"Barn Owl (Lesser Antilles)","Barn Owl"]
[null,null,null,"Barn Owl (Galapagos)","Barn Owl"]
[null,null,null,"Eastern Screech-Owl","Eastern Screech-Owl"]
[null,null,null,"Eastern Screech-Owl (Northern)","Eastern Screech-Owl"]
[null,null,null,"Eastern Screech-Owl (McCall's)","Eastern Screech-Owl"]
[null,null,null,"Great Horned Owl","Great Horned Owl"]
[null,null,null,"Great Horned Owl (Great Horned)","Great Horned Owl"]
[null,null,null,"Great Horned Owl (Magellanic)","Great Horned Owl"]
[null,null,null,"Snowy Owl","Snowy Owl"]
[null,null,null,"Burrowing Owl","Burrowing Owl"]
[null,null,null,"Burrowing Owl (Western)","Burrowing Owl"]
[null,null,null,"Burrowing Owl (Florida)","Burrowing Owl"]
[null,null,null,"Barred Owl","Barred Owl"]
[null,null,null,"Barred Owl (Northern)","Barred Owl"]
[null,null,null,"Barred Owl (Cinereous)","Barred Owl"]
[null,null,null,"Long-eared Owl","Long-eared Owl"]
[null,null,null,"Long-eared Owl (American)","Long-eared Owl"]
[null,null,null,"Long-eared Owl (Eurasian)","Long-eared Owl"]
[null,null,null,"Short-eared Owl","Short-eared Owl"]
[null,null,null,"Short-eared Owl (Northern)","Short-eared Owl"]
[null,null,null,"Short-eared Owl (Pohnpei)","Short-eared Owl"]
[null,null,null,"Short-eared Owl (Hawaiian)","Short-eared Owl"]
[null,null,null,"Short-eared Owl (Antillean)","Short-eared Owl"]
[null,null,null,"Short-eared Owl (Galapagos)","Short-eared Owl"]
[null,null,null,"Short-eared Owl (South American)","Short-eared Owl"]
[null,null,null,"Northern Saw-whet Owl","Northern Saw-whet Owl"]
[null,null,null,"Common Nighthawk","Common Nighthawk"]
[null,null,null,"Chuck-will's-widow","Chuck-will's-widow"]
[null,null,null,"Eastern Whip-poor-will","Eastern Whip-poor-will"]
[null,null,null,"Chimney Swift","Chimney Swift"]
[null,null,null,"Magnificent Hummingbird","Magnificent Hummingbird"]
[null,null,null,"Magnificent Hummingbird (Rivoli's)","Magnificent Hummingbird"]
[null,null,null,"Magnificent Hummingbird (Admirable)","Magnificent Hummingbird"]
[null,null,null,"Ruby-throated Hummingbird","Ruby-throated Hummingbird"]
[null,null,null,"Black-chinned Hummingbird","Black-chinned Hummingbird"]
[null,null,null,"Rufous Hummingbird","Rufous Hummingbird"]
[null,null,null,"Allen's Hummingbird","Allen's Hummingbird"]
[null,null,null,"Calliope Hummingbird","Calliope Hummingbird"]
[null,null,null,"Violet-crowned Hummingbird","Violet-crowned Hummingbird"]
[null,null,null,"Belted Kingfisher","Belted Kingfisher"]
[null,null,null,"Lewis's Woodpecker","Lewis's Woodpecker"]
[null,null,null,"Red-headed Woodpecker","Red-headed Woodpecker"]
[null,null,null,"Red-bellied Woodpecker","Red-bellied Woodpecker"]
[null,null,null,"Yellow-bellied Sapsucker","Yellow-bellied Sapsucker"]
[null,null,null,"Downy Woodpecker","Downy Woodpecker"]
[null,null,null,"Downy Woodpecker (Eastern)","Downy Woodpecker"]
[null,null,null,"Downy Woodpecker (Rocky Mts.)","Downy Woodpecker"]
[null,null,null,"Downy Woodpecker (Pacific)","Downy Woodpecker"]
[null,null,null,"Hairy Woodpecker","Hairy Woodpecker"]
[null,null,null,"Hairy Woodpecker (Eastern)","Hairy Woodpecker"]
[null,null,null,"Hairy Woodpecker (Pacific)","Hairy Woodpecker"]
[null,null,null,"Hairy Woodpecker (Rocky Mts.)","Hairy Woodpecker"]
[null,null,null,"Hairy Woodpecker (South Mexican)","Hairy Woodpecker"]
[null,null,null,"Hairy Woodpecker (Costa RIcan)","Hairy Woodpecker"]
[null,null,null,"Red-cockaded Woodpecker","Red-cockaded Woodpecker"]
[null,null,null,"Northern Flicker","Northern Flicker"]
[null,null,null,"Northern Flicker (Cuban)","Northern Flicker"]
[null,null,null,"Northern Flicker (Grand Cayman Island)","Northern Flicker"]
[null,null,null,"Northern Flicker (Yellow-shafted)","Northern Flicker"]
[null,null,null,"Northern Flicker (Red-shafted)","Northern Flicker"]
[null,null,null,"Northern Flicker (intergrade)","Northern Flicker"]
[null,null,null,"Northern Flicker (Guatemalen)","Northern Flicker"]
[null,null,null,"Pileated Woodpecker","Pileated Woodpecker"]
[null,null,null,"Crested Caracara","Crested Caracara"]
[null,null,null,"American Kestrel","American Kestrel"]
[null,null,null,"American Kestrel (Northern)","American Kestrel"]
[null,null,null,"American Kestrel (Southeastern)","American Kestrel"]
[null,null,null,"American Kestrel (Eastern Caribbean)","American Kestrel"]
[null,null,null,"American Kestrel (Hispaniolan)","American Kestrel"]
[null,null,null,"American Kestrel (Cuban)","American Kestrel"]
[null,null,null,"American Kestrel (South American)","American Kestrel"]
[null,null,null,"American Kestrel (Juan Fernandez)","American Kestrel"]
[null,null,null,"Merlin","Merlin"]
[null,null,null,"Merlin (Eurasian)","Merlin"]
[null,null,null,"Merlin (Pallid)","Merlin"]
[null,null,null,"Merlin (Taiga)","Merlin"]
[null,null,null,"Merlin (Prairie)","Merlin"]
[null,null,null,"Merlin (Black)","Merlin"]
[null,null,null,"Gyrfalcon","Gyrfalcon"]
[null,null,null,"Peregrine Falcon","Peregrine Falcon"]
[null,null,null,"Peregrine Falcon (North American)","Peregrine Falcon"]
[null,null,null,"Peregrine Falcon (Tundra)","Peregrine Falcon"]
[null,null,null,"Peregrine Falcon (Peale's)","Peregrine Falcon"]
[null,null,null,"Peregrine Falcon (South American)","Peregrine Falcon"]
[null,null,null,"Peregrine Falcon (Eurasian)","Peregrine Falcon"]
[null,null,null,"Peregrine Falcon (Mediterranean)","Peregrine Falcon"]
[null,null,null,"Peregrine Falcon (Barbary)","Peregrine Falcon"]
[null,null,null,"Peregrine Falcon (Cape Verde)","Peregrine Falcon"]
[null,null,null,"Peregrine Falcon (Red-capped)","Peregrine Falcon"]
[null,null,null,"Peregrine Falcon (African)","Peregrine Falcon"]
[null,null,null,"Peregrine Falcon (Malagasy)","Peregrine Falcon"]
[null,null,null,"Peregrine Falcon (Shaheen)","Peregrine Falcon"]
[null,null,null,"Peregrine Falcon (Indo-Pacific)","Peregrine Falcon"]
[null,null,null,"Peregrine Falcon (Australian)","Peregrine Falcon"]
[null,null,null,"Peregrine Falcon (Buff-fronted)","Peregrine Falcon"]
[null,null,null,"Monk Parakeet","Monk Parakeet"]
[null,null,null,"Monk Parakeet (Monk)","Monk Parakeet"]
[null,null,null,"Monk Parakeet (Cliff)","Monk Parakeet"]
[null,null,null,"Olive-sided Flycatcher","Olive-sided Flycatcher"]
[null,null,null,"Western Wood-Pewee","Western Wood-Pewee"]
[null,null,null,"Eastern Wood-Pewee","Eastern Wood-Pewee"]
[null,null,null,"Yellow-bellied Flycatcher","Yellow-bellied Flycatcher"]
[null,null,null,"Acadian Flycatcher","Acadian Flycatcher"]
[null,null,null,"Alder Flycatcher","Alder Flycatcher"]
[null,null,null,"Willow Flycatcher","Willow Flycatcher"]
[null,null,null,"Willow Flycatcher (Eastern)","Willow Flycatcher"]
[null,null,null,"Willow Flycatcher (Northwestern)","Willow Flycatcher"]
[null,null,null,"Willow Flycatcher (Southwestern)","Willow Flycatcher"]
[null,null,null,"Least Flycatcher","Least Flycatcher"]
[null,null,null,"Dusky Flycatcher","Dusky Flycatcher"]
[null,null,null,"Pacific-slope Flycatcher","Pacific-slope Flycatcher"]
[null,null,null,"Eastern Phoebe","Eastern Phoebe"]
[null,null,null,"Say's Phoebe","Say's Phoebe"]
[null,null,null,"Vermilion Flycatcher","Vermilion Flycatcher"]
[null,null,null,"Vermilion Flycatcher (Northern)","Vermilion Flycatcher"]
[null,null,null,"Vermilion Flycatcher (saturatus)","Vermilion Flycatcher"]
[null,null,null,"Vermilion Flycatcher (obscurus Group)","Vermilion Flycatcher"]
[null,null,null,"Vermilion Flycatcher (Austral)","Vermilion Flycatcher"]
[null,null,null,"Vermilion Flycatcher (Galapagos)","Vermilion Flycatcher"]
[null,null,null,"Vermilion Flycatcher (San Cristobal)","Vermilion Flycatcher"]
[null,null,null,"Ash-throated Flycatcher","Ash-throated Flycatcher"]
[null,null,null,"Great Crested Flycatcher","Great Crested Flycatcher"]
[null,null,null,"Western Kingbird","Western Kingbird"]
[null,null,null,"Eastern Kingbird","Eastern Kingbird"]
[null,null,null,"Gray Kingbird","Gray Kingbird"]
[null,null,null,"Scissor-tailed Flycatcher","Scissor-tailed Flycatcher"]
[null,null,null,"Fork-tailed Flycatcher","Fork-tailed Flycatcher"]
[null,null,null,"Fork-tailed Flycatcher (savana)","Fork-tailed Flycatcher"]
[null,null,null,"Fork-tailed Flycatcher (monachus)","Fork-tailed Flycatcher"]
[null,null,null,"Fork-tailed Flycatcher (sanctaemartae)","Fork-tailed Flycatcher"]
[null,null,null,"Fork-tailed Flycatcher (circumdatus)","Fork-tailed Flycatcher"]
[null,null,null,"Loggerhead Shrike","Loggerhead Shrike"]
[null,null,null,"Northern Shrike","Northern Shrike"]
[null,null,null,"Northern Shrike (European)","Northern Shrike"]
[null,null,null,"Northern Shrike (Asian)","Northern Shrike"]
[null,null,null,"Northern Shrike (American)","Northern Shrike"]
[null,null,null,"White-eyed Vireo","White-eyed Vireo"]
[null,null,null,"White-eyed Vireo (White-eyed)","White-eyed Vireo"]
[null,null,null,"White-eyed Vireo (Veracruz)","White-eyed Vireo"]
[null,null,null,"Bell's Vireo","Bell's Vireo"]
[null,null,null,"Bell's Vireo (Eastern)","Bell's Vireo"]
[null,null,null,"Bell's Vireo (Arizona)","Bell's Vireo"]
[null,null,null,"Bell's Vireo (Least)","Bell's Vireo"]
[null,null,null,"Yellow-throated Vireo","Yellow-throated Vireo"]
[null,null,null,"Blue-headed Vireo","Blue-headed Vireo"]
[null,null,null,"Philadelphia Vireo","Philadelphia Vireo"]
[null,null,null,"Warbling Vireo","Warbling Vireo"]
[null,null,null,"Warbling Vireo (Eastern)","Warbling Vireo"]
[null,null,null,"Warbling Vireo (Western)","Warbling Vireo"]
[null,null,null,"Red-eyed Vireo","Red-eyed Vireo"]
[null,null,null,"Red-eyed Vireo (Red-eyed)","Red-eyed Vireo"]
[null,null,null,"Red-eyed Vireo (resident Chivi)","Red-eyed Vireo"]
[null,null,null,"Red-eyed Vireo (migratory Chivi)","Red-eyed Vireo"]
[null,null,null,"Black-whiskered Vireo","Black-whiskered Vireo"]
[null,null,null,"Blue Jay","Blue Jay"]
[null,null,null,"Black-billed Magpie","Black-billed Magpie"]
[null,null,null,"American Crow","American Crow"]
[null,null,null,"Fish Crow","Fish Crow"]
[null,null,null,"Common Raven","Common Raven"]
[null,null,null,"Horned Lark","Horned Lark"]
[null,null,null,"Horned Lark (Atlas)","Horned Lark"]
[null,null,null,"Horned Lark (Black-necklaced)","Horned Lark"]
[null,null,null,"Horned Lark (Tibetan)","Horned Lark"]
[null,null,null,"Horned Lark (Brandt's)","Horned Lark"]
[null,null,null,"Horned Lark (Shore)","Horned Lark"]
[null,null,null,"Horned Lark (Eastern dark Group)","Horned Lark"]
[null,null,null,"Horned Lark (Western pale Group)","Horned Lark"]
[null,null,null,"Horned Lark (Western rufous Group)","Horned Lark"]
[null,null,null,"Horned Lark (South Baja)","Horned Lark"]
[null,null,null,"Horned Lark (Mexican)","Horned Lark"]
[null,null,null,"Horned Lark (Colombian)","Horned Lark"]
[null,null,null,"Northern Rough-winged Swallow","Northern Rough-winged Swallow"]
[null,null,null,"Northern Rough-winged Swallow (Northern)","Northern Rough-winged Swallow"]
[null,null,null,"Northern Rough-winged Swallow (Ridgway's)","Northern Rough-winged Swallow"]
[null,null,null,"Purple Martin","Purple Martin"]
[null,null,null,"Purple Martin (subis/arboricola)","Purple Martin"]
[null,null,null,"Purple Martin (hesperia)","Purple Martin"]
[null,null,null,"Brown-chested Martin","Brown-chested Martin"]
[null,null,null,"Brown-chested Martin (tapera)","Brown-chested Martin"]
[null,null,null,"Brown-chested Martin (fusca)","Brown-chested Martin"]
[null,null,null,"Tree Swallow","Tree Swallow"]
[null,null,null,"Violet-green Swallow","Violet-green Swallow"]
[null,null,null,"Bank Swallow","Bank Swallow"]
[null,null,null,"Barn Swallow","Barn Swallow"]
[null,null,null,"Barn Swallow (White-bellied)","Barn Swallow"]
[null,null,null,"Barn Swallow (Egyptian)","Barn Swallow"]
[null,null,null,"Barn Swallow (Levant)","Barn Swallow"]
[null,null,null,"Barn Swallow (Tytler's)","Barn Swallow"]
[null,null,null,"Barn Swallow (Buff-bellied)","Barn Swallow"]
[null,null,null,"Barn Swallow (American)","Barn Swallow"]
[null,null,null,"Cliff Swallow","Cliff Swallow"]
[null,null,null,"Cliff Swallow (pyrrhonota Group)","Cliff Swallow"]
[null,null,null,"Cliff Swallow (melanogaster)","Cliff Swallow"]
[null,null,null,"Cave Swallow","Cave Swallow"]
[null,null,null,"Cave Swallow (Caribbean)","Cave Swallow"]
[null,null,null,"Cave Swallow (Texas)","Cave Swallow"]
[null,null,null,"Cave Swallow (Yucatan)","Cave Swallow"]
[null,null,null,"Carolina Chickadee","Carolina Chickadee"]
[null,null,null,"Black-capped Chickadee","Black-capped Chickadee"]
[null,null,null,"Boreal Chickadee","Boreal Chickadee"]
[null,null,null,"Tufted Titmouse","Tufted Titmouse"]
[null,null,null,"Red-breasted Nuthatch","Red-breasted Nuthatch"]
[null,null,null,"White-breasted Nuthatch","White-breasted Nuthatch"]
[null,null,null,"White-breasted Nuthatch (Eastern)","White-breasted Nuthatch"]
[null,null,null,"White-breasted Nuthatch (Interior West)","White-breasted Nuthatch"]
[null,null,null,"White-breasted Nuthatch (Pacific)","White-breasted Nuthatch"]
[null,null,null,"Brown-headed Nuthatch","Brown-headed Nuthatch"]
[null,null,null,"Brown-headed Nuthatch (Southeast)","Brown-headed Nuthatch"]
[null,null,null,"Brown-headed Nuthatch (Grand Bahama)","Brown-headed Nuthatch"]
[null,null,null,"Brown Creeper","Brown Creeper"]
[null,null,null,"Brown Creeper (occidentalis Group)","Brown Creeper"]
[null,null,null,"Brown Creeper (montana/idahoensis)","Brown Creeper"]
[null,null,null,"Brown Creeper (americana/nigrescens)","Brown Creeper"]
[null,null,null,"Brown Creeper (albescens/alticola)","Brown Creeper"]
[null,null,null,"Brown Creeper (pernigra)","Brown Creeper"]
[null,null,null,"Brown Creeper (extima)","Brown Creeper"]
[null,null,null,"Rock Wren","Rock Wren"]
[null,null,null,"Rock Wren (Northern)","Rock Wren"]
[null,null,null,"Rock Wren (Central American)","Rock Wren"]
[null,null,null,"House Wren","House Wren"]
[null,null,null,"House Wren (Northern)","House Wren"]
[null,null,null,"House Wren (Dominica)","House Wren"]
[null,null,null,"House Wren (Martinique)","House Wren"]
[null,null,null,"House Wren (St. Lucia)","House Wren"]
[null,null,null,"House Wren (Guadeloupe)","House Wren"]
[null,null,null,"House Wren (St. Vincent)","House Wren"]
[null,null,null,"House Wren (Grenada)","House Wren"]
[null,null,null,"House Wren (Cozumel I.)","House Wren"]
[null,null,null,"House Wren (Brown-throated)","House Wren"]
[null,null,null,"House Wren (Southern)","House Wren"]
[null,null,null,"Winter Wren","Winter Wren"]
[null,null,null,"Sedge Wren","Sedge Wren"]
[null,null,null,"Sedge Wren (Sedge)","Sedge Wren"]
[null,null,null,"Sedge Wren (Grass)","Sedge Wren"]
[null,null,null,"Sedge Wren (Venezuelan)","Sedge Wren"]
[null,null,null,"Sedge Wren (Paramo)","Sedge Wren"]
[null,null,null,"Sedge Wren (Junin)","Sedge Wren"]
[null,null,null,"Sedge Wren (Puna)","Sedge Wren"]
[null,null,null,"Sedge Wren (Tucuman)","Sedge Wren"]
[null,null,null,"Sedge Wren (Pampas)","Sedge Wren"]
[null,null,null,"Sedge Wren (Austral)","Sedge Wren"]
[null,null,null,"Marsh Wren","Marsh Wren"]
[null,null,null,"Marsh Wren (paludicola Group)","Marsh Wren"]
[null,null,null,"Marsh Wren (plesius Group)","Marsh Wren"]
[null,null,null,"Marsh Wren (palustris Group)","Marsh Wren"]
[null,null,null,"Marsh Wren (griseus)","Marsh Wren"]
[null,null,null,"Marsh Wren (tolucensis)","Marsh Wren"]
[null,null,null,"Carolina Wren","Carolina Wren"]
[null,null,null,"Bewick's Wren","Bewick's Wren"]
[null,null,null,"Bewick's Wren (bewickii/altus)","Bewick's Wren"]
[null,null,null,"Bewick's Wren (eremophilus Group)","Bewick's Wren"]
[null,null,null,"Bewick's Wren (spilurus Group)","Bewick's Wren"]
[null,null,null,"Blue-gray Gnatcatcher","Blue-gray Gnatcatcher"]
[null,null,null,"Blue-gray Gnatcatcher (caerulea)","Blue-gray Gnatcatcher"]
[null,null,null,"Blue-gray Gnatcatcher (obscura Group)","Blue-gray Gnatcatcher"]
[null,null,null,"Blue-gray Gnatcatcher (Cozumel)","Blue-gray Gnatcatcher"]
[null,null,null,"Golden-crowned Kinglet","Golden-crowned Kinglet"]
[null,null,null,"Ruby-crowned Kinglet","Ruby-crowned Kinglet"]
[null,null,null,"Northern Wheatear","Northern Wheatear"]
[null,null,null,"Northern Wheatear (Greenland)","Northern Wheatear"]
[null,null,null,"Northern Wheatear (Eurasian)","Northern Wheatear"]
[null,null,null,"Northern Wheatear (Black-throated)","Northern Wheatear"]
[null,null,null,"Eastern Bluebird","Eastern Bluebird"]
[null,null,null,"Eastern Bluebird (Eastern)","Eastern Bluebird"]
[null,null,null,"Eastern Bluebird (Mexican)","Eastern Bluebird"]
[null,null,null,"Mountain Bluebird","Mountain Bluebird"]
[null,null,null,"Townsend's Solitaire","Townsend's Solitaire"]
[null,null,null,"Veery","Veery"]
[null,null,null,"Gray-cheeked Thrush","Gray-cheeked Thrush"]
[null,null,null,"Bicknell's Thrush","Bicknell's Thrush"]
[null,null,null,"Swainson's Thrush","Swainson's Thrush"]
[null,null,null,"Swainson's Thrush (Russet-backed)","Swainson's Thrush"]
[null,null,null,"Swainson's Thrush (Olive-backed)","Swainson's Thrush"]
[null,null,null,"Hermit Thrush","Hermit Thrush"]
[null,null,null,"Hermit Thrush (guttatus Group)","Hermit Thrush"]
[null,null,null,"Hermit Thrush (auduboni Group)","Hermit Thrush"]
[null,null,null,"Hermit Thrush (faxoni/crymophilus)","Hermit Thrush"]
[null,null,null,"Wood Thrush","Wood Thrush"]
[null,null,null,"American Robin","American Robin"]
[null,null,null,"American Robin (nigrideus)","American Robin"]
[null,null,null,"American Robin (migratorius Group)","American Robin"]
[null,null,null,"American Robin (San Lucas)","American Robin"]
[null,null,null,"Varied Thrush","Varied Thrush"]
[null,null,null,"Gray Catbird","Gray Catbird"]
[null,null,null,"Brown Thrasher","Brown Thrasher"]
[null,null,null,"Sage Thrasher","Sage Thrasher"]
[null,null,null,"Northern Mockingbird","Northern Mockingbird"]
[null,null,null,"European Starling","European Starling"]
[null,null,null,"American Pipit","American Pipit"]
[null,null,null,"American Pipit (japonicus)","American Pipit"]
[null,null,null,"American Pipit (rubescens/pacificus)","American Pipit"]
[null,null,null,"American Pipit (alticola)","American Pipit"]
[null,null,null,"Sprague's Pipit","Sprague's Pipit"]
[null,null,null,"Bohemian Waxwing","Bohemian Waxwing"]
[null,null,null,"Cedar Waxwing","Cedar Waxwing"]
[null,null,null,"Lapland Longspur","Lapland Longspur"]
[null,null,null,"Chestnut-collared Longspur","Chestnut-collared Longspur"]
[null,null,null,"Smith's Longspur","Smith's Longspur"]
[null,null,null,"Snow Bunting","Snow Bunting"]
[null,null,null,"Ovenbird","Ovenbird"]
[null,null,null,"Worm-eating Warbler","Worm-eating Warbler"]
[null,null,null,"Louisiana Waterthrush","Louisiana Waterthrush"]
[null,null,null,"Northern Waterthrush","Northern Waterthrush"]
[null,null,null,"Bachman's Warbler","Bachman's Warbler"]
[null,null,null,"Golden-winged Warbler","Golden-winged Warbler"]
[null,null,null,"Blue-winged Warbler","Blue-winged Warbler"]
[null,null,null,"Black-and-white Warbler","Black-and-white Warbler"]
[null,null,null,"Prothonotary Warbler","Prothonotary Warbler"]
[null,null,null,"Swainson's Warbler","Swainson's Warbler"]
[null,null,null,"Tennessee Warbler","Tennessee Warbler"]
[null,null,null,"Orange-crowned Warbler","Orange-crowned Warbler"]
[null,null,null,"Orange-crowned Warbler (Gray-headed)","Orange-crowned Warbler"]
[null,null,null,"Orange-crowned Warbler (celata)","Orange-crowned Warbler"]
[null,null,null,"Orange-crowned Warbler (orestera)","Orange-crowned Warbler"]
[null,null,null,"Orange-crowned Warbler (lutescens)","Orange-crowned Warbler"]
[null,null,null,"Orange-crowned Warbler (sordida)","Orange-crowned Warbler"]
[null,null,null,"Lucy's Warbler","Lucy's Warbler"]
[null,null,null,"Nashville Warbler","Nashville Warbler"]
[null,null,null,"Nashville Warbler (ruficapilla)","Nashville Warbler"]
[null,null,null,"Nashville Warbler (ridgwayi)","Nashville Warbler"]
[null,null,null,"Connecticut Warbler","Connecticut Warbler"]
[null,null,null,"MacGillivray's Warbler","MacGillivray's Warbler"]
[null,null,null,"Mourning Warbler","Mourning Warbler"]
[null,null,null,"Kentucky Warbler","Kentucky Warbler"]
[null,null,null,"Common Yellowthroat","Common Yellowthroat"]
[null,null,null,"Common Yellowthroat (arizela Group)","Common Yellowthroat"]
[null,null,null,"Common Yellowthroat (melanops Group)","Common Yellowthroat"]
[null,null,null,"Common Yellowthroat (trichas Group)","Common Yellowthroat"]
[null,null,null,"Common Yellowthroat (insperata)","Common Yellowthroat"]
[null,null,null,"Common Yellowthroat (chapalensis)","Common Yellowthroat"]
[null,null,null,"Hooded Warbler","Hooded Warbler"]
[null,null,null,"American Redstart","American Redstart"]
[null,null,null,"Kirtland's Warbler","Kirtland's Warbler"]
[null,null,null,"Cape May Warbler","Cape May Warbler"]
[null,null,null,"Cerulean Warbler","Cerulean Warbler"]
[null,null,null,"Northern Parula","Northern Parula"]
[null,null,null,"Magnolia Warbler","Magnolia Warbler"]
[null,null,null,"Bay-breasted Warbler","Bay-breasted Warbler"]
[null,null,null,"Blackburnian Warbler","Blackburnian Warbler"]
[null,null,null,"Yellow Warbler","Yellow Warbler"]
[null,null,null,"Yellow Warbler (Northern)","Yellow Warbler"]
[null,null,null,"Yellow Warbler (Mangrove)","Yellow Warbler"]
[null,null,null,"Yellow Warbler (Galapagos)","Yellow Warbler"]
[null,null,null,"Yellow Warbler (Golden)","Yellow Warbler"]
[null,null,null,"Yellow Warbler (Mangrove x Golden)","Yellow Warbler"]
[null,null,null,"Chestnut-sided Warbler","Chestnut-sided Warbler"]
[null,null,null,"Blackpoll Warbler","Blackpoll Warbler"]
[null,null,null,"Black-throated Blue Warbler","Black-throated Blue Warbler"]
[null,null,null,"Palm Warbler","Palm Warbler"]
[null,null,null,"Palm Warbler (Western)","Palm Warbler"]
[null,null,null,"Palm Warbler (Yellow)","Palm Warbler"]
[null,null,null,"Pine Warbler","Pine Warbler"]
[null,null,null,"Yellow-rumped Warbler","Yellow-rumped Warbler"]
[null,null,null,"Yellow-rumped Warbler (Myrtle)","Yellow-rumped Warbler"]
[null,null,null,"Yellow-rumped Warbler (Audubon's)","Yellow-rumped Warbler"]
[null,null,null,"Yellow-rumped Warbler (Myrtle x Audubon's)","Yellow-rumped Warbler"]
[null,null,null,"Yellow-rumped Warbler (West Mexico)","Yellow-rumped Warbler"]
[null,null,null,"Yellow-rumped Warbler (Goldman's)","Yellow-rumped Warbler"]
[null,null,null,"Yellow-throated Warbler","Yellow-throated Warbler"]
[null,null,null,"Yellow-throated Warbler (albilora)","Yellow-throated Warbler"]
[null,null,null,"Yellow-throated Warbler (dominica/stoddardi)","Yellow-throated Warbler"]
[null,null,null,"Prairie Warbler","Prairie Warbler"]
[null,null,null,"Black-throated Gray Warbler","Black-throated Gray Warbler"]
[null,null,null,"Townsend's Warbler","Townsend's Warbler"]
[null,null,null,"Black-throated Green Warbler","Black-throated Green Warbler"]
[null,null,null,"Canada Warbler","Canada Warbler"]
[null,null,null,"Wilson's Warbler","Wilson's Warbler"]
[null,null,null,"Wilson's Warbler (pileolata)","Wilson's Warbler"]
[null,null,null,"Wilson's Warbler (pusilla)","Wilson's Warbler"]
[null,null,null,"Wilson's Warbler (chryseola)","Wilson's Warbler"]
[null,null,null,"Yellow-breasted Chat","Yellow-breasted Chat"]
[null,null,null,"Yellow-breasted Chat (virens)","Yellow-breasted Chat"]
[null,null,null,"Yellow-breasted Chat (auricollis)","Yellow-breasted Chat"]
[null,null,null,"Bachman's Sparrow","Bachman's Sparrow"]
[null,null,null,"Grasshopper Sparrow","Grasshopper Sparrow"]
[null,null,null,"Grasshopper Sparrow (Western)","Grasshopper Sparrow"]
[null,null,null,"Grasshopper Sparrow (Eastern)","Grasshopper Sparrow"]
[null,null,null,"Grasshopper Sparrow (Florida)","Grasshopper Sparrow"]
[null,null,null,"Henslow's Sparrow","Henslow's Sparrow"]
[null,null,null,"Le Conte's Sparrow","Le Conte's Sparrow"]
[null,null,null,"Nelson's Sparrow","Nelson's Sparrow"]
[null,null,null,"Nelson's Sparrow (Interior)","Nelson's Sparrow"]
[null,null,null,"Nelson's Sparrow (Atlantic Coast)","Nelson's Sparrow"]
[null,null,null,"Saltmarsh Sparrow","Saltmarsh Sparrow"]
[null,null,null,"Seaside Sparrow","Seaside Sparrow"]
[null,null,null,"Seaside Sparrow (Atlantic)","Seaside Sparrow"]
[null,null,null,"Seaside Sparrow (Dusky)","Seaside Sparrow"]
[null,null,null,"Seaside Sparrow (Gulf of Mexico)","Seaside Sparrow"]
[null,null,null,"Seaside Sparrow (Cape Sable)","Seaside Sparrow"]
[null,null,null,"American Tree Sparrow","American Tree Sparrow"]
[null,null,null,"Chipping Sparrow","Chipping Sparrow"]
[null,null,null,"Clay-colored Sparrow","Clay-colored Sparrow"]
[null,null,null,"Field Sparrow","Field Sparrow"]
[null,null,null,"Brewer's Sparrow","Brewer's Sparrow"]
[null,null,null,"Brewer's Sparrow (breweri)","Brewer's Sparrow"]
[null,null,null,"Brewer's Sparrow (Timberline)","Brewer's Sparrow"]
[null,null,null,"Black-throated Sparrow","Black-throated Sparrow"]
[null,null,null,"Lark Sparrow","Lark Sparrow"]
[null,null,null,"Lark Bunting","Lark Bunting"]
[null,null,null,"Fox Sparrow","Fox Sparrow"]
[null,null,null,"Fox Sparrow (Sooty)","Fox Sparrow"]
[null,null,null,"Fox Sparrow (Thick-billed)","Fox Sparrow"]
[null,null,null,"Fox Sparrow (Slate-colored)","Fox Sparrow"]
[null,null,null,"Fox Sparrow (Red)","Fox Sparrow"]
[null,null,null,"Dark-eyed Junco","Dark-eyed Junco"]
[null,null,null,"Dark-eyed Junco (Slate-colored/cismontanus)","Dark-eyed Junco"]
[null,null,null,"Dark-eyed Junco (Slate-colored)","Dark-eyed Junco"]
[null,null,null,"Dark-eyed Junco (cismontanus)","Dark-eyed Junco"]
[null,null,null,"Dark-eyed Junco (Oregon)","Dark-eyed Junco"]
[null,null,null,"Dark-eyed Junco (Pink-sided)","Dark-eyed Junco"]
[null,null,null,"Dark-eyed Junco (Oregon x Pink-sided)","Dark-eyed Junco"]
[null,null,null,"Dark-eyed Junco (White-winged)","Dark-eyed Junco"]
[null,null,null,"Dark-eyed Junco (Pink-sided x White-winged)","Dark-eyed Junco"]
[null,null,null,"Dark-eyed Junco (Gray-headed)","Dark-eyed Junco"]
[null,null,null,"Dark-eyed Junco (Oregon x Gray-headed)","Dark-eyed Junco"]
[null,null,null,"Dark-eyed Junco (Pink-sided x Gray-headed)","Dark-eyed Junco"]
[null,null,null,"Dark-eyed Junco (Red-backed)","Dark-eyed Junco"]
[null,null,null,"Dark-eyed Junco (Gray-headed x Red-backed)","Dark-eyed Junco"]
[null,null,null,"White-crowned Sparrow","White-crowned Sparrow"]
[null,null,null,"White-crowned Sparrow (Dark-lored)","White-crowned Sparrow"]
[null,null,null,"White-crowned Sparrow (leucophrys)","White-crowned Sparrow"]
[null,null,null,"White-crowned Sparrow (oriantha)","White-crowned Sparrow"]
[null,null,null,"White-crowned Sparrow (Gambel's)","White-crowned Sparrow"]
[null,null,null,"White-crowned Sparrow (Yellow-billed)","White-crowned Sparrow"]
[null,null,null,"White-crowned Sparrow (nuttalli)","White-crowned Sparrow"]
[null,null,null,"White-crowned Sparrow (pugetensis)","White-crowned Sparrow"]
[null,null,null,"Harris's Sparrow","Harris's Sparrow"]
[null,null,null,"White-throated Sparrow","White-throated Sparrow"]
[null,null,null,"Vesper Sparrow","Vesper Sparrow"]
[null,null,null,"Savannah Sparrow","Savannah Sparrow"]
[null,null,null,"Savannah Sparrow (Savannah)","Savannah Sparrow"]
[null,null,null,"Savannah Sparrow (Ipswich)","Savannah Sparrow"]
[null,null,null,"Savannah Sparrow (Belding's)","Savannah Sparrow"]
[null,null,null,"Savannah Sparrow (San Benito)","Savannah Sparrow"]
[null,null,null,"Savannah Sparrow (Large-billed)","Savannah Sparrow"]
[null,null,null,"Song Sparrow","Song Sparrow"]
[null,null,null,"Song Sparrow (melodia/atlantica)","Song Sparrow"]
[null,null,null,"Song Sparrow (sanaka/maxima)","Song Sparrow"]
[null,null,null,"Song Sparrow (rufina Group)","Song Sparrow"]
[null,null,null,"Song Sparrow (montana/merrilli)","Song Sparrow"]
[null,null,null,"Song Sparrow (heermanni Group)","Song Sparrow"]
[null,null,null,"Song Sparrow (samuelis)","Song Sparrow"]
[null,null,null,"Song Sparrow (pusillula)","Song Sparrow"]
[null,null,null,"Song Sparrow (fallax Group)","Song Sparrow"]
[null,null,null,"Song Sparrow (mexicana Group)","Song Sparrow"]
[null,null,null,"Lincoln's Sparrow","Lincoln's Sparrow"]
[null,null,null,"Swamp Sparrow","Swamp Sparrow"]
[null,null,null,"Green-tailed Towhee","Green-tailed Towhee"]
[null,null,null,"Spotted Towhee","Spotted Towhee"]
[null,null,null,"Spotted Towhee (oregonus Group)","Spotted Towhee"]
[null,null,null,"Spotted Towhee (arcticus)","Spotted Towhee"]
[null,null,null,"Spotted Towhee (maculatus Group)","Spotted Towhee"]
[null,null,null,"Spotted Towhee (Olive-backed)","Spotted Towhee"]
[null,null,null,"Spotted Towhee (Socorro)","Spotted Towhee"]
[null,null,null,"Eastern Towhee","Eastern Towhee"]
[null,null,null,"Eastern Towhee (Red-eyed)","Eastern Towhee"]
[null,null,null,"Eastern Towhee (White-eyed)","Eastern Towhee"]
[null,null,null,"Summer Tanager","Summer Tanager"]
[null,null,null,"Scarlet Tanager","Scarlet Tanager"]
[null,null,null,"Western Tanager","Western Tanager"]
[null,null,null,"Northern Cardinal","Northern Cardinal"]
[null,null,null,"Northern Cardinal (Common)","Northern Cardinal"]
[null,null,null,"Northern Cardinal (Long-crested)","Northern Cardinal"]
[null,null,null,"Rose-breasted Grosbeak","Rose-breasted Grosbeak"]
[null,null,null,"Black-headed Grosbeak","Black-headed Grosbeak"]
[null,null,null,"Blue Grosbeak","Blue Grosbeak"]
[null,null,null,"Lazuli Bunting","Lazuli Bunting"]
[null,null,null,"Indigo Bunting","Indigo Bunting"]
[null,null,null,"Painted Bunting","Painted Bunting"]
[null,null,null,"Dickcissel","Dickcissel"]
[null,null,null,"Bobolink","Bobolink"]
[null,null,null,"Red-winged Blackbird","Red-winged Blackbird"]
[null,null,null,"Red-winged Blackbird (Red-winged)","Red-winged Blackbird"]
[null,null,null,"Red-winged Blackbird (California Bicolored)","Red-winged Blackbird"]
[null,null,null,"Red-winged Blackbird (Mexican Bicolored)","Red-winged Blackbird"]
[null,null,null,"Eastern Meadowlark","Eastern Meadowlark"]
[null,null,null,"Eastern Meadowlark (Cuban)","Eastern Meadowlark"]
[null,null,null,"Eastern Meadowlark (Eastern)","Eastern Meadowlark"]
[null,null,null,"Eastern Meadowlark (Lilian's)","Eastern Meadowlark"]
[null,null,null,"Yellow-headed Blackbird","Yellow-headed Blackbird"]
[null,null,null,"Rusty Blackbird","Rusty Blackbird"]
[null,null,null,"Brewer's Blackbird","Brewer's Blackbird"]
[null,null,null,"Common Grackle","Common Grackle"]
[null,null,null,"Common Grackle (Purple)","Common Grackle"]
[null,null,null,"Common Grackle (Bronzed)","Common Grackle"]
[null,null,null,"Boat-tailed Grackle","Boat-tailed Grackle"]
[null,null,null,"Boat-tailed Grackle (major)","Boat-tailed Grackle"]
[null,null,null,"Boat-tailed Grackle (torreyi/alabamensis)","Boat-tailed Grackle"]
[null,null,null,"Boat-tailed Grackle (westoni)","Boat-tailed Grackle"]
[null,null,null,"Shiny Cowbird","Shiny Cowbird"]
[null,null,null,"Brown-headed Cowbird","Brown-headed Cowbird"]
[null,null,null,"Orchard Oriole","Orchard Oriole"]
[null,null,null,"Orchard Oriole (Orchard)","Orchard Oriole"]
[null,null,null,"Orchard Oriole (Fuertes's)","Orchard Oriole"]
[null,null,null,"Bullock's Oriole","Bullock's Oriole"]
[null,null,null,"Baltimore Oriole","Baltimore Oriole"]
[null,null,null,"Pine Grosbeak","Pine Grosbeak"]
[null,null,null,"House Finch","House Finch"]
[null,null,null,"House Finch (Common)","House Finch"]
[null,null,null,"House Finch (McGregor's)","House Finch"]
[null,null,null,"Purple Finch","Purple Finch"]
[null,null,null,"Purple Finch (Eastern)","Purple Finch"]
[null,null,null,"Purple Finch (Western)","Purple Finch"]
[null,null,null,"Red Crossbill","Red Crossbill"]
[null,null,null,"Red Crossbill (Corsican)","Red Crossbill"]
[null,null,null,"Red Crossbill (Balearic)","Red Crossbill"]
[null,null,null,"Red Crossbill (North African)","Red Crossbill"]
[null,null,null,"Red Crossbill (Cyprus)","Red Crossbill"]
[null,null,null,"Red Crossbill (Crimean)","Red Crossbill"]
[null,null,null,"Red Crossbill (Altai)","Red Crossbill"]
[null,null,null,"Red Crossbill (Tien Shan)","Red Crossbill"]
[null,null,null,"Red Crossbill (Himalayan)","Red Crossbill"]
[null,null,null,"Red Crossbill (Da Lat)","Red Crossbill"]
[null,null,null,"Red Crossbill (Japanese)","Red Crossbill"]
[null,null,null,"Red Crossbill (Luzon)","Red Crossbill"]
[null,null,null,"Red Crossbill (Wandering or type A)","Red Crossbill"]
[null,null,null,"Red Crossbill (Bohemian or type B)","Red Crossbill"]
[null,null,null,"Red Crossbill (Glip or type C)","Red Crossbill"]
[null,null,null,"Red Crossbill (Phantom or type D)","Red Crossbill"]
[null,null,null,"Red Crossbill (Parakeet or type E)","Red Crossbill"]
[null,null,null,"Red Crossbill (Scarce or type F)","Red Crossbill"]
[null,null,null,"Red Crossbill (Parakeet or type X)","Red Crossbill"]
[null,null,null,"Red Crossbill (Appalachian or type 1)","Red Crossbill"]
[null,null,null,"Red Crossbill (Ponderosa Pine or type 2)","Red Crossbill"]
[null,null,null,"Red Crossbill (Western Hemlock or type 3)","Red Crossbill"]
[null,null,null,"Red Crossbill (Douglas-fir or type 4)","Red Crossbill"]
[null,null,null,"Red Crossbill (Lodgepole Pine or type 5)","Red Crossbill"]
[null,null,null,"Red Crossbill (Sierra Madre or type 6)","Red Crossbill"]
[null,null,null,"Red Crossbill (Enigmatic or type 7)","Red Crossbill"]
[null,null,null,"Red Crossbill (Newfoundland or type 8)","Red Crossbill"]
[null,null,null,"Red Crossbill (South Hills or type 9)","Red Crossbill"]
[null,null,null,"Red Crossbill (Sitka Spruce or type 10)","Red Crossbill"]
[null,null,null,"White-winged Crossbill","White-winged Crossbill"]
[null,null,null,"White-winged Crossbill (bifasciata)","White-winged Crossbill"]
[null,null,null,"White-winged Crossbill (leucoptera)","White-winged Crossbill"]
[null,null,null,"Common Redpoll","Common Redpoll"]
[null,null,null,"Common Redpoll (flammea)","Common Redpoll"]
[null,null,null,"Common Redpoll (rostrata)","Common Redpoll"]
[null,null,null,"Hoary Redpoll","Hoary Redpoll"]
[null,null,null,"Hoary Redpoll (exilipes)","Hoary Redpoll"]
[null,null,null,"Hoary Redpoll (hornemanni)","Hoary Redpoll"]
[null,null,null,"Pine Siskin","Pine Siskin"]
[null,null,null,"Pine Siskin (Northern)","Pine Siskin"]
[null,null,null,"Pine Siskin (Chiapas)","Pine Siskin"]
[null,null,null,"Pine Siskin (green morph)","Pine Siskin"]
[null,null,null,"Lesser Goldfinch","Lesser Goldfinch"]
[null,null,null,"American Goldfinch","American Goldfinch"]
[null,null,null,"European Goldfinch","European Goldfinch"]
[null,null,null,"Evening Grosbeak","Evening Grosbeak"]
[null,null,null,"Evening Grosbeak (type 1)","Evening Grosbeak"]
[null,null,null,"Evening Grosbeak (type 2)","Evening Grosbeak"]
[null,null,null,"Evening Grosbeak (type 3)","Evening Grosbeak"]
[null,null,null,"Evening Grosbeak (type 4)","Evening Grosbeak"]
[null,null,null,"Evening Grosbeak (Mexican or type 5)","Evening Grosbeak"]
[null,null,null,"House Sparrow","House Sparrow"]

{"sheet":"Output","index":2,"n_rows":480,"n_cols":8,"rows_kept":480,"cut":false,"hidden":false,"merged":[]}
["Species #","\n\nSpecies","Possible",null,"Probable",null,"Confirmed"]
[1,"Black-bellied Whistling-Duck",{"$f":"IF(COUNTIFS(Input!$A:$A, Output!$B2, Input!$B:$B, C$1, Input!$H:$H, \"=US-VA\")=0,\"\",\"X\")","v":""},{"$f":"IF(C2=\"X\",1,0)","v":0},{"$f":"IF(COUNTIFS(Input!$A:$A, Output!$B2, Input!$B:$B, E$1, Input!$H:$H, \"=US-VA\")=0,\"\",\"X\")","v":""},{"$f":"IF(E2=\"X\",1,0)","v":0},{"$f":"IF(COUNTIFS(Input!$A:$A, Output!$B2, Input!$B:$B, G$1, Input!$H:$H, \"=US-VA\")=0,\"\",\"X\")","v":""},{"$f":"IF(G2=\"X\",1,0)","v":0}]
[2,"West Indian Whistling-Duck",{"$f":"IF(COUNTIFS(Input!$A:$A, Output!$B3, Input!$B:$B, C$1, Input!$H:$H, \"=US-VA\")=0,\"\",\"X\")","v":""},0,{"$f":"IF(COUNTIFS(Input!$A:$A, Output!$B3, Input!$B:$B, E$1, Input!$H:$H, \"=US-VA\")=0,\"\",\"X\")","v":""},0,{"$f":"IF(COUNTIFS(Input!$A:$A, Output!$B3, Input!$B:$B, G$1, Input!$H:$H, \"=US-VA\")=0,\"\",\"X\")","v":""},0]
[3,"Fulvous Whistling-Duck",{"$f":"IF(COUNTIFS(Input!$A:$A, Output!$B4, Input!$B:$B, C$1, Input!$H:$H, \"=US-VA\")=0,\"\",\"X\")","v":""},0,{"$f":"IF(COUNTIFS(Input!$A:$A, Output!$B4, Input!$B:$B, E$1, Input!$H:$H, \"=US-VA\")=0,\"\",\"X\")","v":""},0,{"$f":"IF(COUNTIFS(Input!$A:$A, Output!$B4, Input!$B:$B, G$1, Input!$H:$H, \"=US-VA\")=0,\"\",\"X\")","v":""},0]
[4,"Greater White-fronted Goose",{"$f":"IF(COUNTIFS(Input!$A:$A, Output!$B5, Input!$B:$B, C$1, Input!$H:$H, \"=US-VA\")=0,\"\",\"X\")","v":""},0,{"$f":"IF(COUNTIFS(Input!$A:$A, Output!$B5, Input!$B:$B, E$1, Input!$H:$H, \"=US-VA\")=0,\"\",\"X\")","v":""},0,{"$f":"IF(COUNTIFS(Input!$A:$A, Output!$B5, Input!$B:$B, G$1, Input!$H:$H, \"=US-VA\")=0,\"\",\"X\")","v":""},0]
[5,"Snow Goose",{"$f":"IF(COUNTIFS(Input!$A:$A, Output!$B6, Input!$B:$B, C$1, Input!$H:$H, \"=US-VA\")=0,\"\",\"X\")","v":""},0,{"$f":"IF(COUNTIFS(Input!$A:$A, Output!$B6, Input!$B:$B, E$1, Input!$H:$H, \"=US-VA\")=0,\"\",\"X\")","v":""},0,{"$f":"IF(COUNTIFS(Input!$A:$A, Output!$B6, Input!$B:$B, G$1, Input!$H:$H, \"=US-VA\")=0,\"\",\"X\")","v":""},0]
[6,"Ross's Goose",{"$f":"IF(COUNTIFS(Input!$A:$A, Output!$B7, Input!$B:$B, C$1, Input!$H:$H, \"=US-VA\")=0,\"\",\"X\")","v":""},0,{"$f":"IF(COUNTIFS(Input!$A:$A, Output!$B7, Input!$B:$B, E$1, Input!$H:$H, \"=US-VA\")=0,\"\",\"X\")","v":""},0,{"$f":"IF(COUNTIFS(Input!$A:$A, Output!$B7, Input!$B:$B, G$1, Input!$H:$H, \"=US-VA\")=0,\"\",\"X\")","v":""},0]
[7,"Brant",{"$f":"IF(COUNTIFS(Input!$A:$A, Output!$B8, Input!$B:$B, C$1, Input!$H:$H, \"=US-VA\")=0,\"\",\"X\")","v":""},0,{"$f":"IF(COUNTIFS(Input!$A:$A, Output!$B8, Input!$B:$B, E$1, Input!$H:$H, \"=US-VA\")=0,\"\",\"X\")","v":""},0,{"$f":"IF(COUNTIFS(Input!$A:$A, Output!$B8, Input!$B:$B, G$1, Input!$H:$H, \"=US-VA\")=0,\"\",\"X\")","v":""},0]
[8,"Barnacle Goose",{"$f":"IF(COUNTIFS(Input!$A:$A, Output!$B9, Input!$B:$B, C$1, Input!$H:$H, \"=US-VA\")=0,\"\",\"X\")","v":""},0,{"$f":"IF(COUNTIFS(Input!$A:$A, Output!$B9, Input!$B:$B, E$1, Input!$H:$H, \"=US-VA\")=0,\"\",\"X\")","v":""},0,{"$f":"IF(COUNTIFS(Input!$A:$A, Output!$B9, Input!$B:$B, G$1, Input!$H:$H, \"=US-VA\")=0,\"\",\"X\")","v":""},0]
[9,"Cackling Goose",{"$f":"IF(COUNTIFS(Input!$A:$A, Output!$B10, Input!$B:$B, C$1, Input!$H:$H, \"=US-VA\")=0,\"\",\"X\")","v":""},0,{"$f":"IF(COUNTIFS(Input!$A:$A, Output!$B10, Input!$B:$B, E$1, Input!$H:$H, \"=US-VA\")=0,\"\",\"X\")","v":""},0,{"$f":"IF(COUNTIFS(Input!$A:$A, Output!$B10, Input!$B:$B, G$1, Input!$H:$H, \"=US-VA\")=0,\"\",\"X\")","v":""},0]
[10,"Canada Goose",{"$f":"IF(COUNTIFS(Input!$A:$A, Output!$B11, Input!$B:$B, C$1, Input!$H:$H, \"=US-VA\")=0,\"\",\"X\")","v":""},0,{"$f":"IF(COUNTIFS(Input!$A:$A, Output!$B11, Input!$B:$B, E$1, Input!$H:$H, \"=US-VA\")=0,\"\",\"X\")","v":""},0,{"$f":"IF(COUNTIFS(Input!$A:$A, Output!$B11, Input!$B:$B, G$1, Input!$H:$H, \"=US-VA\")=0,\"\",\"X\")","v":""},0]
[11,"Mute Swan",{"$f":"IF(COUNTIFS(Input!$A:$A, Output!$B12, Input!$B:$B, C$1, Input!$H:$H, \"=US-VA\")=0,\"\",\"X\")","v":""},0,{"$f":"IF(COUNTIFS(Input!$A:$A, Output!$B12, Input!$B:$B, E$1, Input!$H:$H, \"=US-VA\")=0,\"\",\"X\")","v":""},0,{"$f":"IF(COUNTIFS(Input!$A:$A, Output!$B12, Input!$B:$B, G$1, Input!$H:$H, \"=US-VA\")=0,\"\",\"X\")","v":""},0]
[12,"Trumpeter Swan",{"$f":"IF(COUNTIFS(Input!$A:$A, Output!$B13, Input!$B:$B, C$1, Input!$H:$H, \"=US-VA\")=0,\"\",\"X\")","v":""},0,{"$f":"IF(COUNTIFS(Input!$A:$A, Output!$B13, Input!$B:$B, E$1, Input!$H:$H, \"=US-VA\")=0,\"\",\"X\")","v":""},0,{"$f":"IF(COUNTIFS(Input!$A:$A, Output!$B13, Input!$B:$B, G$1, Input!$H:$H, \"=US-VA\")=0,\"\",\"X\")","v":""},0]
[13,"Tundra Swan",{"$f":"IF(COUNTIFS(Input!$A:$A, Output!$B14, Input!$B:$B, C$1, Input!$H:$H, \"=US-VA\")=0,\"\",\"X\")","v":""},0,{"$f":"IF(COUNTIFS(Input!$A:$A, Output!$B14, Input!$B:$B, E$1, Input!$H:$H, \"=US-VA\")=0,\"\",\"X\")","v":""},0,{"$f":"IF(COUNTIFS(Input!$A:$A, Output!$B14, Input!$B:$B, G$1, Input!$H:$H, \"=US-VA\")=0,\"\",\"X\")","v":""},0]
[14,"Wood Duck",{"$f":"IF(COUNTIFS(Input!$A:$A, Output!$B15, Input!$B:$B, C$1, Input!$H:$H, \"=US-VA\")=0,\"\",\"X\")","v":""},0,{"$f":"IF(COUNTIFS(Input!$A:$A, Output!$B15, Input!$B:$B, E$1, Input!$H:$H, \"=US-VA\")=0,\"\",\"X\")","v":""},0,{"$f":"IF(COUNTIFS(Input!$A:$A, Output!$B15, Input!$B:$B, G$1, Input!$H:$H, \"=US-VA\")=0,\"\",\"X\")","v":""},0]
[15,"Gadwall",{"$f":"IF(COUNTIFS(Input!$A:$A, Output!$B16, Input!$B:$B, C$1, Input!$H:$H, \"=US-VA\")=0,\"\",\"X\")","v":""},0,{"$f":"IF(COUNTIFS(Input!$A:$A, Output!$B16, Input!$B:$B, E$1, Input!$H:$H, \"=US-VA\")=0,\"\",\"X\")","v":""},0,{"$f":"IF(COUNTIFS(Input!$A:$A, Output!$B16, Input!$B:$B, G$1, Input!$H:$H, \"=US-VA\")=0,\"\",\"X\")","v":""},0]
[16,"Eurasian Wigeon",{"$f":"IF(COUNTIFS(Input!$A:$A, Output!$B17, Input!$B:$B, C$1, Input!$H:$H, \"=US-VA\")=0,\"\",\"X\")","v":""},0,{"$f":"IF(COUNTIFS(Input!$A:$A, Output!$B17, Input!$B:$B, E$1, Input!$H:$H, \"=US-VA\")=0,\"\",\"X\")","v":""},0,{"$f":"IF(COUNTIFS(Input!$A:$A, Output!$B17, Input!$B:$B, G$1, Input!$H:$H, \"=US-VA\")=0,\"\",\"X\")","v":""},0]
[17,"American Wigeon",{"$f":"IF(COUNTIFS(Input!$A:$A, Output!$B18, Input!$B:$B, C$1, Input!$H:$H, \"=US-VA\")=0,\"\",\"X\")","v":""},0,{"$f":"IF(COUNTIFS(Input!$A:$A, Output!$B18, Input!$B:$B, E$1, Input!$H:$H, \"=US-VA\")=0,\"\",\"X\")","v":""},0,{"$f":"IF(COUNTIFS(Input!$A:$A, Output!$B18, Input!$B:$B, G$1, Input!$H:$H, \"=US-VA\")=0,\"\",\"X\")","v":""},0]
[18,"American Black Duck",{"$f":"IF(COUNTIFS(Input!$A:$A, Output!$B19, Input!$B:$B, C$1, Input!$H:$H, \"=US-VA\")=0,\"\",\"X\")","v":""},0,{"$f":"IF(COUNTIFS(Input!$A:$A, Output!$B19, Input!$B:$B, E$1, Input!$H:$H, \"=US-VA\")=0,\"\",\"X\")","v":""},0,{"$f":"IF(COUNTIFS(Input!$A:$A, Output!$B19, Input!$B:$B, G$1, Input!$H:$H, \"=US-VA\")=0,\"\",\"X\")","v":""},0]
[19,"Mallard",{"$f":"IF(COUNTIFS(Input!$A:$A, Output!$B20, Input!$B:$B, C$1, Input!$H:$H, \"=US-VA\")=0,\"\",\"X\")","v":""},0,{"$f":"IF(COUNTIFS(Input!$A:$A, Output!$B20, Input!$B:$B, E$1, Input!$H:$H, \"=US-VA\")=0,\"\",\"X\")","v":""},0,{"$f":"IF(COUNTIFS(Input!$A:$A, Output!$B20, Input!$B:$B, G$1, Input!$H:$H, \"=US-VA\")=0,\"\",\"X\")","v":""},0]
[20,"Blue-winged Teal",{"$f":"IF(COUNTIFS(Input!$A:$A, Output!$B21, Input!$B:$B, C$1, Input!$H:$H, \"=US-VA\")=0,\"\",\"X\")","v":""},0,{"$f":"IF(COUNTIFS(Input!$A:$A, Output!$B21, Input!$B:$B, E$1, Input!$H:$H, \"=US-VA\")=0,\"\",\"X\")","v":""},0,{"$f":"IF(COUNTIFS(Input!$A:$A, Output!$B21, Input!$B:$B, G$1, Input!$H:$H, \"=US-VA\")=0,\"\",\"X\")","v":""},0]
[21,"Cinnamon Teal",{"$f":"IF(COUNTIFS(Input!$A:$A, Output!$B22, Input!$B:$B, C$1, Input!$H:$H, \"=US-VA\")=0,\"\",\"X\")","v":""},0,{"$f":"IF(COUNTIFS(Input!$A:$A, Output!$B22, Input!$B:$B, E$1, Input!$H:$H, \"=US-VA\")=0,\"\",\"X\")","v":""},0,{"$f":"IF(COUNTIFS(Input!$A:$A, Output!$B22, Input!$B:$B, G$1, Input!$H:$H, \"=US-VA\")=0,\"\",\"X\")","v":""},0]
[22,"Northern Shoveler",{"$f":"IF(COUNTIFS(Input!$A:$A, Output!$B23, Input!$B:$B, C$1, Input!$H:$H, \"=US-VA\")=0,\"\",\"X\")","v":""},0,{"$f":"IF(COUNTIFS(Input!$A:$A, Output!$B23, Input!$B:$B, E$1, Input!$H:$H, \"=US-VA\")=0,\"\",\"X\")","v":""},0,{"$f":"IF(COUNTIFS(Input!$A:$A, Output!$B23, Input!$B:$B, G$1, Input!$H:$H, \"=US-VA\")=0,\"\",\"X\")","v":""},0]
[23,"White-cheeked Pintail",{"$f":"IF(COUNTIFS(Input!$A:$A, Output!$B24, Input!$B:$B, C$1, Input!$H:$H, \"=US-VA\")=0,\"\",\"X\")","v":""},0,{"$f":"IF(COUNTIFS(Input!$A:$A, Output!$B24, Input!$B:$B, E$1, Input!$H:$H, \"=US-VA\")=0,\"\",\"X\")","v":""},0,{"$f":"IF(COUNTIFS(Input!$A:$A, Output!$B24, Input!$B:$B, G$1, Input!$H:$H, \"=US-VA\")=0,\"\",\"X\")","v":""},0]
[24,"Northern Pintail",{"$f":"IF(COUNTIFS(Input!$A:$A, Output!$B25, Input!$B:$B, C$1, Input!$H:$H, \"=US-VA\")=0,\"\",\"X\")","v":""},0,{"$f":"IF(COUNTIFS(Input!$A:$A, Output!$B25, Input!$B:$B, E$1, Input!$H:$H, \"=US-VA\")=0,\"\",\"X\")","v":""},0,{"$f":"IF(COUNTIFS(Input!$A:$A, Output!$B25, Input!$B:$B, G$1, Input!$H:$H, \"=US-VA\")=0,\"\",\"X\")","v":""},0]
[25,"Garganey",{"$f":"IF(COUNTIFS(Input!$A:$A, Output!$B26, Input!$B:$B, C$1, Input!$H:$H, \"=US-VA\")=0,\"\",\"X\")","v":""},0,{"$f":"IF(COUNTIFS(Input!$A:$A, Output!$B26, Input!$B:$B, E$1, Input!$H:$H, \"=US-VA\")=0,\"\",\"X\")","v":""},0,{"$f":"IF(COUNTIFS(Input!$A:$A, Output!$B26, Input!$B:$B, G$1, Input!$H:$H, \"=US-VA\")=0,\"\",\"X\")","v":""},0]
[26,"Green-winged Teal",{"$f":"IF(COUNTIFS(Input!$A:$A, Output!$B27, Input!$B:$B, C$1, Input!$H:$H, \"=US-VA\")=0,\"\",\"X\")","v":""},0,{"$f":"IF(COUNTIFS(Input!$A:$A, Output!$B27, Input!$B:$B, E$1, Input!$H:$H, \"=US-VA\")=0,\"\",\"X\")","v":""},0,{"$f":"IF(COUNTIFS(Input!$A:$A, Output!$B27, Input!$B:$B, G$1, Input!$H:$H, \"=US-VA\")=0,\"\",\"X\")","v":""},0]
[27,"Canvasback",{"$f":"IF(COUNTIFS(Input!$A:$A, Output!$B28, Input!$B:$B, C$1, Input!$H:$H, \"=US-VA\")=0,\"\",\"X\")","v":""},0,{"$f":"IF(COUNTIFS(Input!$A:$A, Output!$B28, Input!$B:$B, E$1, Input!$H:$H, \"=US-VA\")=0,\"\",\"X\")","v":""},0,{"$f":"IF(COUNTIFS(Input!$A:$A, Output!$B28, Input!$B:$B, G$1, Input!$H:$H, \"=US-VA\")=0,\"\",\"X\")","v":""},0]
[28,"Redhead",{"$f":"IF(COUNTIFS(Input!$A:$A, Output!$B29, Input!$B:$B, C$1, Input!$H:$H, \"=US-VA\")=0,\"\",\"X\")","v":""},0,{"$f":"IF(COUNTIFS(Input!$A:$A, Output!$B29, Input!$B:$B, E$1, Input!$H:$H, \"=US-VA\")=0,\"\",\"X\")","v":""},0,{"$f":"IF(COUNTIFS(Input!$A:$A, Output!$B29, Input!$B:$B, G$1, Input!$H:$H, \"=US-VA\")=0,\"\",\"X\")","v":""},0]
[29,"Ring-necked Duck",{"$f":"IF(COUNTIFS(Input!$A:$A, Output!$B30, Input!$B:$B, C$1, Input!$H:$H, \"=US-VA\")=0,\"\",\"X\")","v":""},0,{"$f":"IF(COUNTIFS(Input!$A:$A, Output!$B30, Input!$B:$B, E$1, Input!$H:$H, \"=US-VA\")=0,\"\",\"X\")","v":""},0,{"$f":"IF(COUNTIFS(Input!$A:$A, Output!$B30, Input!$B:$B, G$1, Input!$H:$H, \"=US-VA\")=0,\"\",\"X\")","v":""},0]
[30,"Tufted Duck",{"$f":"IF(COUNTIFS(Input!$A:$A, Output!$B31, Input!$B:$B, C$1, Input!$H:$H, \"=US-VA\")=0,\"\",\"X\")","v":""},0,{"$f":"IF(COUNTIFS(Input!$A:$A, Output!$B31, Input!$B:$B, E$1, Input!$H:$H, \"=US-VA\")=0,\"\",\"X\")","v":""},0,{"$f":"IF(COUNTIFS(Input!$A:$A, Output!$B31, Input!$B:$B, G$1, Input!$H:$H, \"=US-VA\")=0,\"\",\"X\")","v":""},0]
[31,"Greater Scaup",{"$f":"IF(COUNTIFS(Input!$A:$A, Output!$B32, Input!$B:$B, C$1, Input!$H:$H, \"=US-VA\")=0,\"\",\"X\")","v":""},0,{"$f":"IF(COUNTIFS(Input!$A:$A, Output!$B32, Input!$B:$B, E$1, Input!$H:$H, \"=US-VA\")=0,\"\",\"X\")","v":""},0,{"$f":"IF(COUNTIFS(Input!$A:$A, Output!$B32, Input!$B:$B, G$1, Input!$H:$H, \"=US-VA\")=0,\"\",\"X\")","v":""},0]
[32,"Lesser Scaup",{"$f":"IF(COUNTIFS(Input!$A:$A, Output!$B33, Input!$B:$B, C$1, Input!$H:$H, \"=US-VA\")=0,\"\",\"X\")","v":""},0,{"$f":"IF(COUNTIFS(Input!$A:$A, Output!$B33, Input!$B:$B, E$1, Input!$H:$H, \"=US-VA\")=0,\"\",\"X\")","v":""},0,{"$f":"IF(COUNTIFS(Input!$A:$A, Output!$B33, Input!$B:$B, G$1, Input!$H:$H, \"=US-VA\")=0,\"\",\"X\")","v":""},0]
[33,"King Eider",{"$f":"IF(COUNTIFS(Input!$A:$A, Output!$B34, Input!$B:$B, C$1, Input!$H:$H, \"=US-VA\")=0,\"\",\"X\")","v":""},0,{"$f":"IF(COUNTIFS(Input!$A:$A, Output!$B34, Input!$B:$B, E$1, Input!$H:$H, \"=US-VA\")=0,\"\",\"X\")","v":""},0,{"$f":"IF(COUNTIFS(Input!$A:$A, Output!$B34, Input!$B:$B, G$1, Input!$H:$H, \"=US-VA\")=0,\"\",\"X\")","v":""},0]
[34,"Common Eider",{"$f":"IF(COUNTIFS(Input!$A:$A, Output!$B35, Input!$B:$B, C$1, Input!$H:$H, \"=US-VA\")=0,\"\",\"X\")","v":""},0,{"$f":"IF(COUNTIFS(Input!$A:$A, Output!$B35, Input!$B:$B, E$1, Input!$H:$H, \"=US-VA\")=0,\"\",\"X\")","v":""},0,{"$f":"IF(COUNTIFS(Input!$A:$A, Output!$B35, Input!$B:$B, G$1, Input!$H:$H, \"=US-VA\")=0,\"\",\"X\")","v":""},0]
[35,"Harlequin Duck",{"$f":"IF(COUNTIFS(Input!$A:$A, Output!$B36, Input!$B:$B, C$1, Input!$H:$H, \"=US-VA\")=0,\"\",\"X\")","v":""},0,{"$f":"IF(COUNTIFS(Input!$A:$A, Output!$B36, Input!$B:$B, E$1, Input!$H:$H, \"=US-VA\")=0,\"\",\"X\")","v":""},0,{"$f":"IF(COUNTIFS(Input!$A:$A, Output!$B36, Input!$B:$B, G$1, Input!$H:$H, \"=US-VA\")=0,\"\",\"X\")","v":""},0]
[36,"Surf Scoter",{"$f":"IF(COUNTIFS(Input!$A:$A, Output!$B37, Input!$B:$B, C$1, Input!$H:$H, \"=US-VA\")=0,\"\",\"X\")","v":""},0,{"$f":"IF(COUNTIFS(Input!$A:$A, Output!$B37, Input!$B:$B, E$1, Input!$H:$H, \"=US-VA\")=0,\"\",\"X\")","v":""},0,{"$f":"IF(COUNTIFS(Input!$A:$A, Output!$B37, Input!$B:$B, G$1, Input!$H:$H, \"=US-VA\")=0,\"\",\"X\")","v":""},0]
[37,"White-winged Scoter",{"$f":"IF(COUNTIFS(Input!$A:$A, Output!$B38, Input!$B:$B, C$1, Input!$H:$H, \"=US-VA\")=0,\"\",\"X\")","v":""},0,{"$f":"IF(COUNTIFS(Input!$A:$A, Output!$B38, Input!$B:$B, E$1, Input!$H:$H, \"=US-VA\")=0,\"\",\"X\")","v":""},0,{"$f":"IF(COUNTIFS(Input!$A:$A, Output!$B38, Input!$B:$B, G$1, Input!$H:$H, \"=US-VA\")=0,\"\",\"X\")","v":""},0]
[38,"Black Scoter",{"$f":"IF(COUNTIFS(Input!$A:$A, Output!$B39, Input!$B:$B, C$1, Input!$H:$H, \"=US-VA\")=0,\"\",\"X\")","v":""},0,{"$f":"IF(COUNTIFS(Input!$A:$A, Output!$B39, Input!$B:$B, E$1, Input!$H:$H, \"=US-VA\")=0,\"\",\"X\")","v":""},0,{"$f":"IF(COUNTIFS(Input!$A:$A, Output!$B39, Input!$B:$B, G$1, Input!$H:$H, \"=US-VA\")=0,\"\",\"X\")","v":""},0]
[39,"Long-tailed Duck",{"$f":"IF(COUNTIFS(Input!$A:$A, Output!$B40, Input!$B:$B, C$1, Input!$H:$H, \"=US-VA\")=0,\"\",\"X\")","v":""},0,{"$f":"IF(COUNTIFS(Input!$A:$A, Output!$B40, Input!$B:$B, E$1, Input!$H:$H, \"=US-VA\")=0,\"\",\"X\")","v":""},0,{"$f":"IF(COUNTIFS(Input!$A:$A, Output!$B40, Input!$B:$B, G$1, Input!$H:$H, \"=US-VA\")=0,\"\",\"X\")","v":""},0]
[40,"Bufflehead",{"$f":"IF(COUNTIFS(Input!$A:$A, Output!$B41, Input!$B:$B, C$1, Input!$H:$H, \"=US-VA\")=0,\"\",\"X\")","v":""},0,{"$f":"IF(COUNTIFS(Input!$A:$A, Output!$B41, Input!$B:$B, E$1, Input!$H:$H, \"=US-VA\")=0,\"\",\"X\")","v":""},0,{"$f":"IF(COUNTIFS(Input!$A:$A, Output!$B41, Input!$B:$B, G$1, Input!$H:$H, \"=US-VA\")=0,\"\",\"X\")","v":""},0]
[41,"Common Goldeneye",{"$f":"IF(COUNTIFS(Input!$A:$A, Output!$B42, Input!$B:$B, C$1, Input!$H:$H, \"=US-VA\")=0,\"\",\"X\")","v":""},0,{"$f":"IF(COUNTIFS(Input!$A:$A, Output!$B42, Input!$B:$B, E$1, Input!$H:$H, \"=US-VA\")=0,\"\",\"X\")","v":""},0,{"$f":"IF(COUNTIFS(Input!$A:$A, Output!$B42, Input!$B:$B, G$1, Input!$H:$H, \"=US-VA\")=0,\"\",\"X\")","v":""},0]
[42,"Barrow's Goldeneye",{"$f":"IF(COUNTIFS(Input!$A:$A, Output!$B43, Input!$B:$B, C$1, Input!$H:$H, \"=US-VA\")=0,\"\",\"X\")","v":""},0,{"$f":"IF(COUNTIFS(Input!$A:$A, Output!$B43, Input!$B:$B, E$1, Input!$H:$H, \"=US-VA\")=0,\"\",\"X\")","v":""},0,{"$f":"IF(COUNTIFS(Input!$A:$A, Output!$B43, Input!$B:$B, G$1, Input!$H:$H, \"=US-VA\")=0,\"\",\"X\")","v":""},0]
[43,"Hooded Merganser",{"$f":"IF(COUNTIFS(Input!$A:$A, Output!$B44, Input!$B:$B, C$1, Input!$H:$H, \"=US-VA\")=0,\"\",\"X\")","v":""},0,{"$f":"IF(COUNTIFS(Input!$A:$A, Output!$B44, Input!$B:$B, E$1, Input!$H:$H, \"=US-VA\")=0,\"\",\"X\")","v":""},0,{"$f":"IF(COUNTIFS(Input!$A:$A, Output!$B44, Input!$B:$B, G$1, Input!$H:$H, \"=US-VA\")=0,\"\",\"X\")","v":""},0]
[44,"Common Merganser",{"$f":"IF(COUNTIFS(Input!$A:$A, Output!$B45, Input!$B:$B, C$1, Input!$H:$H, \"=US-VA\")=0,\"\",\"X\")","v":""},0,{"$f":"IF(COUNTIFS(Input!$A:$A, Output!$B45, Input!$B:$B, E$1, Input!$H:$H, \"=US-VA\")=0,\"\",\"X\")","v":""},0,{"$f":"IF(COUNTIFS(Input!$A:$A, Output!$B45, Input!$B:$B, G$1, Input!$H:$H, \"=US-VA\")=0,\"\",\"X\")","v":""},0]
[45,"Red-breasted Merganser",{"$f":"IF(COUNTIFS(Input!$A:$A, Output!$B46, Input!$B:$B, C$1, Input!$H:$H, \"=US-VA\")=0,\"\",\"X\")","v":""},0,{"$f":"IF(COUNTIFS(Input!$A:$A, Output!$B46, Input!$B:$B, E$1, Input!$H:$H, \"=US-VA\")=0,\"\",\"X\")","v":""},0,{"$f":"IF(COUNTIFS(Input!$A:$A, Output!$B46, Input!$B:$B, G$1, Input!$H:$H, \"=US-VA\")=0,\"\",\"X\")","v":""},0]
[46,"Ruddy Duck",{"$f":"IF(COUNTIFS(Input!$A:$A, Output!$B47, Input!$B:$B, C$1, Input!$H:$H, \"=US-VA\")=0,\"\",\"X\")","v":""},0,{"$f":"IF(COUNTIFS(Input!$A:$A, Output!$B47, Input!$B:$B, E$1, Input!$H:$H, \"=US-VA\")=0,\"\",\"X\")","v":""},0,{"$f":"IF(COUNTIFS(Input!$A:$A, Output!$B47, Input!$B:$B, G$1, Input!$H:$H, \"=US-VA\")=0,\"\",\"X\")","v":""},0]
[47,"Northern Bobwhite",{"$f":"IF(COUNTIFS(Input!$A:$A, Output!$B48, Input!$B:$B, C$1, Input!$H:$H, \"=US-VA\")=0,\"\",\"X\")","v":""},0,{"$f":"IF(COUNTIFS(Input!$A:$A, Output!$B48, Input!$B:$B, E$1, Input!$H:$H, \"=US-VA\")=0,\"\",\"X\")","v":""},0,{"$f":"IF(COUNTIFS(Input!$A:$A, Output!$B48, Input!$B:$B, G$1, Input!$H:$H, \"=US-VA\")=0,\"\",\"X\")","v":""},0]
[48,"Ring-necked Pheasant",{"$f":"IF(COUNTIFS(Input!$A:$A, Output!$B49, Input!$B:$B, C$1, Input!$H:$H, \"=US-VA\")=0,\"\",\"X\")","v":""},0,{"$f":"IF(COUNTIFS(Input!$A:$A, Output!$B49, Input!$B:$B, E$1, Input!$H:$H, \"=US-VA\")=0,\"\",\"X\")","v":""},0,{"$f":"IF(COUNTIFS(Input!$A:$A, Output!$B49, Input!$B:$B, G$1, Input!$H:$H, \"=US-VA\")=0,\"\",\"X\")","v":""},0]
[49,"Ruffed Grouse",{"$f":"IF(COUNTIFS(Input!$A:$A, Output!$B50, Input!$B:$B, C$1, Input!$H:$H, \"=US-VA\")=0,\"\",\"X\")","v":""},0,{"$f":"IF(COUNTIFS(Input!$A:$A, Output!$B50, Input!$B:$B, E$1, Input!$H:$H, \"=US-VA\")=0,\"\",\"X\")","v":""},0,{"$f":"IF(COUNTIFS(Input!$A:$A, Output!$B50, Input!$B:$B, G$1, Input!$H:$H, \"=US-VA\")=0,\"\",\"X\")","v":""},0]
[50,"Wild Turkey",{"$f":"IF(COUNTIFS(Input!$A:$A, Output!$B51, Input!$B:$B, C$1, Input!$H:$H, \"=US-VA\")=0,\"\",\"X\")","v":""},0,{"$f":"IF(COUNTIFS(Input!$A:$A, Output!$B51, Input!$B:$B, E$1, Input!$H:$H, \"=US-VA\")=0,\"\",\"X\")","v":""},0,{"$f":"IF(COUNTIFS(Input!$A:$A, Output!$B51, Input!$B:$B, G$1, Input!$H:$H, \"=US-VA\")=0,\"\",\"X\")","v":""},0]
[51,"Red-throated Loon",{"$f":"IF(COUNTIFS(Input!$A:$A, Output!$B52, Input!$B:$B, C$1, Input!$H:$H, \"=US-VA\")=0,\"\",\"X\")","v":""},0,{"$f":"IF(COUNTIFS(Input!$A:$A, Output!$B52, Input!$B:$B, E$1, Input!$H:$H, \"=US-VA\")=0,\"\",\"X\")","v":""},0,{"$f":"IF(COUNTIFS(Input!$A:$A, Output!$B52, Input!$B:$B, G$1, Input!$H:$H, \"=US-VA\")=0,\"\",\"X\")","v":""},0]
[52,"Pacific Loon",{"$f":"IF(COUNTIFS(Input!$A:$A, Output!$B53, Input!$B:$B, C$1, Input!$H:$H, \"=US-VA\")=0,\"\",\"X\")","v":""},0,{"$f":"IF(COUNTIFS(Input!$A:$A, Output!$B53, Input!$B:$B, E$1, Input!$H:$H, \"=US-VA\")=0,\"\",\"X\")","v":""},0,{"$f":"IF(COUNTIFS(Input!$A:$A, Output!$B53, Input!$B:$B, G$1, Input!$H:$H, \"=US-VA\")=0,\"\",\"X\")","v":""},0]
[53,"Common Loon",{"$f":"IF(COUNTIFS(Input!$A:$A, Output!$B54, Input!$B:$B, C$1, Input!$H:$H, \"=US-VA\")=0,\"\",\"X\")","v":""},0,{"$f":"IF(COUNTIFS(Input!$A:$A, Output!$B54, Input!$B:$B, E$1, Input!$H:$H, \"=US-VA\")=0,\"\",\"X\")","v":""},0,{"$f":"IF(COUNTIFS(Input!$A:$A, Output!$B54, Input!$B:$B, G$1, Input!$H:$H, \"=US-VA\")=0,\"\",\"X\")","v":""},0]
[54,"Pied-billed Grebe",{"$f":"IF(COUNTIFS(Input!$A:$A, Output!$B55, Input!$B:$B, C$1, Input!$H:$H, \"=US-VA\")=0,\"\",\"X\")","v":""},0,{"$f":"IF(COUNTIFS(Input!$A:$A, Output!$B55, Input!$B:$B, E$1, Input!$H:$H, \"=US-VA\")=0,\"\",\"X\")","v":""},0,{"$f":"IF(COUNTIFS(Input!$A:$A, Output!$B55, Input!$B:$B, G$1, Input!$H:$H, \"=US-VA\")=0,\"\",\"X\")","v":""},0]
[55,"Horned Grebe",{"$f":"IF(COUNTIFS(Input!$A:$A, Output!$B56, Input!$B:$B, C$1, Input!$H:$H, \"=US-VA\")=0,\"\",\"X\")","v":""},0,{"$f":"IF(COUNTIFS(Input!$A:$A, Output!$B56, Input!$B:$B, E$1, Input!$H:$H, \"=US-VA\")=0,\"\",\"X\")","v":""},0,{"$f":"IF(COUNTIFS(Input!$A:$A, Output!$B56, Input!$B:$B, G$1, Input!$H:$H, \"=US-VA\")=0,\"\",\"X\")","v":""},0]
[56,"Red-necked Grebe",{"$f":"IF(COUNTIFS(Input!$A:$A, Output!$B57, Input!$B:$B, C$1, Input!$H:$H, \"=US-VA\")=0,\"\",\"X\")","v":""},0,{"$f":"IF(COUNTIFS(Input!$A:$A, Output!$B57, Input!$B:$B, E$1, Input!$H:$H, \"=US-VA\")=0,\"\",\"X\")","v":""},0,{"$f":"IF(COUNTIFS(Input!$A:$A, Output!$B57, Input!$B:$B, G$1, Input!$H:$H, \"=US-VA\")=0,\"\",\"X\")","v":""},0]
[57,"Eared Grebe",{"$f":"IF(COUNTIFS(Input!$A:$A, Output!$B58, Input!$B:$B, C$1, Input!$H:$H, \"=US-VA\")=0,\"\",\"X\")","v":""},0,{"$f":"IF(COUNTIFS(Input!$A:$A, Output!$B58, Input!$B:$B, E$1, Input!$H:$H, \"=US-VA\")=0,\"\",\"X\")","v":""},0,{"$f":"IF(COUNTIFS(Input!$A:$A, Output!$B58, Input!$B:$B, G$1, Input!$H:$H, \"=US-VA\")=0,\"\",\"X\")","v":""},0]
[58,"Western Grebe",{"$f":"IF(COUNTIFS(Input!$A:$A, Output!$B59, Input!$B:$B, C$1, Input!$H:$H, \"=US-VA\")=0,\"\",\"X\")","v":""},0,{"$f":"IF(COUNTIFS(Input!$A:$A, Output!$B59, Input!$B:$B, E$1, Input!$H:$H, \"=US-VA\")=0,\"\",\"X\")","v":""},0,{"$f":"IF(COUNTIFS(Input!$A:$A, Output!$B59, Input!$B:$B, G$1, Input!$H:$H, \"=US-VA\")=0,\"\",\"X\")","v":""},0]
[59,"Clark's Grebe",{"$f":"IF(COUNTIFS(Input!$A:$A, Output!$B60, Input!$B:$B, C$1, Input!$H:$H, \"=US-VA\")=0,\"\",\"X\")","v":""},0,{"$f":"IF(COUNTIFS(Input!$A:$A, Output!$B60, Input!$B:$B, E$1, Input!$H:$H, \"=US-VA\")=0,\"\",\"X\")","v":""},0,{"$f":"IF(COUNTIFS(Input!$A:$A, Output!$B60, Input!$B:$B, G$1, Input!$H:$H, \"=US-VA\")=0,\"\",\"X\")","v":""},0]
[60,"American Flamingo",{"$f":"IF(COUNTIFS(Input!$A:$A, Output!$B61, Input!$B:$B, C$1, Input!$H:$H, \"=US-VA\")=0,\"\",\"X\")","v":""},0,{"$f":"IF(COUNTIFS(Input!$A:$A, Output!$B61, Input!$B:$B, E$1, Input!$H:$H, \"=US-VA\")=0,\"\",\"X\")","v":""},0,{"$f":"IF(COUNTIFS(Input!$A:$A, Output!$B61, Input!$B:$B, G$1, Input!$H:$H, \"=US-VA\")=0,\"\",\"X\")","v":""},0]
[61,"Yellow-nosed Albatross",{"$f":"IF(COUNTIFS(Input!$A:$A, Output!$B62, Input!$B:$B, C$1, Input!$H:$H, \"=US-VA\")=0,\"\",\"X\")","v":""},0,{"$f":"IF(COUNTIFS(Input!$A:$A, Output!$B62, Input!$B:$B, E$1, Input!$H:$H, \"=US-VA\")=0,\"\",\"X\")","v":""},0,{"$f":"IF(COUNTIFS(Input!$A:$A, Output!$B62, Input!$B:$B, G$1, Input!$H:$H, \"=US-VA\")=0,\"\",\"X\")","v":""},0]
[62,"Black-browed Albatross",{"$f":"IF(COUNTIFS(Input!$A:$A, Output!$B63, Input!$B:$B, C$1, Input!$H:$H, \"=US-VA\")=0,\"\",\"X\")","v":""},0,{"$f":"IF(COUNTIFS(Input!$A:$A, Output!$B63, Input!$B:$B, E$1, Input!$H:$H, \"=US-VA\")=0,\"\",\"X\")","v":""},0,{"$f":"IF(COUNTIFS(Input!$A:$A, Output!$B63, Input!$B:$B, G$1, Input!$H:$H, \"=US-VA\")=0,\"\",\"X\")","v":""},0]
[63,"Northern Fulmar",{"$f":"IF(COUNTIFS(Input!$A:$A, Output!$B64, Input!$B:$B, C$1, Input!$H:$H, \"=US-VA\")=0,\"\",\"X\")","v":""},0,{"$f":"IF(COUNTIFS(Input!$A:$A, Output!$B64, Input!$B:$B, E$1, Input!$H:$H, \"=US-VA\")=0,\"\",\"X\")","v":""},0,{"$f":"IF(COUNTIFS(Input!$A:$A, Output!$B64, Input!$B:$B, G$1, Input!$H:$H, \"=US-VA\")=0,\"\",\"X\")","v":""},0]
[64,"Trindade Petrel",{"$f":"IF(COUNTIFS(Input!$A:$A, Output!$B65, Input!$B:$B, C$1, Input!$H:$H, \"=US-VA\")=0,\"\",\"X\")","v":""},0,{"$f":"IF(COUNTIFS(Input!$A:$A, Output!$B65, Input!$B:$B, E$1, Input!$H:$H, \"=US-VA\")=0,\"\",\"X\")","v":""},0,{"$f":"IF(COUNTIFS(Input!$A:$A, Output!$B65, Input!$B:$B, G$1, Input!$H:$H, \"=US-VA\")=0,\"\",\"X\")","v":""},0]
[65,"Fea's Petrel",{"$f":"IF(COUNTIFS(Input!$A:$A, Output!$B66, Input!$B:$B, C$1, Input!$H:$H, \"=US-VA\")=0,\"\",\"X\")","v":""},{"$f":"IF(C66=\"X\",1,0)","v":0},{"$f":"IF(COUNTIFS(Input!$A:$A, Output!$B66, Input!$B:$B, E$1, Input!$H:$H, \"=US-VA\")=0,\"\",\"X\")","v":""},{"$f":"IF(E66=\"X\",1,0)","v":0},{"$f":"IF(COUNTIFS(Input!$A:$A, Output!$B66, Input!$B:$B, G$1, Input!$H:$H, \"=US-VA\")=0,\"\",\"X\")","v":""},{"$f":"IF(G66=\"X\",1,0)","v":0}]
[66,"Bermuda Petrel",{"$f":"IF(COUNTIFS(Input!$A:$A, Output!$B67, Input!$B:$B, C$1, Input!$H:$H, \"=US-VA\")=0,\"\",\"X\")","v":""},0,{"$f":"IF(COUNTIFS(Input!$A:$A, Output!$B67, Input!$B:$B, E$1, Input!$H:$H, \"=US-VA\")=0,\"\",\"X\")","v":""},0,{"$f":"IF(COUNTIFS(Input!$A:$A, Output!$B67, Input!$B:$B, G$1, Input!$H:$H, \"=US-VA\")=0,\"\",\"X\")","v":""},0]
[67,"Black-capped Petrel",{"$f":"IF(COUNTIFS(Input!$A:$A, Output!$B68, Input!$B:$B, C$1, Input!$H:$H, \"=US-VA\")=0,\"\",\"X\")","v":""},0,{"$f":"IF(COUNTIFS(Input!$A:$A, Output!$B68, Input!$B:$B, E$1, Input!$H:$H, \"=US-VA\")=0,\"\",\"X\")","v":""},0,{"$f":"IF(COUNTIFS(Input!$A:$A, Output!$B68, Input!$B:$B, G$1, Input!$H:$H, \"=US-VA\")=0,\"\",\"X\")","v":""},0]
[68,"Bulwer's Petrel",{"$f":"IF(COUNTIFS(Input!$A:$A, Output!$B69, Input!$B:$B, C$1, Input!$H:$H, \"=US-VA\")=0,\"\",\"X\")","v":""},0,{"$f":"IF(COUNTIFS(Input!$A:$A, Output!$B69, Input!$B:$B, E$1, Input!$H:$H, \"=US-VA\")=0,\"\",\"X\")","v":""},0,{"$f":"IF(COUNTIFS(Input!$A:$A, Output!$B69, Input!$B:$B, G$1, Input!$H:$H, \"=US-VA\")=0,\"\",\"X\")","v":""},0]
[69,"Cory's Shearwater",{"$f":"IF(COUNTIFS(Input!$A:$A, Output!$B70, Input!$B:$B, C$1, Input!$H:$H, \"=US-VA\")=0,\"\",\"X\")","v":""},0,{"$f":"IF(COUNTIFS(Input!$A:$A, Output!$B70, Input!$B:$B, E$1, Input!$H:$H, \"=US-VA\")=0,\"\",\"X\")","v":""},0,{"$f":"IF(COUNTIFS(Input!$A:$A, Output!$B70, Input!$B:$B, G$1, Input!$H:$H, \"=US-VA\")=0,\"\",\"X\")","v":""},0]
[70,"Great Shearwater",{"$f":"IF(COUNTIFS(Input!$A:$A, Output!$B71, Input!$B:$B, C$1, Input!$H:$H, \"=US-VA\")=0,\"\",\"X\")","v":""},0,{"$f":"IF(COUNTIFS(Input!$A:$A, Output!$B71, Input!$B:$B, E$1, Input!$H:$H, \"=US-VA\")=0,\"\",\"X\")","v":""},0,{"$f":"IF(COUNTIFS(Input!$A:$A, Output!$B71, Input!$B:$B, G$1, Input!$H:$H, \"=US-VA\")=0,\"\",\"X\")","v":""},0]
[71,"Sooty Shearwater",{"$f":"IF(COUNTIFS(Input!$A:$A, Output!$B72, Input!$B:$B, C$1, Input!$H:$H, \"=US-VA\")=0,\"\",\"X\")","v":""},0,{"$f":"IF(COUNTIFS(Input!$A:$A, Output!$B72, Input!$B:$B, E$1, Input!$H:$H, \"=US-VA\")=0,\"\",\"X\")","v":""},0,{"$f":"IF(COUNTIFS(Input!$A:$A, Output!$B72, Input!$B:$B, G$1, Input!$H:$H, \"=US-VA\")=0,\"\",\"X\")","v":""},0]
[72,"Manx Shearwater",{"$f":"IF(COUNTIFS(Input!$A:$A, Output!$B73, Input!$B:$B, C$1, Input!$H:$H, \"=US-VA\")=0,\"\",\"X\")","v":""},0,{"$f":"IF(COUNTIFS(Input!$A:$A, Output!$B73, Input!$B:$B, E$1, Input!$H:$H, \"=US-VA\")=0,\"\",\"X\")","v":""},0,{"$f":"IF(COUNTIFS(Input!$A:$A, Output!$B73, Input!$B:$B, G$1, Input!$H:$H, \"=US-VA\")=0,\"\",\"X\")","v":""},0]
[73,"Audubon's Shearwater",{"$f":"IF(COUNTIFS(Input!$A:$A, Output!$B74, Input!$B:$B, C$1, Input!$H:$H, \"=US-VA\")=0,\"\",\"X\")","v":""},0,{"$f":"IF(COUNTIFS(Input!$A:$A, Output!$B74, Input!$B:$B, E$1, Input!$H:$H, \"=US-VA\")=0,\"\",\"X\")","v":""},0,{"$f":"IF(COUNTIFS(Input!$A:$A, Output!$B74, Input!$B:$B, G$1, Input!$H:$H, \"=US-VA\")=0,\"\",\"X\")","v":""},0]
[74,"Wilson's Storm-Petrel",{"$f":"IF(COUNTIFS(Input!$A:$A, Output!$B75, Input!$B:$B, C$1, Input!$H:$H, \"=US-VA\")=0,\"\",\"X\")","v":""},0,{"$f":"IF(COUNTIFS(Input!$A:$A, Output!$B75, Input!$B:$B, E$1, Input!$H:$H, \"=US-VA\")=0,\"\",\"X\")","v":""},0,{"$f":"IF(COUNTIFS(Input!$A:$A, Output!$B75, Input!$B:$B, G$1, Input!$H:$H, \"=US-VA\")=0,\"\",\"X\")","v":""},0]
[75,"White-faced Storm-Petrel",{"$f":"IF(COUNTIFS(Input!$A:$A, Output!$B76, Input!$B:$B, C$1, Input!$H:$H, \"=US-VA\")=0,\"\",\"X\")","v":""},0,{"$f":"IF(COUNTIFS(Input!$A:$A, Output!$B76, Input!$B:$B, E$1, Input!$H:$H, \"=US-VA\")=0,\"\",\"X\")","v":""},0,{"$f":"IF(COUNTIFS(Input!$A:$A, Output!$B76, Input!$B:$B, G$1, Input!$H:$H, \"=US-VA\")=0,\"\",\"X\")","v":""},0]
[76,"Leach's Storm-Petrel",{"$f":"IF(COUNTIFS(Input!$A:$A, Output!$B77, Input!$B:$B, C$1, Input!$H:$H, \"=US-VA\")=0,\"\",\"X\")","v":""},0,{"$f":"IF(COUNTIFS(Input!$A:$A, Output!$B77, Input!$B:$B, E$1, Input!$H:$H, \"=US-VA\")=0,\"\",\"X\")","v":""},0,{"$f":"IF(COUNTIFS(Input!$A:$A, Output!$B77, Input!$B:$B, G$1, Input!$H:$H, \"=US-VA\")=0,\"\",\"X\")","v":""},0]
[77,"Band-rumped Storm-Petrel",{"$f":"IF(COUNTIFS(Input!$A:$A, Output!$B78, Input!$B:$B, C$1, Input!$H:$H, \"=US-VA\")=0,\"\",\"X\")","v":""},0,{"$f":"IF(COUNTIFS(Input!$A:$A, Output!$B78, Input!$B:$B, E$1, Input!$H:$H, \"=US-VA\")=0,\"\",\"X\")","v":""},0,{"$f":"IF(COUNTIFS(Input!$A:$A, Output!$B78, Input!$B:$B, G$1, Input!$H:$H, \"=US-VA\")=0,\"\",\"X\")","v":""},0]
[78,"White-tailed Tropicbird",{"$f":"IF(COUNTIFS(Input!$A:$A, Output!$B79, Input!$B:$B, C$1, Input!$H:$H, \"=US-VA\")=0,\"\",\"X\")","v":""},0,{"$f":"IF(COUNTIFS(Input!$A:$A, Output!$B79, Input!$B:$B, E$1, Input!$H:$H, \"=US-VA\")=0,\"\",\"X\")","v":""},0,{"$f":"IF(COUNTIFS(Input!$A:$A, Output!$B79, Input!$B:$B, G$1, Input!$H:$H, \"=US-VA\")=0,\"\",\"X\")","v":""},0]
[79,"Red-billed Tropicbird",{"$f":"IF(COUNTIFS(Input!$A:$A, Output!$B80, Input!$B:$B, C$1, Input!$H:$H, \"=US-VA\")=0,\"\",\"X\")","v":""},0,{"$f":"IF(COUNTIFS(Input!$A:$A, Output!$B80, Input!$B:$B, E$1, Input!$H:$H, \"=US-VA\")=0,\"\",\"X\")","v":""},0,{"$f":"IF(COUNTIFS(Input!$A:$A, Output!$B80, Input!$B:$B, G$1, Input!$H:$H, \"=US-VA\")=0,\"\",\"X\")","v":""},0]
[80,"Wood Stork",{"$f":"IF(COUNTIFS(Input!$A:$A, Output!$B81, Input!$B:$B, C$1, Input!$H:$H, \"=US-VA\")=0,\"\",\"X\")","v":""},0,{"$f":"IF(COUNTIFS(Input!$A:$A, Output!$B81, Input!$B:$B, E$1, Input!$H:$H, \"=US-VA\")=0,\"\",\"X\")","v":""},0,{"$f":"IF(COUNTIFS(Input!$A:$A, Output!$B81, Input!$B:$B, G$1, Input!$H:$H, \"=US-VA\")=0,\"\",\"X\")","v":""},0]
[81,"Magnificent Frigatebird",{"$f":"IF(COUNTIFS(Input!$A:$A, Output!$B82, Input!$B:$B, C$1, Input!$H:$H, \"=US-VA\")=0,\"\",\"X\")","v":""},0,{"$f":"IF(COUNTIFS(Input!$A:$A, Output!$B82, Input!$B:$B, E$1, Input!$H:$H, \"=US-VA\")=0,\"\",\"X\")","v":""},0,{"$f":"IF(COUNTIFS(Input!$A:$A, Output!$B82, Input!$B:$B, G$1, Input!$H:$H, \"=US-VA\")=0,\"\",\"X\")","v":""},0]
[82,"Brown Booby",{"$f":"IF(COUNTIFS(Input!$A:$A, Output!$B83, Input!$B:$B, C$1, Input!$H:$H, \"=US-VA\")=0,\"\",\"X\")","v":""},0,{"$f":"IF(COUNTIFS(Input!$A:$A, Output!$B83, Input!$B:$B, E$1, Input!$H:$H, \"=US-VA\")=0,\"\",\"X\")","v":""},0,{"$f":"IF(COUNTIFS(Input!$A:$A, Output!$B83, Input!$B:$B, G$1, Input!$H:$H, \"=US-VA\")=0,\"\",\"X\")","v":""},0]
[83,"Northern Gannet",{"$f":"IF(COUNTIFS(Input!$A:$A, Output!$B84, Input!$B:$B, C$1, Input!$H:$H, \"=US-VA\")=0,\"\",\"X\")","v":""},0,{"$f":"IF(COUNTIFS(Input!$A:$A, Output!$B84, Input!$B:$B, E$1, Input!$H:$H, \"=US-VA\")=0,\"\",\"X\")","v":""},0,{"$f":"IF(COUNTIFS(Input!$A:$A, Output!$B84, Input!$B:$B, G$1, Input!$H:$H, \"=US-VA\")=0,\"\",\"X\")","v":""},0]
[84,"Great Cormorant",{"$f":"IF(COUNTIFS(Input!$A:$A, Output!$B85, Input!$B:$B, C$1, Input!$H:$H, \"=US-VA\")=0,\"\",\"X\")","v":""},0,{"$f":"IF(COUNTIFS(Input!$A:$A, Output!$B85, Input!$B:$B, E$1, Input!$H:$H, \"=US-VA\")=0,\"\",\"X\")","v":""},0,{"$f":"IF(COUNTIFS(Input!$A:$A, Output!$B85, Input!$B:$B, G$1, Input!$H:$H, \"=US-VA\")=0,\"\",\"X\")","v":""},0]
[85,"Neotropic Cormorant",{"$f":"IF(COUNTIFS(Input!$A:$A, Output!$B86, Input!$B:$B, C$1, Input!$H:$H, \"=US-VA\")=0,\"\",\"X\")","v":""},0,{"$f":"IF(COUNTIFS(Input!$A:$A, Output!$B86, Input!$B:$B, E$1, Input!$H:$H, \"=US-VA\")=0,\"\",\"X\")","v":""},0,{"$f":"IF(COUNTIFS(Input!$A:$A, Output!$B86, Input!$B:$B, G$1, Input!$H:$H, \"=US-VA\")=0,\"\",\"X\")","v":""},0]
[86,"Double-crested Cormorant",{"$f":"IF(COUNTIFS(Input!$A:$A, Output!$B87, Input!$B:$B, C$1, Input!$H:$H, \"=US-VA\")=0,\"\",\"X\")","v":""},0,{"$f":"IF(COUNTIFS(Input!$A:$A, Output!$B87, Input!$B:$B, E$1, Input!$H:$H, \"=US-VA\")=0,\"\",\"X\")","v":""},0,{"$f":"IF(COUNTIFS(Input!$A:$A, Output!$B87, Input!$B:$B, G$1, Input!$H:$H, \"=US-VA\")=0,\"\",\"X\")","v":""},0]
[87,"Anhinga",{"$f":"IF(COUNTIFS(Input!$A:$A, Output!$B88, Input!$B:$B, C$1, Input!$H:$H, \"=US-VA\")=0,\"\",\"X\")","v":""},0,{"$f":"IF(COUNTIFS(Input!$A:$A, Output!$B88, Input!$B:$B, E$1, Input!$H:$H, \"=US-VA\")=0,\"\",\"X\")","v":""},0,{"$f":"IF(COUNTIFS(Input!$A:$A, Output!$B88, Input!$B:$B, G$1, Input!$H:$H, \"=US-VA\")=0,\"\",\"X\")","v":""},0]
[88,"American White Pelican",{"$f":"IF(COUNTIFS(Input!$A:$A, Output!$B89, Input!$B:$B, C$1, Input!$H:$H, \"=US-VA\")=0,\"\",\"X\")","v":""},0,{"$f":"IF(COUNTIFS(Input!$A:$A, Output!$B89, Input!$B:$B, E$1, Input!$H:$H, \"=US-VA\")=0,\"\",\"X\")","v":""},0,{"$f":"IF(COUNTIFS(Input!$A:$A, Output!$B89, Input!$B:$B, G$1, Input!$H:$H, \"=US-VA\")=0,\"\",\"X\")","v":""},0]
[89,"Brown Pelican",{"$f":"IF(COUNTIFS(Input!$A:$A, Output!$B90, Input!$B:$B, C$1, Input!$H:$H, \"=US-VA\")=0,\"\",\"X\")","v":""},0,{"$f":"IF(COUNTIFS(Input!$A:$A, Output!$B90, Input!$B:$B, E$1, Input!$H:$H, \"=US-VA\")=0,\"\",\"X\")","v":""},0,{"$f":"IF(COUNTIFS(Input!$A:$A, Output!$B90, Input!$B:$B, G$1, Input!$H:$H, \"=US-VA\")=0,\"\",\"X\")","v":""},0]
[90,"American Bittern",{"$f":"IF(COUNTIFS(Input!$A:$A, Output!$B91, Input!$B:$B, C$1, Input!$H:$H, \"=US-VA\")=0,\"\",\"X\")","v":""},0,{"$f":"IF(COUNTIFS(Input!$A:$A, Output!$B91, Input!$B:$B, E$1, Input!$H:$H, \"=US-VA\")=0,\"\",\"X\")","v":""},0,{"$f":"IF(COUNTIFS(Input!$A:$A, Output!$B91, Input!$B:$B, G$1, Input!$H:$H, \"=US-VA\")=0,\"\",\"X\")","v":""},0]
[91,"Least Bittern",{"$f":"IF(COUNTIFS(Input!$A:$A, Output!$B92, Input!$B:$B, C$1, Input!$H:$H, \"=US-VA\")=0,\"\",\"X\")","v":""},0,{"$f":"IF(COUNTIFS(Input!$A:$A, Output!$B92, Input!$B:$B, E$1, Input!$H:$H, \"=US-VA\")=0,\"\",\"X\")","v":""},0,{"$f":"IF(COUNTIFS(Input!$A:$A, Output!$B92, Input!$B:$B, G$1, Input!$H:$H, \"=US-VA\")=0,\"\",\"X\")","v":""},0]
[92,"Great Blue Heron",{"$f":"IF(COUNTIFS(Input!$A:$A, Output!$B93, Input!$B:$B, C$1, Input!$H:$H, \"=US-VA\")=0,\"\",\"X\")","v":""},0,{"$f":"IF(COUNTIFS(Input!$A:$A, Output!$B93, Input!$B:$B, E$1, Input!$H:$H, \"=US-VA\")=0,\"\",\"X\")","v":""},0,{"$f":"IF(COUNTIFS(Input!$A:$A, Output!$B93, Input!$B:$B, G$1, Input!$H:$H, \"=US-VA\")=0,\"\",\"X\")","v":""},0]
[93,"Great Egret",{"$f":"IF(COUNTIFS(Input!$A:$A, Output!$B94, Input!$B:$B, C$1, Input!$H:$H, \"=US-VA\")=0,\"\",\"X\")","v":""},0,{"$f":"IF(COUNTIFS(Input!$A:$A, Output!$B94, Input!$B:$B, E$1, Input!$H:$H, \"=US-VA\")=0,\"\",\"X\")","v":""},0,{"$f":"IF(COUNTIFS(Input!$A:$A, Output!$B94, Input!$B:$B, G$1, Input!$H:$H, \"=US-VA\")=0,\"\",\"X\")","v":""},0]
[94,"Little Egret",{"$f":"IF(COUNTIFS(Input!$A:$A, Output!$B95, Input!$B:$B, C$1, Input!$H:$H, \"=US-VA\")=0,\"\",\"X\")","v":""},0,{"$f":"IF(COUNTIFS(Input!$A:$A, Output!$B95, Input!$B:$B, E$1, Input!$H:$H, \"=US-VA\")=0,\"\",\"X\")","v":""},0,{"$f":"IF(COUNTIFS(Input!$A:$A, Output!$B95, Input!$B:$B, G$1, Input!$H:$H, \"=US-VA\")=0,\"\",\"X\")","v":""},0]
[95,"Snowy Egret",{"$f":"IF(COUNTIFS(Input!$A:$A, Output!$B96, Input!$B:$B, C$1, Input!$H:$H, \"=US-VA\")=0,\"\",\"X\")","v":""},0,{"$f":"IF(COUNTIFS(Input!$A:$A, Output!$B96, Input!$B:$B, E$1, Input!$H:$H, \"=US-VA\")=0,\"\",\"X\")","v":""},0,{"$f":"IF(COUNTIFS(Input!$A:$A, Output!$B96, Input!$B:$B, G$1, Input!$H:$H, \"=US-VA\")=0,\"\",\"X\")","v":""},0]
[96,"Little Blue Heron",{"$f":"IF(COUNTIFS(Input!$A:$A, Output!$B97, Input!$B:$B, C$1, Input!$H:$H, \"=US-VA\")=0,\"\",\"X\")","v":""},0,{"$f":"IF(COUNTIFS(Input!$A:$A, Output!$B97, Input!$B:$B, E$1, Input!$H:$H, \"=US-VA\")=0,\"\",\"X\")","v":""},0,{"$f":"IF(COUNTIFS(Input!$A:$A, Output!$B97, Input!$B:$B, G$1, Input!$H:$H, \"=US-VA\")=0,\"\",\"X\")","v":""},0]
[97,"Tricolored Heron",{"$f":"IF(COUNTIFS(Input!$A:$A, Output!$B98, Input!$B:$B, C$1, Input!$H:$H, \"=US-VA\")=0,\"\",\"X\")","v":""},0,{"$f":"IF(COUNTIFS(Input!$A:$A, Output!$B98, Input!$B:$B, E$1, Input!$H:$H, \"=US-VA\")=0,\"\",\"X\")","v":""},0,{"$f":"IF(COUNTIFS(Input!$A:$A, Output!$B98, Input!$B:$B, G$1, Input!$H:$H, \"=US-VA\")=0,\"\",\"X\")","v":""},0]
[98,"Reddish Egret",{"$f":"IF(COUNTIFS(Input!$A:$A, Output!$B99, Input!$B:$B, C$1, Input!$H:$H, \"=US-VA\")=0,\"\",\"X\")","v":""},0,{"$f":"IF(COUNTIFS(Input!$A:$A, Output!$B99, Input!$B:$B, E$1, Input!$H:$H, \"=US-VA\")=0,\"\",\"X\")","v":""},0,{"$f":"IF(COUNTIFS(Input!$A:$A, Output!$B99, Input!$B:$B, G$1, Input!$H:$H, \"=US-VA\")=0,\"\",\"X\")","v":""},0]
[99,"Cattle Egret",{"$f":"IF(COUNTIFS(Input!$A:$A, Output!$B100, Input!$B:$B, C$1, Input!$H:$H, \"=US-VA\")=0,\"\",\"X\")","v":""},0,{"$f":"IF(COUNTIFS(Input!$A:$A, Output!$B100, Input!$B:$B, E$1, Input!$H:$H, \"=US-VA\")=0,\"\",\"X\")","v":""},0,{"$f":"IF(COUNTIFS(Input!$A:$A, Output!$B100, Input!$B:$B, G$1, Input!$H:$H, \"=US-VA\")=0,\"\",\"X\")","v":""},0]
[100,"Green Heron",{"$f":"IF(COUNTIFS(Input!$A:$A, Output!$B101, Input!$B:$B, C$1, Input!$H:$H, \"=US-VA\")=0,\"\",\"X\")","v":""},0,{"$f":"IF(COUNTIFS(Input!$A:$A, Output!$B101, Input!$B:$B, E$1, Input!$H:$H, \"=US-VA\")=0,\"\",\"X\")","v":""},0,{"$f":"IF(COUNTIFS(Input!$A:$A, Output!$B101, Input!$B:$B, G$1, Input!$H:$H, \"=US-VA\")=0,\"\",\"X\")","v":""},0]
[101,"Black-crowned Night-Heron",{"$f":"IF(COUNTIFS(Input!$A:$A, Output!$B102, Input!$B:$B, C$1, Input!$H:$H, \"=US-VA\")=0,\"\",\"X\")","v":""},0,{"$f":"IF(COUNTIFS(Input!$A:$A, Output!$B102, Input!$B:$B, E$1, Input!$H:$H, \"=US-VA\")=0,\"\",\"X\")","v":""},0,{"$f":"IF(COUNTIFS(Input!$A:$A, Output!$B102, Input!$B:$B, G$1, Input!$H:$H, \"=US-VA\")=0,\"\",\"X\")","v":""},0]
[102,"Yellow-crowned Night-Heron",{"$f":"IF(COUNTIFS(Input!$A:$A, Output!$B103, Input!$B:$B, C$1, Input!$H:$H, \"=US-VA\")=0,\"\",\"X\")","v":""},0,{"$f":"IF(COUNTIFS(Input!$A:$A, Output!$B103, Input!$B:$B, E$1, Input!$H:$H, \"=US-VA\")=0,\"\",\"X\")","v":""},0,{"$f":"IF(COUNTIFS(Input!$A:$A, Output!$B103, Input!$B:$B, G$1, Input!$H:$H, \"=US-VA\")=0,\"\",\"X\")","v":""},0]
[103,"White Ibis",{"$f":"IF(COUNTIFS(Input!$A:$A, Output!$B104, Input!$B:$B, C$1, Input!$H:$H, \"=US-VA\")=0,\"\",\"X\")","v":""},0,{"$f":"IF(COUNTIFS(Input!$A:$A, Output!$B104, Input!$B:$B, E$1, Input!$H:$H, \"=US-VA\")=0,\"\",\"X\")","v":""},0,{"$f":"IF(COUNTIFS(Input!$A:$A, Output!$B104, Input!$B:$B, G$1, Input!$H:$H, \"=US-VA\")=0,\"\",\"X\")","v":""},0]
[104,"Glossy Ibis",{"$f":"IF(COUNTIFS(Input!$A:$A, Output!$B105, Input!$B:$B, C$1, Input!$H:$H, \"=US-VA\")=0,\"\",\"X\")","v":""},0,{"$f":"IF(COUNTIFS(Input!$A:$A, Output!$B105, Input!$B:$B, E$1, Input!$H:$H, \"=US-VA\")=0,\"\",\"X\")","v":""},0,{"$f":"IF(COUNTIFS(Input!$A:$A, Output!$B105, Input!$B:$B, G$1, Input!$H:$H, \"=US-VA\")=0,\"\",\"X\")","v":""},0]
[105,"White-faced Ibis",{"$f":"IF(COUNTIFS(Input!$A:$A, Output!$B106, Input!$B:$B, C$1, Input!$H:$H, \"=US-VA\")=0,\"\",\"X\")","v":""},0,{"$f":"IF(COUNTIFS(Input!$A:$A, Output!$B106, Input!$B:$B, E$1, Input!$H:$H, \"=US-VA\")=0,\"\",\"X\")","v":""},0,{"$f":"IF(COUNTIFS(Input!$A:$A, Output!$B106, Input!$B:$B, G$1, Input!$H:$H, \"=US-VA\")=0,\"\",\"X\")","v":""},0]
[106,"Roseate Spoonbill",{"$f":"IF(COUNTIFS(Input!$A:$A, Output!$B107, Input!$B:$B, C$1, Input!$H:$H, \"=US-VA\")=0,\"\",\"X\")","v":""},0,{"$f":"IF(COUNTIFS(Input!$A:$A, Output!$B107, Input!$B:$B, E$1, Input!$H:$H, \"=US-VA\")=0,\"\",\"X\")","v":""},0,{"$f":"IF(COUNTIFS(Input!$A:$A, Output!$B107, Input!$B:$B, G$1, Input!$H:$H, \"=US-VA\")=0,\"\",\"X\")","v":""},0]
[107,"Black Vulture",{"$f":"IF(COUNTIFS(Input!$A:$A, Output!$B108, Input!$B:$B, C$1, Input!$H:$H, \"=US-VA\")=0,\"\",\"X\")","v":""},0,{"$f":"IF(COUNTIFS(Input!$A:$A, Output!$B108, Input!$B:$B, E$1, Input!$H:$H, \"=US-VA\")=0,\"\",\"X\")","v":""},0,{"$f":"IF(COUNTIFS(Input!$A:$A, Output!$B108, Input!$B:$B, G$1, Input!$H:$H, \"=US-VA\")=0,\"\",\"X\")","v":""},0]
[108,"Turkey Vulture",{"$f":"IF(COUNTIFS(Input!$A:$A, Output!$B109, Input!$B:$B, C$1, Input!$H:$H, \"=US-VA\")=0,\"\",\"X\")","v":""},0,{"$f":"IF(COUNTIFS(Input!$A:$A, Output!$B109, Input!$B:$B, E$1, Input!$H:$H, \"=US-VA\")=0,\"\",\"X\")","v":""},0,{"$f":"IF(COUNTIFS(Input!$A:$A, Output!$B109, Input!$B:$B, G$1, Input!$H:$H, \"=US-VA\")=0,\"\",\"X\")","v":""},0]
[109,"Osprey",{"$f":"IF(COUNTIFS(Input!$A:$A, Output!$B110, Input!$B:$B, C$1, Input!$H:$H, \"=US-VA\")=0,\"\",\"X\")","v":""},0,{"$f":"IF(COUNTIFS(Input!$A:$A, Output!$B110, Input!$B:$B, E$1, Input!$H:$H, \"=US-VA\")=0,\"\",\"X\")","v":""},0,{"$f":"IF(COUNTIFS(Input!$A:$A, Output!$B110, Input!$B:$B, G$1, Input!$H:$H, \"=US-VA\")=0,\"\",\"X\")","v":""},0]
[110,"White-tailed Kite",{"$f":"IF(COUNTIFS(Input!$A:$A, Output!$B111, Input!$B:$B, C$1, Input!$H:$H, \"=US-VA\")=0,\"\",\"X\")","v":""},0,{"$f":"IF(COUNTIFS(Input!$A:$A, Output!$B111, Input!$B:$B, E$1, Input!$H:$H, \"=US-VA\")=0,\"\",\"X\")","v":""},0,{"$f":"IF(COUNTIFS(Input!$A:$A, Output!$B111, Input!$B:$B, G$1, Input!$H:$H, \"=US-VA\")=0,\"\",\"X\")","v":""},0]
[111,"Swallow-tailed Kite",{"$f":"IF(COUNTIFS(Input!$A:$A, Output!$B112, Input!$B:$B, C$1, Input!$H:$H, \"=US-VA\")=0,\"\",\"X\")","v":""},0,{"$f":"IF(COUNTIFS(Input!$A:$A, Output!$B112, Input!$B:$B, E$1, Input!$H:$H, \"=US-VA\")=0,\"\",\"X\")","v":""},0,{"$f":"IF(COUNTIFS(Input!$A:$A, Output!$B112, Input!$B:$B, G$1, Input!$H:$H, \"=US-VA\")=0,\"\",\"X\")","v":""},0]
[112,"Golden Eagle",{"$f":"IF(COUNTIFS(Input!$A:$A, Output!$B113, Input!$B:$B, C$1, Input!$H:$H, \"=US-VA\")=0,\"\",\"X\")","v":""},0,{"$f":"IF(COUNTIFS(Input!$A:$A, Output!$B113, Input!$B:$B, E$1, Input!$H:$H, \"=US-VA\")=0,\"\",\"X\")","v":""},0,{"$f":"IF(COUNTIFS(Input!$A:$A, Output!$B113, Input!$B:$B, G$1, Input!$H:$H, \"=US-VA\")=0,\"\",\"X\")","v":""},0]
[113,"Mississippi Kite",{"$f":"IF(COUNTIFS(Input!$A:$A, Output!$B114, Input!$B:$B, C$1, Input!$H:$H, \"=US-VA\")=0,\"\",\"X\")","v":""},0,{"$f":"IF(COUNTIFS(Input!$A:$A, Output!$B114, Input!$B:$B, E$1, Input!$H:$H, \"=US-VA\")=0,\"\",\"X\")","v":""},0,{"$f":"IF(COUNTIFS(Input!$A:$A, Output!$B114, Input!$B:$B, G$1, Input!$H:$H, \"=US-VA\")=0,\"\",\"X\")","v":""},0]
[114,"Eurasian Marsh-Harrier",{"$f":"IF(COUNTIFS(Input!$A:$A, Output!$B115, Input!$B:$B, C$1, Input!$H:$H, \"=US-VA\")=0,\"\",\"X\")","v":""},0,{"$f":"IF(COUNTIFS(Input!$A:$A, Output!$B115, Input!$B:$B, E$1, Input!$H:$H, \"=US-VA\")=0,\"\",\"X\")","v":""},0,{"$f":"IF(COUNTIFS(Input!$A:$A, Output!$B115, Input!$B:$B, G$1, Input!$H:$H, \"=US-VA\")=0,\"\",\"X\")","v":""},0]
[115,"Northern Harrier",{"$f":"IF(COUNTIFS(Input!$A:$A, Output!$B116, Input!$B:$B, C$1, Input!$H:$H, \"=US-VA\")=0,\"\",\"X\")","v":""},0,{"$f":"IF(COUNTIFS(Input!$A:$A, Output!$B116, Input!$B:$B, E$1, Input!$H:$H, \"=US-VA\")=0,\"\",\"X\")","v":""},0,{"$f":"IF(COUNTIFS(Input!$A:$A, Output!$B116, Input!$B:$B, G$1, Input!$H:$H, \"=US-VA\")=0,\"\",\"X\")","v":""},0]
[116,"Sharp-shinned Hawk",{"$f":"IF(COUNTIFS(Input!$A:$A, Output!$B117, Input!$B:$B, C$1, Input!$H:$H, \"=US-VA\")=0,\"\",\"X\")","v":""},0,{"$f":"IF(COUNTIFS(Input!$A:$A, Output!$B117, Input!$B:$B, E$1, Input!$H:$H, \"=US-VA\")=0,\"\",\"X\")","v":""},0,{"$f":"IF(COUNTIFS(Input!$A:$A, Output!$B117, Input!$B:$B, G$1, Input!$H:$H, \"=US-VA\")=0,\"\",\"X\")","v":""},0]
[117,"Cooper's Hawk",{"$f":"IF(COUNTIFS(Input!$A:$A, Output!$B118, Input!$B:$B, C$1, Input!$H:$H, \"=US-VA\")=0,\"\",\"X\")","v":""},0,{"$f":"IF(COUNTIFS(Input!$A:$A, Output!$B118, Input!$B:$B, E$1, Input!$H:$H, \"=US-VA\")=0,\"\",\"X\")","v":""},0,{"$f":"IF(COUNTIFS(Input!$A:$A, Output!$B118, Input!$B:$B, G$1, Input!$H:$H, \"=US-VA\")=0,\"\",\"X\")","v":""},0]
[118,"Northern Goshawk",{"$f":"IF(COUNTIFS(Input!$A:$A, Output!$B119, Input!$B:$B, C$1, Input!$H:$H, \"=US-VA\")=0,\"\",\"X\")","v":""},0,{"$f":"IF(COUNTIFS(Input!$A:$A, Output!$B119, Input!$B:$B, E$1, Input!$H:$H, \"=US-VA\")=0,\"\",\"X\")","v":""},0,{"$f":"IF(COUNTIFS(Input!$A:$A, Output!$B119, Input!$B:$B, G$1, Input!$H:$H, \"=US-VA\")=0,\"\",\"X\")","v":""},0]
[119,"Bald Eagle",{"$f":"IF(COUNTIFS(Input!$A:$A, Output!$B120, Input!$B:$B, C$1, Input!$H:$H, \"=US-VA\")=0,\"\",\"X\")","v":""},0,{"$f":"IF(COUNTIFS(Input!$A:$A, Output!$B120, Input!$B:$B, E$1, Input!$H:$H, \"=US-VA\")=0,\"\",\"X\")","v":""},0,{"$f":"IF(COUNTIFS(Input!$A:$A, Output!$B120, Input!$B:$B, G$1, Input!$H:$H, \"=US-VA\")=0,\"\",\"X\")","v":""},0]
[120,"Red-shouldered Hawk",{"$f":"IF(COUNTIFS(Input!$A:$A, Output!$B121, Input!$B:$B, C$1, Input!$H:$H, \"=US-VA\")=0,\"\",\"X\")","v":""},0,{"$f":"IF(COUNTIFS(Input!$A:$A, Output!$B121, Input!$B:$B, E$1, Input!$H:$H, \"=US-VA\")=0,\"\",\"X\")","v":""},0,{"$f":"IF(COUNTIFS(Input!$A:$A, Output!$B121, Input!$B:$B, G$1, Input!$H:$H, \"=US-VA\")=0,\"\",\"X\")","v":""},0]
[121,"Broad-winged Hawk",{"$f":"IF(COUNTIFS(Input!$A:$A, Output!$B122, Input!$B:$B, C$1, Input!$H:$H, \"=US-VA\")=0,\"\",\"X\")","v":""},0,{"$f":"IF(COUNTIFS(Input!$A:$A, Output!$B122, Input!$B:$B, E$1, Input!$H:$H, \"=US-VA\")=0,\"\",\"X\")","v":""},0,{"$f":"IF(COUNTIFS(Input!$A:$A, Output!$B122, Input!$B:$B, G$1, Input!$H:$H, \"=US-VA\")=0,\"\",\"X\")","v":""},0]
[122,"Swainson's Hawk",{"$f":"IF(COUNTIFS(Input!$A:$A, Output!$B123, Input!$B:$B, C$1, Input!$H:$H, \"=US-VA\")=0,\"\",\"X\")","v":""},0,{"$f":"IF(COUNTIFS(Input!$A:$A, Output!$B123, Input!$B:$B, E$1, Input!$H:$H, \"=US-VA\")=0,\"\",\"X\")","v":""},0,{"$f":"IF(COUNTIFS(Input!$A:$A, Output!$B123, Input!$B:$B, G$1, Input!$H:$H, \"=US-VA\")=0,\"\",\"X\")","v":""},0]
[123,"Zone-tailed Hawk",{"$f":"IF(COUNTIFS(Input!$A:$A, Output!$B124, Input!$B:$B, C$1, Input!$H:$H, \"=US-VA\")=0,\"\",\"X\")","v":""},0,{"$f":"IF(COUNTIFS(Input!$A:$A, Output!$B124, Input!$B:$B, E$1, Input!$H:$H, \"=US-VA\")=0,\"\",\"X\")","v":""},0,{"$f":"IF(COUNTIFS(Input!$A:$A, Output!$B124, Input!$B:$B, G$1, Input!$H:$H, \"=US-VA\")=0,\"\",\"X\")","v":""},0]
[124,"Red-tailed Hawk",{"$f":"IF(COUNTIFS(Input!$A:$A, Output!$B125, Input!$B:$B, C$1, Input!$H:$H, \"=US-VA\")=0,\"\",\"X\")","v":""},0,{"$f":"IF(COUNTIFS(Input!$A:$A, Output!$B125, Input!$B:$B, E$1, Input!$H:$H, \"=US-VA\")=0,\"\",\"X\")","v":""},0,{"$f":"IF(COUNTIFS(Input!$A:$A, Output!$B125, Input!$B:$B, G$1, Input!$H:$H, \"=US-VA\")=0,\"\",\"X\")","v":""},0]
[125,"Rough-legged Hawk",{"$f":"IF(COUNTIFS(Input!$A:$A, Output!$B126, Input!$B:$B, C$1, Input!$H:$H, \"=US-VA\")=0,\"\",\"X\")","v":""},0,{"$f":"IF(COUNTIFS(Input!$A:$A, Output!$B126, Input!$B:$B, E$1, Input!$H:$H, \"=US-VA\")=0,\"\",\"X\")","v":""},0,{"$f":"IF(COUNTIFS(Input!$A:$A, Output!$B126, Input!$B:$B, G$1, Input!$H:$H, \"=US-VA\")=0,\"\",\"X\")","v":""},0]
[126,"Ferruginous Hawk",{"$f":"IF(COUNTIFS(Input!$A:$A, Output!$B127, Input!$B:$B, C$1, Input!$H:$H, \"=US-VA\")=0,\"\",\"X\")","v":""},0,{"$f":"IF(COUNTIFS(Input!$A:$A, Output!$B127, Input!$B:$B, E$1, Input!$H:$H, \"=US-VA\")=0,\"\",\"X\")","v":""},0,{"$f":"IF(COUNTIFS(Input!$A:$A, Output!$B127, Input!$B:$B, G$1, Input!$H:$H, \"=US-VA\")=0,\"\",\"X\")","v":""},0]
[127,"Yellow Rail",{"$f":"IF(COUNTIFS(Input!$A:$A, Output!$B128, Input!$B:$B, C$1, Input!$H:$H, \"=US-VA\")=0,\"\",\"X\")","v":""},0,{"$f":"IF(COUNTIFS(Input!$A:$A, Output!$B128, Input!$B:$B, E$1, Input!$H:$H, \"=US-VA\")=0,\"\",\"X\")","v":""},0,{"$f":"IF(COUNTIFS(Input!$A:$A, Output!$B128, Input!$B:$B, G$1, Input!$H:$H, \"=US-VA\")=0,\"\",\"X\")","v":""},0]
[128,"Black Rail",{"$f":"IF(COUNTIFS(Input!$A:$A, Output!$B129, Input!$B:$B, C$1, Input!$H:$H, \"=US-VA\")=0,\"\",\"X\")","v":""},0,{"$f":"IF(COUNTIFS(Input!$A:$A, Output!$B129, Input!$B:$B, E$1, Input!$H:$H, \"=US-VA\")=0,\"\",\"X\")","v":""},0,{"$f":"IF(COUNTIFS(Input!$A:$A, Output!$B129, Input!$B:$B, G$1, Input!$H:$H, \"=US-VA\")=0,\"\",\"X\")","v":""},0]
[129,"King Rail",{"$f":"IF(COUNTIFS(Input!$A:$A, Output!$B130, Input!$B:$B, C$1, Input!$H:$H, \"=US-VA\")=0,\"\",\"X\")","v":""},{"$f":"IF(C130=\"X\",1,0)","v":0},{"$f":"IF(COUNTIFS(Input!$A:$A, Output!$B130, Input!$B:$B, E$1, Input!$H:$H, \"=US-VA\")=0,\"\",\"X\")","v":""},{"$f":"IF(E130=\"X\",1,0)","v":0},{"$f":"IF(COUNTIFS(Input!$A:$A, Output!$B130, Input!$B:$B, G$1, Input!$H:$H, \"=US-VA\")=0,\"\",\"X\")","v":""},{"$f":"IF(G130=\"X\",1,0)","v":0}]
[130,"Clapper Rail",{"$f":"IF(COUNTIFS(Input!$A:$A, Output!$B131, Input!$B:$B, C$1, Input!$H:$H, \"=US-VA\")=0,\"\",\"X\")","v":""},0,{"$f":"IF(COUNTIFS(Input!$A:$A, Output!$B131, Input!$B:$B, E$1, Input!$H:$H, \"=US-VA\")=0,\"\",\"X\")","v":""},0,{"$f":"IF(COUNTIFS(Input!$A:$A, Output!$B131, Input!$B:$B, G$1, Input!$H:$H, \"=US-VA\")=0,\"\",\"X\")","v":""},0]
[131,"Virginia Rail",{"$f":"IF(COUNTIFS(Input!$A:$A, Output!$B132, Input!$B:$B, C$1, Input!$H:$H, \"=US-VA\")=0,\"\",\"X\")","v":""},0,{"$f":"IF(COUNTIFS(Input!$A:$A, Output!$B132, Input!$B:$B, E$1, Input!$H:$H, \"=US-VA\")=0,\"\",\"X\")","v":""},0,{"$f":"IF(COUNTIFS(Input!$A:$A, Output!$B132, Input!$B:$B, G$1, Input!$H:$H, \"=US-VA\")=0,\"\",\"X\")","v":""},0]
[132,"Sora",{"$f":"IF(COUNTIFS(Input!$A:$A, Output!$B133, Input!$B:$B, C$1, Input!$H:$H, \"=US-VA\")=0,\"\",\"X\")","v":""},0,{"$f":"IF(COUNTIFS(Input!$A:$A, Output!$B133, Input!$B:$B, E$1, Input!$H:$H, \"=US-VA\")=0,\"\",\"X\")","v":""},0,{"$f":"IF(COUNTIFS(Input!$A:$A, Output!$B133, Input!$B:$B, G$1, Input!$H:$H, \"=US-VA\")=0,\"\",\"X\")","v":""},0]
[133,"Paint-billed Crake",{"$f":"IF(COUNTIFS(Input!$A:$A, Output!$B134, Input!$B:$B, C$1, Input!$H:$H, \"=US-VA\")=0,\"\",\"X\")","v":""},0,{"$f":"IF(COUNTIFS(Input!$A:$A, Output!$B134, Input!$B:$B, E$1, Input!$H:$H, \"=US-VA\")=0,\"\",\"X\")","v":""},0,{"$f":"IF(COUNTIFS(Input!$A:$A, Output!$B134, Input!$B:$B, G$1, Input!$H:$H, \"=US-VA\")=0,\"\",\"X\")","v":""},0]
[134,"Purple Gallinule",{"$f":"IF(COUNTIFS(Input!$A:$A, Output!$B135, Input!$B:$B, C$1, Input!$H:$H, \"=US-VA\")=0,\"\",\"X\")","v":""},0,{"$f":"IF(COUNTIFS(Input!$A:$A, Output!$B135, Input!$B:$B, E$1, Input!$H:$H, \"=US-VA\")=0,\"\",\"X\")","v":""},0,{"$f":"IF(COUNTIFS(Input!$A:$A, Output!$B135, Input!$B:$B, G$1, Input!$H:$H, \"=US-VA\")=0,\"\",\"X\")","v":""},0]
[135,"Common Gallinule",{"$f":"IF(COUNTIFS(Input!$A:$A, Output!$B136, Input!$B:$B, C$1, Input!$H:$H, \"=US-VA\")=0,\"\",\"X\")","v":""},0,{"$f":"IF(COUNTIFS(Input!$A:$A, Output!$B136, Input!$B:$B, E$1, Input!$H:$H, \"=US-VA\")=0,\"\",\"X\")","v":""},0,{"$f":"IF(COUNTIFS(Input!$A:$A, Output!$B136, Input!$B:$B, G$1, Input!$H:$H, \"=US-VA\")=0,\"\",\"X\")","v":""},0]
[136,"American Coot",{"$f":"IF(COUNTIFS(Input!$A:$A, Output!$B137, Input!$B:$B, C$1, Input!$H:$H, \"=US-VA\")=0,\"\",\"X\")","v":""},0,{"$f":"IF(COUNTIFS(Input!$A:$A, Output!$B137, Input!$B:$B, E$1, Input!$H:$H, \"=US-VA\")=0,\"\",\"X\")","v":""},0,{"$f":"IF(COUNTIFS(Input!$A:$A, Output!$B137, Input!$B:$B, G$1, Input!$H:$H, \"=US-VA\")=0,\"\",\"X\")","v":""},0]
[137,"Limpkin",{"$f":"IF(COUNTIFS(Input!$A:$A, Output!$B138, Input!$B:$B, C$1, Input!$H:$H, \"=US-VA\")=0,\"\",\"X\")","v":""},0,{"$f":"IF(COUNTIFS(Input!$A:$A, Output!$B138, Input!$B:$B, E$1, Input!$H:$H, \"=US-VA\")=0,\"\",\"X\")","v":""},0,{"$f":"IF(COUNTIFS(Input!$A:$A, Output!$B138, Input!$B:$B, G$1, Input!$H:$H, \"=US-VA\")=0,\"\",\"X\")","v":""},0]
[138,"Sandhill Crane",{"$f":"IF(COUNTIFS(Input!$A:$A, Output!$B139, Input!$B:$B, C$1, Input!$H:$H, \"=US-VA\")=0,\"\",\"X\")","v":""},0,{"$f":"IF(COUNTIFS(Input!$A:$A, Output!$B139, Input!$B:$B, E$1, Input!$H:$H, \"=US-VA\")=0,\"\",\"X\")","v":""},0,{"$f":"IF(COUNTIFS(Input!$A:$A, Output!$B139, Input!$B:$B, G$1, Input!$H:$H, \"=US-VA\")=0,\"\",\"X\")","v":""},0]
[139,"Black-necked Stilt",{"$f":"IF(COUNTIFS(Input!$A:$A, Output!$B140, Input!$B:$B, C$1, Input!$H:$H, \"=US-VA\")=0,\"\",\"X\")","v":""},0,{"$f":"IF(COUNTIFS(Input!$A:$A, Output!$B140, Input!$B:$B, E$1, Input!$H:$H, \"=US-VA\")=0,\"\",\"X\")","v":""},0,{"$f":"IF(COUNTIFS(Input!$A:$A, Output!$B140, Input!$B:$B, G$1, Input!$H:$H, \"=US-VA\")=0,\"\",\"X\")","v":""},0]
[140,"American Avocet",{"$f":"IF(COUNTIFS(Input!$A:$A, Output!$B141, Input!$B:$B, C$1, Input!$H:$H, \"=US-VA\")=0,\"\",\"X\")","v":""},0,{"$f":"IF(COUNTIFS(Input!$A:$A, Output!$B141, Input!$B:$B, E$1, Input!$H:$H, \"=US-VA\")=0,\"\",\"X\")","v":""},0,{"$f":"IF(COUNTIFS(Input!$A:$A, Output!$B141, Input!$B:$B, G$1, Input!$H:$H, \"=US-VA\")=0,\"\",\"X\")","v":""},0]
[141,"American Oystercatcher",{"$f":"IF(COUNTIFS(Input!$A:$A, Output!$B142, Input!$B:$B, C$1, Input!$H:$H, \"=US-VA\")=0,\"\",\"X\")","v":""},0,{"$f":"IF(COUNTIFS(Input!$A:$A, Output!$B142, Input!$B:$B, E$1, Input!$H:$H, \"=US-VA\")=0,\"\",\"X\")","v":""},0,{"$f":"IF(COUNTIFS(Input!$A:$A, Output!$B142, Input!$B:$B, G$1, Input!$H:$H, \"=US-VA\")=0,\"\",\"X\")","v":""},0]
[142,"Black-bellied Plover",{"$f":"IF(COUNTIFS(Input!$A:$A, Output!$B143, Input!$B:$B, C$1, Input!$H:$H, \"=US-VA\")=0,\"\",\"X\")","v":""},0,{"$f":"IF(COUNTIFS(Input!$A:$A, Output!$B143, Input!$B:$B, E$1, Input!$H:$H, \"=US-VA\")=0,\"\",\"X\")","v":""},0,{"$f":"IF(COUNTIFS(Input!$A:$A, Output!$B143, Input!$B:$B, G$1, Input!$H:$H, \"=US-VA\")=0,\"\",\"X\")","v":""},0]
[143,"American Golden-Plover",{"$f":"IF(COUNTIFS(Input!$A:$A, Output!$B144, Input!$B:$B, C$1, Input!$H:$H, \"=US-VA\")=0,\"\",\"X\")","v":""},0,{"$f":"IF(COUNTIFS(Input!$A:$A, Output!$B144, Input!$B:$B, E$1, Input!$H:$H, \"=US-VA\")=0,\"\",\"X\")","v":""},0,{"$f":"IF(COUNTIFS(Input!$A:$A, Output!$B144, Input!$B:$B, G$1, Input!$H:$H, \"=US-VA\")=0,\"\",\"X\")","v":""},0]
[144,"Northern Lapwing",{"$f":"IF(COUNTIFS(Input!$A:$A, Output!$B145, Input!$B:$B, C$1, Input!$H:$H, \"=US-VA\")=0,\"\",\"X\")","v":""},0,{"$f":"IF(COUNTIFS(Input!$A:$A, Output!$B145, Input!$B:$B, E$1, Input!$H:$H, \"=US-VA\")=0,\"\",\"X\")","v":""},0,{"$f":"IF(COUNTIFS(Input!$A:$A, Output!$B145, Input!$B:$B, G$1, Input!$H:$H, \"=US-VA\")=0,\"\",\"X\")","v":""},0]
[145,"Lesser Sand-Plover",{"$f":"IF(COUNTIFS(Input!$A:$A, Output!$B146, Input!$B:$B, C$1, Input!$H:$H, \"=US-VA\")=0,\"\",\"X\")","v":""},0,{"$f":"IF(COUNTIFS(Input!$A:$A, Output!$B146, Input!$B:$B, E$1, Input!$H:$H, \"=US-VA\")=0,\"\",\"X\")","v":""},0,{"$f":"IF(COUNTIFS(Input!$A:$A, Output!$B146, Input!$B:$B, G$1, Input!$H:$H, \"=US-VA\")=0,\"\",\"X\")","v":""},0]
[146,"Snowy Plover",{"$f":"IF(COUNTIFS(Input!$A:$A, Output!$B147, Input!$B:$B, C$1, Input!$H:$H, \"=US-VA\")=0,\"\",\"X\")","v":""},0,{"$f":"IF(COUNTIFS(Input!$A:$A, Output!$B147, Input!$B:$B, E$1, Input!$H:$H, \"=US-VA\")=0,\"\",\"X\")","v":""},0,{"$f":"IF(COUNTIFS(Input!$A:$A, Output!$B147, Input!$B:$B, G$1, Input!$H:$H, \"=US-VA\")=0,\"\",\"X\")","v":""},0]
[147,"Wilson's Plover",{"$f":"IF(COUNTIFS(Input!$A:$A, Output!$B148, Input!$B:$B, C$1, Input!$H:$H, \"=US-VA\")=0,\"\",\"X\")","v":""},0,{"$f":"IF(COUNTIFS(Input!$A:$A, Output!$B148, Input!$B:$B, E$1, Input!$H:$H, \"=US-VA\")=0,\"\",\"X\")","v":""},0,{"$f":"IF(COUNTIFS(Input!$A:$A, Output!$B148, Input!$B:$B, G$1, Input!$H:$H, \"=US-VA\")=0,\"\",\"X\")","v":""},0]
[148,"Semipalmated Plover",{"$f":"IF(COUNTIFS(Input!$A:$A, Output!$B149, Input!$B:$B, C$1, Input!$H:$H, \"=US-VA\")=0,\"\",\"X\")","v":""},0,{"$f":"IF(COUNTIFS(Input!$A:$A, Output!$B149, Input!$B:$B, E$1, Input!$H:$H, \"=US-VA\")=0,\"\",\"X\")","v":""},0,{"$f":"IF(COUNTIFS(Input!$A:$A, Output!$B149, Input!$B:$B, G$1, Input!$H:$H, \"=US-VA\")=0,\"\",\"X\")","v":""},0]
[149,"Piping Plover",{"$f":"IF(COUNTIFS(Input!$A:$A, Output!$B150, Input!$B:$B, C$1, Input!$H:$H, \"=US-VA\")=0,\"\",\"X\")","v":""},0,{"$f":"IF(COUNTIFS(Input!$A:$A, Output!$B150, Input!$B:$B, E$1, Input!$H:$H, \"=US-VA\")=0,\"\",\"X\")","v":""},0,{"$f":"IF(COUNTIFS(Input!$A:$A, Output!$B150, Input!$B:$B, G$1, Input!$H:$H, \"=US-VA\")=0,\"\",\"X\")","v":""},0]
[150,"Killdeer",{"$f":"IF(COUNTIFS(Input!$A:$A, Output!$B151, Input!$B:$B, C$1, Input!$H:$H, \"=US-VA\")=0,\"\",\"X\")","v":""},0,{"$f":"IF(COUNTIFS(Input!$A:$A, Output!$B151, Input!$B:$B, E$1, Input!$H:$H, \"=US-VA\")=0,\"\",\"X\")","v":""},0,{"$f":"IF(COUNTIFS(Input!$A:$A, Output!$B151, Input!$B:$B, G$1, Input!$H:$H, \"=US-VA\")=0,\"\",\"X\")","v":""},0]
[151,"Mountain Plover",{"$f":"IF(COUNTIFS(Input!$A:$A, Output!$B152, Input!$B:$B, C$1, Input!$H:$H, \"=US-VA\")=0,\"\",\"X\")","v":""},0,{"$f":"IF(COUNTIFS(Input!$A:$A, Output!$B152, Input!$B:$B, E$1, Input!$H:$H, \"=US-VA\")=0,\"\",\"X\")","v":""},0,{"$f":"IF(COUNTIFS(Input!$A:$A, Output!$B152, Input!$B:$B, G$1, Input!$H:$H, \"=US-VA\")=0,\"\",\"X\")","v":""},0]
[152,"Upland Sandpiper",{"$f":"IF(COUNTIFS(Input!$A:$A, Output!$B153, Input!$B:$B, C$1, Input!$H:$H, \"=US-VA\")=0,\"\",\"X\")","v":""},0,{"$f":"IF(COUNTIFS(Input!$A:$A, Output!$B153, Input!$B:$B, E$1, Input!$H:$H, \"=US-VA\")=0,\"\",\"X\")","v":""},0,{"$f":"IF(COUNTIFS(Input!$A:$A, Output!$B153, Input!$B:$B, G$1, Input!$H:$H, \"=US-VA\")=0,\"\",\"X\")","v":""},0]
[153,"Whimbrel",{"$f":"IF(COUNTIFS(Input!$A:$A, Output!$B154, Input!$B:$B, C$1, Input!$H:$H, \"=US-VA\")=0,\"\",\"X\")","v":""},0,{"$f":"IF(COUNTIFS(Input!$A:$A, Output!$B154, Input!$B:$B, E$1, Input!$H:$H, \"=US-VA\")=0,\"\",\"X\")","v":""},0,{"$f":"IF(COUNTIFS(Input!$A:$A, Output!$B154, Input!$B:$B, G$1, Input!$H:$H, \"=US-VA\")=0,\"\",\"X\")","v":""},0]
[154,"Long-billed Curlew",{"$f":"IF(COUNTIFS(Input!$A:$A, Output!$B155, Input!$B:$B, C$1, Input!$H:$H, \"=US-VA\")=0,\"\",\"X\")","v":""},0,{"$f":"IF(COUNTIFS(Input!$A:$A, Output!$B155, Input!$B:$B, E$1, Input!$H:$H, \"=US-VA\")=0,\"\",\"X\")","v":""},0,{"$f":"IF(COUNTIFS(Input!$A:$A, Output!$B155, Input!$B:$B, G$1, Input!$H:$H, \"=US-VA\")=0,\"\",\"X\")","v":""},0]
[155,"Black-tailed Godwit",{"$f":"IF(COUNTIFS(Input!$A:$A, Output!$B156, Input!$B:$B, C$1, Input!$H:$H, \"=US-VA\")=0,\"\",\"X\")","v":""},0,{"$f":"IF(COUNTIFS(Input!$A:$A, Output!$B156, Input!$B:$B, E$1, Input!$H:$H, \"=US-VA\")=0,\"\",\"X\")","v":""},0,{"$f":"IF(COUNTIFS(Input!$A:$A, Output!$B156, Input!$B:$B, G$1, Input!$H:$H, \"=US-VA\")=0,\"\",\"X\")","v":""},0]
[156,"Hudsonian Godwit",{"$f":"IF(COUNTIFS(Input!$A:$A, Output!$B157, Input!$B:$B, C$1, Input!$H:$H, \"=US-VA\")=0,\"\",\"X\")","v":""},0,{"$f":"IF(COUNTIFS(Input!$A:$A, Output!$B157, Input!$B:$B, E$1, Input!$H:$H, \"=US-VA\")=0,\"\",\"X\")","v":""},0,{"$f":"IF(COUNTIFS(Input!$A:$A, Output!$B157, Input!$B:$B, G$1, Input!$H:$H, \"=US-VA\")=0,\"\",\"X\")","v":""},0]
[157,"Bar-tailed Godwit",{"$f":"IF(COUNTIFS(Input!$A:$A, Output!$B158, Input!$B:$B, C$1, Input!$H:$H, \"=US-VA\")=0,\"\",\"X\")","v":""},0,{"$f":"IF(COUNTIFS(Input!$A:$A, Output!$B158, Input!$B:$B, E$1, Input!$H:$H, \"=US-VA\")=0,\"\",\"X\")","v":""},0,{"$f":"IF(COUNTIFS(Input!$A:$A, Output!$B158, Input!$B:$B, G$1, Input!$H:$H, \"=US-VA\")=0,\"\",\"X\")","v":""},0]
[158,"Marbled Godwit",{"$f":"IF(COUNTIFS(Input!$A:$A, Output!$B159, Input!$B:$B, C$1, Input!$H:$H, \"=US-VA\")=0,\"\",\"X\")","v":""},0,{"$f":"IF(COUNTIFS(Input!$A:$A, Output!$B159, Input!$B:$B, E$1, Input!$H:$H, \"=US-VA\")=0,\"\",\"X\")","v":""},0,{"$f":"IF(COUNTIFS(Input!$A:$A, Output!$B159, Input!$B:$B, G$1, Input!$H:$H, \"=US-VA\")=0,\"\",\"X\")","v":""},0]
[159,"Ruddy Turnstone",{"$f":"IF(COUNTIFS(Input!$A:$A, Output!$B160, Input!$B:$B, C$1, Input!$H:$H, \"=US-VA\")=0,\"\",\"X\")","v":""},0,{"$f":"IF(COUNTIFS(Input!$A:$A, Output!$B160, Input!$B:$B, E$1, Input!$H:$H, \"=US-VA\")=0,\"\",\"X\")","v":""},0,{"$f":"IF(COUNTIFS(Input!$A:$A, Output!$B160, Input!$B:$B, G$1, Input!$H:$H, \"=US-VA\")=0,\"\",\"X\")","v":""},0]
[160,"Red Knot",{"$f":"IF(COUNTIFS(Input!$A:$A, Output!$B161, Input!$B:$B, C$1, Input!$H:$H, \"=US-VA\")=0,\"\",\"X\")","v":""},0,{"$f":"IF(COUNTIFS(Input!$A:$A, Output!$B161, Input!$B:$B, E$1, Input!$H:$H, \"=US-VA\")=0,\"\",\"X\")","v":""},0,{"$f":"IF(COUNTIFS(Input!$A:$A, Output!$B161, Input!$B:$B, G$1, Input!$H:$H, \"=US-VA\")=0,\"\",\"X\")","v":""},0]
[161,"Ruff",{"$f":"IF(COUNTIFS(Input!$A:$A, Output!$B162, Input!$B:$B, C$1, Input!$H:$H, \"=US-VA\")=0,\"\",\"X\")","v":""},0,{"$f":"IF(COUNTIFS(Input!$A:$A, Output!$B162, Input!$B:$B, E$1, Input!$H:$H, \"=US-VA\")=0,\"\",\"X\")","v":""},0,{"$f":"IF(COUNTIFS(Input!$A:$A, Output!$B162, Input!$B:$B, G$1, Input!$H:$H, \"=US-VA\")=0,\"\",\"X\")","v":""},0]
[162,"Sharp-tailed Sandpiper",{"$f":"IF(COUNTIFS(Input!$A:$A, Output!$B163, Input!$B:$B, C$1, Input!$H:$H, \"=US-VA\")=0,\"\",\"X\")","v":""},0,{"$f":"IF(COUNTIFS(Input!$A:$A, Output!$B163, Input!$B:$B, E$1, Input!$H:$H, \"=US-VA\")=0,\"\",\"X\")","v":""},0,{"$f":"IF(COUNTIFS(Input!$A:$A, Output!$B163, Input!$B:$B, G$1, Input!$H:$H, \"=US-VA\")=0,\"\",\"X\")","v":""},0]
[163,"Stilt Sandpiper",{"$f":"IF(COUNTIFS(Input!$A:$A, Output!$B164, Input!$B:$B, C$1, Input!$H:$H, \"=US-VA\")=0,\"\",\"X\")","v":""},0,{"$f":"IF(COUNTIFS(Input!$A:$A, Output!$B164, Input!$B:$B, E$1, Input!$H:$H, \"=US-VA\")=0,\"\",\"X\")","v":""},0,{"$f":"IF(COUNTIFS(Input!$A:$A, Output!$B164, Input!$B:$B, G$1, Input!$H:$H, \"=US-VA\")=0,\"\",\"X\")","v":""},0]
[164,"Curlew Sandpiper",{"$f":"IF(COUNTIFS(Input!$A:$A, Output!$B165, Input!$B:$B, C$1, Input!$H:$H, \"=US-VA\")=0,\"\",\"X\")","v":""},0,{"$f":"IF(COUNTIFS(Input!$A:$A, Output!$B165, Input!$B:$B, E$1, Input!$H:$H, \"=US-VA\")=0,\"\",\"X\")","v":""},0,{"$f":"IF(COUNTIFS(Input!$A:$A, Output!$B165, Input!$B:$B, G$1, Input!$H:$H, \"=US-VA\")=0,\"\",\"X\")","v":""},0]
[165,"Red-necked Stint",{"$f":"IF(COUNTIFS(Input!$A:$A, Output!$B166, Input!$B:$B, C$1, Input!$H:$H, \"=US-VA\")=0,\"\",\"X\")","v":""},0,{"$f":"IF(COUNTIFS(Input!$A:$A, Output!$B166, Input!$B:$B, E$1, Input!$H:$H, \"=US-VA\")=0,\"\",\"X\")","v":""},0,{"$f":"IF(COUNTIFS(Input!$A:$A, Output!$B166, Input!$B:$B, G$1, Input!$H:$H, \"=US-VA\")=0,\"\",\"X\")","v":""},0]
[166,"Sanderling",{"$f":"IF(COUNTIFS(Input!$A:$A, Output!$B167, Input!$B:$B, C$1, Input!$H:$H, \"=US-VA\")=0,\"\",\"X\")","v":""},0,{"$f":"IF(COUNTIFS(Input!$A:$A, Output!$B167, Input!$B:$B, E$1, Input!$H:$H, \"=US-VA\")=0,\"\",\"X\")","v":""},0,{"$f":"IF(COUNTIFS(Input!$A:$A, Output!$B167, Input!$B:$B, G$1, Input!$H:$H, \"=US-VA\")=0,\"\",\"X\")","v":""},0]
[167,"Dunlin",{"$f":"IF(COUNTIFS(Input!$A:$A, Output!$B168, Input!$B:$B, C$1, Input!$H:$H, \"=US-VA\")=0,\"\",\"X\")","v":""},0,{"$f":"IF(COUNTIFS(Input!$A:$A, Output!$B168, Input!$B:$B, E$1, Input!$H:$H, \"=US-VA\")=0,\"\",\"X\")","v":""},0,{"$f":"IF(COUNTIFS(Input!$A:$A, Output!$B168, Input!$B:$B, G$1, Input!$H:$H, \"=US-VA\")=0,\"\",\"X\")","v":""},0]
[168,"Purple Sandpiper",{"$f":"IF(COUNTIFS(Input!$A:$A, Output!$B169, Input!$B:$B, C$1, Input!$H:$H, \"=US-VA\")=0,\"\",\"X\")","v":""},0,{"$f":"IF(COUNTIFS(Input!$A:$A, Output!$B169, Input!$B:$B, E$1, Input!$H:$H, \"=US-VA\")=0,\"\",\"X\")","v":""},0,{"$f":"IF(COUNTIFS(Input!$A:$A, Output!$B169, Input!$B:$B, G$1, Input!$H:$H, \"=US-VA\")=0,\"\",\"X\")","v":""},0]
[169,"Baird's Sandpiper",{"$f":"IF(COUNTIFS(Input!$A:$A, Output!$B170, Input!$B:$B, C$1, Input!$H:$H, \"=US-VA\")=0,\"\",\"X\")","v":""},0,{"$f":"IF(COUNTIFS(Input!$A:$A, Output!$B170, Input!$B:$B, E$1, Input!$H:$H, \"=US-VA\")=0,\"\",\"X\")","v":""},0,{"$f":"IF(COUNTIFS(Input!$A:$A, Output!$B170, Input!$B:$B, G$1, Input!$H:$H, \"=US-VA\")=0,\"\",\"X\")","v":""},0]
[170,"Least Sandpiper",{"$f":"IF(COUNTIFS(Input!$A:$A, Output!$B171, Input!$B:$B, C$1, Input!$H:$H, \"=US-VA\")=0,\"\",\"X\")","v":""},0,{"$f":"IF(COUNTIFS(Input!$A:$A, Output!$B171, Input!$B:$B, E$1, Input!$H:$H, \"=US-VA\")=0,\"\",\"X\")","v":""},0,{"$f":"IF(COUNTIFS(Input!$A:$A, Output!$B171, Input!$B:$B, G$1, Input!$H:$H, \"=US-VA\")=0,\"\",\"X\")","v":""},0]
[171,"White-rumped Sandpiper",{"$f":"IF(COUNTIFS(Input!$A:$A, Output!$B172, Input!$B:$B, C$1, Input!$H:$H, \"=US-VA\")=0,\"\",\"X\")","v":""},0,{"$f":"IF(COUNTIFS(Input!$A:$A, Output!$B172, Input!$B:$B, E$1, Input!$H:$H, \"=US-VA\")=0,\"\",\"X\")","v":""},0,{"$f":"IF(COUNTIFS(Input!$A:$A, Output!$B172, Input!$B:$B, G$1, Input!$H:$H, \"=US-VA\")=0,\"\",\"X\")","v":""},0]
[172,"Buff-breasted Sandpiper",{"$f":"IF(COUNTIFS(Input!$A:$A, Output!$B173, Input!$B:$B, C$1, Input!$H:$H, \"=US-VA\")=0,\"\",\"X\")","v":""},0,{"$f":"IF(COUNTIFS(Input!$A:$A, Output!$B173, Input!$B:$B, E$1, Input!$H:$H, \"=US-VA\")=0,\"\",\"X\")","v":""},0,{"$f":"IF(COUNTIFS(Input!$A:$A, Output!$B173, Input!$B:$B, G$1, Input!$H:$H, \"=US-VA\")=0,\"\",\"X\")","v":""},0]
[173,"Pectoral Sandpiper",{"$f":"IF(COUNTIFS(Input!$A:$A, Output!$B174, Input!$B:$B, C$1, Input!$H:$H, \"=US-VA\")=0,\"\",\"X\")","v":""},0,{"$f":"IF(COUNTIFS(Input!$A:$A, Output!$B174, Input!$B:$B, E$1, Input!$H:$H, \"=US-VA\")=0,\"\",\"X\")","v":""},0,{"$f":"IF(COUNTIFS(Input!$A:$A, Output!$B174, Input!$B:$B, G$1, Input!$H:$H, \"=US-VA\")=0,\"\",\"X\")","v":""},0]
[174,"Semipalmated Sandpiper",{"$f":"IF(COUNTIFS(Input!$A:$A, Output!$B175, Input!$B:$B, C$1, Input!$H:$H, \"=US-VA\")=0,\"\",\"X\")","v":""},0,{"$f":"IF(COUNTIFS(Input!$A:$A, Output!$B175, Input!$B:$B, E$1, Input!$H:$H, \"=US-VA\")=0,\"\",\"X\")","v":""},0,{"$f":"IF(COUNTIFS(Input!$A:$A, Output!$B175, Input!$B:$B, G$1, Input!$H:$H, \"=US-VA\")=0,\"\",\"X\")","v":""},0]
[175,"Western Sandpiper",{"$f":"IF(COUNTIFS(Input!$A:$A, Output!$B176, Input!$B:$B, C$1, Input!$H:$H, \"=US-VA\")=0,\"\",\"X\")","v":""},0,{"$f":"IF(COUNTIFS(Input!$A:$A, Output!$B176, Input!$B:$B, E$1, Input!$H:$H, \"=US-VA\")=0,\"\",\"X\")","v":""},0,{"$f":"IF(COUNTIFS(Input!$A:$A, Output!$B176, Input!$B:$B, G$1, Input!$H:$H, \"=US-VA\")=0,\"\",\"X\")","v":""},0]
[176,"Short-billed Dowitcher",{"$f":"IF(COUNTIFS(Input!$A:$A, Output!$B177, Input!$B:$B, C$1, Input!$H:$H, \"=US-VA\")=0,\"\",\"X\")","v":""},0,{"$f":"IF(COUNTIFS(Input!$A:$A, Output!$B177, Input!$B:$B, E$1, Input!$H:$H, \"=US-VA\")=0,\"\",\"X\")","v":""},0,{"$f":"IF(COUNTIFS(Input!$A:$A, Output!$B177, Input!$B:$B, G$1, Input!$H:$H, \"=US-VA\")=0,\"\",\"X\")","v":""},0]
[177,"Long-billed Dowitcher",{"$f":"IF(COUNTIFS(Input!$A:$A, Output!$B178, Input!$B:$B, C$1, Input!$H:$H, \"=US-VA\")=0,\"\",\"X\")","v":""},0,{"$f":"IF(COUNTIFS(Input!$A:$A, Output!$B178, Input!$B:$B, E$1, Input!$H:$H, \"=US-VA\")=0,\"\",\"X\")","v":""},0,{"$f":"IF(COUNTIFS(Input!$A:$A, Output!$B178, Input!$B:$B, G$1, Input!$H:$H, \"=US-VA\")=0,\"\",\"X\")","v":""},0]
[178,"Wilson's Snipe",{"$f":"IF(COUNTIFS(Input!$A:$A, Output!$B179, Input!$B:$B, C$1, Input!$H:$H, \"=US-VA\")=0,\"\",\"X\")","v":""},0,{"$f":"IF(COUNTIFS(Input!$A:$A, Output!$B179, Input!$B:$B, E$1, Input!$H:$H, \"=US-VA\")=0,\"\",\"X\")","v":""},0,{"$f":"IF(COUNTIFS(Input!$A:$A, Output!$B179, Input!$B:$B, G$1, Input!$H:$H, \"=US-VA\")=0,\"\",\"X\")","v":""},0]
[179,"Eurasian Woodcock",{"$f":"IF(COUNTIFS(Input!$A:$A, Output!$B180, Input!$B:$B, C$1, Input!$H:$H, \"=US-VA\")=0,\"\",\"X\")","v":""},0,{"$f":"IF(COUNTIFS(Input!$A:$A, Output!$B180, Input!$B:$B, E$1, Input!$H:$H, \"=US-VA\")=0,\"\",\"X\")","v":""},0,{"$f":"IF(COUNTIFS(Input!$A:$A, Output!$B180, Input!$B:$B, G$1, Input!$H:$H, \"=US-VA\")=0,\"\",\"X\")","v":""},0]
[180,"American Woodcock",{"$f":"IF(COUNTIFS(Input!$A:$A, Output!$B181, Input!$B:$B, C$1, Input!$H:$H, \"=US-VA\")=0,\"\",\"X\")","v":""},0,{"$f":"IF(COUNTIFS(Input!$A:$A, Output!$B181, Input!$B:$B, E$1, Input!$H:$H, \"=US-VA\")=0,\"\",\"X\")","v":""},0,{"$f":"IF(COUNTIFS(Input!$A:$A, Output!$B181, Input!$B:$B, G$1, Input!$H:$H, \"=US-VA\")=0,\"\",\"X\")","v":""},0]
[181,"Terek Sandpiper",{"$f":"IF(COUNTIFS(Input!$A:$A, Output!$B182, Input!$B:$B, C$1, Input!$H:$H, \"=US-VA\")=0,\"\",\"X\")","v":""},0,{"$f":"IF(COUNTIFS(Input!$A:$A, Output!$B182, Input!$B:$B, E$1, Input!$H:$H, \"=US-VA\")=0,\"\",\"X\")","v":""},0,{"$f":"IF(COUNTIFS(Input!$A:$A, Output!$B182, Input!$B:$B, G$1, Input!$H:$H, \"=US-VA\")=0,\"\",\"X\")","v":""},0]
[182,"Wilson's Phalarope",{"$f":"IF(COUNTIFS(Input!$A:$A, Output!$B183, Input!$B:$B, C$1, Input!$H:$H, \"=US-VA\")=0,\"\",\"X\")","v":""},0,{"$f":"IF(COUNTIFS(Input!$A:$A, Output!$B183, Input!$B:$B, E$1, Input!$H:$H, \"=US-VA\")=0,\"\",\"X\")","v":""},0,{"$f":"IF(COUNTIFS(Input!$A:$A, Output!$B183, Input!$B:$B, G$1, Input!$H:$H, \"=US-VA\")=0,\"\",\"X\")","v":""},0]
[183,"Red-necked Phalarope",{"$f":"IF(COUNTIFS(Input!$A:$A, Output!$B184, Input!$B:$B, C$1, Input!$H:$H, \"=US-VA\")=0,\"\",\"X\")","v":""},0,{"$f":"IF(COUNTIFS(Input!$A:$A, Output!$B184, Input!$B:$B, E$1, Input!$H:$H, \"=US-VA\")=0,\"\",\"X\")","v":""},0,{"$f":"IF(COUNTIFS(Input!$A:$A, Output!$B184, Input!$B:$B, G$1, Input!$H:$H, \"=US-VA\")=0,\"\",\"X\")","v":""},0]
[184,"Red Phalarope",{"$f":"IF(COUNTIFS(Input!$A:$A, Output!$B185, Input!$B:$B, C$1, Input!$H:$H, \"=US-VA\")=0,\"\",\"X\")","v":""},0,{"$f":"IF(COUNTIFS(Input!$A:$A, Output!$B185, Input!$B:$B, E$1, Input!$H:$H, \"=US-VA\")=0,\"\",\"X\")","v":""},0,{"$f":"IF(COUNTIFS(Input!$A:$A, Output!$B185, Input!$B:$B, G$1, Input!$H:$H, \"=US-VA\")=0,\"\",\"X\")","v":""},0]
[185,"Spotted Sandpiper",{"$f":"IF(COUNTIFS(Input!$A:$A, Output!$B186, Input!$B:$B, C$1, Input!$H:$H, \"=US-VA\")=0,\"\",\"X\")","v":""},0,{"$f":"IF(COUNTIFS(Input!$A:$A, Output!$B186, Input!$B:$B, E$1, Input!$H:$H, \"=US-VA\")=0,\"\",\"X\")","v":""},0,{"$f":"IF(COUNTIFS(Input!$A:$A, Output!$B186, Input!$B:$B, G$1, Input!$H:$H, \"=US-VA\")=0,\"\",\"X\")","v":""},0]
[186,"Solitary Sandpiper",{"$f":"IF(COUNTIFS(Input!$A:$A, Output!$B187, Input!$B:$B, C$1, Input!$H:$H, \"=US-VA\")=0,\"\",\"X\")","v":""},0,{"$f":"IF(COUNTIFS(Input!$A:$A, Output!$B187, Input!$B:$B, E$1, Input!$H:$H, \"=US-VA\")=0,\"\",\"X\")","v":""},0,{"$f":"IF(COUNTIFS(Input!$A:$A, Output!$B187, Input!$B:$B, G$1, Input!$H:$H, \"=US-VA\")=0,\"\",\"X\")","v":""},0]
[187,"Greater Yellowlegs",{"$f":"IF(COUNTIFS(Input!$A:$A, Output!$B188, Input!$B:$B, C$1, Input!$H:$H, \"=US-VA\")=0,\"\",\"X\")","v":""},0,{"$f":"IF(COUNTIFS(Input!$A:$A, Output!$B188, Input!$B:$B, E$1, Input!$H:$H, \"=US-VA\")=0,\"\",\"X\")","v":""},0,{"$f":"IF(COUNTIFS(Input!$A:$A, Output!$B188, Input!$B:$B, G$1, Input!$H:$H, \"=US-VA\")=0,\"\",\"X\")","v":""},0]
[188,"Willet",{"$f":"IF(COUNTIFS(Input!$A:$A, Output!$B189, Input!$B:$B, C$1, Input!$H:$H, \"=US-VA\")=0,\"\",\"X\")","v":""},0,{"$f":"IF(COUNTIFS(Input!$A:$A, Output!$B189, Input!$B:$B, E$1, Input!$H:$H, \"=US-VA\")=0,\"\",\"X\")","v":""},0,{"$f":"IF(COUNTIFS(Input!$A:$A, Output!$B189, Input!$B:$B, G$1, Input!$H:$H, \"=US-VA\")=0,\"\",\"X\")","v":""},0]
[189,"Lesser Yellowlegs",{"$f":"IF(COUNTIFS(Input!$A:$A, Output!$B190, Input!$B:$B, C$1, Input!$H:$H, \"=US-VA\")=0,\"\",\"X\")","v":""},0,{"$f":"IF(COUNTIFS(Input!$A:$A, Output!$B190, Input!$B:$B, E$1, Input!$H:$H, \"=US-VA\")=0,\"\",\"X\")","v":""},0,{"$f":"IF(COUNTIFS(Input!$A:$A, Output!$B190, Input!$B:$B, G$1, Input!$H:$H, \"=US-VA\")=0,\"\",\"X\")","v":""},0]
[190,"Great Skua",{"$f":"IF(COUNTIFS(Input!$A:$A, Output!$B191, Input!$B:$B, C$1, Input!$H:$H, \"=US-VA\")=0,\"\",\"X\")","v":""},0,{"$f":"IF(COUNTIFS(Input!$A:$A, Output!$B191, Input!$B:$B, E$1, Input!$H:$H, \"=US-VA\")=0,\"\",\"X\")","v":""},0,{"$f":"IF(COUNTIFS(Input!$A:$A, Output!$B191, Input!$B:$B, G$1, Input!$H:$H, \"=US-VA\")=0,\"\",\"X\")","v":""},0]
[191,"South Polar Skua",{"$f":"IF(COUNTIFS(Input!$A:$A, Output!$B192, Input!$B:$B, C$1, Input!$H:$H, \"=US-VA\")=0,\"\",\"X\")","v":""},0,{"$f":"IF(COUNTIFS(Input!$A:$A, Output!$B192, Input!$B:$B, E$1, Input!$H:$H, \"=US-VA\")=0,\"\",\"X\")","v":""},0,{"$f":"IF(COUNTIFS(Input!$A:$A, Output!$B192, Input!$B:$B, G$1, Input!$H:$H, \"=US-VA\")=0,\"\",\"X\")","v":""},0]
[192,"Pomarine Jaeger",{"$f":"IF(COUNTIFS(Input!$A:$A, Output!$B193, Input!$B:$B, C$1, Input!$H:$H, \"=US-VA\")=0,\"\",\"X\")","v":""},0,{"$f":"IF(COUNTIFS(Input!$A:$A, Output!$B193, Input!$B:$B, E$1, Input!$H:$H, \"=US-VA\")=0,\"\",\"X\")","v":""},0,{"$f":"IF(COUNTIFS(Input!$A:$A, Output!$B193, Input!$B:$B, G$1, Input!$H:$H, \"=US-VA\")=0,\"\",\"X\")","v":""},0]
[193,"Parasitic Jaeger",{"$f":"IF(COUNTIFS(Input!$A:$A, Output!$B194, Input!$B:$B, C$1, Input!$H:$H, \"=US-VA\")=0,\"\",\"X\")","v":""},{"$f":"IF(C194=\"X\",1,0)","v":0},{"$f":"IF(COUNTIFS(Input!$A:$A, Output!$B194, Input!$B:$B, E$1, Input!$H:$H, \"=US-VA\")=0,\"\",\"X\")","v":""},{"$f":"IF(E194=\"X\",1,0)","v":0},{"$f":"IF(COUNTIFS(Input!$A:$A, Output!$B194, Input!$B:$B, G$1, Input!$H:$H, \"=US-VA\")=0,\"\",\"X\")","v":""},{"$f":"IF(G194=\"X\",1,0)","v":0}]
[194,"Long-tailed Jaeger",{"$f":"IF(COUNTIFS(Input!$A:$A, Output!$B195, Input!$B:$B, C$1, Input!$H:$H, \"=US-VA\")=0,\"\",\"X\")","v":""},0,{"$f":"IF(COUNTIFS(Input!$A:$A, Output!$B195, Input!$B:$B, E$1, Input!$H:$H, \"=US-VA\")=0,\"\",\"X\")","v":""},0,{"$f":"IF(COUNTIFS(Input!$A:$A, Output!$B195, Input!$B:$B, G$1, Input!$H:$H, \"=US-VA\")=0,\"\",\"X\")","v":""},0]
[195,"Dovekie",{"$f":"IF(COUNTIFS(Input!$A:$A, Output!$B196, Input!$B:$B, C$1, Input!$H:$H, \"=US-VA\")=0,\"\",\"X\")","v":""},0,{"$f":"IF(COUNTIFS(Input!$A:$A, Output!$B196, Input!$B:$B, E$1, Input!$H:$H, \"=US-VA\")=0,\"\",\"X\")","v":""},0,{"$f":"IF(COUNTIFS(Input!$A:$A, Output!$B196, Input!$B:$B, G$1, Input!$H:$H, \"=US-VA\")=0,\"\",\"X\")","v":""},0]
[196,"Common Murre",{"$f":"IF(COUNTIFS(Input!$A:$A, Output!$B197, Input!$B:$B, C$1, Input!$H:$H, \"=US-VA\")=0,\"\",\"X\")","v":""},0,{"$f":"IF(COUNTIFS(Input!$A:$A, Output!$B197, Input!$B:$B, E$1, Input!$H:$H, \"=US-VA\")=0,\"\",\"X\")","v":""},0,{"$f":"IF(COUNTIFS(Input!$A:$A, Output!$B197, Input!$B:$B, G$1, Input!$H:$H, \"=US-VA\")=0,\"\",\"X\")","v":""},0]
[197,"Thick-billed Murre",{"$f":"IF(COUNTIFS(Input!$A:$A, Output!$B198, Input!$B:$B, C$1, Input!$H:$H, \"=US-VA\")=0,\"\",\"X\")","v":""},0,{"$f":"IF(COUNTIFS(Input!$A:$A, Output!$B198, Input!$B:$B, E$1, Input!$H:$H, \"=US-VA\")=0,\"\",\"X\")","v":""},0,{"$f":"IF(COUNTIFS(Input!$A:$A, Output!$B198, Input!$B:$B, G$1, Input!$H:$H, \"=US-VA\")=0,\"\",\"X\")","v":""},0]
[198,"Razorbill",{"$f":"IF(COUNTIFS(Input!$A:$A, Output!$B199, Input!$B:$B, C$1, Input!$H:$H, \"=US-VA\")=0,\"\",\"X\")","v":""},0,{"$f":"IF(COUNTIFS(Input!$A:$A, Output!$B199, Input!$B:$B, E$1, Input!$H:$H, \"=US-VA\")=0,\"\",\"X\")","v":""},0,{"$f":"IF(COUNTIFS(Input!$A:$A, Output!$B199, Input!$B:$B, G$1, Input!$H:$H, \"=US-VA\")=0,\"\",\"X\")","v":""},0]
[199,"Black Guillemot",{"$f":"IF(COUNTIFS(Input!$A:$A, Output!$B200, Input!$B:$B, C$1, Input!$H:$H, \"=US-VA\")=0,\"\",\"X\")","v":""},0,{"$f":"IF(COUNTIFS(Input!$A:$A, Output!$B200, Input!$B:$B, E$1, Input!$H:$H, \"=US-VA\")=0,\"\",\"X\")","v":""},0,{"$f":"IF(COUNTIFS(Input!$A:$A, Output!$B200, Input!$B:$B, G$1, Input!$H:$H, \"=US-VA\")=0,\"\",\"X\")","v":""},0]
[200,"Ancient Murrelet",{"$f":"IF(COUNTIFS(Input!$A:$A, Output!$B201, Input!$B:$B, C$1, Input!$H:$H, \"=US-VA\")=0,\"\",\"X\")","v":""},0,{"$f":"IF(COUNTIFS(Input!$A:$A, Output!$B201, Input!$B:$B, E$1, Input!$H:$H, \"=US-VA\")=0,\"\",\"X\")","v":""},0,{"$f":"IF(COUNTIFS(Input!$A:$A, Output!$B201, Input!$B:$B, G$1, Input!$H:$H, \"=US-VA\")=0,\"\",\"X\")","v":""},0]
[201,"Atlantic Puffin",{"$f":"IF(COUNTIFS(Input!$A:$A, Output!$B202, Input!$B:$B, C$1, Input!$H:$H, \"=US-VA\")=0,\"\",\"X\")","v":""},0,{"$f":"IF(COUNTIFS(Input!$A:$A, Output!$B202, Input!$B:$B, E$1, Input!$H:$H, \"=US-VA\")=0,\"\",\"X\")","v":""},0,{"$f":"IF(COUNTIFS(Input!$A:$A, Output!$B202, Input!$B:$B, G$1, Input!$H:$H, \"=US-VA\")=0,\"\",\"X\")","v":""},0]
[202,"Black-legged Kittiwake",{"$f":"IF(COUNTIFS(Input!$A:$A, Output!$B203, Input!$B:$B, C$1, Input!$H:$H, \"=US-VA\")=0,\"\",\"X\")","v":""},0,{"$f":"IF(COUNTIFS(Input!$A:$A, Output!$B203, Input!$B:$B, E$1, Input!$H:$H, \"=US-VA\")=0,\"\",\"X\")","v":""},0,{"$f":"IF(COUNTIFS(Input!$A:$A, Output!$B203, Input!$B:$B, G$1, Input!$H:$H, \"=US-VA\")=0,\"\",\"X\")","v":""},0]
[203,"Sabine's Gull",{"$f":"IF(COUNTIFS(Input!$A:$A, Output!$B204, Input!$B:$B, C$1, Input!$H:$H, \"=US-VA\")=0,\"\",\"X\")","v":""},0,{"$f":"IF(COUNTIFS(Input!$A:$A, Output!$B204, Input!$B:$B, E$1, Input!$H:$H, \"=US-VA\")=0,\"\",\"X\")","v":""},0,{"$f":"IF(COUNTIFS(Input!$A:$A, Output!$B204, Input!$B:$B, G$1, Input!$H:$H, \"=US-VA\")=0,\"\",\"X\")","v":""},0]
[204,"Bonaparte's Gull",{"$f":"IF(COUNTIFS(Input!$A:$A, Output!$B205, Input!$B:$B, C$1, Input!$H:$H, \"=US-VA\")=0,\"\",\"X\")","v":""},0,{"$f":"IF(COUNTIFS(Input!$A:$A, Output!$B205, Input!$B:$B, E$1, Input!$H:$H, \"=US-VA\")=0,\"\",\"X\")","v":""},0,{"$f":"IF(COUNTIFS(Input!$A:$A, Output!$B205, Input!$B:$B, G$1, Input!$H:$H, \"=US-VA\")=0,\"\",\"X\")","v":""},0]
[205,"Black-headed Gull",{"$f":"IF(COUNTIFS(Input!$A:$A, Output!$B206, Input!$B:$B, C$1, Input!$H:$H, \"=US-VA\")=0,\"\",\"X\")","v":""},0,{"$f":"IF(COUNTIFS(Input!$A:$A, Output!$B206, Input!$B:$B, E$1, Input!$H:$H, \"=US-VA\")=0,\"\",\"X\")","v":""},0,{"$f":"IF(COUNTIFS(Input!$A:$A, Output!$B206, Input!$B:$B, G$1, Input!$H:$H, \"=US-VA\")=0,\"\",\"X\")","v":""},0]
[206,"Little Gull",{"$f":"IF(COUNTIFS(Input!$A:$A, Output!$B207, Input!$B:$B, C$1, Input!$H:$H, \"=US-VA\")=0,\"\",\"X\")","v":""},0,{"$f":"IF(COUNTIFS(Input!$A:$A, Output!$B207, Input!$B:$B, E$1, Input!$H:$H, \"=US-VA\")=0,\"\",\"X\")","v":""},0,{"$f":"IF(COUNTIFS(Input!$A:$A, Output!$B207, Input!$B:$B, G$1, Input!$H:$H, \"=US-VA\")=0,\"\",\"X\")","v":""},0]
[207,"Laughing Gull",{"$f":"IF(COUNTIFS(Input!$A:$A, Output!$B208, Input!$B:$B, C$1, Input!$H:$H, \"=US-VA\")=0,\"\",\"X\")","v":""},0,{"$f":"IF(COUNTIFS(Input!$A:$A, Output!$B208, Input!$B:$B, E$1, Input!$H:$H, \"=US-VA\")=0,\"\",\"X\")","v":""},0,{"$f":"IF(COUNTIFS(Input!$A:$A, Output!$B208, Input!$B:$B, G$1, Input!$H:$H, \"=US-VA\")=0,\"\",\"X\")","v":""},0]
[208,"Franklin's Gull",{"$f":"IF(COUNTIFS(Input!$A:$A, Output!$B209, Input!$B:$B, C$1, Input!$H:$H, \"=US-VA\")=0,\"\",\"X\")","v":""},0,{"$f":"IF(COUNTIFS(Input!$A:$A, Output!$B209, Input!$B:$B, E$1, Input!$H:$H, \"=US-VA\")=0,\"\",\"X\")","v":""},0,{"$f":"IF(COUNTIFS(Input!$A:$A, Output!$B209, Input!$B:$B, G$1, Input!$H:$H, \"=US-VA\")=0,\"\",\"X\")","v":""},0]
[209,"Black-tailed Gull",{"$f":"IF(COUNTIFS(Input!$A:$A, Output!$B210, Input!$B:$B, C$1, Input!$H:$H, \"=US-VA\")=0,\"\",\"X\")","v":""},0,{"$f":"IF(COUNTIFS(Input!$A:$A, Output!$B210, Input!$B:$B, E$1, Input!$H:$H, \"=US-VA\")=0,\"\",\"X\")","v":""},0,{"$f":"IF(COUNTIFS(Input!$A:$A, Output!$B210, Input!$B:$B, G$1, Input!$H:$H, \"=US-VA\")=0,\"\",\"X\")","v":""},0]
[210,"Heermann's Gull",{"$f":"IF(COUNTIFS(Input!$A:$A, Output!$B211, Input!$B:$B, C$1, Input!$H:$H, \"=US-VA\")=0,\"\",\"X\")","v":""},0,{"$f":"IF(COUNTIFS(Input!$A:$A, Output!$B211, Input!$B:$B, E$1, Input!$H:$H, \"=US-VA\")=0,\"\",\"X\")","v":""},0,{"$f":"IF(COUNTIFS(Input!$A:$A, Output!$B211, Input!$B:$B, G$1, Input!$H:$H, \"=US-VA\")=0,\"\",\"X\")","v":""},0]
[211,"Mew Gull",{"$f":"IF(COUNTIFS(Input!$A:$A, Output!$B212, Input!$B:$B, C$1, Input!$H:$H, \"=US-VA\")=0,\"\",\"X\")","v":""},0,{"$f":"IF(COUNTIFS(Input!$A:$A, Output!$B212, Input!$B:$B, E$1, Input!$H:$H, \"=US-VA\")=0,\"\",\"X\")","v":""},0,{"$f":"IF(COUNTIFS(Input!$A:$A, Output!$B212, Input!$B:$B, G$1, Input!$H:$H, \"=US-VA\")=0,\"\",\"X\")","v":""},0]
[212,"Ring-billed Gull",{"$f":"IF(COUNTIFS(Input!$A:$A, Output!$B213, Input!$B:$B, C$1, Input!$H:$H, \"=US-VA\")=0,\"\",\"X\")","v":""},0,{"$f":"IF(COUNTIFS(Input!$A:$A, Output!$B213, Input!$B:$B, E$1, Input!$H:$H, \"=US-VA\")=0,\"\",\"X\")","v":""},0,{"$f":"IF(COUNTIFS(Input!$A:$A, Output!$B213, Input!$B:$B, G$1, Input!$H:$H, \"=US-VA\")=0,\"\",\"X\")","v":""},0]
[213,"California Gull",{"$f":"IF(COUNTIFS(Input!$A:$A, Output!$B214, Input!$B:$B, C$1, Input!$H:$H, \"=US-VA\")=0,\"\",\"X\")","v":""},0,{"$f":"IF(COUNTIFS(Input!$A:$A, Output!$B214, Input!$B:$B, E$1, Input!$H:$H, \"=US-VA\")=0,\"\",\"X\")","v":""},0,{"$f":"IF(COUNTIFS(Input!$A:$A, Output!$B214, Input!$B:$B, G$1, Input!$H:$H, \"=US-VA\")=0,\"\",\"X\")","v":""},0]
[214,"Herring Gull",{"$f":"IF(COUNTIFS(Input!$A:$A, Output!$B215, Input!$B:$B, C$1, Input!$H:$H, \"=US-VA\")=0,\"\",\"X\")","v":""},0,{"$f":"IF(COUNTIFS(Input!$A:$A, Output!$B215, Input!$B:$B, E$1, Input!$H:$H, \"=US-VA\")=0,\"\",\"X\")","v":""},0,{"$f":"IF(COUNTIFS(Input!$A:$A, Output!$B215, Input!$B:$B, G$1, Input!$H:$H, \"=US-VA\")=0,\"\",\"X\")","v":""},0]
[215,"Yellow-legged Gull",{"$f":"IF(COUNTIFS(Input!$A:$A, Output!$B216, Input!$B:$B, C$1, Input!$H:$H, \"=US-VA\")=0,\"\",\"X\")","v":""},0,{"$f":"IF(COUNTIFS(Input!$A:$A, Output!$B216, Input!$B:$B, E$1, Input!$H:$H, \"=US-VA\")=0,\"\",\"X\")","v":""},0,{"$f":"IF(COUNTIFS(Input!$A:$A, Output!$B216, Input!$B:$B, G$1, Input!$H:$H, \"=US-VA\")=0,\"\",\"X\")","v":""},0]
[216,"Thayer's Gull",{"$f":"IF(COUNTIFS(Input!$A:$A, Output!$B217, Input!$B:$B, C$1, Input!$H:$H, \"=US-VA\")=0,\"\",\"X\")","v":""},0,{"$f":"IF(COUNTIFS(Input!$A:$A, Output!$B217, Input!$B:$B, E$1, Input!$H:$H, \"=US-VA\")=0,\"\",\"X\")","v":""},0,{"$f":"IF(COUNTIFS(Input!$A:$A, Output!$B217, Input!$B:$B, G$1, Input!$H:$H, \"=US-VA\")=0,\"\",\"X\")","v":""},0]
[217,"Iceland Gull",{"$f":"IF(COUNTIFS(Input!$A:$A, Output!$B218, Input!$B:$B, C$1, Input!$H:$H, \"=US-VA\")=0,\"\",\"X\")","v":""},0,{"$f":"IF(COUNTIFS(Input!$A:$A, Output!$B218, Input!$B:$B, E$1, Input!$H:$H, \"=US-VA\")=0,\"\",\"X\")","v":""},0,{"$f":"IF(COUNTIFS(Input!$A:$A, Output!$B218, Input!$B:$B, G$1, Input!$H:$H, \"=US-VA\")=0,\"\",\"X\")","v":""},0]
[218,"Lesser Black-backed Gull",{"$f":"IF(COUNTIFS(Input!$A:$A, Output!$B219, Input!$B:$B, C$1, Input!$H:$H, \"=US-VA\")=0,\"\",\"X\")","v":""},0,{"$f":"IF(COUNTIFS(Input!$A:$A, Output!$B219, Input!$B:$B, E$1, Input!$H:$H, \"=US-VA\")=0,\"\",\"X\")","v":""},0,{"$f":"IF(COUNTIFS(Input!$A:$A, Output!$B219, Input!$B:$B, G$1, Input!$H:$H, \"=US-VA\")=0,\"\",\"X\")","v":""},0]
[219,"Glaucous Gull",{"$f":"IF(COUNTIFS(Input!$A:$A, Output!$B220, Input!$B:$B, C$1, Input!$H:$H, \"=US-VA\")=0,\"\",\"X\")","v":""},0,{"$f":"IF(COUNTIFS(Input!$A:$A, Output!$B220, Input!$B:$B, E$1, Input!$H:$H, \"=US-VA\")=0,\"\",\"X\")","v":""},0,{"$f":"IF(COUNTIFS(Input!$A:$A, Output!$B220, Input!$B:$B, G$1, Input!$H:$H, \"=US-VA\")=0,\"\",\"X\")","v":""},0]
[220,"Great Black-backed Gull",{"$f":"IF(COUNTIFS(Input!$A:$A, Output!$B221, Input!$B:$B, C$1, Input!$H:$H, \"=US-VA\")=0,\"\",\"X\")","v":""},0,{"$f":"IF(COUNTIFS(Input!$A:$A, Output!$B221, Input!$B:$B, E$1, Input!$H:$H, \"=US-VA\")=0,\"\",\"X\")","v":""},0,{"$f":"IF(COUNTIFS(Input!$A:$A, Output!$B221, Input!$B:$B, G$1, Input!$H:$H, \"=US-VA\")=0,\"\",\"X\")","v":""},0]
[221,"Brown Noddy",{"$f":"IF(COUNTIFS(Input!$A:$A, Output!$B222, Input!$B:$B, C$1, Input!$H:$H, \"=US-VA\")=0,\"\",\"X\")","v":""},0,{"$f":"IF(COUNTIFS(Input!$A:$A, Output!$B222, Input!$B:$B, E$1, Input!$H:$H, \"=US-VA\")=0,\"\",\"X\")","v":""},0,{"$f":"IF(COUNTIFS(Input!$A:$A, Output!$B222, Input!$B:$B, G$1, Input!$H:$H, \"=US-VA\")=0,\"\",\"X\")","v":""},0]
[222,"Sooty Tern",{"$f":"IF(COUNTIFS(Input!$A:$A, Output!$B223, Input!$B:$B, C$1, Input!$H:$H, \"=US-VA\")=0,\"\",\"X\")","v":""},0,{"$f":"IF(COUNTIFS(Input!$A:$A, Output!$B223, Input!$B:$B, E$1, Input!$H:$H, \"=US-VA\")=0,\"\",\"X\")","v":""},0,{"$f":"IF(COUNTIFS(Input!$A:$A, Output!$B223, Input!$B:$B, G$1, Input!$H:$H, \"=US-VA\")=0,\"\",\"X\")","v":""},0]
[223,"Bridled Tern",{"$f":"IF(COUNTIFS(Input!$A:$A, Output!$B224, Input!$B:$B, C$1, Input!$H:$H, \"=US-VA\")=0,\"\",\"X\")","v":""},0,{"$f":"IF(COUNTIFS(Input!$A:$A, Output!$B224, Input!$B:$B, E$1, Input!$H:$H, \"=US-VA\")=0,\"\",\"X\")","v":""},0,{"$f":"IF(COUNTIFS(Input!$A:$A, Output!$B224, Input!$B:$B, G$1, Input!$H:$H, \"=US-VA\")=0,\"\",\"X\")","v":""},0]
[224,"Least Tern",{"$f":"IF(COUNTIFS(Input!$A:$A, Output!$B225, Input!$B:$B, C$1, Input!$H:$H, \"=US-VA\")=0,\"\",\"X\")","v":""},0,{"$f":"IF(COUNTIFS(Input!$A:$A, Output!$B225, Input!$B:$B, E$1, Input!$H:$H, \"=US-VA\")=0,\"\",\"X\")","v":""},0,{"$f":"IF(COUNTIFS(Input!$A:$A, Output!$B225, Input!$B:$B, G$1, Input!$H:$H, \"=US-VA\")=0,\"\",\"X\")","v":""},0]
[225,"Gull-billed Tern",{"$f":"IF(COUNTIFS(Input!$A:$A, Output!$B226, Input!$B:$B, C$1, Input!$H:$H, \"=US-VA\")=0,\"\",\"X\")","v":""},0,{"$f":"IF(COUNTIFS(Input!$A:$A, Output!$B226, Input!$B:$B, E$1, Input!$H:$H, \"=US-VA\")=0,\"\",\"X\")","v":""},0,{"$f":"IF(COUNTIFS(Input!$A:$A, Output!$B226, Input!$B:$B, G$1, Input!$H:$H, \"=US-VA\")=0,\"\",\"X\")","v":""},0]
[226,"Caspian Tern",{"$f":"IF(COUNTIFS(Input!$A:$A, Output!$B227, Input!$B:$B, C$1, Input!$H:$H, \"=US-VA\")=0,\"\",\"X\")","v":""},0,{"$f":"IF(COUNTIFS(Input!$A:$A, Output!$B227, Input!$B:$B, E$1, Input!$H:$H, \"=US-VA\")=0,\"\",\"X\")","v":""},0,{"$f":"IF(COUNTIFS(Input!$A:$A, Output!$B227, Input!$B:$B, G$1, Input!$H:$H, \"=US-VA\")=0,\"\",\"X\")","v":""},0]
[227,"Black Tern",{"$f":"IF(COUNTIFS(Input!$A:$A, Output!$B228, Input!$B:$B, C$1, Input!$H:$H, \"=US-VA\")=0,\"\",\"X\")","v":""},0,{"$f":"IF(COUNTIFS(Input!$A:$A, Output!$B228, Input!$B:$B, E$1, Input!$H:$H, \"=US-VA\")=0,\"\",\"X\")","v":""},0,{"$f":"IF(COUNTIFS(Input!$A:$A, Output!$B228, Input!$B:$B, G$1, Input!$H:$H, \"=US-VA\")=0,\"\",\"X\")","v":""},0]
[228,"White-winged Tern",{"$f":"IF(COUNTIFS(Input!$A:$A, Output!$B229, Input!$B:$B, C$1, Input!$H:$H, \"=US-VA\")=0,\"\",\"X\")","v":""},0,{"$f":"IF(COUNTIFS(Input!$A:$A, Output!$B229, Input!$B:$B, E$1, Input!$H:$H, \"=US-VA\")=0,\"\",\"X\")","v":""},0,{"$f":"IF(COUNTIFS(Input!$A:$A, Output!$B229, Input!$B:$B, G$1, Input!$H:$H, \"=US-VA\")=0,\"\",\"X\")","v":""},0]
[229,"Roseate Tern",{"$f":"IF(COUNTIFS(Input!$A:$A, Output!$B230, Input!$B:$B, C$1, Input!$H:$H, \"=US-VA\")=0,\"\",\"X\")","v":""},0,{"$f":"IF(COUNTIFS(Input!$A:$A, Output!$B230, Input!$B:$B, E$1, Input!$H:$H, \"=US-VA\")=0,\"\",\"X\")","v":""},0,{"$f":"IF(COUNTIFS(Input!$A:$A, Output!$B230, Input!$B:$B, G$1, Input!$H:$H, \"=US-VA\")=0,\"\",\"X\")","v":""},0]
[230,"Common Tern",{"$f":"IF(COUNTIFS(Input!$A:$A, Output!$B231, Input!$B:$B, C$1, Input!$H:$H, \"=US-VA\")=0,\"\",\"X\")","v":""},0,{"$f":"IF(COUNTIFS(Input!$A:$A, Output!$B231, Input!$B:$B, E$1, Input!$H:$H, \"=US-VA\")=0,\"\",\"X\")","v":""},0,{"$f":"IF(COUNTIFS(Input!$A:$A, Output!$B231, Input!$B:$B, G$1, Input!$H:$H, \"=US-VA\")=0,\"\",\"X\")","v":""},0]
[231,"Arctic Tern",{"$f":"IF(COUNTIFS(Input!$A:$A, Output!$B232, Input!$B:$B, C$1, Input!$H:$H, \"=US-VA\")=0,\"\",\"X\")","v":""},0,{"$f":"IF(COUNTIFS(Input!$A:$A, Output!$B232, Input!$B:$B, E$1, Input!$H:$H, \"=US-VA\")=0,\"\",\"X\")","v":""},0,{"$f":"IF(COUNTIFS(Input!$A:$A, Output!$B232, Input!$B:$B, G$1, Input!$H:$H, \"=US-VA\")=0,\"\",\"X\")","v":""},0]
[232,"Forster's Tern",{"$f":"IF(COUNTIFS(Input!$A:$A, Output!$B233, Input!$B:$B, C$1, Input!$H:$H, \"=US-VA\")=0,\"\",\"X\")","v":""},0,{"$f":"IF(COUNTIFS(Input!$A:$A, Output!$B233, Input!$B:$B, E$1, Input!$H:$H, \"=US-VA\")=0,\"\",\"X\")","v":""},0,{"$f":"IF(COUNTIFS(Input!$A:$A, Output!$B233, Input!$B:$B, G$1, Input!$H:$H, \"=US-VA\")=0,\"\",\"X\")","v":""},0]
[233,"Royal Tern",{"$f":"IF(COUNTIFS(Input!$A:$A, Output!$B234, Input!$B:$B, C$1, Input!$H:$H, \"=US-VA\")=0,\"\",\"X\")","v":""},0,{"$f":"IF(COUNTIFS(Input!$A:$A, Output!$B234, Input!$B:$B, E$1, Input!$H:$H, \"=US-VA\")=0,\"\",\"X\")","v":""},0,{"$f":"IF(COUNTIFS(Input!$A:$A, Output!$B234, Input!$B:$B, G$1, Input!$H:$H, \"=US-VA\")=0,\"\",\"X\")","v":""},0]
[234,"Sandwich Tern",{"$f":"IF(COUNTIFS(Input!$A:$A, Output!$B235, Input!$B:$B, C$1, Input!$H:$H, \"=US-VA\")=0,\"\",\"X\")","v":""},0,{"$f":"IF(COUNTIFS(Input!$A:$A, Output!$B235, Input!$B:$B, E$1, Input!$H:$H, \"=US-VA\")=0,\"\",\"X\")","v":""},0,{"$f":"IF(COUNTIFS(Input!$A:$A, Output!$B235, Input!$B:$B, G$1, Input!$H:$H, \"=US-VA\")=0,\"\",\"X\")","v":""},0]
[235,"Elegant Tern",{"$f":"IF(COUNTIFS(Input!$A:$A, Output!$B236, Input!$B:$B, C$1, Input!$H:$H, \"=US-VA\")=0,\"\",\"X\")","v":""},0,{"$f":"IF(COUNTIFS(Input!$A:$A, Output!$B236, Input!$B:$B, E$1, Input!$H:$H, \"=US-VA\")=0,\"\",\"X\")","v":""},0,{"$f":"IF(COUNTIFS(Input!$A:$A, Output!$B236, Input!$B:$B, G$1, Input!$H:$H, \"=US-VA\")=0,\"\",\"X\")","v":""},0]
[236,"Black Skimmer",{"$f":"IF(COUNTIFS(Input!$A:$A, Output!$B237, Input!$B:$B, C$1, Input!$H:$H, \"=US-VA\")=0,\"\",\"X\")","v":""},0,{"$f":"IF(COUNTIFS(Input!$A:$A, Output!$B237, Input!$B:$B, E$1, Input!$H:$H, \"=US-VA\")=0,\"\",\"X\")","v":""},0,{"$f":"IF(COUNTIFS(Input!$A:$A, Output!$B237, Input!$B:$B, G$1, Input!$H:$H, \"=US-VA\")=0,\"\",\"X\")","v":""},0]
[237,"Rock Pigeon (Feral Pigeon)",{"$f":"IF(COUNTIFS(Input!$A:$A, Output!$B238, Input!$B:$B, C$1, Input!$H:$H, \"=US-VA\")=0,\"\",\"X\")","v":""},0,{"$f":"IF(COUNTIFS(Input!$A:$A, Output!$B238, Input!$B:$B, E$1, Input!$H:$H, \"=US-VA\")=0,\"\",\"X\")","v":""},0,{"$f":"IF(COUNTIFS(Input!$A:$A, Output!$B238, Input!$B:$B, G$1, Input!$H:$H, \"=US-VA\")=0,\"\",\"X\")","v":""},0]
[238,"White-crowned Pigeon",{"$f":"IF(COUNTIFS(Input!$A:$A, Output!$B239, Input!$B:$B, C$1, Input!$H:$H, \"=US-VA\")=0,\"\",\"X\")","v":""},0,{"$f":"IF(COUNTIFS(Input!$A:$A, Output!$B239, Input!$B:$B, E$1, Input!$H:$H, \"=US-VA\")=0,\"\",\"X\")","v":""},0,{"$f":"IF(COUNTIFS(Input!$A:$A, Output!$B239, Input!$B:$B, G$1, Input!$H:$H, \"=US-VA\")=0,\"\",\"X\")","v":""},0]
[239,"Eurasian Collared-Dove",{"$f":"IF(COUNTIFS(Input!$A:$A, Output!$B240, Input!$B:$B, C$1, Input!$H:$H, \"=US-VA\")=0,\"\",\"X\")","v":""},0,{"$f":"IF(COUNTIFS(Input!$A:$A, Output!$B240, Input!$B:$B, E$1, Input!$H:$H, \"=US-VA\")=0,\"\",\"X\")","v":""},0,{"$f":"IF(COUNTIFS(Input!$A:$A, Output!$B240, Input!$B:$B, G$1, Input!$H:$H, \"=US-VA\")=0,\"\",\"X\")","v":""},0]
[240,"Common Ground-Dove",{"$f":"IF(COUNTIFS(Input!$A:$A, Output!$B241, Input!$B:$B, C$1, Input!$H:$H, \"=US-VA\")=0,\"\",\"X\")","v":""},0,{"$f":"IF(COUNTIFS(Input!$A:$A, Output!$B241, Input!$B:$B, E$1, Input!$H:$H, \"=US-VA\")=0,\"\",\"X\")","v":""},0,{"$f":"IF(COUNTIFS(Input!$A:$A, Output!$B241, Input!$B:$B, G$1, Input!$H:$H, \"=US-VA\")=0,\"\",\"X\")","v":""},0]
[241,"White-winged Dove",{"$f":"IF(COUNTIFS(Input!$A:$A, Output!$B242, Input!$B:$B, C$1, Input!$H:$H, \"=US-VA\")=0,\"\",\"X\")","v":""},0,{"$f":"IF(COUNTIFS(Input!$A:$A, Output!$B242, Input!$B:$B, E$1, Input!$H:$H, \"=US-VA\")=0,\"\",\"X\")","v":""},0,{"$f":"IF(COUNTIFS(Input!$A:$A, Output!$B242, Input!$B:$B, G$1, Input!$H:$H, \"=US-VA\")=0,\"\",\"X\")","v":""},0]
[242,"Mourning Dove",{"$f":"IF(COUNTIFS(Input!$A:$A, Output!$B243, Input!$B:$B, C$1, Input!$H:$H, \"=US-VA\")=0,\"\",\"X\")","v":""},0,{"$f":"IF(COUNTIFS(Input!$A:$A, Output!$B243, Input!$B:$B, E$1, Input!$H:$H, \"=US-VA\")=0,\"\",\"X\")","v":""},0,{"$f":"IF(COUNTIFS(Input!$A:$A, Output!$B243, Input!$B:$B, G$1, Input!$H:$H, \"=US-VA\")=0,\"\",\"X\")","v":""},0]
[243,"Groove-billed Ani",{"$f":"IF(COUNTIFS(Input!$A:$A, Output!$B244, Input!$B:$B, C$1, Input!$H:$H, \"=US-VA\")=0,\"\",\"X\")","v":""},0,{"$f":"IF(COUNTIFS(Input!$A:$A, Output!$B244, Input!$B:$B, E$1, Input!$H:$H, \"=US-VA\")=0,\"\",\"X\")","v":""},0,{"$f":"IF(COUNTIFS(Input!$A:$A, Output!$B244, Input!$B:$B, G$1, Input!$H:$H, \"=US-VA\")=0,\"\",\"X\")","v":""},0]
[244,"Yellow-billed Cuckoo",{"$f":"IF(COUNTIFS(Input!$A:$A, Output!$B245, Input!$B:$B, C$1, Input!$H:$H, \"=US-VA\")=0,\"\",\"X\")","v":""},0,{"$f":"IF(COUNTIFS(Input!$A:$A, Output!$B245, Input!$B:$B, E$1, Input!$H:$H, \"=US-VA\")=0,\"\",\"X\")","v":""},0,{"$f":"IF(COUNTIFS(Input!$A:$A, Output!$B245, Input!$B:$B, G$1, Input!$H:$H, \"=US-VA\")=0,\"\",\"X\")","v":""},0]
[245,"Black-billed Cuckoo",{"$f":"IF(COUNTIFS(Input!$A:$A, Output!$B246, Input!$B:$B, C$1, Input!$H:$H, \"=US-VA\")=0,\"\",\"X\")","v":""},0,{"$f":"IF(COUNTIFS(Input!$A:$A, Output!$B246, Input!$B:$B, E$1, Input!$H:$H, \"=US-VA\")=0,\"\",\"X\")","v":""},0,{"$f":"IF(COUNTIFS(Input!$A:$A, Output!$B246, Input!$B:$B, G$1, Input!$H:$H, \"=US-VA\")=0,\"\",\"X\")","v":""},0]
[246,"Barn Owl",{"$f":"IF(COUNTIFS(Input!$A:$A, Output!$B247, Input!$B:$B, C$1, Input!$H:$H, \"=US-VA\")=0,\"\",\"X\")","v":""},0,{"$f":"IF(COUNTIFS(Input!$A:$A, Output!$B247, Input!$B:$B, E$1, Input!$H:$H, \"=US-VA\")=0,\"\",\"X\")","v":""},0,{"$f":"IF(COUNTIFS(Input!$A:$A, Output!$B247, Input!$B:$B, G$1, Input!$H:$H, \"=US-VA\")=0,\"\",\"X\")","v":""},0]
[247,"Eastern Screech-Owl",{"$f":"IF(COUNTIFS(Input!$A:$A, Output!$B248, Input!$B:$B, C$1, Input!$H:$H, \"=US-VA\")=0,\"\",\"X\")","v":""},0,{"$f":"IF(COUNTIFS(Input!$A:$A, Output!$B248, Input!$B:$B, E$1, Input!$H:$H, \"=US-VA\")=0,\"\",\"X\")","v":""},0,{"$f":"IF(COUNTIFS(Input!$A:$A, Output!$B248, Input!$B:$B, G$1, Input!$H:$H, \"=US-VA\")=0,\"\",\"X\")","v":""},0]
[248,"Great Horned Owl",{"$f":"IF(COUNTIFS(Input!$A:$A, Output!$B249, Input!$B:$B, C$1, Input!$H:$H, \"=US-VA\")=0,\"\",\"X\")","v":""},0,{"$f":"IF(COUNTIFS(Input!$A:$A, Output!$B249, Input!$B:$B, E$1, Input!$H:$H, \"=US-VA\")=0,\"\",\"X\")","v":""},0,{"$f":"IF(COUNTIFS(Input!$A:$A, Output!$B249, Input!$B:$B, G$1, Input!$H:$H, \"=US-VA\")=0,\"\",\"X\")","v":""},0]
[249,"Snowy Owl",{"$f":"IF(COUNTIFS(Input!$A:$A, Output!$B250, Input!$B:$B, C$1, Input!$H:$H, \"=US-VA\")=0,\"\",\"X\")","v":""},0,{"$f":"IF(COUNTIFS(Input!$A:$A, Output!$B250, Input!$B:$B, E$1, Input!$H:$H, \"=US-VA\")=0,\"\",\"X\")","v":""},0,{"$f":"IF(COUNTIFS(Input!$A:$A, Output!$B250, Input!$B:$B, G$1, Input!$H:$H, \"=US-VA\")=0,\"\",\"X\")","v":""},0]
[250,"Burrowing Owl",{"$f":"IF(COUNTIFS(Input!$A:$A, Output!$B251, Input!$B:$B, C$1, Input!$H:$H, \"=US-VA\")=0,\"\",\"X\")","v":""},0,{"$f":"IF(COUNTIFS(Input!$A:$A, Output!$B251, Input!$B:$B, E$1, Input!$H:$H, \"=US-VA\")=0,\"\",\"X\")","v":""},0,{"$f":"IF(COUNTIFS(Input!$A:$A, Output!$B251, Input!$B:$B, G$1, Input!$H:$H, \"=US-VA\")=0,\"\",\"X\")","v":""},0]
[251,"Barred Owl",{"$f":"IF(COUNTIFS(Input!$A:$A, Output!$B252, Input!$B:$B, C$1, Input!$H:$H, \"=US-VA\")=0,\"\",\"X\")","v":""},0,{"$f":"IF(COUNTIFS(Input!$A:$A, Output!$B252, Input!$B:$B, E$1, Input!$H:$H, \"=US-VA\")=0,\"\",\"X\")","v":""},0,{"$f":"IF(COUNTIFS(Input!$A:$A, Output!$B252, Input!$B:$B, G$1, Input!$H:$H, \"=US-VA\")=0,\"\",\"X\")","v":""},0]
[252,"Long-eared Owl",{"$f":"IF(COUNTIFS(Input!$A:$A, Output!$B253, Input!$B:$B, C$1, Input!$H:$H, \"=US-VA\")=0,\"\",\"X\")","v":""},0,{"$f":"IF(COUNTIFS(Input!$A:$A, Output!$B253, Input!$B:$B, E$1, Input!$H:$H, \"=US-VA\")=0,\"\",\"X\")","v":""},0,{"$f":"IF(COUNTIFS(Input!$A:$A, Output!$B253, Input!$B:$B, G$1, Input!$H:$H, \"=US-VA\")=0,\"\",\"X\")","v":""},0]
[253,"Short-eared Owl",{"$f":"IF(COUNTIFS(Input!$A:$A, Output!$B254, Input!$B:$B, C$1, Input!$H:$H, \"=US-VA\")=0,\"\",\"X\")","v":""},0,{"$f":"IF(COUNTIFS(Input!$A:$A, Output!$B254, Input!$B:$B, E$1, Input!$H:$H, \"=US-VA\")=0,\"\",\"X\")","v":""},0,{"$f":"IF(COUNTIFS(Input!$A:$A, Output!$B254, Input!$B:$B, G$1, Input!$H:$H, \"=US-VA\")=0,\"\",\"X\")","v":""},0]
[254,"Northern Saw-whet Owl",{"$f":"IF(COUNTIFS(Input!$A:$A, Output!$B255, Input!$B:$B, C$1, Input!$H:$H, \"=US-VA\")=0,\"\",\"X\")","v":""},0,{"$f":"IF(COUNTIFS(Input!$A:$A, Output!$B255, Input!$B:$B, E$1, Input!$H:$H, \"=US-VA\")=0,\"\",\"X\")","v":""},0,{"$f":"IF(COUNTIFS(Input!$A:$A, Output!$B255, Input!$B:$B, G$1, Input!$H:$H, \"=US-VA\")=0,\"\",\"X\")","v":""},0]
[255,"Common Nighthawk",{"$f":"IF(COUNTIFS(Input!$A:$A, Output!$B256, Input!$B:$B, C$1, Input!$H:$H, \"=US-VA\")=0,\"\",\"X\")","v":""},0,{"$f":"IF(COUNTIFS(Input!$A:$A, Output!$B256, Input!$B:$B, E$1, Input!$H:$H, \"=US-VA\")=0,\"\",\"X\")","v":""},0,{"$f":"IF(COUNTIFS(Input!$A:$A, Output!$B256, Input!$B:$B, G$1, Input!$H:$H, \"=US-VA\")=0,\"\",\"X\")","v":""},0]
[256,"Chuck-will's-widow",{"$f":"IF(COUNTIFS(Input!$A:$A, Output!$B257, Input!$B:$B, C$1, Input!$H:$H, \"=US-VA\")=0,\"\",\"X\")","v":""},0,{"$f":"IF(COUNTIFS(Input!$A:$A, Output!$B257, Input!$B:$B, E$1, Input!$H:$H, \"=US-VA\")=0,\"\",\"X\")","v":""},0,{"$f":"IF(COUNTIFS(Input!$A:$A, Output!$B257, Input!$B:$B, G$1, Input!$H:$H, \"=US-VA\")=0,\"\",\"X\")","v":""},0]
[257,"Eastern Whip-poor-will",{"$f":"IF(COUNTIFS(Input!$A:$A, Output!$B258, Input!$B:$B, C$1, Input!$H:$H, \"=US-VA\")=0,\"\",\"X\")","v":""},{"$f":"IF(C258=\"X\",1,0)","v":0},{"$f":"IF(COUNTIFS(Input!$A:$A, Output!$B258, Input!$B:$B, E$1, Input!$H:$H, \"=US-VA\")=0,\"\",\"X\")","v":""},{"$f":"IF(E258=\"X\",1,0)","v":0},{"$f":"IF(COUNTIFS(Input!$A:$A, Output!$B258, Input!$B:$B, G$1, Input!$H:$H, \"=US-VA\")=0,\"\",\"X\")","v":""},{"$f":"IF(G258=\"X\",1,0)","v":0}]
[258,"Chimney Swift",{"$f":"IF(COUNTIFS(Input!$A:$A, Output!$B259, Input!$B:$B, C$1, Input!$H:$H, \"=US-VA\")=0,\"\",\"X\")","v":""},0,{"$f":"IF(COUNTIFS(Input!$A:$A, Output!$B259, Input!$B:$B, E$1, Input!$H:$H, \"=US-VA\")=0,\"\",\"X\")","v":""},0,{"$f":"IF(COUNTIFS(Input!$A:$A, Output!$B259, Input!$B:$B, G$1, Input!$H:$H, \"=US-VA\")=0,\"\",\"X\")","v":""},0]
[259,"Magnificent Hummingbird",{"$f":"IF(COUNTIFS(Input!$A:$A, Output!$B260, Input!$B:$B, C$1, Input!$H:$H, \"=US-VA\")=0,\"\",\"X\")","v":""},0,{"$f":"IF(COUNTIFS(Input!$A:$A, Output!$B260, Input!$B:$B, E$1, Input!$H:$H, \"=US-VA\")=0,\"\",\"X\")","v":""},0,{"$f":"IF(COUNTIFS(Input!$A:$A, Output!$B260, Input!$B:$B, G$1, Input!$H:$H, \"=US-VA\")=0,\"\",\"X\")","v":""},0]
[260,"Ruby-throated Hummingbird",{"$f":"IF(COUNTIFS(Input!$A:$A, Output!$B261, Input!$B:$B, C$1, Input!$H:$H, \"=US-VA\")=0,\"\",\"X\")","v":""},0,{"$f":"IF(COUNTIFS(Input!$A:$A, Output!$B261, Input!$B:$B, E$1, Input!$H:$H, \"=US-VA\")=0,\"\",\"X\")","v":""},0,{"$f":"IF(COUNTIFS(Input!$A:$A, Output!$B261, Input!$B:$B, G$1, Input!$H:$H, \"=US-VA\")=0,\"\",\"X\")","v":""},0]
[261,"Black-chinned Hummingbird",{"$f":"IF(COUNTIFS(Input!$A:$A, Output!$B262, Input!$B:$B, C$1, Input!$H:$H, \"=US-VA\")=0,\"\",\"X\")","v":""},0,{"$f":"IF(COUNTIFS(Input!$A:$A, Output!$B262, Input!$B:$B, E$1, Input!$H:$H, \"=US-VA\")=0,\"\",\"X\")","v":""},0,{"$f":"IF(COUNTIFS(Input!$A:$A, Output!$B262, Input!$B:$B, G$1, Input!$H:$H, \"=US-VA\")=0,\"\",\"X\")","v":""},0]
[262,"Rufous Hummingbird",{"$f":"IF(COUNTIFS(Input!$A:$A, Output!$B263, Input!$B:$B, C$1, Input!$H:$H, \"=US-VA\")=0,\"\",\"X\")","v":""},0,{"$f":"IF(COUNTIFS(Input!$A:$A, Output!$B263, Input!$B:$B, E$1, Input!$H:$H, \"=US-VA\")=0,\"\",\"X\")","v":""},0,{"$f":"IF(COUNTIFS(Input!$A:$A, Output!$B263, Input!$B:$B, G$1, Input!$H:$H, \"=US-VA\")=0,\"\",\"X\")","v":""},0]
[263,"Allen's Hummingbird",{"$f":"IF(COUNTIFS(Input!$A:$A, Output!$B264, Input!$B:$B, C$1, Input!$H:$H, \"=US-VA\")=0,\"\",\"X\")","v":""},0,{"$f":"IF(COUNTIFS(Input!$A:$A, Output!$B264, Input!$B:$B, E$1, Input!$H:$H, \"=US-VA\")=0,\"\",\"X\")","v":""},0,{"$f":"IF(COUNTIFS(Input!$A:$A, Output!$B264, Input!$B:$B, G$1, Input!$H:$H, \"=US-VA\")=0,\"\",\"X\")","v":""},0]
[264,"Calliope Hummingbird",{"$f":"IF(COUNTIFS(Input!$A:$A, Output!$B265, Input!$B:$B, C$1, Input!$H:$H, \"=US-VA\")=0,\"\",\"X\")","v":""},0,{"$f":"IF(COUNTIFS(Input!$A:$A, Output!$B265, Input!$B:$B, E$1, Input!$H:$H, \"=US-VA\")=0,\"\",\"X\")","v":""},0,{"$f":"IF(COUNTIFS(Input!$A:$A, Output!$B265, Input!$B:$B, G$1, Input!$H:$H, \"=US-VA\")=0,\"\",\"X\")","v":""},0]
[265,"Violet-crowned Hummingbird",{"$f":"IF(COUNTIFS(Input!$A:$A, Output!$B266, Input!$B:$B, C$1, Input!$H:$H, \"=US-VA\")=0,\"\",\"X\")","v":""},0,{"$f":"IF(COUNTIFS(Input!$A:$A, Output!$B266, Input!$B:$B, E$1, Input!$H:$H, \"=US-VA\")=0,\"\",\"X\")","v":""},0,{"$f":"IF(COUNTIFS(Input!$A:$A, Output!$B266, Input!$B:$B, G$1, Input!$H:$H, \"=US-VA\")=0,\"\",\"X\")","v":""},0]
[266,"Belted Kingfisher",{"$f":"IF(COUNTIFS(Input!$A:$A, Output!$B267, Input!$B:$B, C$1, Input!$H:$H, \"=US-VA\")=0,\"\",\"X\")","v":""},0,{"$f":"IF(COUNTIFS(Input!$A:$A, Output!$B267, Input!$B:$B, E$1, Input!$H:$H, \"=US-VA\")=0,\"\",\"X\")","v":""},0,{"$f":"IF(COUNTIFS(Input!$A:$A, Output!$B267, Input!$B:$B, G$1, Input!$H:$H, \"=US-VA\")=0,\"\",\"X\")","v":""},0]
[267,"Lewis's Woodpecker",{"$f":"IF(COUNTIFS(Input!$A:$A, Output!$B268, Input!$B:$B, C$1, Input!$H:$H, \"=US-VA\")=0,\"\",\"X\")","v":""},0,{"$f":"IF(COUNTIFS(Input!$A:$A, Output!$B268, Input!$B:$B, E$1, Input!$H:$H, \"=US-VA\")=0,\"\",\"X\")","v":""},0,{"$f":"IF(COUNTIFS(Input!$A:$A, Output!$B268, Input!$B:$B, G$1, Input!$H:$H, \"=US-VA\")=0,\"\",\"X\")","v":""},0]
[268,"Red-headed Woodpecker",{"$f":"IF(COUNTIFS(Input!$A:$A, Output!$B269, Input!$B:$B, C$1, Input!$H:$H, \"=US-VA\")=0,\"\",\"X\")","v":""},0,{"$f":"IF(COUNTIFS(Input!$A:$A, Output!$B269, Input!$B:$B, E$1, Input!$H:$H, \"=US-VA\")=0,\"\",\"X\")","v":""},0,{"$f":"IF(COUNTIFS(Input!$A:$A, Output!$B269, Input!$B:$B, G$1, Input!$H:$H, \"=US-VA\")=0,\"\",\"X\")","v":""},0]
[269,"Red-bellied Woodpecker",{"$f":"IF(COUNTIFS(Input!$A:$A, Output!$B270, Input!$B:$B, C$1, Input!$H:$H, \"=US-VA\")=0,\"\",\"X\")","v":""},0,{"$f":"IF(COUNTIFS(Input!$A:$A, Output!$B270, Input!$B:$B, E$1, Input!$H:$H, \"=US-VA\")=0,\"\",\"X\")","v":""},0,{"$f":"IF(COUNTIFS(Input!$A:$A, Output!$B270, Input!$B:$B, G$1, Input!$H:$H, \"=US-VA\")=0,\"\",\"X\")","v":""},0]
[270,"Yellow-bellied Sapsucker",{"$f":"IF(COUNTIFS(Input!$A:$A, Output!$B271, Input!$B:$B, C$1, Input!$H:$H, \"=US-VA\")=0,\"\",\"X\")","v":""},0,{"$f":"IF(COUNTIFS(Input!$A:$A, Output!$B271, Input!$B:$B, E$1, Input!$H:$H, \"=US-VA\")=0,\"\",\"X\")","v":""},0,{"$f":"IF(COUNTIFS(Input!$A:$A, Output!$B271, Input!$B:$B, G$1, Input!$H:$H, \"=US-VA\")=0,\"\",\"X\")","v":""},0]
[271,"Downy Woodpecker",{"$f":"IF(COUNTIFS(Input!$A:$A, Output!$B272, Input!$B:$B, C$1, Input!$H:$H, \"=US-VA\")=0,\"\",\"X\")","v":""},0,{"$f":"IF(COUNTIFS(Input!$A:$A, Output!$B272, Input!$B:$B, E$1, Input!$H:$H, \"=US-VA\")=0,\"\",\"X\")","v":""},0,{"$f":"IF(COUNTIFS(Input!$A:$A, Output!$B272, Input!$B:$B, G$1, Input!$H:$H, \"=US-VA\")=0,\"\",\"X\")","v":""},0]
[272,"Hairy Woodpecker",{"$f":"IF(COUNTIFS(Input!$A:$A, Output!$B273, Input!$B:$B, C$1, Input!$H:$H, \"=US-VA\")=0,\"\",\"X\")","v":""},0,{"$f":"IF(COUNTIFS(Input!$A:$A, Output!$B273, Input!$B:$B, E$1, Input!$H:$H, \"=US-VA\")=0,\"\",\"X\")","v":""},0,{"$f":"IF(COUNTIFS(Input!$A:$A, Output!$B273, Input!$B:$B, G$1, Input!$H:$H, \"=US-VA\")=0,\"\",\"X\")","v":""},0]
[273,"Red-cockaded Woodpecker",{"$f":"IF(COUNTIFS(Input!$A:$A, Output!$B274, Input!$B:$B, C$1, Input!$H:$H, \"=US-VA\")=0,\"\",\"X\")","v":""},0,{"$f":"IF(COUNTIFS(Input!$A:$A, Output!$B274, Input!$B:$B, E$1, Input!$H:$H, \"=US-VA\")=0,\"\",\"X\")","v":""},0,{"$f":"IF(COUNTIFS(Input!$A:$A, Output!$B274, Input!$B:$B, G$1, Input!$H:$H, \"=US-VA\")=0,\"\",\"X\")","v":""},0]
[274,"Northern Flicker",{"$f":"IF(COUNTIFS(Input!$A:$A, Output!$B275, Input!$B:$B, C$1, Input!$H:$H, \"=US-VA\")=0,\"\",\"X\")","v":""},0,{"$f":"IF(COUNTIFS(Input!$A:$A, Output!$B275, Input!$B:$B, E$1, Input!$H:$H, \"=US-VA\")=0,\"\",\"X\")","v":""},0,{"$f":"IF(COUNTIFS(Input!$A:$A, Output!$B275, Input!$B:$B, G$1, Input!$H:$H, \"=US-VA\")=0,\"\",\"X\")","v":""},0]
[275,"Pileated Woodpecker",{"$f":"IF(COUNTIFS(Input!$A:$A, Output!$B276, Input!$B:$B, C$1, Input!$H:$H, \"=US-VA\")=0,\"\",\"X\")","v":""},0,{"$f":"IF(COUNTIFS(Input!$A:$A, Output!$B276, Input!$B:$B, E$1, Input!$H:$H, \"=US-VA\")=0,\"\",\"X\")","v":""},0,{"$f":"IF(COUNTIFS(Input!$A:$A, Output!$B276, Input!$B:$B, G$1, Input!$H:$H, \"=US-VA\")=0,\"\",\"X\")","v":""},0]
[276,"Crested Caracara",{"$f":"IF(COUNTIFS(Input!$A:$A, Output!$B277, Input!$B:$B, C$1, Input!$H:$H, \"=US-VA\")=0,\"\",\"X\")","v":""},0,{"$f":"IF(COUNTIFS(Input!$A:$A, Output!$B277, Input!$B:$B, E$1, Input!$H:$H, \"=US-VA\")=0,\"\",\"X\")","v":""},0,{"$f":"IF(COUNTIFS(Input!$A:$A, Output!$B277, Input!$B:$B, G$1, Input!$H:$H, \"=US-VA\")=0,\"\",\"X\")","v":""},0]
[277,"American Kestrel",{"$f":"IF(COUNTIFS(Input!$A:$A, Output!$B278, Input!$B:$B, C$1, Input!$H:$H, \"=US-VA\")=0,\"\",\"X\")","v":""},0,{"$f":"IF(COUNTIFS(Input!$A:$A, Output!$B278, Input!$B:$B, E$1, Input!$H:$H, \"=US-VA\")=0,\"\",\"X\")","v":""},0,{"$f":"IF(COUNTIFS(Input!$A:$A, Output!$B278, Input!$B:$B, G$1, Input!$H:$H, \"=US-VA\")=0,\"\",\"X\")","v":""},0]
[278,"Merlin",{"$f":"IF(COUNTIFS(Input!$A:$A, Output!$B279, Input!$B:$B, C$1, Input!$H:$H, \"=US-VA\")=0,\"\",\"X\")","v":""},0,{"$f":"IF(COUNTIFS(Input!$A:$A, Output!$B279, Input!$B:$B, E$1, Input!$H:$H, \"=US-VA\")=0,\"\",\"X\")","v":""},0,{"$f":"IF(COUNTIFS(Input!$A:$A, Output!$B279, Input!$B:$B, G$1, Input!$H:$H, \"=US-VA\")=0,\"\",\"X\")","v":""},0]
[279,"Gyrfalcon",{"$f":"IF(COUNTIFS(Input!$A:$A, Output!$B280, Input!$B:$B, C$1, Input!$H:$H, \"=US-VA\")=0,\"\",\"X\")","v":""},0,{"$f":"IF(COUNTIFS(Input!$A:$A, Output!$B280, Input!$B:$B, E$1, Input!$H:$H, \"=US-VA\")=0,\"\",\"X\")","v":""},0,{"$f":"IF(COUNTIFS(Input!$A:$A, Output!$B280, Input!$B:$B, G$1, Input!$H:$H, \"=US-VA\")=0,\"\",\"X\")","v":""},0]
[280,"Peregrine Falcon",{"$f":"IF(COUNTIFS(Input!$A:$A, Output!$B281, Input!$B:$B, C$1, Input!$H:$H, \"=US-VA\")=0,\"\",\"X\")","v":""},0,{"$f":"IF(COUNTIFS(Input!$A:$A, Output!$B281, Input!$B:$B, E$1, Input!$H:$H, \"=US-VA\")=0,\"\",\"X\")","v":""},0,{"$f":"IF(COUNTIFS(Input!$A:$A, Output!$B281, Input!$B:$B, G$1, Input!$H:$H, \"=US-VA\")=0,\"\",\"X\")","v":""},0]
[281,"Monk Parakeet",{"$f":"IF(COUNTIFS(Input!$A:$A, Output!$B282, Input!$B:$B, C$1, Input!$H:$H, \"=US-VA\")=0,\"\",\"X\")","v":""},0,{"$f":"IF(COUNTIFS(Input!$A:$A, Output!$B282, Input!$B:$B, E$1, Input!$H:$H, \"=US-VA\")=0,\"\",\"X\")","v":""},0,{"$f":"IF(COUNTIFS(Input!$A:$A, Output!$B282, Input!$B:$B, G$1, Input!$H:$H, \"=US-VA\")=0,\"\",\"X\")","v":""},0]
[282,"Olive-sided Flycatcher",{"$f":"IF(COUNTIFS(Input!$A:$A, Output!$B283, Input!$B:$B, C$1, Input!$H:$H, \"=US-VA\")=0,\"\",\"X\")","v":""},0,{"$f":"IF(COUNTIFS(Input!$A:$A, Output!$B283, Input!$B:$B, E$1, Input!$H:$H, \"=US-VA\")=0,\"\",\"X\")","v":""},0,{"$f":"IF(COUNTIFS(Input!$A:$A, Output!$B283, Input!$B:$B, G$1, Input!$H:$H, \"=US-VA\")=0,\"\",\"X\")","v":""},0]
[283,"Western Wood-Pewee",{"$f":"IF(COUNTIFS(Input!$A:$A, Output!$B284, Input!$B:$B, C$1, Input!$H:$H, \"=US-VA\")=0,\"\",\"X\")","v":""},0,{"$f":"IF(COUNTIFS(Input!$A:$A, Output!$B284, Input!$B:$B, E$1, Input!$H:$H, \"=US-VA\")=0,\"\",\"X\")","v":""},0,{"$f":"IF(COUNTIFS(Input!$A:$A, Output!$B284, Input!$B:$B, G$1, Input!$H:$H, \"=US-VA\")=0,\"\",\"X\")","v":""},0]
[284,"Eastern Wood-Pewee",{"$f":"IF(COUNTIFS(Input!$A:$A, Output!$B285, Input!$B:$B, C$1, Input!$H:$H, \"=US-VA\")=0,\"\",\"X\")","v":""},0,{"$f":"IF(COUNTIFS(Input!$A:$A, Output!$B285, Input!$B:$B, E$1, Input!$H:$H, \"=US-VA\")=0,\"\",\"X\")","v":""},0,{"$f":"IF(COUNTIFS(Input!$A:$A, Output!$B285, Input!$B:$B, G$1, Input!$H:$H, \"=US-VA\")=0,\"\",\"X\")","v":""},0]
[285,"Yellow-bellied Flycatcher",{"$f":"IF(COUNTIFS(Input!$A:$A, Output!$B286, Input!$B:$B, C$1, Input!$H:$H, \"=US-VA\")=0,\"\",\"X\")","v":""},0,{"$f":"IF(COUNTIFS(Input!$A:$A, Output!$B286, Input!$B:$B, E$1, Input!$H:$H, \"=US-VA\")=0,\"\",\"X\")","v":""},0,{"$f":"IF(COUNTIFS(Input!$A:$A, Output!$B286, Input!$B:$B, G$1, Input!$H:$H, \"=US-VA\")=0,\"\",\"X\")","v":""},0]
[286,"Acadian Flycatcher",{"$f":"IF(COUNTIFS(Input!$A:$A, Output!$B287, Input!$B:$B, C$1, Input!$H:$H, \"=US-VA\")=0,\"\",\"X\")","v":""},0,{"$f":"IF(COUNTIFS(Input!$A:$A, Output!$B287, Input!$B:$B, E$1, Input!$H:$H, \"=US-VA\")=0,\"\",\"X\")","v":""},0,{"$f":"IF(COUNTIFS(Input!$A:$A, Output!$B287, Input!$B:$B, G$1, Input!$H:$H, \"=US-VA\")=0,\"\",\"X\")","v":""},0]
[287,"Alder Flycatcher",{"$f":"IF(COUNTIFS(Input!$A:$A, Output!$B288, Input!$B:$B, C$1, Input!$H:$H, \"=US-VA\")=0,\"\",\"X\")","v":""},0,{"$f":"IF(COUNTIFS(Input!$A:$A, Output!$B288, Input!$B:$B, E$1, Input!$H:$H, \"=US-VA\")=0,\"\",\"X\")","v":""},0,{"$f":"IF(COUNTIFS(Input!$A:$A, Output!$B288, Input!$B:$B, G$1, Input!$H:$H, \"=US-VA\")=0,\"\",\"X\")","v":""},0]
[288,"Willow Flycatcher",{"$f":"IF(COUNTIFS(Input!$A:$A, Output!$B289, Input!$B:$B, C$1, Input!$H:$H, \"=US-VA\")=0,\"\",\"X\")","v":""},0,{"$f":"IF(COUNTIFS(Input!$A:$A, Output!$B289, Input!$B:$B, E$1, Input!$H:$H, \"=US-VA\")=0,\"\",\"X\")","v":""},0,{"$f":"IF(COUNTIFS(Input!$A:$A, Output!$B289, Input!$B:$B, G$1, Input!$H:$H, \"=US-VA\")=0,\"\",\"X\")","v":""},0]
[289,"Least Flycatcher",{"$f":"IF(COUNTIFS(Input!$A:$A, Output!$B290, Input!$B:$B, C$1, Input!$H:$H, \"=US-VA\")=0,\"\",\"X\")","v":""},0,{"$f":"IF(COUNTIFS(Input!$A:$A, Output!$B290, Input!$B:$B, E$1, Input!$H:$H, \"=US-VA\")=0,\"\",\"X\")","v":""},0,{"$f":"IF(COUNTIFS(Input!$A:$A, Output!$B290, Input!$B:$B, G$1, Input!$H:$H, \"=US-VA\")=0,\"\",\"X\")","v":""},0]
[290,"Dusky Flycatcher",{"$f":"IF(COUNTIFS(Input!$A:$A, Output!$B291, Input!$B:$B, C$1, Input!$H:$H, \"=US-VA\")=0,\"\",\"X\")","v":""},0,{"$f":"IF(COUNTIFS(Input!$A:$A, Output!$B291, Input!$B:$B, E$1, Input!$H:$H, \"=US-VA\")=0,\"\",\"X\")","v":""},0,{"$f":"IF(COUNTIFS(Input!$A:$A, Output!$B291, Input!$B:$B, G$1, Input!$H:$H, \"=US-VA\")=0,\"\",\"X\")","v":""},0]
[291,"Pacific-slope Flycatcher",{"$f":"IF(COUNTIFS(Input!$A:$A, Output!$B292, Input!$B:$B, C$1, Input!$H:$H, \"=US-VA\")=0,\"\",\"X\")","v":""},0,{"$f":"IF(COUNTIFS(Input!$A:$A, Output!$B292, Input!$B:$B, E$1, Input!$H:$H, \"=US-VA\")=0,\"\",\"X\")","v":""},0,{"$f":"IF(COUNTIFS(Input!$A:$A, Output!$B292, Input!$B:$B, G$1, Input!$H:$H, \"=US-VA\")=0,\"\",\"X\")","v":""},0]
[292,"Eastern Phoebe",{"$f":"IF(COUNTIFS(Input!$A:$A, Output!$B293, Input!$B:$B, C$1, Input!$H:$H, \"=US-VA\")=0,\"\",\"X\")","v":""},0,{"$f":"IF(COUNTIFS(Input!$A:$A, Output!$B293, Input!$B:$B, E$1, Input!$H:$H, \"=US-VA\")=0,\"\",\"X\")","v":""},0,{"$f":"IF(COUNTIFS(Input!$A:$A, Output!$B293, Input!$B:$B, G$1, Input!$H:$H, \"=US-VA\")=0,\"\",\"X\")","v":""},0]
[293,"Say's Phoebe",{"$f":"IF(COUNTIFS(Input!$A:$A, Output!$B294, Input!$B:$B, C$1, Input!$H:$H, \"=US-VA\")=0,\"\",\"X\")","v":""},0,{"$f":"IF(COUNTIFS(Input!$A:$A, Output!$B294, Input!$B:$B, E$1, Input!$H:$H, \"=US-VA\")=0,\"\",\"X\")","v":""},0,{"$f":"IF(COUNTIFS(Input!$A:$A, Output!$B294, Input!$B:$B, G$1, Input!$H:$H, \"=US-VA\")=0,\"\",\"X\")","v":""},0]
[294,"Vermilion Flycatcher",{"$f":"IF(COUNTIFS(Input!$A:$A, Output!$B295, Input!$B:$B, C$1, Input!$H:$H, \"=US-VA\")=0,\"\",\"X\")","v":""},0,{"$f":"IF(COUNTIFS(Input!$A:$A, Output!$B295, Input!$B:$B, E$1, Input!$H:$H, \"=US-VA\")=0,\"\",\"X\")","v":""},0,{"$f":"IF(COUNTIFS(Input!$A:$A, Output!$B295, Input!$B:$B, G$1, Input!$H:$H, \"=US-VA\")=0,\"\",\"X\")","v":""},0]
[295,"Ash-throated Flycatcher",{"$f":"IF(COUNTIFS(Input!$A:$A, Output!$B296, Input!$B:$B, C$1, Input!$H:$H, \"=US-VA\")=0,\"\",\"X\")","v":""},0,{"$f":"IF(COUNTIFS(Input!$A:$A, Output!$B296, Input!$B:$B, E$1, Input!$H:$H, \"=US-VA\")=0,\"\",\"X\")","v":""},0,{"$f":"IF(COUNTIFS(Input!$A:$A, Output!$B296, Input!$B:$B, G$1, Input!$H:$H, \"=US-VA\")=0,\"\",\"X\")","v":""},0]
[296,"Great Crested Flycatcher",{"$f":"IF(COUNTIFS(Input!$A:$A, Output!$B297, Input!$B:$B, C$1, Input!$H:$H, \"=US-VA\")=0,\"\",\"X\")","v":""},0,{"$f":"IF(COUNTIFS(Input!$A:$A, Output!$B297, Input!$B:$B, E$1, Input!$H:$H, \"=US-VA\")=0,\"\",\"X\")","v":""},0,{"$f":"IF(COUNTIFS(Input!$A:$A, Output!$B297, Input!$B:$B, G$1, Input!$H:$H, \"=US-VA\")=0,\"\",\"X\")","v":""},0]
[297,"Western Kingbird",{"$f":"IF(COUNTIFS(Input!$A:$A, Output!$B298, Input!$B:$B, C$1, Input!$H:$H, \"=US-VA\")=0,\"\",\"X\")","v":""},0,{"$f":"IF(COUNTIFS(Input!$A:$A, Output!$B298, Input!$B:$B, E$1, Input!$H:$H, \"=US-VA\")=0,\"\",\"X\")","v":""},0,{"$f":"IF(COUNTIFS(Input!$A:$A, Output!$B298, Input!$B:$B, G$1, Input!$H:$H, \"=US-VA\")=0,\"\",\"X\")","v":""},0]
[298,"Eastern Kingbird",{"$f":"IF(COUNTIFS(Input!$A:$A, Output!$B299, Input!$B:$B, C$1, Input!$H:$H, \"=US-VA\")=0,\"\",\"X\")","v":""},0,{"$f":"IF(COUNTIFS(Input!$A:$A, Output!$B299, Input!$B:$B, E$1, Input!$H:$H, \"=US-VA\")=0,\"\",\"X\")","v":""},0,{"$f":"IF(COUNTIFS(Input!$A:$A, Output!$B299, Input!$B:$B, G$1, Input!$H:$H, \"=US-VA\")=0,\"\",\"X\")","v":""},0]
[299,"Gray Kingbird",{"$f":"IF(COUNTIFS(Input!$A:$A, Output!$B300, Input!$B:$B, C$1, Input!$H:$H, \"=US-VA\")=0,\"\",\"X\")","v":""},0,{"$f":"IF(COUNTIFS(Input!$A:$A, Output!$B300, Input!$B:$B, E$1, Input!$H:$H, \"=US-VA\")=0,\"\",\"X\")","v":""},0,{"$f":"IF(COUNTIFS(Input!$A:$A, Output!$B300, Input!$B:$B, G$1, Input!$H:$H, \"=US-VA\")=0,\"\",\"X\")","v":""},0]
[300,"Scissor-tailed Flycatcher",{"$f":"IF(COUNTIFS(Input!$A:$A, Output!$B301, Input!$B:$B, C$1, Input!$H:$H, \"=US-VA\")=0,\"\",\"X\")","v":""},0,{"$f":"IF(COUNTIFS(Input!$A:$A, Output!$B301, Input!$B:$B, E$1, Input!$H:$H, \"=US-VA\")=0,\"\",\"X\")","v":""},0,{"$f":"IF(COUNTIFS(Input!$A:$A, Output!$B301, Input!$B:$B, G$1, Input!$H:$H, \"=US-VA\")=0,\"\",\"X\")","v":""},0]
[301,"Fork-tailed Flycatcher",{"$f":"IF(COUNTIFS(Input!$A:$A, Output!$B302, Input!$B:$B, C$1, Input!$H:$H, \"=US-VA\")=0,\"\",\"X\")","v":""},0,{"$f":"IF(COUNTIFS(Input!$A:$A, Output!$B302, Input!$B:$B, E$1, Input!$H:$H, \"=US-VA\")=0,\"\",\"X\")","v":""},0,{"$f":"IF(COUNTIFS(Input!$A:$A, Output!$B302, Input!$B:$B, G$1, Input!$H:$H, \"=US-VA\")=0,\"\",\"X\")","v":""},0]
[302,"Loggerhead Shrike",{"$f":"IF(COUNTIFS(Input!$A:$A, Output!$B303, Input!$B:$B, C$1, Input!$H:$H, \"=US-VA\")=0,\"\",\"X\")","v":""},0,{"$f":"IF(COUNTIFS(Input!$A:$A, Output!$B303, Input!$B:$B, E$1, Input!$H:$H, \"=US-VA\")=0,\"\",\"X\")","v":""},0,{"$f":"IF(COUNTIFS(Input!$A:$A, Output!$B303, Input!$B:$B, G$1, Input!$H:$H, \"=US-VA\")=0,\"\",\"X\")","v":""},0]
[303,"Northern Shrike",{"$f":"IF(COUNTIFS(Input!$A:$A, Output!$B304, Input!$B:$B, C$1, Input!$H:$H, \"=US-VA\")=0,\"\",\"X\")","v":""},0,{"$f":"IF(COUNTIFS(Input!$A:$A, Output!$B304, Input!$B:$B, E$1, Input!$H:$H, \"=US-VA\")=0,\"\",\"X\")","v":""},0,{"$f":"IF(COUNTIFS(Input!$A:$A, Output!$B304, Input!$B:$B, G$1, Input!$H:$H, \"=US-VA\")=0,\"\",\"X\")","v":""},0]
[304,"White-eyed Vireo",{"$f":"IF(COUNTIFS(Input!$A:$A, Output!$B305, Input!$B:$B, C$1, Input!$H:$H, \"=US-VA\")=0,\"\",\"X\")","v":""},0,{"$f":"IF(COUNTIFS(Input!$A:$A, Output!$B305, Input!$B:$B, E$1, Input!$H:$H, \"=US-VA\")=0,\"\",\"X\")","v":""},0,{"$f":"IF(COUNTIFS(Input!$A:$A, Output!$B305, Input!$B:$B, G$1, Input!$H:$H, \"=US-VA\")=0,\"\",\"X\")","v":""},0]
[305,"Bell's Vireo",{"$f":"IF(COUNTIFS(Input!$A:$A, Output!$B306, Input!$B:$B, C$1, Input!$H:$H, \"=US-VA\")=0,\"\",\"X\")","v":""},0,{"$f":"IF(COUNTIFS(Input!$A:$A, Output!$B306, Input!$B:$B, E$1, Input!$H:$H, \"=US-VA\")=0,\"\",\"X\")","v":""},0,{"$f":"IF(COUNTIFS(Input!$A:$A, Output!$B306, Input!$B:$B, G$1, Input!$H:$H, \"=US-VA\")=0,\"\",\"X\")","v":""},0]
[306,"Yellow-throated Vireo",{"$f":"IF(COUNTIFS(Input!$A:$A, Output!$B307, Input!$B:$B, C$1, Input!$H:$H, \"=US-VA\")=0,\"\",\"X\")","v":""},0,{"$f":"IF(COUNTIFS(Input!$A:$A, Output!$B307, Input!$B:$B, E$1, Input!$H:$H, \"=US-VA\")=0,\"\",\"X\")","v":""},0,{"$f":"IF(COUNTIFS(Input!$A:$A, Output!$B307, Input!$B:$B, G$1, Input!$H:$H, \"=US-VA\")=0,\"\",\"X\")","v":""},0]
[307,"Blue-headed Vireo",{"$f":"IF(COUNTIFS(Input!$A:$A, Output!$B308, Input!$B:$B, C$1, Input!$H:$H, \"=US-VA\")=0,\"\",\"X\")","v":""},0,{"$f":"IF(COUNTIFS(Input!$A:$A, Output!$B308, Input!$B:$B, E$1, Input!$H:$H, \"=US-VA\")=0,\"\",\"X\")","v":""},0,{"$f":"IF(COUNTIFS(Input!$A:$A, Output!$B308, Input!$B:$B, G$1, Input!$H:$H, \"=US-VA\")=0,\"\",\"X\")","v":""},0]
[308,"Philadelphia Vireo",{"$f":"IF(COUNTIFS(Input!$A:$A, Output!$B309, Input!$B:$B, C$1, Input!$H:$H, \"=US-VA\")=0,\"\",\"X\")","v":""},0,{"$f":"IF(COUNTIFS(Input!$A:$A, Output!$B309, Input!$B:$B, E$1, Input!$H:$H, \"=US-VA\")=0,\"\",\"X\")","v":""},0,{"$f":"IF(COUNTIFS(Input!$A:$A, Output!$B309, Input!$B:$B, G$1, Input!$H:$H, \"=US-VA\")=0,\"\",\"X\")","v":""},0]
[309,"Warbling Vireo",{"$f":"IF(COUNTIFS(Input!$A:$A, Output!$B310, Input!$B:$B, C$1, Input!$H:$H, \"=US-VA\")=0,\"\",\"X\")","v":""},0,{"$f":"IF(COUNTIFS(Input!$A:$A, Output!$B310, Input!$B:$B, E$1, Input!$H:$H, \"=US-VA\")=0,\"\",\"X\")","v":""},0,{"$f":"IF(COUNTIFS(Input!$A:$A, Output!$B310, Input!$B:$B, G$1, Input!$H:$H, \"=US-VA\")=0,\"\",\"X\")","v":""},0]
[310,"Red-eyed Vireo",{"$f":"IF(COUNTIFS(Input!$A:$A, Output!$B311, Input!$B:$B, C$1, Input!$H:$H, \"=US-VA\")=0,\"\",\"X\")","v":""},0,{"$f":"IF(COUNTIFS(Input!$A:$A, Output!$B311, Input!$B:$B, E$1, Input!$H:$H, \"=US-VA\")=0,\"\",\"X\")","v":""},0,{"$f":"IF(COUNTIFS(Input!$A:$A, Output!$B311, Input!$B:$B, G$1, Input!$H:$H, \"=US-VA\")=0,\"\",\"X\")","v":""},0]
[311,"Black-whiskered Vireo",{"$f":"IF(COUNTIFS(Input!$A:$A, Output!$B312, Input!$B:$B, C$1, Input!$H:$H, \"=US-VA\")=0,\"\",\"X\")","v":""},0,{"$f":"IF(COUNTIFS(Input!$A:$A, Output!$B312, Input!$B:$B, E$1, Input!$H:$H, \"=US-VA\")=0,\"\",\"X\")","v":""},0,{"$f":"IF(COUNTIFS(Input!$A:$A, Output!$B312, Input!$B:$B, G$1, Input!$H:$H, \"=US-VA\")=0,\"\",\"X\")","v":""},0]
[312,"Blue Jay",{"$f":"IF(COUNTIFS(Input!$A:$A, Output!$B313, Input!$B:$B, C$1, Input!$H:$H, \"=US-VA\")=0,\"\",\"X\")","v":""},0,{"$f":"IF(COUNTIFS(Input!$A:$A, Output!$B313, Input!$B:$B, E$1, Input!$H:$H, \"=US-VA\")=0,\"\",\"X\")","v":""},0,{"$f":"IF(COUNTIFS(Input!$A:$A, Output!$B313, Input!$B:$B, G$1, Input!$H:$H, \"=US-VA\")=0,\"\",\"X\")","v":""},0]
[313,"Black-billed Magpie",{"$f":"IF(COUNTIFS(Input!$A:$A, Output!$B314, Input!$B:$B, C$1, Input!$H:$H, \"=US-VA\")=0,\"\",\"X\")","v":""},0,{"$f":"IF(COUNTIFS(Input!$A:$A, Output!$B314, Input!$B:$B, E$1, Input!$H:$H, \"=US-VA\")=0,\"\",\"X\")","v":""},0,{"$f":"IF(COUNTIFS(Input!$A:$A, Output!$B314, Input!$B:$B, G$1, Input!$H:$H, \"=US-VA\")=0,\"\",\"X\")","v":""},0]
[314,"American Crow",{"$f":"IF(COUNTIFS(Input!$A:$A, Output!$B315, Input!$B:$B, C$1, Input!$H:$H, \"=US-VA\")=0,\"\",\"X\")","v":""},0,{"$f":"IF(COUNTIFS(Input!$A:$A, Output!$B315, Input!$B:$B, E$1, Input!$H:$H, \"=US-VA\")=0,\"\",\"X\")","v":""},0,{"$f":"IF(COUNTIFS(Input!$A:$A, Output!$B315, Input!$B:$B, G$1, Input!$H:$H, \"=US-VA\")=0,\"\",\"X\")","v":""},0]
[315,"Fish Crow",{"$f":"IF(COUNTIFS(Input!$A:$A, Output!$B316, Input!$B:$B, C$1, Input!$H:$H, \"=US-VA\")=0,\"\",\"X\")","v":""},0,{"$f":"IF(COUNTIFS(Input!$A:$A, Output!$B316, Input!$B:$B, E$1, Input!$H:$H, \"=US-VA\")=0,\"\",\"X\")","v":""},0,{"$f":"IF(COUNTIFS(Input!$A:$A, Output!$B316, Input!$B:$B, G$1, Input!$H:$H, \"=US-VA\")=0,\"\",\"X\")","v":""},0]
[316,"Common Raven",{"$f":"IF(COUNTIFS(Input!$A:$A, Output!$B317, Input!$B:$B, C$1, Input!$H:$H, \"=US-VA\")=0,\"\",\"X\")","v":""},0,{"$f":"IF(COUNTIFS(Input!$A:$A, Output!$B317, Input!$B:$B, E$1, Input!$H:$H, \"=US-VA\")=0,\"\",\"X\")","v":""},0,{"$f":"IF(COUNTIFS(Input!$A:$A, Output!$B317, Input!$B:$B, G$1, Input!$H:$H, \"=US-VA\")=0,\"\",\"X\")","v":""},0]
[317,"Horned Lark",{"$f":"IF(COUNTIFS(Input!$A:$A, Output!$B318, Input!$B:$B, C$1, Input!$H:$H, \"=US-VA\")=0,\"\",\"X\")","v":""},0,{"$f":"IF(COUNTIFS(Input!$A:$A, Output!$B318, Input!$B:$B, E$1, Input!$H:$H, \"=US-VA\")=0,\"\",\"X\")","v":""},0,{"$f":"IF(COUNTIFS(Input!$A:$A, Output!$B318, Input!$B:$B, G$1, Input!$H:$H, \"=US-VA\")=0,\"\",\"X\")","v":""},0]
[318,"Northern Rough-winged Swallow",{"$f":"IF(COUNTIFS(Input!$A:$A, Output!$B319, Input!$B:$B, C$1, Input!$H:$H, \"=US-VA\")=0,\"\",\"X\")","v":""},0,{"$f":"IF(COUNTIFS(Input!$A:$A, Output!$B319, Input!$B:$B, E$1, Input!$H:$H, \"=US-VA\")=0,\"\",\"X\")","v":""},0,{"$f":"IF(COUNTIFS(Input!$A:$A, Output!$B319, Input!$B:$B, G$1, Input!$H:$H, \"=US-VA\")=0,\"\",\"X\")","v":""},0]
[319,"Purple Martin",{"$f":"IF(COUNTIFS(Input!$A:$A, Output!$B320, Input!$B:$B, C$1, Input!$H:$H, \"=US-VA\")=0,\"\",\"X\")","v":""},0,{"$f":"IF(COUNTIFS(Input!$A:$A, Output!$B320, Input!$B:$B, E$1, Input!$H:$H, \"=US-VA\")=0,\"\",\"X\")","v":""},0,{"$f":"IF(COUNTIFS(Input!$A:$A, Output!$B320, Input!$B:$B, G$1, Input!$H:$H, \"=US-VA\")=0,\"\",\"X\")","v":""},0]
[320,"Brown-chested Martin",{"$f":"IF(COUNTIFS(Input!$A:$A, Output!$B321, Input!$B:$B, C$1, Input!$H:$H, \"=US-VA\")=0,\"\",\"X\")","v":""},0,{"$f":"IF(COUNTIFS(Input!$A:$A, Output!$B321, Input!$B:$B, E$1, Input!$H:$H, \"=US-VA\")=0,\"\",\"X\")","v":""},0,{"$f":"IF(COUNTIFS(Input!$A:$A, Output!$B321, Input!$B:$B, G$1, Input!$H:$H, \"=US-VA\")=0,\"\",\"X\")","v":""},0]
[321,"Tree Swallow",{"$f":"IF(COUNTIFS(Input!$A:$A, Output!$B322, Input!$B:$B, C$1, Input!$H:$H, \"=US-VA\")=0,\"\",\"X\")","v":""},{"$f":"IF(C322=\"X\",1,0)","v":0},{"$f":"IF(COUNTIFS(Input!$A:$A, Output!$B322, Input!$B:$B, E$1, Input!$H:$H, \"=US-VA\")=0,\"\",\"X\")","v":""},{"$f":"IF(E322=\"X\",1,0)","v":0},{"$f":"IF(COUNTIFS(Input!$A:$A, Output!$B322, Input!$B:$B, G$1, Input!$H:$H, \"=US-VA\")=0,\"\",\"X\")","v":""},{"$f":"IF(G322=\"X\",1,0)","v":0}]
[322,"Violet-green Swallow",{"$f":"IF(COUNTIFS(Input!$A:$A, Output!$B323, Input!$B:$B, C$1, Input!$H:$H, \"=US-VA\")=0,\"\",\"X\")","v":""},0,{"$f":"IF(COUNTIFS(Input!$A:$A, Output!$B323, Input!$B:$B, E$1, Input!$H:$H, \"=US-VA\")=0,\"\",\"X\")","v":""},0,{"$f":"IF(COUNTIFS(Input!$A:$A, Output!$B323, Input!$B:$B, G$1, Input!$H:$H, \"=US-VA\")=0,\"\",\"X\")","v":""},0]
[323,"Bank Swallow",{"$f":"IF(COUNTIFS(Input!$A:$A, Output!$B324, Input!$B:$B, C$1, Input!$H:$H, \"=US-VA\")=0,\"\",\"X\")","v":""},0,{"$f":"IF(COUNTIFS(Input!$A:$A, Output!$B324, Input!$B:$B, E$1, Input!$H:$H, \"=US-VA\")=0,\"\",\"X\")","v":""},0,{"$f":"IF(COUNTIFS(Input!$A:$A, Output!$B324, Input!$B:$B, G$1, Input!$H:$H, \"=US-VA\")=0,\"\",\"X\")","v":""},0]
[324,"Barn Swallow",{"$f":"IF(COUNTIFS(Input!$A:$A, Output!$B325, Input!$B:$B, C$1, Input!$H:$H, \"=US-VA\")=0,\"\",\"X\")","v":""},0,{"$f":"IF(COUNTIFS(Input!$A:$A, Output!$B325, Input!$B:$B, E$1, Input!$H:$H, \"=US-VA\")=0,\"\",\"X\")","v":""},0,{"$f":"IF(COUNTIFS(Input!$A:$A, Output!$B325, Input!$B:$B, G$1, Input!$H:$H, \"=US-VA\")=0,\"\",\"X\")","v":""},0]
[325,"Cliff Swallow",{"$f":"IF(COUNTIFS(Input!$A:$A, Output!$B326, Input!$B:$B, C$1, Input!$H:$H, \"=US-VA\")=0,\"\",\"X\")","v":""},0,{"$f":"IF(COUNTIFS(Input!$A:$A, Output!$B326, Input!$B:$B, E$1, Input!$H:$H, \"=US-VA\")=0,\"\",\"X\")","v":""},0,{"$f":"IF(COUNTIFS(Input!$A:$A, Output!$B326, Input!$B:$B, G$1, Input!$H:$H, \"=US-VA\")=0,\"\",\"X\")","v":""},0]
[326,"Cave Swallow",{"$f":"IF(COUNTIFS(Input!$A:$A, Output!$B327, Input!$B:$B, C$1, Input!$H:$H, \"=US-VA\")=0,\"\",\"X\")","v":""},0,{"$f":"IF(COUNTIFS(Input!$A:$A, Output!$B327, Input!$B:$B, E$1, Input!$H:$H, \"=US-VA\")=0,\"\",\"X\")","v":""},0,{"$f":"IF(COUNTIFS(Input!$A:$A, Output!$B327, Input!$B:$B, G$1, Input!$H:$H, \"=US-VA\")=0,\"\",\"X\")","v":""},0]
[327,"Carolina Chickadee",{"$f":"IF(COUNTIFS(Input!$A:$A, Output!$B328, Input!$B:$B, C$1, Input!$H:$H, \"=US-VA\")=0,\"\",\"X\")","v":""},0,{"$f":"IF(COUNTIFS(Input!$A:$A, Output!$B328, Input!$B:$B, E$1, Input!$H:$H, \"=US-VA\")=0,\"\",\"X\")","v":""},0,{"$f":"IF(COUNTIFS(Input!$A:$A, Output!$B328, Input!$B:$B, G$1, Input!$H:$H, \"=US-VA\")=0,\"\",\"X\")","v":""},0]
[328,"Black-capped Chickadee",{"$f":"IF(COUNTIFS(Input!$A:$A, Output!$B329, Input!$B:$B, C$1, Input!$H:$H, \"=US-VA\")=0,\"\",\"X\")","v":""},0,{"$f":"IF(COUNTIFS(Input!$A:$A, Output!$B329, Input!$B:$B, E$1, Input!$H:$H, \"=US-VA\")=0,\"\",\"X\")","v":""},0,{"$f":"IF(COUNTIFS(Input!$A:$A, Output!$B329, Input!$B:$B, G$1, Input!$H:$H, \"=US-VA\")=0,\"\",\"X\")","v":""},0]
[329,"Boreal Chickadee",{"$f":"IF(COUNTIFS(Input!$A:$A, Output!$B330, Input!$B:$B, C$1, Input!$H:$H, \"=US-VA\")=0,\"\",\"X\")","v":""},0,{"$f":"IF(COUNTIFS(Input!$A:$A, Output!$B330, Input!$B:$B, E$1, Input!$H:$H, \"=US-VA\")=0,\"\",\"X\")","v":""},0,{"$f":"IF(COUNTIFS(Input!$A:$A, Output!$B330, Input!$B:$B, G$1, Input!$H:$H, \"=US-VA\")=0,\"\",\"X\")","v":""},0]
[330,"Tufted Titmouse",{"$f":"IF(COUNTIFS(Input!$A:$A, Output!$B331, Input!$B:$B, C$1, Input!$H:$H, \"=US-VA\")=0,\"\",\"X\")","v":""},0,{"$f":"IF(COUNTIFS(Input!$A:$A, Output!$B331, Input!$B:$B, E$1, Input!$H:$H, \"=US-VA\")=0,\"\",\"X\")","v":""},0,{"$f":"IF(COUNTIFS(Input!$A:$A, Output!$B331, Input!$B:$B, G$1, Input!$H:$H, \"=US-VA\")=0,\"\",\"X\")","v":""},0]
[331,"Red-breasted Nuthatch",{"$f":"IF(COUNTIFS(Input!$A:$A, Output!$B332, Input!$B:$B, C$1, Input!$H:$H, \"=US-VA\")=0,\"\",\"X\")","v":""},0,{"$f":"IF(COUNTIFS(Input!$A:$A, Output!$B332, Input!$B:$B, E$1, Input!$H:$H, \"=US-VA\")=0,\"\",\"X\")","v":""},0,{"$f":"IF(COUNTIFS(Input!$A:$A, Output!$B332, Input!$B:$B, G$1, Input!$H:$H, \"=US-VA\")=0,\"\",\"X\")","v":""},0]
[332,"White-breasted Nuthatch",{"$f":"IF(COUNTIFS(Input!$A:$A, Output!$B333, Input!$B:$B, C$1, Input!$H:$H, \"=US-VA\")=0,\"\",\"X\")","v":""},0,{"$f":"IF(COUNTIFS(Input!$A:$A, Output!$B333, Input!$B:$B, E$1, Input!$H:$H, \"=US-VA\")=0,\"\",\"X\")","v":""},0,{"$f":"IF(COUNTIFS(Input!$A:$A, Output!$B333, Input!$B:$B, G$1, Input!$H:$H, \"=US-VA\")=0,\"\",\"X\")","v":""},0]
[333,"Brown-headed Nuthatch",{"$f":"IF(COUNTIFS(Input!$A:$A, Output!$B334, Input!$B:$B, C$1, Input!$H:$H, \"=US-VA\")=0,\"\",\"X\")","v":""},0,{"$f":"IF(COUNTIFS(Input!$A:$A, Output!$B334, Input!$B:$B, E$1, Input!$H:$H, \"=US-VA\")=0,\"\",\"X\")","v":""},0,{"$f":"IF(COUNTIFS(Input!$A:$A, Output!$B334, Input!$B:$B, G$1, Input!$H:$H, \"=US-VA\")=0,\"\",\"X\")","v":""},0]
[334,"Brown Creeper",{"$f":"IF(COUNTIFS(Input!$A:$A, Output!$B335, Input!$B:$B, C$1, Input!$H:$H, \"=US-VA\")=0,\"\",\"X\")","v":""},0,{"$f":"IF(COUNTIFS(Input!$A:$A, Output!$B335, Input!$B:$B, E$1, Input!$H:$H, \"=US-VA\")=0,\"\",\"X\")","v":""},0,{"$f":"IF(COUNTIFS(Input!$A:$A, Output!$B335, Input!$B:$B, G$1, Input!$H:$H, \"=US-VA\")=0,\"\",\"X\")","v":""},0]
[335,"Rock Wren",{"$f":"IF(COUNTIFS(Input!$A:$A, Output!$B336, Input!$B:$B, C$1, Input!$H:$H, \"=US-VA\")=0,\"\",\"X\")","v":""},0,{"$f":"IF(COUNTIFS(Input!$A:$A, Output!$B336, Input!$B:$B, E$1, Input!$H:$H, \"=US-VA\")=0,\"\",\"X\")","v":""},0,{"$f":"IF(COUNTIFS(Input!$A:$A, Output!$B336, Input!$B:$B, G$1, Input!$H:$H, \"=US-VA\")=0,\"\",\"X\")","v":""},0]
[336,"House Wren",{"$f":"IF(COUNTIFS(Input!$A:$A, Output!$B337, Input!$B:$B, C$1, Input!$H:$H, \"=US-VA\")=0,\"\",\"X\")","v":""},0,{"$f":"IF(COUNTIFS(Input!$A:$A, Output!$B337, Input!$B:$B, E$1, Input!$H:$H, \"=US-VA\")=0,\"\",\"X\")","v":""},0,{"$f":"IF(COUNTIFS(Input!$A:$A, Output!$B337, Input!$B:$B, G$1, Input!$H:$H, \"=US-VA\")=0,\"\",\"X\")","v":""},0]
[337,"Winter Wren",{"$f":"IF(COUNTIFS(Input!$A:$A, Output!$B338, Input!$B:$B, C$1, Input!$H:$H, \"=US-VA\")=0,\"\",\"X\")","v":""},0,{"$f":"IF(COUNTIFS(Input!$A:$A, Output!$B338, Input!$B:$B, E$1, Input!$H:$H, \"=US-VA\")=0,\"\",\"X\")","v":""},0,{"$f":"IF(COUNTIFS(Input!$A:$A, Output!$B338, Input!$B:$B, G$1, Input!$H:$H, \"=US-VA\")=0,\"\",\"X\")","v":""},0]
[338,"Sedge Wren",{"$f":"IF(COUNTIFS(Input!$A:$A, Output!$B339, Input!$B:$B, C$1, Input!$H:$H, \"=US-VA\")=0,\"\",\"X\")","v":""},0,{"$f":"IF(COUNTIFS(Input!$A:$A, Output!$B339, Input!$B:$B, E$1, Input!$H:$H, \"=US-VA\")=0,\"\",\"X\")","v":""},0,{"$f":"IF(COUNTIFS(Input!$A:$A, Output!$B339, Input!$B:$B, G$1, Input!$H:$H, \"=US-VA\")=0,\"\",\"X\")","v":""},0]
[339,"Marsh Wren",{"$f":"IF(COUNTIFS(Input!$A:$A, Output!$B340, Input!$B:$B, C$1, Input!$H:$H, \"=US-VA\")=0,\"\",\"X\")","v":""},0,{"$f":"IF(COUNTIFS(Input!$A:$A, Output!$B340, Input!$B:$B, E$1, Input!$H:$H, \"=US-VA\")=0,\"\",\"X\")","v":""},0,{"$f":"IF(COUNTIFS(Input!$A:$A, Output!$B340, Input!$B:$B, G$1, Input!$H:$H, \"=US-VA\")=0,\"\",\"X\")","v":""},0]
[340,"Carolina Wren",{"$f":"IF(COUNTIFS(Input!$A:$A, Output!$B341, Input!$B:$B, C$1, Input!$H:$H, \"=US-VA\")=0,\"\",\"X\")","v":""},0,{"$f":"IF(COUNTIFS(Input!$A:$A, Output!$B341, Input!$B:$B, E$1, Input!$H:$H, \"=US-VA\")=0,\"\",\"X\")","v":""},0,{"$f":"IF(COUNTIFS(Input!$A:$A, Output!$B341, Input!$B:$B, G$1, Input!$H:$H, \"=US-VA\")=0,\"\",\"X\")","v":""},0]
[341,"Bewick's Wren",{"$f":"IF(COUNTIFS(Input!$A:$A, Output!$B342, Input!$B:$B, C$1, Input!$H:$H, \"=US-VA\")=0,\"\",\"X\")","v":""},0,{"$f":"IF(COUNTIFS(Input!$A:$A, Output!$B342, Input!$B:$B, E$1, Input!$H:$H, \"=US-VA\")=0,\"\",\"X\")","v":""},0,{"$f":"IF(COUNTIFS(Input!$A:$A, Output!$B342, Input!$B:$B, G$1, Input!$H:$H, \"=US-VA\")=0,\"\",\"X\")","v":""},0]
[342,"Blue-gray Gnatcatcher",{"$f":"IF(COUNTIFS(Input!$A:$A, Output!$B343, Input!$B:$B, C$1, Input!$H:$H, \"=US-VA\")=0,\"\",\"X\")","v":""},0,{"$f":"IF(COUNTIFS(Input!$A:$A, Output!$B343, Input!$B:$B, E$1, Input!$H:$H, \"=US-VA\")=0,\"\",\"X\")","v":""},0,{"$f":"IF(COUNTIFS(Input!$A:$A, Output!$B343, Input!$B:$B, G$1, Input!$H:$H, \"=US-VA\")=0,\"\",\"X\")","v":""},0]
[343,"Golden-crowned Kinglet",{"$f":"IF(COUNTIFS(Input!$A:$A, Output!$B344, Input!$B:$B, C$1, Input!$H:$H, \"=US-VA\")=0,\"\",\"X\")","v":""},0,{"$f":"IF(COUNTIFS(Input!$A:$A, Output!$B344, Input!$B:$B, E$1, Input!$H:$H, \"=US-VA\")=0,\"\",\"X\")","v":""},0,{"$f":"IF(COUNTIFS(Input!$A:$A, Output!$B344, Input!$B:$B, G$1, Input!$H:$H, \"=US-VA\")=0,\"\",\"X\")","v":""},0]
[344,"Ruby-crowned Kinglet",{"$f":"IF(COUNTIFS(Input!$A:$A, Output!$B345, Input!$B:$B, C$1, Input!$H:$H, \"=US-VA\")=0,\"\",\"X\")","v":""},0,{"$f":"IF(COUNTIFS(Input!$A:$A, Output!$B345, Input!$B:$B, E$1, Input!$H:$H, \"=US-VA\")=0,\"\",\"X\")","v":""},0,{"$f":"IF(COUNTIFS(Input!$A:$A, Output!$B345, Input!$B:$B, G$1, Input!$H:$H, \"=US-VA\")=0,\"\",\"X\")","v":""},0]
[345,"Northern Wheatear",{"$f":"IF(COUNTIFS(Input!$A:$A, Output!$B346, Input!$B:$B, C$1, Input!$H:$H, \"=US-VA\")=0,\"\",\"X\")","v":""},0,{"$f":"IF(COUNTIFS(Input!$A:$A, Output!$B346, Input!$B:$B, E$1, Input!$H:$H, \"=US-VA\")=0,\"\",\"X\")","v":""},0,{"$f":"IF(COUNTIFS(Input!$A:$A, Output!$B346, Input!$B:$B, G$1, Input!$H:$H, \"=US-VA\")=0,\"\",\"X\")","v":""},0]
[346,"Eastern Bluebird",{"$f":"IF(COUNTIFS(Input!$A:$A, Output!$B347, Input!$B:$B, C$1, Input!$H:$H, \"=US-VA\")=0,\"\",\"X\")","v":""},0,{"$f":"IF(COUNTIFS(Input!$A:$A, Output!$B347, Input!$B:$B, E$1, Input!$H:$H, \"=US-VA\")=0,\"\",\"X\")","v":""},0,{"$f":"IF(COUNTIFS(Input!$A:$A, Output!$B347, Input!$B:$B, G$1, Input!$H:$H, \"=US-VA\")=0,\"\",\"X\")","v":""},0]
[347,"Mountain Bluebird",{"$f":"IF(COUNTIFS(Input!$A:$A, Output!$B348, Input!$B:$B, C$1, Input!$H:$H, \"=US-VA\")=0,\"\",\"X\")","v":""},0,{"$f":"IF(COUNTIFS(Input!$A:$A, Output!$B348, Input!$B:$B, E$1, Input!$H:$H, \"=US-VA\")=0,\"\",\"X\")","v":""},0,{"$f":"IF(COUNTIFS(Input!$A:$A, Output!$B348, Input!$B:$B, G$1, Input!$H:$H, \"=US-VA\")=0,\"\",\"X\")","v":""},0]
[348,"Townsend's Solitaire",{"$f":"IF(COUNTIFS(Input!$A:$A, Output!$B349, Input!$B:$B, C$1, Input!$H:$H, \"=US-VA\")=0,\"\",\"X\")","v":""},0,{"$f":"IF(COUNTIFS(Input!$A:$A, Output!$B349, Input!$B:$B, E$1, Input!$H:$H, \"=US-VA\")=0,\"\",\"X\")","v":""},0,{"$f":"IF(COUNTIFS(Input!$A:$A, Output!$B349, Input!$B:$B, G$1, Input!$H:$H, \"=US-VA\")=0,\"\",\"X\")","v":""},0]
[349,"Veery",{"$f":"IF(COUNTIFS(Input!$A:$A, Output!$B350, Input!$B:$B, C$1, Input!$H:$H, \"=US-VA\")=0,\"\",\"X\")","v":""},0,{"$f":"IF(COUNTIFS(Input!$A:$A, Output!$B350, Input!$B:$B, E$1, Input!$H:$H, \"=US-VA\")=0,\"\",\"X\")","v":""},0,{"$f":"IF(COUNTIFS(Input!$A:$A, Output!$B350, Input!$B:$B, G$1, Input!$H:$H, \"=US-VA\")=0,\"\",\"X\")","v":""},0]
[350,"Gray-cheeked Thrush",{"$f":"IF(COUNTIFS(Input!$A:$A, Output!$B351, Input!$B:$B, C$1, Input!$H:$H, \"=US-VA\")=0,\"\",\"X\")","v":""},0,{"$f":"IF(COUNTIFS(Input!$A:$A, Output!$B351, Input!$B:$B, E$1, Input!$H:$H, \"=US-VA\")=0,\"\",\"X\")","v":""},0,{"$f":"IF(COUNTIFS(Input!$A:$A, Output!$B351, Input!$B:$B, G$1, Input!$H:$H, \"=US-VA\")=0,\"\",\"X\")","v":""},0]
[351,"Bicknell's Thrush",{"$f":"IF(COUNTIFS(Input!$A:$A, Output!$B352, Input!$B:$B, C$1, Input!$H:$H, \"=US-VA\")=0,\"\",\"X\")","v":""},0,{"$f":"IF(COUNTIFS(Input!$A:$A, Output!$B352, Input!$B:$B, E$1, Input!$H:$H, \"=US-VA\")=0,\"\",\"X\")","v":""},0,{"$f":"IF(COUNTIFS(Input!$A:$A, Output!$B352, Input!$B:$B, G$1, Input!$H:$H, \"=US-VA\")=0,\"\",\"X\")","v":""},0]
[352,"Swainson's Thrush",{"$f":"IF(COUNTIFS(Input!$A:$A, Output!$B353, Input!$B:$B, C$1, Input!$H:$H, \"=US-VA\")=0,\"\",\"X\")","v":""},0,{"$f":"IF(COUNTIFS(Input!$A:$A, Output!$B353, Input!$B:$B, E$1, Input!$H:$H, \"=US-VA\")=0,\"\",\"X\")","v":""},0,{"$f":"IF(COUNTIFS(Input!$A:$A, Output!$B353, Input!$B:$B, G$1, Input!$H:$H, \"=US-VA\")=0,\"\",\"X\")","v":""},0]
[353,"Hermit Thrush",{"$f":"IF(COUNTIFS(Input!$A:$A, Output!$B354, Input!$B:$B, C$1, Input!$H:$H, \"=US-VA\")=0,\"\",\"X\")","v":""},0,{"$f":"IF(COUNTIFS(Input!$A:$A, Output!$B354, Input!$B:$B, E$1, Input!$H:$H, \"=US-VA\")=0,\"\",\"X\")","v":""},0,{"$f":"IF(COUNTIFS(Input!$A:$A, Output!$B354, Input!$B:$B, G$1, Input!$H:$H, \"=US-VA\")=0,\"\",\"X\")","v":""},0]
[354,"Wood Thrush",{"$f":"IF(COUNTIFS(Input!$A:$A, Output!$B355, Input!$B:$B, C$1, Input!$H:$H, \"=US-VA\")=0,\"\",\"X\")","v":""},0,{"$f":"IF(COUNTIFS(Input!$A:$A, Output!$B355, Input!$B:$B, E$1, Input!$H:$H, \"=US-VA\")=0,\"\",\"X\")","v":""},0,{"$f":"IF(COUNTIFS(Input!$A:$A, Output!$B355, Input!$B:$B, G$1, Input!$H:$H, \"=US-VA\")=0,\"\",\"X\")","v":""},0]
[355,"American Robin",{"$f":"IF(COUNTIFS(Input!$A:$A, Output!$B356, Input!$B:$B, C$1, Input!$H:$H, \"=US-VA\")=0,\"\",\"X\")","v":""},0,{"$f":"IF(COUNTIFS(Input!$A:$A, Output!$B356, Input!$B:$B, E$1, Input!$H:$H, \"=US-VA\")=0,\"\",\"X\")","v":""},0,{"$f":"IF(COUNTIFS(Input!$A:$A, Output!$B356, Input!$B:$B, G$1, Input!$H:$H, \"=US-VA\")=0,\"\",\"X\")","v":""},0]
[356,"Varied Thrush",{"$f":"IF(COUNTIFS(Input!$A:$A, Output!$B357, Input!$B:$B, C$1, Input!$H:$H, \"=US-VA\")=0,\"\",\"X\")","v":""},0,{"$f":"IF(COUNTIFS(Input!$A:$A, Output!$B357, Input!$B:$B, E$1, Input!$H:$H, \"=US-VA\")=0,\"\",\"X\")","v":""},0,{"$f":"IF(COUNTIFS(Input!$A:$A, Output!$B357, Input!$B:$B, G$1, Input!$H:$H, \"=US-VA\")=0,\"\",\"X\")","v":""},0]
[357,"Gray Catbird",{"$f":"IF(COUNTIFS(Input!$A:$A, Output!$B358, Input!$B:$B, C$1, Input!$H:$H, \"=US-VA\")=0,\"\",\"X\")","v":""},0,{"$f":"IF(COUNTIFS(Input!$A:$A, Output!$B358, Input!$B:$B, E$1, Input!$H:$H, \"=US-VA\")=0,\"\",\"X\")","v":""},0,{"$f":"IF(COUNTIFS(Input!$A:$A, Output!$B358, Input!$B:$B, G$1, Input!$H:$H, \"=US-VA\")=0,\"\",\"X\")","v":""},0]
[358,"Brown Thrasher",{"$f":"IF(COUNTIFS(Input!$A:$A, Output!$B359, Input!$B:$B, C$1, Input!$H:$H, \"=US-VA\")=0,\"\",\"X\")","v":""},0,{"$f":"IF(COUNTIFS(Input!$A:$A, Output!$B359, Input!$B:$B, E$1, Input!$H:$H, \"=US-VA\")=0,\"\",\"X\")","v":""},0,{"$f":"IF(COUNTIFS(Input!$A:$A, Output!$B359, Input!$B:$B, G$1, Input!$H:$H, \"=US-VA\")=0,\"\",\"X\")","v":""},0]
[359,"Sage Thrasher",{"$f":"IF(COUNTIFS(Input!$A:$A, Output!$B360, Input!$B:$B, C$1, Input!$H:$H, \"=US-VA\")=0,\"\",\"X\")","v":""},0,{"$f":"IF(COUNTIFS(Input!$A:$A, Output!$B360, Input!$B:$B, E$1, Input!$H:$H, \"=US-VA\")=0,\"\",\"X\")","v":""},0,{"$f":"IF(COUNTIFS(Input!$A:$A, Output!$B360, Input!$B:$B, G$1, Input!$H:$H, \"=US-VA\")=0,\"\",\"X\")","v":""},0]
[360,"Northern Mockingbird",{"$f":"IF(COUNTIFS(Input!$A:$A, Output!$B361, Input!$B:$B, C$1, Input!$H:$H, \"=US-VA\")=0,\"\",\"X\")","v":""},0,{"$f":"IF(COUNTIFS(Input!$A:$A, Output!$B361, Input!$B:$B, E$1, Input!$H:$H, \"=US-VA\")=0,\"\",\"X\")","v":""},0,{"$f":"IF(COUNTIFS(Input!$A:$A, Output!$B361, Input!$B:$B, G$1, Input!$H:$H, \"=US-VA\")=0,\"\",\"X\")","v":""},0]
[361,"European Starling",{"$f":"IF(COUNTIFS(Input!$A:$A, Output!$B362, Input!$B:$B, C$1, Input!$H:$H, \"=US-VA\")=0,\"\",\"X\")","v":""},0,{"$f":"IF(COUNTIFS(Input!$A:$A, Output!$B362, Input!$B:$B, E$1, Input!$H:$H, \"=US-VA\")=0,\"\",\"X\")","v":""},0,{"$f":"IF(COUNTIFS(Input!$A:$A, Output!$B362, Input!$B:$B, G$1, Input!$H:$H, \"=US-VA\")=0,\"\",\"X\")","v":""},0]
[362,"American Pipit",{"$f":"IF(COUNTIFS(Input!$A:$A, Output!$B363, Input!$B:$B, C$1, Input!$H:$H, \"=US-VA\")=0,\"\",\"X\")","v":""},0,{"$f":"IF(COUNTIFS(Input!$A:$A, Output!$B363, Input!$B:$B, E$1, Input!$H:$H, \"=US-VA\")=0,\"\",\"X\")","v":""},0,{"$f":"IF(COUNTIFS(Input!$A:$A, Output!$B363, Input!$B:$B, G$1, Input!$H:$H, \"=US-VA\")=0,\"\",\"X\")","v":""},0]
[363,"Sprague's Pipit",{"$f":"IF(COUNTIFS(Input!$A:$A, Output!$B364, Input!$B:$B, C$1, Input!$H:$H, \"=US-VA\")=0,\"\",\"X\")","v":""},0,{"$f":"IF(COUNTIFS(Input!$A:$A, Output!$B364, Input!$B:$B, E$1, Input!$H:$H, \"=US-VA\")=0,\"\",\"X\")","v":""},0,{"$f":"IF(COUNTIFS(Input!$A:$A, Output!$B364, Input!$B:$B, G$1, Input!$H:$H, \"=US-VA\")=0,\"\",\"X\")","v":""},0]
[364,"Bohemian Waxwing",{"$f":"IF(COUNTIFS(Input!$A:$A, Output!$B365, Input!$B:$B, C$1, Input!$H:$H, \"=US-VA\")=0,\"\",\"X\")","v":""},0,{"$f":"IF(COUNTIFS(Input!$A:$A, Output!$B365, Input!$B:$B, E$1, Input!$H:$H, \"=US-VA\")=0,\"\",\"X\")","v":""},0,{"$f":"IF(COUNTIFS(Input!$A:$A, Output!$B365, Input!$B:$B, G$1, Input!$H:$H, \"=US-VA\")=0,\"\",\"X\")","v":""},0]
[365,"Cedar Waxwing",{"$f":"IF(COUNTIFS(Input!$A:$A, Output!$B366, Input!$B:$B, C$1, Input!$H:$H, \"=US-VA\")=0,\"\",\"X\")","v":""},0,{"$f":"IF(COUNTIFS(Input!$A:$A, Output!$B366, Input!$B:$B, E$1, Input!$H:$H, \"=US-VA\")=0,\"\",\"X\")","v":""},0,{"$f":"IF(COUNTIFS(Input!$A:$A, Output!$B366, Input!$B:$B, G$1, Input!$H:$H, \"=US-VA\")=0,\"\",\"X\")","v":""},0]
[366,"Lapland Longspur",{"$f":"IF(COUNTIFS(Input!$A:$A, Output!$B367, Input!$B:$B, C$1, Input!$H:$H, \"=US-VA\")=0,\"\",\"X\")","v":""},0,{"$f":"IF(COUNTIFS(Input!$A:$A, Output!$B367, Input!$B:$B, E$1, Input!$H:$H, \"=US-VA\")=0,\"\",\"X\")","v":""},0,{"$f":"IF(COUNTIFS(Input!$A:$A, Output!$B367, Input!$B:$B, G$1, Input!$H:$H, \"=US-VA\")=0,\"\",\"X\")","v":""},0]
[367,"Chestnut-collared Longspur",{"$f":"IF(COUNTIFS(Input!$A:$A, Output!$B368, Input!$B:$B, C$1, Input!$H:$H, \"=US-VA\")=0,\"\",\"X\")","v":""},0,{"$f":"IF(COUNTIFS(Input!$A:$A, Output!$B368, Input!$B:$B, E$1, Input!$H:$H, \"=US-VA\")=0,\"\",\"X\")","v":""},0,{"$f":"IF(COUNTIFS(Input!$A:$A, Output!$B368, Input!$B:$B, G$1, Input!$H:$H, \"=US-VA\")=0,\"\",\"X\")","v":""},0]
[368,"Smith's Longspur",{"$f":"IF(COUNTIFS(Input!$A:$A, Output!$B369, Input!$B:$B, C$1, Input!$H:$H, \"=US-VA\")=0,\"\",\"X\")","v":""},0,{"$f":"IF(COUNTIFS(Input!$A:$A, Output!$B369, Input!$B:$B, E$1, Input!$H:$H, \"=US-VA\")=0,\"\",\"X\")","v":""},0,{"$f":"IF(COUNTIFS(Input!$A:$A, Output!$B369, Input!$B:$B, G$1, Input!$H:$H, \"=US-VA\")=0,\"\",\"X\")","v":""},0]
[369,"Snow Bunting",{"$f":"IF(COUNTIFS(Input!$A:$A, Output!$B370, Input!$B:$B, C$1, Input!$H:$H, \"=US-VA\")=0,\"\",\"X\")","v":""},0,{"$f":"IF(COUNTIFS(Input!$A:$A, Output!$B370, Input!$B:$B, E$1, Input!$H:$H, \"=US-VA\")=0,\"\",\"X\")","v":""},0,{"$f":"IF(COUNTIFS(Input!$A:$A, Output!$B370, Input!$B:$B, G$1, Input!$H:$H, \"=US-VA\")=0,\"\",\"X\")","v":""},0]
[370,"Ovenbird",{"$f":"IF(COUNTIFS(Input!$A:$A, Output!$B371, Input!$B:$B, C$1, Input!$H:$H, \"=US-VA\")=0,\"\",\"X\")","v":""},0,{"$f":"IF(COUNTIFS(Input!$A:$A, Output!$B371, Input!$B:$B, E$1, Input!$H:$H, \"=US-VA\")=0,\"\",\"X\")","v":""},0,{"$f":"IF(COUNTIFS(Input!$A:$A, Output!$B371, Input!$B:$B, G$1, Input!$H:$H, \"=US-VA\")=0,\"\",\"X\")","v":""},0]
[371,"Worm-eating Warbler",{"$f":"IF(COUNTIFS(Input!$A:$A, Output!$B372, Input!$B:$B, C$1, Input!$H:$H, \"=US-VA\")=0,\"\",\"X\")","v":""},0,{"$f":"IF(COUNTIFS(Input!$A:$A, Output!$B372, Input!$B:$B, E$1, Input!$H:$H, \"=US-VA\")=0,\"\",\"X\")","v":""},0,{"$f":"IF(COUNTIFS(Input!$A:$A, Output!$B372, Input!$B:$B, G$1, Input!$H:$H, \"=US-VA\")=0,\"\",\"X\")","v":""},0]
[372,"Louisiana Waterthrush",{"$f":"IF(COUNTIFS(Input!$A:$A, Output!$B373, Input!$B:$B, C$1, Input!$H:$H, \"=US-VA\")=0,\"\",\"X\")","v":""},0,{"$f":"IF(COUNTIFS(Input!$A:$A, Output!$B373, Input!$B:$B, E$1, Input!$H:$H, \"=US-VA\")=0,\"\",\"X\")","v":""},0,{"$f":"IF(COUNTIFS(Input!$A:$A, Output!$B373, Input!$B:$B, G$1, Input!$H:$H, \"=US-VA\")=0,\"\",\"X\")","v":""},0]
[373,"Northern Waterthrush",{"$f":"IF(COUNTIFS(Input!$A:$A, Output!$B374, Input!$B:$B, C$1, Input!$H:$H, \"=US-VA\")=0,\"\",\"X\")","v":""},0,{"$f":"IF(COUNTIFS(Input!$A:$A, Output!$B374, Input!$B:$B, E$1, Input!$H:$H, \"=US-VA\")=0,\"\",\"X\")","v":""},0,{"$f":"IF(COUNTIFS(Input!$A:$A, Output!$B374, Input!$B:$B, G$1, Input!$H:$H, \"=US-VA\")=0,\"\",\"X\")","v":""},0]
[374,"Bachman's Warbler",{"$f":"IF(COUNTIFS(Input!$A:$A, Output!$B375, Input!$B:$B, C$1, Input!$H:$H, \"=US-VA\")=0,\"\",\"X\")","v":""},0,{"$f":"IF(COUNTIFS(Input!$A:$A, Output!$B375, Input!$B:$B, E$1, Input!$H:$H, \"=US-VA\")=0,\"\",\"X\")","v":""},0,{"$f":"IF(COUNTIFS(Input!$A:$A, Output!$B375, Input!$B:$B, G$1, Input!$H:$H, \"=US-VA\")=0,\"\",\"X\")","v":""},0]
[375,"Golden-winged Warbler",{"$f":"IF(COUNTIFS(Input!$A:$A, Output!$B376, Input!$B:$B, C$1, Input!$H:$H, \"=US-VA\")=0,\"\",\"X\")","v":""},0,{"$f":"IF(COUNTIFS(Input!$A:$A, Output!$B376, Input!$B:$B, E$1, Input!$H:$H, \"=US-VA\")=0,\"\",\"X\")","v":""},0,{"$f":"IF(COUNTIFS(Input!$A:$A, Output!$B376, Input!$B:$B, G$1, Input!$H:$H, \"=US-VA\")=0,\"\",\"X\")","v":""},0]
[376,"Blue-winged Warbler",{"$f":"IF(COUNTIFS(Input!$A:$A, Output!$B377, Input!$B:$B, C$1, Input!$H:$H, \"=US-VA\")=0,\"\",\"X\")","v":""},0,{"$f":"IF(COUNTIFS(Input!$A:$A, Output!$B377, Input!$B:$B, E$1, Input!$H:$H, \"=US-VA\")=0,\"\",\"X\")","v":""},0,{"$f":"IF(COUNTIFS(Input!$A:$A, Output!$B377, Input!$B:$B, G$1, Input!$H:$H, \"=US-VA\")=0,\"\",\"X\")","v":""},0]
[377,"Black-and-white Warbler",{"$f":"IF(COUNTIFS(Input!$A:$A, Output!$B378, Input!$B:$B, C$1, Input!$H:$H, \"=US-VA\")=0,\"\",\"X\")","v":""},0,{"$f":"IF(COUNTIFS(Input!$A:$A, Output!$B378, Input!$B:$B, E$1, Input!$H:$H, \"=US-VA\")=0,\"\",\"X\")","v":""},0,{"$f":"IF(COUNTIFS(Input!$A:$A, Output!$B378, Input!$B:$B, G$1, Input!$H:$H, \"=US-VA\")=0,\"\",\"X\")","v":""},0]
[378,"Prothonotary Warbler",{"$f":"IF(COUNTIFS(Input!$A:$A, Output!$B379, Input!$B:$B, C$1, Input!$H:$H, \"=US-VA\")=0,\"\",\"X\")","v":""},0,{"$f":"IF(COUNTIFS(Input!$A:$A, Output!$B379, Input!$B:$B, E$1, Input!$H:$H, \"=US-VA\")=0,\"\",\"X\")","v":""},0,{"$f":"IF(COUNTIFS(Input!$A:$A, Output!$B379, Input!$B:$B, G$1, Input!$H:$H, \"=US-VA\")=0,\"\",\"X\")","v":""},0]
[379,"Swainson's Warbler",{"$f":"IF(COUNTIFS(Input!$A:$A, Output!$B380, Input!$B:$B, C$1, Input!$H:$H, \"=US-VA\")=0,\"\",\"X\")","v":""},0,{"$f":"IF(COUNTIFS(Input!$A:$A, Output!$B380, Input!$B:$B, E$1, Input!$H:$H, \"=US-VA\")=0,\"\",\"X\")","v":""},0,{"$f":"IF(COUNTIFS(Input!$A:$A, Output!$B380, Input!$B:$B, G$1, Input!$H:$H, \"=US-VA\")=0,\"\",\"X\")","v":""},0]
[380,"Tennessee Warbler",{"$f":"IF(COUNTIFS(Input!$A:$A, Output!$B381, Input!$B:$B, C$1, Input!$H:$H, \"=US-VA\")=0,\"\",\"X\")","v":""},0,{"$f":"IF(COUNTIFS(Input!$A:$A, Output!$B381, Input!$B:$B, E$1, Input!$H:$H, \"=US-VA\")=0,\"\",\"X\")","v":""},0,{"$f":"IF(COUNTIFS(Input!$A:$A, Output!$B381, Input!$B:$B, G$1, Input!$H:$H, \"=US-VA\")=0,\"\",\"X\")","v":""},0]
[381,"Orange-crowned Warbler",{"$f":"IF(COUNTIFS(Input!$A:$A, Output!$B382, Input!$B:$B, C$1, Input!$H:$H, \"=US-VA\")=0,\"\",\"X\")","v":""},0,{"$f":"IF(COUNTIFS(Input!$A:$A, Output!$B382, Input!$B:$B, E$1, Input!$H:$H, \"=US-VA\")=0,\"\",\"X\")","v":""},0,{"$f":"IF(COUNTIFS(Input!$A:$A, Output!$B382, Input!$B:$B, G$1, Input!$H:$H, \"=US-VA\")=0,\"\",\"X\")","v":""},0]
[382,"Lucy's Warbler",{"$f":"IF(COUNTIFS(Input!$A:$A, Output!$B383, Input!$B:$B, C$1, Input!$H:$H, \"=US-VA\")=0,\"\",\"X\")","v":""},0,{"$f":"IF(COUNTIFS(Input!$A:$A, Output!$B383, Input!$B:$B, E$1, Input!$H:$H, \"=US-VA\")=0,\"\",\"X\")","v":""},0,{"$f":"IF(COUNTIFS(Input!$A:$A, Output!$B383, Input!$B:$B, G$1, Input!$H:$H, \"=US-VA\")=0,\"\",\"X\")","v":""},0]
[383,"Nashville Warbler",{"$f":"IF(COUNTIFS(Input!$A:$A, Output!$B384, Input!$B:$B, C$1, Input!$H:$H, \"=US-VA\")=0,\"\",\"X\")","v":""},0,{"$f":"IF(COUNTIFS(Input!$A:$A, Output!$B384, Input!$B:$B, E$1, Input!$H:$H, \"=US-VA\")=0,\"\",\"X\")","v":""},0,{"$f":"IF(COUNTIFS(Input!$A:$A, Output!$B384, Input!$B:$B, G$1, Input!$H:$H, \"=US-VA\")=0,\"\",\"X\")","v":""},0]
[384,"Connecticut Warbler",{"$f":"IF(COUNTIFS(Input!$A:$A, Output!$B385, Input!$B:$B, C$1, Input!$H:$H, \"=US-VA\")=0,\"\",\"X\")","v":""},0,{"$f":"IF(COUNTIFS(Input!$A:$A, Output!$B385, Input!$B:$B, E$1, Input!$H:$H, \"=US-VA\")=0,\"\",\"X\")","v":""},0,{"$f":"IF(COUNTIFS(Input!$A:$A, Output!$B385, Input!$B:$B, G$1, Input!$H:$H, \"=US-VA\")=0,\"\",\"X\")","v":""},0]
[385,"MacGillivray's Warbler",{"$f":"IF(COUNTIFS(Input!$A:$A, Output!$B386, Input!$B:$B, C$1, Input!$H:$H, \"=US-VA\")=0,\"\",\"X\")","v":""},{"$f":"IF(C386=\"X\",1,0)","v":0},{"$f":"IF(COUNTIFS(Input!$A:$A, Output!$B386, Input!$B:$B, E$1, Input!$H:$H, \"=US-VA\")=0,\"\",\"X\")","v":""},{"$f":"IF(E386=\"X\",1,0)","v":0},{"$f":"IF(COUNTIFS(Input!$A:$A, Output!$B386, Input!$B:$B, G$1, Input!$H:$H, \"=US-VA\")=0,\"\",\"X\")","v":""},{"$f":"IF(G386=\"X\",1,0)","v":0}]
[386,"Mourning Warbler",{"$f":"IF(COUNTIFS(Input!$A:$A, Output!$B387, Input!$B:$B, C$1, Input!$H:$H, \"=US-VA\")=0,\"\",\"X\")","v":""},0,{"$f":"IF(COUNTIFS(Input!$A:$A, Output!$B387, Input!$B:$B, E$1, Input!$H:$H, \"=US-VA\")=0,\"\",\"X\")","v":""},0,{"$f":"IF(COUNTIFS(Input!$A:$A, Output!$B387, Input!$B:$B, G$1, Input!$H:$H, \"=US-VA\")=0,\"\",\"X\")","v":""},0]
[387,"Kentucky Warbler",{"$f":"IF(COUNTIFS(Input!$A:$A, Output!$B388, Input!$B:$B, C$1, Input!$H:$H, \"=US-VA\")=0,\"\",\"X\")","v":""},0,{"$f":"IF(COUNTIFS(Input!$A:$A, Output!$B388, Input!$B:$B, E$1, Input!$H:$H, \"=US-VA\")=0,\"\",\"X\")","v":""},0,{"$f":"IF(COUNTIFS(Input!$A:$A, Output!$B388, Input!$B:$B, G$1, Input!$H:$H, \"=US-VA\")=0,\"\",\"X\")","v":""},0]
[388,"Common Yellowthroat",{"$f":"IF(COUNTIFS(Input!$A:$A, Output!$B389, Input!$B:$B, C$1, Input!$H:$H, \"=US-VA\")=0,\"\",\"X\")","v":""},0,{"$f":"IF(COUNTIFS(Input!$A:$A, Output!$B389, Input!$B:$B, E$1, Input!$H:$H, \"=US-VA\")=0,\"\",\"X\")","v":""},0,{"$f":"IF(COUNTIFS(Input!$A:$A, Output!$B389, Input!$B:$B, G$1, Input!$H:$H, \"=US-VA\")=0,\"\",\"X\")","v":""},0]
[389,"Hooded Warbler",{"$f":"IF(COUNTIFS(Input!$A:$A, Output!$B390, Input!$B:$B, C$1, Input!$H:$H, \"=US-VA\")=0,\"\",\"X\")","v":""},0,{"$f":"IF(COUNTIFS(Input!$A:$A, Output!$B390, Input!$B:$B, E$1, Input!$H:$H, \"=US-VA\")=0,\"\",\"X\")","v":""},0,{"$f":"IF(COUNTIFS(Input!$A:$A, Output!$B390, Input!$B:$B, G$1, Input!$H:$H, \"=US-VA\")=0,\"\",\"X\")","v":""},0]
[390,"American Redstart",{"$f":"IF(COUNTIFS(Input!$A:$A, Output!$B391, Input!$B:$B, C$1, Input!$H:$H, \"=US-VA\")=0,\"\",\"X\")","v":""},0,{"$f":"IF(COUNTIFS(Input!$A:$A, Output!$B391, Input!$B:$B, E$1, Input!$H:$H, \"=US-VA\")=0,\"\",\"X\")","v":""},0,{"$f":"IF(COUNTIFS(Input!$A:$A, Output!$B391, Input!$B:$B, G$1, Input!$H:$H, \"=US-VA\")=0,\"\",\"X\")","v":""},0]
[391,"Kirtland's Warbler",{"$f":"IF(COUNTIFS(Input!$A:$A, Output!$B392, Input!$B:$B, C$1, Input!$H:$H, \"=US-VA\")=0,\"\",\"X\")","v":""},0,{"$f":"IF(COUNTIFS(Input!$A:$A, Output!$B392, Input!$B:$B, E$1, Input!$H:$H, \"=US-VA\")=0,\"\",\"X\")","v":""},0,{"$f":"IF(COUNTIFS(Input!$A:$A, Output!$B392, Input!$B:$B, G$1, Input!$H:$H, \"=US-VA\")=0,\"\",\"X\")","v":""},0]
[392,"Cape May Warbler",{"$f":"IF(COUNTIFS(Input!$A:$A, Output!$B393, Input!$B:$B, C$1, Input!$H:$H, \"=US-VA\")=0,\"\",\"X\")","v":""},0,{"$f":"IF(COUNTIFS(Input!$A:$A, Output!$B393, Input!$B:$B, E$1, Input!$H:$H, \"=US-VA\")=0,\"\",\"X\")","v":""},0,{"$f":"IF(COUNTIFS(Input!$A:$A, Output!$B393, Input!$B:$B, G$1, Input!$H:$H, \"=US-VA\")=0,\"\",\"X\")","v":""},0]
[393,"Cerulean Warbler",{"$f":"IF(COUNTIFS(Input!$A:$A, Output!$B394, Input!$B:$B, C$1, Input!$H:$H, \"=US-VA\")=0,\"\",\"X\")","v":""},0,{"$f":"IF(COUNTIFS(Input!$A:$A, Output!$B394, Input!$B:$B, E$1, Input!$H:$H, \"=US-VA\")=0,\"\",\"X\")","v":""},0,{"$f":"IF(COUNTIFS(Input!$A:$A, Output!$B394, Input!$B:$B, G$1, Input!$H:$H, \"=US-VA\")=0,\"\",\"X\")","v":""},0]
[394,"Northern Parula",{"$f":"IF(COUNTIFS(Input!$A:$A, Output!$B395, Input!$B:$B, C$1, Input!$H:$H, \"=US-VA\")=0,\"\",\"X\")","v":""},0,{"$f":"IF(COUNTIFS(Input!$A:$A, Output!$B395, Input!$B:$B, E$1, Input!$H:$H, \"=US-VA\")=0,\"\",\"X\")","v":""},0,{"$f":"IF(COUNTIFS(Input!$A:$A, Output!$B395, Input!$B:$B, G$1, Input!$H:$H, \"=US-VA\")=0,\"\",\"X\")","v":""},0]
[395,"Magnolia Warbler",{"$f":"IF(COUNTIFS(Input!$A:$A, Output!$B396, Input!$B:$B, C$1, Input!$H:$H, \"=US-VA\")=0,\"\",\"X\")","v":""},0,{"$f":"IF(COUNTIFS(Input!$A:$A, Output!$B396, Input!$B:$B, E$1, Input!$H:$H, \"=US-VA\")=0,\"\",\"X\")","v":""},0,{"$f":"IF(COUNTIFS(Input!$A:$A, Output!$B396, Input!$B:$B, G$1, Input!$H:$H, \"=US-VA\")=0,\"\",\"X\")","v":""},0]
[396,"Bay-breasted Warbler",{"$f":"IF(COUNTIFS(Input!$A:$A, Output!$B397, Input!$B:$B, C$1, Input!$H:$H, \"=US-VA\")=0,\"\",\"X\")","v":""},0,{"$f":"IF(COUNTIFS(Input!$A:$A, Output!$B397, Input!$B:$B, E$1, Input!$H:$H, \"=US-VA\")=0,\"\",\"X\")","v":""},0,{"$f":"IF(COUNTIFS(Input!$A:$A, Output!$B397, Input!$B:$B, G$1, Input!$H:$H, \"=US-VA\")=0,\"\",\"X\")","v":""},0]
[397,"Blackburnian Warbler",{"$f":"IF(COUNTIFS(Input!$A:$A, Output!$B398, Input!$B:$B, C$1, Input!$H:$H, \"=US-VA\")=0,\"\",\"X\")","v":""},0,{"$f":"IF(COUNTIFS(Input!$A:$A, Output!$B398, Input!$B:$B, E$1, Input!$H:$H, \"=US-VA\")=0,\"\",\"X\")","v":""},0,{"$f":"IF(COUNTIFS(Input!$A:$A, Output!$B398, Input!$B:$B, G$1, Input!$H:$H, \"=US-VA\")=0,\"\",\"X\")","v":""},0]
[398,"Yellow Warbler",{"$f":"IF(COUNTIFS(Input!$A:$A, Output!$B399, Input!$B:$B, C$1, Input!$H:$H, \"=US-VA\")=0,\"\",\"X\")","v":""},0,{"$f":"IF(COUNTIFS(Input!$A:$A, Output!$B399, Input!$B:$B, E$1, Input!$H:$H, \"=US-VA\")=0,\"\",\"X\")","v":""},0,{"$f":"IF(COUNTIFS(Input!$A:$A, Output!$B399, Input!$B:$B, G$1, Input!$H:$H, \"=US-VA\")=0,\"\",\"X\")","v":""},0]
[399,"Chestnut-sided Warbler",{"$f":"IF(COUNTIFS(Input!$A:$A, Output!$B400, Input!$B:$B, C$1, Input!$H:$H, \"=US-VA\")=0,\"\",\"X\")","v":""},0,{"$f":"IF(COUNTIFS(Input!$A:$A, Output!$B400, Input!$B:$B, E$1, Input!$H:$H, \"=US-VA\")=0,\"\",\"X\")","v":""},0,{"$f":"IF(COUNTIFS(Input!$A:$A, Output!$B400, Input!$B:$B, G$1, Input!$H:$H, \"=US-VA\")=0,\"\",\"X\")","v":""},0]
[400,"Blackpoll Warbler",{"$f":"IF(COUNTIFS(Input!$A:$A, Output!$B401, Input!$B:$B, C$1, Input!$H:$H, \"=US-VA\")=0,\"\",\"X\")","v":""},0,{"$f":"IF(COUNTIFS(Input!$A:$A, Output!$B401, Input!$B:$B, E$1, Input!$H:$H, \"=US-VA\")=0,\"\",\"X\")","v":""},0,{"$f":"IF(COUNTIFS(Input!$A:$A, Output!$B401, Input!$B:$B, G$1, Input!$H:$H, \"=US-VA\")=0,\"\",\"X\")","v":""},0]
[401,"Black-throated Blue Warbler",{"$f":"IF(COUNTIFS(Input!$A:$A, Output!$B402, Input!$B:$B, C$1, Input!$H:$H, \"=US-VA\")=0,\"\",\"X\")","v":""},0,{"$f":"IF(COUNTIFS(Input!$A:$A, Output!$B402, Input!$B:$B, E$1, Input!$H:$H, \"=US-VA\")=0,\"\",\"X\")","v":""},0,{"$f":"IF(COUNTIFS(Input!$A:$A, Output!$B402, Input!$B:$B, G$1, Input!$H:$H, \"=US-VA\")=0,\"\",\"X\")","v":""},0]
[402,"Palm Warbler",{"$f":"IF(COUNTIFS(Input!$A:$A, Output!$B403, Input!$B:$B, C$1, Input!$H:$H, \"=US-VA\")=0,\"\",\"X\")","v":""},0,{"$f":"IF(COUNTIFS(Input!$A:$A, Output!$B403, Input!$B:$B, E$1, Input!$H:$H, \"=US-VA\")=0,\"\",\"X\")","v":""},0,{"$f":"IF(COUNTIFS(Input!$A:$A, Output!$B403, Input!$B:$B, G$1, Input!$H:$H, \"=US-VA\")=0,\"\",\"X\")","v":""},0]
[403,"Pine Warbler",{"$f":"IF(COUNTIFS(Input!$A:$A, Output!$B404, Input!$B:$B, C$1, Input!$H:$H, \"=US-VA\")=0,\"\",\"X\")","v":""},0,{"$f":"IF(COUNTIFS(Input!$A:$A, Output!$B404, Input!$B:$B, E$1, Input!$H:$H, \"=US-VA\")=0,\"\",\"X\")","v":""},0,{"$f":"IF(COUNTIFS(Input!$A:$A, Output!$B404, Input!$B:$B, G$1, Input!$H:$H, \"=US-VA\")=0,\"\",\"X\")","v":""},0]
[404,"Yellow-rumped Warbler",{"$f":"IF(COUNTIFS(Input!$A:$A, Output!$B405, Input!$B:$B, C$1, Input!$H:$H, \"=US-VA\")=0,\"\",\"X\")","v":""},0,{"$f":"IF(COUNTIFS(Input!$A:$A, Output!$B405, Input!$B:$B, E$1, Input!$H:$H, \"=US-VA\")=0,\"\",\"X\")","v":""},0,{"$f":"IF(COUNTIFS(Input!$A:$A, Output!$B405, Input!$B:$B, G$1, Input!$H:$H, \"=US-VA\")=0,\"\",\"X\")","v":""},0]
[405,"Yellow-throated Warbler",{"$f":"IF(COUNTIFS(Input!$A:$A, Output!$B406, Input!$B:$B, C$1, Input!$H:$H, \"=US-VA\")=0,\"\",\"X\")","v":""},0,{"$f":"IF(COUNTIFS(Input!$A:$A, Output!$B406, Input!$B:$B, E$1, Input!$H:$H, \"=US-VA\")=0,\"\",\"X\")","v":""},0,{"$f":"IF(COUNTIFS(Input!$A:$A, Output!$B406, Input!$B:$B, G$1, Input!$H:$H, \"=US-VA\")=0,\"\",\"X\")","v":""},0]
[406,"Prairie Warbler",{"$f":"IF(COUNTIFS(Input!$A:$A, Output!$B407, Input!$B:$B, C$1, Input!$H:$H, \"=US-VA\")=0,\"\",\"X\")","v":""},0,{"$f":"IF(COUNTIFS(Input!$A:$A, Output!$B407, Input!$B:$B, E$1, Input!$H:$H, \"=US-VA\")=0,\"\",\"X\")","v":""},0,{"$f":"IF(COUNTIFS(Input!$A:$A, Output!$B407, Input!$B:$B, G$1, Input!$H:$H, \"=US-VA\")=0,\"\",\"X\")","v":""},0]
[407,"Black-throated Gray Warbler",{"$f":"IF(COUNTIFS(Input!$A:$A, Output!$B408, Input!$B:$B, C$1, Input!$H:$H, \"=US-VA\")=0,\"\",\"X\")","v":""},0,{"$f":"IF(COUNTIFS(Input!$A:$A, Output!$B408, Input!$B:$B, E$1, Input!$H:$H, \"=US-VA\")=0,\"\",\"X\")","v":""},0,{"$f":"IF(COUNTIFS(Input!$A:$A, Output!$B408, Input!$B:$B, G$1, Input!$H:$H, \"=US-VA\")=0,\"\",\"X\")","v":""},0]
[408,"Townsend's Warbler",{"$f":"IF(COUNTIFS(Input!$A:$A, Output!$B409, Input!$B:$B, C$1, Input!$H:$H, \"=US-VA\")=0,\"\",\"X\")","v":""},0,{"$f":"IF(COUNTIFS(Input!$A:$A, Output!$B409, Input!$B:$B, E$1, Input!$H:$H, \"=US-VA\")=0,\"\",\"X\")","v":""},0,{"$f":"IF(COUNTIFS(Input!$A:$A, Output!$B409, Input!$B:$B, G$1, Input!$H:$H, \"=US-VA\")=0,\"\",\"X\")","v":""},0]
[409,"Black-throated Green Warbler",{"$f":"IF(COUNTIFS(Input!$A:$A, Output!$B410, Input!$B:$B, C$1, Input!$H:$H, \"=US-VA\")=0,\"\",\"X\")","v":""},0,{"$f":"IF(COUNTIFS(Input!$A:$A, Output!$B410, Input!$B:$B, E$1, Input!$H:$H, \"=US-VA\")=0,\"\",\"X\")","v":""},0,{"$f":"IF(COUNTIFS(Input!$A:$A, Output!$B410, Input!$B:$B, G$1, Input!$H:$H, \"=US-VA\")=0,\"\",\"X\")","v":""},0]
[410,"Canada Warbler",{"$f":"IF(COUNTIFS(Input!$A:$A, Output!$B411, Input!$B:$B, C$1, Input!$H:$H, \"=US-VA\")=0,\"\",\"X\")","v":""},0,{"$f":"IF(COUNTIFS(Input!$A:$A, Output!$B411, Input!$B:$B, E$1, Input!$H:$H, \"=US-VA\")=0,\"\",\"X\")","v":""},0,{"$f":"IF(COUNTIFS(Input!$A:$A, Output!$B411, Input!$B:$B, G$1, Input!$H:$H, \"=US-VA\")=0,\"\",\"X\")","v":""},0]
[411,"Wilson's Warbler",{"$f":"IF(COUNTIFS(Input!$A:$A, Output!$B412, Input!$B:$B, C$1, Input!$H:$H, \"=US-VA\")=0,\"\",\"X\")","v":""},0,{"$f":"IF(COUNTIFS(Input!$A:$A, Output!$B412, Input!$B:$B, E$1, Input!$H:$H, \"=US-VA\")=0,\"\",\"X\")","v":""},0,{"$f":"IF(COUNTIFS(Input!$A:$A, Output!$B412, Input!$B:$B, G$1, Input!$H:$H, \"=US-VA\")=0,\"\",\"X\")","v":""},0]
[412,"Yellow-breasted Chat",{"$f":"IF(COUNTIFS(Input!$A:$A, Output!$B413, Input!$B:$B, C$1, Input!$H:$H, \"=US-VA\")=0,\"\",\"X\")","v":""},0,{"$f":"IF(COUNTIFS(Input!$A:$A, Output!$B413, Input!$B:$B, E$1, Input!$H:$H, \"=US-VA\")=0,\"\",\"X\")","v":""},0,{"$f":"IF(COUNTIFS(Input!$A:$A, Output!$B413, Input!$B:$B, G$1, Input!$H:$H, \"=US-VA\")=0,\"\",\"X\")","v":""},0]
[413,"Bachman's Sparrow",{"$f":"IF(COUNTIFS(Input!$A:$A, Output!$B414, Input!$B:$B, C$1, Input!$H:$H, \"=US-VA\")=0,\"\",\"X\")","v":""},0,{"$f":"IF(COUNTIFS(Input!$A:$A, Output!$B414, Input!$B:$B, E$1, Input!$H:$H, \"=US-VA\")=0,\"\",\"X\")","v":""},0,{"$f":"IF(COUNTIFS(Input!$A:$A, Output!$B414, Input!$B:$B, G$1, Input!$H:$H, \"=US-VA\")=0,\"\",\"X\")","v":""},0]
[414,"Grasshopper Sparrow",{"$f":"IF(COUNTIFS(Input!$A:$A, Output!$B415, Input!$B:$B, C$1, Input!$H:$H, \"=US-VA\")=0,\"\",\"X\")","v":""},0,{"$f":"IF(COUNTIFS(Input!$A:$A, Output!$B415, Input!$B:$B, E$1, Input!$H:$H, \"=US-VA\")=0,\"\",\"X\")","v":""},0,{"$f":"IF(COUNTIFS(Input!$A:$A, Output!$B415, Input!$B:$B, G$1, Input!$H:$H, \"=US-VA\")=0,\"\",\"X\")","v":""},0]
[415,"Henslow's Sparrow",{"$f":"IF(COUNTIFS(Input!$A:$A, Output!$B416, Input!$B:$B, C$1, Input!$H:$H, \"=US-VA\")=0,\"\",\"X\")","v":""},0,{"$f":"IF(COUNTIFS(Input!$A:$A, Output!$B416, Input!$B:$B, E$1, Input!$H:$H, \"=US-VA\")=0,\"\",\"X\")","v":""},0,{"$f":"IF(COUNTIFS(Input!$A:$A, Output!$B416, Input!$B:$B, G$1, Input!$H:$H, \"=US-VA\")=0,\"\",\"X\")","v":""},0]
[416,"Le Conte's Sparrow",{"$f":"IF(COUNTIFS(Input!$A:$A, Output!$B417, Input!$B:$B, C$1, Input!$H:$H, \"=US-VA\")=0,\"\",\"X\")","v":""},0,{"$f":"IF(COUNTIFS(Input!$A:$A, Output!$B417, Input!$B:$B, E$1, Input!$H:$H, \"=US-VA\")=0,\"\",\"X\")","v":""},0,{"$f":"IF(COUNTIFS(Input!$A:$A, Output!$B417, Input!$B:$B, G$1, Input!$H:$H, \"=US-VA\")=0,\"\",\"X\")","v":""},0]
[417,"Nelson's Sparrow",{"$f":"IF(COUNTIFS(Input!$A:$A, Output!$B418, Input!$B:$B, C$1, Input!$H:$H, \"=US-VA\")=0,\"\",\"X\")","v":""},0,{"$f":"IF(COUNTIFS(Input!$A:$A, Output!$B418, Input!$B:$B, E$1, Input!$H:$H, \"=US-VA\")=0,\"\",\"X\")","v":""},0,{"$f":"IF(COUNTIFS(Input!$A:$A, Output!$B418, Input!$B:$B, G$1, Input!$H:$H, \"=US-VA\")=0,\"\",\"X\")","v":""},0]
[418,"Saltmarsh Sparrow",{"$f":"IF(COUNTIFS(Input!$A:$A, Output!$B419, Input!$B:$B, C$1, Input!$H:$H, \"=US-VA\")=0,\"\",\"X\")","v":""},0,{"$f":"IF(COUNTIFS(Input!$A:$A, Output!$B419, Input!$B:$B, E$1, Input!$H:$H, \"=US-VA\")=0,\"\",\"X\")","v":""},0,{"$f":"IF(COUNTIFS(Input!$A:$A, Output!$B419, Input!$B:$B, G$1, Input!$H:$H, \"=US-VA\")=0,\"\",\"X\")","v":""},0]
[419,"Seaside Sparrow",{"$f":"IF(COUNTIFS(Input!$A:$A, Output!$B420, Input!$B:$B, C$1, Input!$H:$H, \"=US-VA\")=0,\"\",\"X\")","v":""},0,{"$f":"IF(COUNTIFS(Input!$A:$A, Output!$B420, Input!$B:$B, E$1, Input!$H:$H, \"=US-VA\")=0,\"\",\"X\")","v":""},0,{"$f":"IF(COUNTIFS(Input!$A:$A, Output!$B420, Input!$B:$B, G$1, Input!$H:$H, \"=US-VA\")=0,\"\",\"X\")","v":""},0]
[420,"American Tree Sparrow",{"$f":"IF(COUNTIFS(Input!$A:$A, Output!$B421, Input!$B:$B, C$1, Input!$H:$H, \"=US-VA\")=0,\"\",\"X\")","v":""},0,{"$f":"IF(COUNTIFS(Input!$A:$A, Output!$B421, Input!$B:$B, E$1, Input!$H:$H, \"=US-VA\")=0,\"\",\"X\")","v":""},0,{"$f":"IF(COUNTIFS(Input!$A:$A, Output!$B421, Input!$B:$B, G$1, Input!$H:$H, \"=US-VA\")=0,\"\",\"X\")","v":""},0]
[421,"Chipping Sparrow",{"$f":"IF(COUNTIFS(Input!$A:$A, Output!$B422, Input!$B:$B, C$1, Input!$H:$H, \"=US-VA\")=0,\"\",\"X\")","v":""},0,{"$f":"IF(COUNTIFS(Input!$A:$A, Output!$B422, Input!$B:$B, E$1, Input!$H:$H, \"=US-VA\")=0,\"\",\"X\")","v":""},0,{"$f":"IF(COUNTIFS(Input!$A:$A, Output!$B422, Input!$B:$B, G$1, Input!$H:$H, \"=US-VA\")=0,\"\",\"X\")","v":""},0]
[422,"Clay-colored Sparrow",{"$f":"IF(COUNTIFS(Input!$A:$A, Output!$B423, Input!$B:$B, C$1, Input!$H:$H, \"=US-VA\")=0,\"\",\"X\")","v":""},0,{"$f":"IF(COUNTIFS(Input!$A:$A, Output!$B423, Input!$B:$B, E$1, Input!$H:$H, \"=US-VA\")=0,\"\",\"X\")","v":""},0,{"$f":"IF(COUNTIFS(Input!$A:$A, Output!$B423, Input!$B:$B, G$1, Input!$H:$H, \"=US-VA\")=0,\"\",\"X\")","v":""},0]
[423,"Field Sparrow",{"$f":"IF(COUNTIFS(Input!$A:$A, Output!$B424, Input!$B:$B, C$1, Input!$H:$H, \"=US-VA\")=0,\"\",\"X\")","v":""},0,{"$f":"IF(COUNTIFS(Input!$A:$A, Output!$B424, Input!$B:$B, E$1, Input!$H:$H, \"=US-VA\")=0,\"\",\"X\")","v":""},0,{"$f":"IF(COUNTIFS(Input!$A:$A, Output!$B424, Input!$B:$B, G$1, Input!$H:$H, \"=US-VA\")=0,\"\",\"X\")","v":""},0]
[424,"Brewer's Sparrow",{"$f":"IF(COUNTIFS(Input!$A:$A, Output!$B425, Input!$B:$B, C$1, Input!$H:$H, \"=US-VA\")=0,\"\",\"X\")","v":""},0,{"$f":"IF(COUNTIFS(Input!$A:$A, Output!$B425, Input!$B:$B, E$1, Input!$H:$H, \"=US-VA\")=0,\"\",\"X\")","v":""},0,{"$f":"IF(COUNTIFS(Input!$A:$A, Output!$B425, Input!$B:$B, G$1, Input!$H:$H, \"=US-VA\")=0,\"\",\"X\")","v":""},0]
[425,"Black-throated Sparrow",{"$f":"IF(COUNTIFS(Input!$A:$A, Output!$B426, Input!$B:$B, C$1, Input!$H:$H, \"=US-VA\")=0,\"\",\"X\")","v":""},0,{"$f":"IF(COUNTIFS(Input!$A:$A, Output!$B426, Input!$B:$B, E$1, Input!$H:$H, \"=US-VA\")=0,\"\",\"X\")","v":""},0,{"$f":"IF(COUNTIFS(Input!$A:$A, Output!$B426, Input!$B:$B, G$1, Input!$H:$H, \"=US-VA\")=0,\"\",\"X\")","v":""},0]
[426,"Lark Sparrow",{"$f":"IF(COUNTIFS(Input!$A:$A, Output!$B427, Input!$B:$B, C$1, Input!$H:$H, \"=US-VA\")=0,\"\",\"X\")","v":""},0,{"$f":"IF(COUNTIFS(Input!$A:$A, Output!$B427, Input!$B:$B, E$1, Input!$H:$H, \"=US-VA\")=0,\"\",\"X\")","v":""},0,{"$f":"IF(COUNTIFS(Input!$A:$A, Output!$B427, Input!$B:$B, G$1, Input!$H:$H, \"=US-VA\")=0,\"\",\"X\")","v":""},0]
[427,"Lark Bunting",{"$f":"IF(COUNTIFS(Input!$A:$A, Output!$B428, Input!$B:$B, C$1, Input!$H:$H, \"=US-VA\")=0,\"\",\"X\")","v":""},0,{"$f":"IF(COUNTIFS(Input!$A:$A, Output!$B428, Input!$B:$B, E$1, Input!$H:$H, \"=US-VA\")=0,\"\",\"X\")","v":""},0,{"$f":"IF(COUNTIFS(Input!$A:$A, Output!$B428, Input!$B:$B, G$1, Input!$H:$H, \"=US-VA\")=0,\"\",\"X\")","v":""},0]
[428,"Fox Sparrow",{"$f":"IF(COUNTIFS(Input!$A:$A, Output!$B429, Input!$B:$B, C$1, Input!$H:$H, \"=US-VA\")=0,\"\",\"X\")","v":""},0,{"$f":"IF(COUNTIFS(Input!$A:$A, Output!$B429, Input!$B:$B, E$1, Input!$H:$H, \"=US-VA\")=0,\"\",\"X\")","v":""},0,{"$f":"IF(COUNTIFS(Input!$A:$A, Output!$B429, Input!$B:$B, G$1, Input!$H:$H, \"=US-VA\")=0,\"\",\"X\")","v":""},0]
[429,"Dark-eyed Junco",{"$f":"IF(COUNTIFS(Input!$A:$A, Output!$B430, Input!$B:$B, C$1, Input!$H:$H, \"=US-VA\")=0,\"\",\"X\")","v":""},0,{"$f":"IF(COUNTIFS(Input!$A:$A, Output!$B430, Input!$B:$B, E$1, Input!$H:$H, \"=US-VA\")=0,\"\",\"X\")","v":""},0,{"$f":"IF(COUNTIFS(Input!$A:$A, Output!$B430, Input!$B:$B, G$1, Input!$H:$H, \"=US-VA\")=0,\"\",\"X\")","v":""},0]
[430,"White-crowned Sparrow",{"$f":"IF(COUNTIFS(Input!$A:$A, Output!$B431, Input!$B:$B, C$1, Input!$H:$H, \"=US-VA\")=0,\"\",\"X\")","v":""},0,{"$f":"IF(COUNTIFS(Input!$A:$A, Output!$B431, Input!$B:$B, E$1, Input!$H:$H, \"=US-VA\")=0,\"\",\"X\")","v":""},0,{"$f":"IF(COUNTIFS(Input!$A:$A, Output!$B431, Input!$B:$B, G$1, Input!$H:$H, \"=US-VA\")=0,\"\",\"X\")","v":""},0]
[431,"Harris's Sparrow",{"$f":"IF(COUNTIFS(Input!$A:$A, Output!$B432, Input!$B:$B, C$1, Input!$H:$H, \"=US-VA\")=0,\"\",\"X\")","v":""},0,{"$f":"IF(COUNTIFS(Input!$A:$A, Output!$B432, Input!$B:$B, E$1, Input!$H:$H, \"=US-VA\")=0,\"\",\"X\")","v":""},0,{"$f":"IF(COUNTIFS(Input!$A:$A, Output!$B432, Input!$B:$B, G$1, Input!$H:$H, \"=US-VA\")=0,\"\",\"X\")","v":""},0]
[432,"White-throated Sparrow",{"$f":"IF(COUNTIFS(Input!$A:$A, Output!$B433, Input!$B:$B, C$1, Input!$H:$H, \"=US-VA\")=0,\"\",\"X\")","v":""},0,{"$f":"IF(COUNTIFS(Input!$A:$A, Output!$B433, Input!$B:$B, E$1, Input!$H:$H, \"=US-VA\")=0,\"\",\"X\")","v":""},0,{"$f":"IF(COUNTIFS(Input!$A:$A, Output!$B433, Input!$B:$B, G$1, Input!$H:$H, \"=US-VA\")=0,\"\",\"X\")","v":""},0]
[433,"Vesper Sparrow",{"$f":"IF(COUNTIFS(Input!$A:$A, Output!$B434, Input!$B:$B, C$1, Input!$H:$H, \"=US-VA\")=0,\"\",\"X\")","v":""},0,{"$f":"IF(COUNTIFS(Input!$A:$A, Output!$B434, Input!$B:$B, E$1, Input!$H:$H, \"=US-VA\")=0,\"\",\"X\")","v":""},0,{"$f":"IF(COUNTIFS(Input!$A:$A, Output!$B434, Input!$B:$B, G$1, Input!$H:$H, \"=US-VA\")=0,\"\",\"X\")","v":""},0]
[434,"Savannah Sparrow",{"$f":"IF(COUNTIFS(Input!$A:$A, Output!$B435, Input!$B:$B, C$1, Input!$H:$H, \"=US-VA\")=0,\"\",\"X\")","v":""},0,{"$f":"IF(COUNTIFS(Input!$A:$A, Output!$B435, Input!$B:$B, E$1, Input!$H:$H, \"=US-VA\")=0,\"\",\"X\")","v":""},0,{"$f":"IF(COUNTIFS(Input!$A:$A, Output!$B435, Input!$B:$B, G$1, Input!$H:$H, \"=US-VA\")=0,\"\",\"X\")","v":""},0]
[435,"Song Sparrow",{"$f":"IF(COUNTIFS(Input!$A:$A, Output!$B436, Input!$B:$B, C$1, Input!$H:$H, \"=US-VA\")=0,\"\",\"X\")","v":""},0,{"$f":"IF(COUNTIFS(Input!$A:$A, Output!$B436, Input!$B:$B, E$1, Input!$H:$H, \"=US-VA\")=0,\"\",\"X\")","v":""},0,{"$f":"IF(COUNTIFS(Input!$A:$A, Output!$B436, Input!$B:$B, G$1, Input!$H:$H, \"=US-VA\")=0,\"\",\"X\")","v":""},0]
[436,"Lincoln's Sparrow",{"$f":"IF(COUNTIFS(Input!$A:$A, Output!$B437, Input!$B:$B, C$1, Input!$H:$H, \"=US-VA\")=0,\"\",\"X\")","v":""},0,{"$f":"IF(COUNTIFS(Input!$A:$A, Output!$B437, Input!$B:$B, E$1, Input!$H:$H, \"=US-VA\")=0,\"\",\"X\")","v":""},0,{"$f":"IF(COUNTIFS(Input!$A:$A, Output!$B437, Input!$B:$B, G$1, Input!$H:$H, \"=US-VA\")=0,\"\",\"X\")","v":""},0]
[437,"Swamp Sparrow",{"$f":"IF(COUNTIFS(Input!$A:$A, Output!$B438, Input!$B:$B, C$1, Input!$H:$H, \"=US-VA\")=0,\"\",\"X\")","v":""},0,{"$f":"IF(COUNTIFS(Input!$A:$A, Output!$B438, Input!$B:$B, E$1, Input!$H:$H, \"=US-VA\")=0,\"\",\"X\")","v":""},0,{"$f":"IF(COUNTIFS(Input!$A:$A, Output!$B438, Input!$B:$B, G$1, Input!$H:$H, \"=US-VA\")=0,\"\",\"X\")","v":""},0]
[438,"Green-tailed Towhee",{"$f":"IF(COUNTIFS(Input!$A:$A, Output!$B439, Input!$B:$B, C$1, Input!$H:$H, \"=US-VA\")=0,\"\",\"X\")","v":""},0,{"$f":"IF(COUNTIFS(Input!$A:$A, Output!$B439, Input!$B:$B, E$1, Input!$H:$H, \"=US-VA\")=0,\"\",\"X\")","v":""},0,{"$f":"IF(COUNTIFS(Input!$A:$A, Output!$B439, Input!$B:$B, G$1, Input!$H:$H, \"=US-VA\")=0,\"\",\"X\")","v":""},0]
[439,"Spotted Towhee",{"$f":"IF(COUNTIFS(Input!$A:$A, Output!$B440, Input!$B:$B, C$1, Input!$H:$H, \"=US-VA\")=0,\"\",\"X\")","v":""},0,{"$f":"IF(COUNTIFS(Input!$A:$A, Output!$B440, Input!$B:$B, E$1, Input!$H:$H, \"=US-VA\")=0,\"\",\"X\")","v":""},0,{"$f":"IF(COUNTIFS(Input!$A:$A, Output!$B440, Input!$B:$B, G$1, Input!$H:$H, \"=US-VA\")=0,\"\",\"X\")","v":""},0]
[440,"Eastern Towhee",{"$f":"IF(COUNTIFS(Input!$A:$A, Output!$B441, Input!$B:$B, C$1, Input!$H:$H, \"=US-VA\")=0,\"\",\"X\")","v":""},0,{"$f":"IF(COUNTIFS(Input!$A:$A, Output!$B441, Input!$B:$B, E$1, Input!$H:$H, \"=US-VA\")=0,\"\",\"X\")","v":""},0,{"$f":"IF(COUNTIFS(Input!$A:$A, Output!$B441, Input!$B:$B, G$1, Input!$H:$H, \"=US-VA\")=0,\"\",\"X\")","v":""},0]
[441,"Summer Tanager",{"$f":"IF(COUNTIFS(Input!$A:$A, Output!$B442, Input!$B:$B, C$1, Input!$H:$H, \"=US-VA\")=0,\"\",\"X\")","v":""},0,{"$f":"IF(COUNTIFS(Input!$A:$A, Output!$B442, Input!$B:$B, E$1, Input!$H:$H, \"=US-VA\")=0,\"\",\"X\")","v":""},0,{"$f":"IF(COUNTIFS(Input!$A:$A, Output!$B442, Input!$B:$B, G$1, Input!$H:$H, \"=US-VA\")=0,\"\",\"X\")","v":""},0]
[442,"Scarlet Tanager",{"$f":"IF(COUNTIFS(Input!$A:$A, Output!$B443, Input!$B:$B, C$1, Input!$H:$H, \"=US-VA\")=0,\"\",\"X\")","v":""},0,{"$f":"IF(COUNTIFS(Input!$A:$A, Output!$B443, Input!$B:$B, E$1, Input!$H:$H, \"=US-VA\")=0,\"\",\"X\")","v":""},0,{"$f":"IF(COUNTIFS(Input!$A:$A, Output!$B443, Input!$B:$B, G$1, Input!$H:$H, \"=US-VA\")=0,\"\",\"X\")","v":""},0]
[443,"Western Tanager",{"$f":"IF(COUNTIFS(Input!$A:$A, Output!$B444, Input!$B:$B, C$1, Input!$H:$H, \"=US-VA\")=0,\"\",\"X\")","v":""},0,{"$f":"IF(COUNTIFS(Input!$A:$A, Output!$B444, Input!$B:$B, E$1, Input!$H:$H, \"=US-VA\")=0,\"\",\"X\")","v":""},0,{"$f":"IF(COUNTIFS(Input!$A:$A, Output!$B444, Input!$B:$B, G$1, Input!$H:$H, \"=US-VA\")=0,\"\",\"X\")","v":""},0]
[444,"Northern Cardinal",{"$f":"IF(COUNTIFS(Input!$A:$A, Output!$B445, Input!$B:$B, C$1, Input!$H:$H, \"=US-VA\")=0,\"\",\"X\")","v":""},0,{"$f":"IF(COUNTIFS(Input!$A:$A, Output!$B445, Input!$B:$B, E$1, Input!$H:$H, \"=US-VA\")=0,\"\",\"X\")","v":""},0,{"$f":"IF(COUNTIFS(Input!$A:$A, Output!$B445, Input!$B:$B, G$1, Input!$H:$H, \"=US-VA\")=0,\"\",\"X\")","v":""},0]
[445,"Rose-breasted Grosbeak",{"$f":"IF(COUNTIFS(Input!$A:$A, Output!$B446, Input!$B:$B, C$1, Input!$H:$H, \"=US-VA\")=0,\"\",\"X\")","v":""},0,{"$f":"IF(COUNTIFS(Input!$A:$A, Output!$B446, Input!$B:$B, E$1, Input!$H:$H, \"=US-VA\")=0,\"\",\"X\")","v":""},0,{"$f":"IF(COUNTIFS(Input!$A:$A, Output!$B446, Input!$B:$B, G$1, Input!$H:$H, \"=US-VA\")=0,\"\",\"X\")","v":""},0]
[446,"Black-headed Grosbeak",{"$f":"IF(COUNTIFS(Input!$A:$A, Output!$B447, Input!$B:$B, C$1, Input!$H:$H, \"=US-VA\")=0,\"\",\"X\")","v":""},0,{"$f":"IF(COUNTIFS(Input!$A:$A, Output!$B447, Input!$B:$B, E$1, Input!$H:$H, \"=US-VA\")=0,\"\",\"X\")","v":""},0,{"$f":"IF(COUNTIFS(Input!$A:$A, Output!$B447, Input!$B:$B, G$1, Input!$H:$H, \"=US-VA\")=0,\"\",\"X\")","v":""},0]
[447,"Blue Grosbeak",{"$f":"IF(COUNTIFS(Input!$A:$A, Output!$B448, Input!$B:$B, C$1, Input!$H:$H, \"=US-VA\")=0,\"\",\"X\")","v":""},0,{"$f":"IF(COUNTIFS(Input!$A:$A, Output!$B448, Input!$B:$B, E$1, Input!$H:$H, \"=US-VA\")=0,\"\",\"X\")","v":""},0,{"$f":"IF(COUNTIFS(Input!$A:$A, Output!$B448, Input!$B:$B, G$1, Input!$H:$H, \"=US-VA\")=0,\"\",\"X\")","v":""},0]
[448,"Lazuli Bunting",{"$f":"IF(COUNTIFS(Input!$A:$A, Output!$B449, Input!$B:$B, C$1, Input!$H:$H, \"=US-VA\")=0,\"\",\"X\")","v":""},0,{"$f":"IF(COUNTIFS(Input!$A:$A, Output!$B449, Input!$B:$B, E$1, Input!$H:$H, \"=US-VA\")=0,\"\",\"X\")","v":""},0,{"$f":"IF(COUNTIFS(Input!$A:$A, Output!$B449, Input!$B:$B, G$1, Input!$H:$H, \"=US-VA\")=0,\"\",\"X\")","v":""},0]
[449,"Indigo Bunting",{"$f":"IF(COUNTIFS(Input!$A:$A, Output!$B450, Input!$B:$B, C$1, Input!$H:$H, \"=US-VA\")=0,\"\",\"X\")","v":""},{"$f":"IF(C450=\"X\",1,0)","v":0},{"$f":"IF(COUNTIFS(Input!$A:$A, Output!$B450, Input!$B:$B, E$1, Input!$H:$H, \"=US-VA\")=0,\"\",\"X\")","v":""},{"$f":"IF(E450=\"X\",1,0)","v":0},{"$f":"IF(COUNTIFS(Input!$A:$A, Output!$B450, Input!$B:$B, G$1, Input!$H:$H, \"=US-VA\")=0,\"\",\"X\")","v":""},{"$f":"IF(G450=\"X\",1,0)","v":0}]
[450,"Painted Bunting",{"$f":"IF(COUNTIFS(Input!$A:$A, Output!$B451, Input!$B:$B, C$1, Input!$H:$H, \"=US-VA\")=0,\"\",\"X\")","v":""},0,{"$f":"IF(COUNTIFS(Input!$A:$A, Output!$B451, Input!$B:$B, E$1, Input!$H:$H, \"=US-VA\")=0,\"\",\"X\")","v":""},0,{"$f":"IF(COUNTIFS(Input!$A:$A, Output!$B451, Input!$B:$B, G$1, Input!$H:$H, \"=US-VA\")=0,\"\",\"X\")","v":""},0]
[451,"Dickcissel",{"$f":"IF(COUNTIFS(Input!$A:$A, Output!$B452, Input!$B:$B, C$1, Input!$H:$H, \"=US-VA\")=0,\"\",\"X\")","v":""},0,{"$f":"IF(COUNTIFS(Input!$A:$A, Output!$B452, Input!$B:$B, E$1, Input!$H:$H, \"=US-VA\")=0,\"\",\"X\")","v":""},0,{"$f":"IF(COUNTIFS(Input!$A:$A, Output!$B452, Input!$B:$B, G$1, Input!$H:$H, \"=US-VA\")=0,\"\",\"X\")","v":""},0]
[452,"Bobolink",{"$f":"IF(COUNTIFS(Input!$A:$A, Output!$B453, Input!$B:$B, C$1, Input!$H:$H, \"=US-VA\")=0,\"\",\"X\")","v":""},0,{"$f":"IF(COUNTIFS(Input!$A:$A, Output!$B453, Input!$B:$B, E$1, Input!$H:$H, \"=US-VA\")=0,\"\",\"X\")","v":""},0,{"$f":"IF(COUNTIFS(Input!$A:$A, Output!$B453, Input!$B:$B, G$1, Input!$H:$H, \"=US-VA\")=0,\"\",\"X\")","v":""},0]
[453,"Red-winged Blackbird",{"$f":"IF(COUNTIFS(Input!$A:$A, Output!$B454, Input!$B:$B, C$1, Input!$H:$H, \"=US-VA\")=0,\"\",\"X\")","v":""},0,{"$f":"IF(COUNTIFS(Input!$A:$A, Output!$B454, Input!$B:$B, E$1, Input!$H:$H, \"=US-VA\")=0,\"\",\"X\")","v":""},0,{"$f":"IF(COUNTIFS(Input!$A:$A, Output!$B454, Input!$B:$B, G$1, Input!$H:$H, \"=US-VA\")=0,\"\",\"X\")","v":""},0]
[454,"Eastern Meadowlark",{"$f":"IF(COUNTIFS(Input!$A:$A, Output!$B455, Input!$B:$B, C$1, Input!$H:$H, \"=US-VA\")=0,\"\",\"X\")","v":""},0,{"$f":"IF(COUNTIFS(Input!$A:$A, Output!$B455, Input!$B:$B, E$1, Input!$H:$H, \"=US-VA\")=0,\"\",\"X\")","v":""},0,{"$f":"IF(COUNTIFS(Input!$A:$A, Output!$B455, Input!$B:$B, G$1, Input!$H:$H, \"=US-VA\")=0,\"\",\"X\")","v":""},0]
[455,"Yellow-headed Blackbird",{"$f":"IF(COUNTIFS(Input!$A:$A, Output!$B456, Input!$B:$B, C$1, Input!$H:$H, \"=US-VA\")=0,\"\",\"X\")","v":""},0,{"$f":"IF(COUNTIFS(Input!$A:$A, Output!$B456, Input!$B:$B, E$1, Input!$H:$H, \"=US-VA\")=0,\"\",\"X\")","v":""},0,{"$f":"IF(COUNTIFS(Input!$A:$A, Output!$B456, Input!$B:$B, G$1, Input!$H:$H, \"=US-VA\")=0,\"\",\"X\")","v":""},0]
[456,"Rusty Blackbird",{"$f":"IF(COUNTIFS(Input!$A:$A, Output!$B457, Input!$B:$B, C$1, Input!$H:$H, \"=US-VA\")=0,\"\",\"X\")","v":""},0,{"$f":"IF(COUNTIFS(Input!$A:$A, Output!$B457, Input!$B:$B, E$1, Input!$H:$H, \"=US-VA\")=0,\"\",\"X\")","v":""},0,{"$f":"IF(COUNTIFS(Input!$A:$A, Output!$B457, Input!$B:$B, G$1, Input!$H:$H, \"=US-VA\")=0,\"\",\"X\")","v":""},0]
[457,"Brewer's Blackbird",{"$f":"IF(COUNTIFS(Input!$A:$A, Output!$B458, Input!$B:$B, C$1, Input!$H:$H, \"=US-VA\")=0,\"\",\"X\")","v":""},0,{"$f":"IF(COUNTIFS(Input!$A:$A, Output!$B458, Input!$B:$B, E$1, Input!$H:$H, \"=US-VA\")=0,\"\",\"X\")","v":""},0,{"$f":"IF(COUNTIFS(Input!$A:$A, Output!$B458, Input!$B:$B, G$1, Input!$H:$H, \"=US-VA\")=0,\"\",\"X\")","v":""},0]
[458,"Common Grackle",{"$f":"IF(COUNTIFS(Input!$A:$A, Output!$B459, Input!$B:$B, C$1, Input!$H:$H, \"=US-VA\")=0,\"\",\"X\")","v":""},0,{"$f":"IF(COUNTIFS(Input!$A:$A, Output!$B459, Input!$B:$B, E$1, Input!$H:$H, \"=US-VA\")=0,\"\",\"X\")","v":""},0,{"$f":"IF(COUNTIFS(Input!$A:$A, Output!$B459, Input!$B:$B, G$1, Input!$H:$H, \"=US-VA\")=0,\"\",\"X\")","v":""},0]
[459,"Boat-tailed Grackle",{"$f":"IF(COUNTIFS(Input!$A:$A, Output!$B460, Input!$B:$B, C$1, Input!$H:$H, \"=US-VA\")=0,\"\",\"X\")","v":""},0,{"$f":"IF(COUNTIFS(Input!$A:$A, Output!$B460, Input!$B:$B, E$1, Input!$H:$H, \"=US-VA\")=0,\"\",\"X\")","v":""},0,{"$f":"IF(COUNTIFS(Input!$A:$A, Output!$B460, Input!$B:$B, G$1, Input!$H:$H, \"=US-VA\")=0,\"\",\"X\")","v":""},0]
[460,"Shiny Cowbird",{"$f":"IF(COUNTIFS(Input!$A:$A, Output!$B461, Input!$B:$B, C$1, Input!$H:$H, \"=US-VA\")=0,\"\",\"X\")","v":""},0,{"$f":"IF(COUNTIFS(Input!$A:$A, Output!$B461, Input!$B:$B, E$1, Input!$H:$H, \"=US-VA\")=0,\"\",\"X\")","v":""},0,{"$f":"IF(COUNTIFS(Input!$A:$A, Output!$B461, Input!$B:$B, G$1, Input!$H:$H, \"=US-VA\")=0,\"\",\"X\")","v":""},0]
[461,"Brown-headed Cowbird",{"$f":"IF(COUNTIFS(Input!$A:$A, Output!$B462, Input!$B:$B, C$1, Input!$H:$H, \"=US-VA\")=0,\"\",\"X\")","v":""},0,{"$f":"IF(COUNTIFS(Input!$A:$A, Output!$B462, Input!$B:$B, E$1, Input!$H:$H, \"=US-VA\")=0,\"\",\"X\")","v":""},0,{"$f":"IF(COUNTIFS(Input!$A:$A, Output!$B462, Input!$B:$B, G$1, Input!$H:$H, \"=US-VA\")=0,\"\",\"X\")","v":""},0]
[462,"Orchard Oriole",{"$f":"IF(COUNTIFS(Input!$A:$A, Output!$B463, Input!$B:$B, C$1, Input!$H:$H, \"=US-VA\")=0,\"\",\"X\")","v":""},0,{"$f":"IF(COUNTIFS(Input!$A:$A, Output!$B463, Input!$B:$B, E$1, Input!$H:$H, \"=US-VA\")=0,\"\",\"X\")","v":""},0,{"$f":"IF(COUNTIFS(Input!$A:$A, Output!$B463, Input!$B:$B, G$1, Input!$H:$H, \"=US-VA\")=0,\"\",\"X\")","v":""},0]
[463,"Bullock's Oriole",{"$f":"IF(COUNTIFS(Input!$A:$A, Output!$B464, Input!$B:$B, C$1, Input!$H:$H, \"=US-VA\")=0,\"\",\"X\")","v":""},0,{"$f":"IF(COUNTIFS(Input!$A:$A, Output!$B464, Input!$B:$B, E$1, Input!$H:$H, \"=US-VA\")=0,\"\",\"X\")","v":""},0,{"$f":"IF(COUNTIFS(Input!$A:$A, Output!$B464, Input!$B:$B, G$1, Input!$H:$H, \"=US-VA\")=0,\"\",\"X\")","v":""},0]
[464,"Baltimore Oriole",{"$f":"IF(COUNTIFS(Input!$A:$A, Output!$B465, Input!$B:$B, C$1, Input!$H:$H, \"=US-VA\")=0,\"\",\"X\")","v":""},0,{"$f":"IF(COUNTIFS(Input!$A:$A, Output!$B465, Input!$B:$B, E$1, Input!$H:$H, \"=US-VA\")=0,\"\",\"X\")","v":""},0,{"$f":"IF(COUNTIFS(Input!$A:$A, Output!$B465, Input!$B:$B, G$1, Input!$H:$H, \"=US-VA\")=0,\"\",\"X\")","v":""},0]
[465,"Pine Grosbeak",{"$f":"IF(COUNTIFS(Input!$A:$A, Output!$B466, Input!$B:$B, C$1, Input!$H:$H, \"=US-VA\")=0,\"\",\"X\")","v":""},0,{"$f":"IF(COUNTIFS(Input!$A:$A, Output!$B466, Input!$B:$B, E$1, Input!$H:$H, \"=US-VA\")=0,\"\",\"X\")","v":""},0,{"$f":"IF(COUNTIFS(Input!$A:$A, Output!$B466, Input!$B:$B, G$1, Input!$H:$H, \"=US-VA\")=0,\"\",\"X\")","v":""},0]
[466,"House Finch",{"$f":"IF(COUNTIFS(Input!$A:$A, Output!$B467, Input!$B:$B, C$1, Input!$H:$H, \"=US-VA\")=0,\"\",\"X\")","v":""},0,{"$f":"IF(COUNTIFS(Input!$A:$A, Output!$B467, Input!$B:$B, E$1, Input!$H:$H, \"=US-VA\")=0,\"\",\"X\")","v":""},0,{"$f":"IF(COUNTIFS(Input!$A:$A, Output!$B467, Input!$B:$B, G$1, Input!$H:$H, \"=US-VA\")=0,\"\",\"X\")","v":""},0]
[467,"Purple Finch",{"$f":"IF(COUNTIFS(Input!$A:$A, Output!$B468, Input!$B:$B, C$1, Input!$H:$H, \"=US-VA\")=0,\"\",\"X\")","v":""},0,{"$f":"IF(COUNTIFS(Input!$A:$A, Output!$B468, Input!$B:$B, E$1, Input!$H:$H, \"=US-VA\")=0,\"\",\"X\")","v":""},0,{"$f":"IF(COUNTIFS(Input!$A:$A, Output!$B468, Input!$B:$B, G$1, Input!$H:$H, \"=US-VA\")=0,\"\",\"X\")","v":""},0]
[468,"Red Crossbill",{"$f":"IF(COUNTIFS(Input!$A:$A, Output!$B469, Input!$B:$B, C$1, Input!$H:$H, \"=US-VA\")=0,\"\",\"X\")","v":""},0,{"$f":"IF(COUNTIFS(Input!$A:$A, Output!$B469, Input!$B:$B, E$1, Input!$H:$H, \"=US-VA\")=0,\"\",\"X\")","v":""},0,{"$f":"IF(COUNTIFS(Input!$A:$A, Output!$B469, Input!$B:$B, G$1, Input!$H:$H, \"=US-VA\")=0,\"\",\"X\")","v":""},0]
[469,"White-winged Crossbill",{"$f":"IF(COUNTIFS(Input!$A:$A, Output!$B470, Input!$B:$B, C$1, Input!$H:$H, \"=US-VA\")=0,\"\",\"X\")","v":""},0,{"$f":"IF(COUNTIFS(Input!$A:$A, Output!$B470, Input!$B:$B, E$1, Input!$H:$H, \"=US-VA\")=0,\"\",\"X\")","v":""},0,{"$f":"IF(COUNTIFS(Input!$A:$A, Output!$B470, Input!$B:$B, G$1, Input!$H:$H, \"=US-VA\")=0,\"\",\"X\")","v":""},0]
[470,"Common Redpoll",{"$f":"IF(COUNTIFS(Input!$A:$A, Output!$B471, Input!$B:$B, C$1, Input!$H:$H, \"=US-VA\")=0,\"\",\"X\")","v":""},0,{"$f":"IF(COUNTIFS(Input!$A:$A, Output!$B471, Input!$B:$B, E$1, Input!$H:$H, \"=US-VA\")=0,\"\",\"X\")","v":""},0,{"$f":"IF(COUNTIFS(Input!$A:$A, Output!$B471, Input!$B:$B, G$1, Input!$H:$H, \"=US-VA\")=0,\"\",\"X\")","v":""},0]
[471,"Hoary Redpoll",{"$f":"IF(COUNTIFS(Input!$A:$A, Output!$B472, Input!$B:$B, C$1, Input!$H:$H, \"=US-VA\")=0,\"\",\"X\")","v":""},0,{"$f":"IF(COUNTIFS(Input!$A:$A, Output!$B472, Input!$B:$B, E$1, Input!$H:$H, \"=US-VA\")=0,\"\",\"X\")","v":""},0,{"$f":"IF(COUNTIFS(Input!$A:$A, Output!$B472, Input!$B:$B, G$1, Input!$H:$H, \"=US-VA\")=0,\"\",\"X\")","v":""},0]
[472,"Pine Siskin",{"$f":"IF(COUNTIFS(Input!$A:$A, Output!$B473, Input!$B:$B, C$1, Input!$H:$H, \"=US-VA\")=0,\"\",\"X\")","v":""},0,{"$f":"IF(COUNTIFS(Input!$A:$A, Output!$B473, Input!$B:$B, E$1, Input!$H:$H, \"=US-VA\")=0,\"\",\"X\")","v":""},0,{"$f":"IF(COUNTIFS(Input!$A:$A, Output!$B473, Input!$B:$B, G$1, Input!$H:$H, \"=US-VA\")=0,\"\",\"X\")","v":""},0]
[473,"Lesser Goldfinch",{"$f":"IF(COUNTIFS(Input!$A:$A, Output!$B474, Input!$B:$B, C$1, Input!$H:$H, \"=US-VA\")=0,\"\",\"X\")","v":""},0,{"$f":"IF(COUNTIFS(Input!$A:$A, Output!$B474, Input!$B:$B, E$1, Input!$H:$H, \"=US-VA\")=0,\"\",\"X\")","v":""},0,{"$f":"IF(COUNTIFS(Input!$A:$A, Output!$B474, Input!$B:$B, G$1, Input!$H:$H, \"=US-VA\")=0,\"\",\"X\")","v":""},0]
[474,"American Goldfinch",{"$f":"IF(COUNTIFS(Input!$A:$A, Output!$B475, Input!$B:$B, C$1, Input!$H:$H, \"=US-VA\")=0,\"\",\"X\")","v":""},0,{"$f":"IF(COUNTIFS(Input!$A:$A, Output!$B475, Input!$B:$B, E$1, Input!$H:$H, \"=US-VA\")=0,\"\",\"X\")","v":""},0,{"$f":"IF(COUNTIFS(Input!$A:$A, Output!$B475, Input!$B:$B, G$1, Input!$H:$H, \"=US-VA\")=0,\"\",\"X\")","v":""},0]
[475,"European Goldfinch",{"$f":"IF(COUNTIFS(Input!$A:$A, Output!$B476, Input!$B:$B, C$1, Input!$H:$H, \"=US-VA\")=0,\"\",\"X\")","v":""},0,{"$f":"IF(COUNTIFS(Input!$A:$A, Output!$B476, Input!$B:$B, E$1, Input!$H:$H, \"=US-VA\")=0,\"\",\"X\")","v":""},0,{"$f":"IF(COUNTIFS(Input!$A:$A, Output!$B476, Input!$B:$B, G$1, Input!$H:$H, \"=US-VA\")=0,\"\",\"X\")","v":""},0]
[476,"Evening Grosbeak",{"$f":"IF(COUNTIFS(Input!$A:$A, Output!$B477, Input!$B:$B, C$1, Input!$H:$H, \"=US-VA\")=0,\"\",\"X\")","v":""},0,{"$f":"IF(COUNTIFS(Input!$A:$A, Output!$B477, Input!$B:$B, E$1, Input!$H:$H, \"=US-VA\")=0,\"\",\"X\")","v":""},0,{"$f":"IF(COUNTIFS(Input!$A:$A, Output!$B477, Input!$B:$B, G$1, Input!$H:$H, \"=US-VA\")=0,\"\",\"X\")","v":""},0]
[477,"House Sparrow",{"$f":"IF(COUNTIFS(Input!$A:$A, Output!$B478, Input!$B:$B, C$1, Input!$H:$H, \"=US-VA\")=0,\"\",\"X\")","v":""},0,{"$f":"IF(COUNTIFS(Input!$A:$A, Output!$B478, Input!$B:$B, E$1, Input!$H:$H, \"=US-VA\")=0,\"\",\"X\")","v":""},0,{"$f":"IF(COUNTIFS(Input!$A:$A, Output!$B478, Input!$B:$B, G$1, Input!$H:$H, \"=US-VA\")=0,\"\",\"X\")","v":""},0]
[]
[null,"Totals",{"$f":"COUNTIF(C2:C478,\"=X\")","v":0},null,{"$f":"COUNTIF(E2:E478,\"=X\")","v":0},null,0]

{"sheet":"Sorted","index":3,"n_rows":480,"n_cols":8,"rows_kept":480,"cut":false,"hidden":false,"merged":[]}
["Species #","\n\nSpecies","Possible",null,"Probable",null,"Confirmed"]
[1,"Black-bellied Whistling-Duck","",0,"",0,"",0]
[2,"West Indian Whistling-Duck","",0,"",0,"",0]
[3,"Fulvous Whistling-Duck","",0,"",0,"",0]
[4,"Greater White-fronted Goose","",0,"",0,"",0]
[5,"Snow Goose","",0,"",0,"",0]
[6,"Ross's Goose","",0,"",0,"",0]
[7,"Brant","",0,"",0,"",0]
[8,"Barnacle Goose","",0,"",0,"",0]
[9,"Cackling Goose","",0,"",0,"",0]
[10,"Canada Goose","",0,"",0,"",0]
[11,"Mute Swan","",0,"",0,"",0]
[12,"Trumpeter Swan","",0,"",0,"",0]
[13,"Tundra Swan","",0,"",0,"",0]
[14,"Wood Duck","",0,"",0,"",0]
[15,"Gadwall","",0,"",0,"",0]
[16,"Eurasian Wigeon","",0,"",0,"",0]
[17,"American Wigeon","",0,"",0,"",0]
[18,"American Black Duck","",0,"",0,"",0]
[19,"Mallard","",0,"",0,"",0]
[20,"Blue-winged Teal","",0,"",0,"",0]
[21,"Cinnamon Teal","",0,"",0,"",0]
[22,"Northern Shoveler","",0,"",0,"",0]
[23,"White-cheeked Pintail","",0,"",0,"",0]
[24,"Northern Pintail","",0,"",0,"",0]
[25,"Garganey","",0,"",0,"",0]
[26,"Green-winged Teal","",0,"",0,"",0]
[27,"Canvasback","",0,"",0,"",0]
[28,"Redhead","",0,"",0,"",0]
[29,"Ring-necked Duck","",0,"",0,"",0]
[30,"Tufted Duck","",0,"",0,"",0]
[31,"Greater Scaup","",0,"",0,"",0]
[32,"Lesser Scaup","",0,"",0,"",0]
[33,"King Eider","",0,"",0,"",0]
[34,"Common Eider","",0,"",0,"",0]
[35,"Harlequin Duck","",0,"",0,"",0]
[36,"Surf Scoter","",0,"",0,"",0]
[37,"White-winged Scoter","",0,"",0,"",0]
[38,"Black Scoter","",0,"",0,"",0]
[39,"Long-tailed Duck","",0,"",0,"",0]
[40,"Bufflehead","",0,"",0,"",0]
[41,"Common Goldeneye","",0,"",0,"",0]
[42,"Barrow's Goldeneye","",0,"",0,"",0]
[43,"Hooded Merganser","",0,"",0,"",0]
[44,"Common Merganser","",0,"",0,"",0]
[45,"Red-breasted Merganser","",0,"",0,"",0]
[46,"Ruddy Duck","",0,"",0,"",0]
[47,"Northern Bobwhite","",0,"",0,"",0]
[48,"Ring-necked Pheasant","",0,"",0,"",0]
[49,"Ruffed Grouse","",0,"",0,"",0]
[50,"Wild Turkey","",0,"",0,"",0]
[51,"Red-throated Loon","",0,"",0,"",0]
[52,"Pacific Loon","",0,"",0,"",0]
[53,"Common Loon","",0,"",0,"",0]
[54,"Pied-billed Grebe","",0,"",0,"",0]
[55,"Horned Grebe","",0,"",0,"",0]
[56,"Red-necked Grebe","",0,"",0,"",0]
[57,"Eared Grebe","",0,"",0,"",0]
[58,"Western Grebe","",0,"",0,"",0]
[59,"Clark's Grebe","",0,"",0,"",0]
[60,"American Flamingo","",0,"",0,"",0]
[61,"Yellow-nosed Albatross","",0,"",0,"",0]
[62,"Black-browed Albatross","",0,"",0,"",0]
[63,"Northern Fulmar","",0,"",0,"",0]
[64,"Trindade Petrel","",0,"",0,"",0]
[65,"Fea's Petrel","",0,"",0,"",0]
[66,"Bermuda Petrel","",0,"",0,"",0]
[67,"Black-capped Petrel","",0,"",0,"",0]
[68,"Bulwer's Petrel","",0,"",0,"",0]
[69,"Cory's Shearwater","",0,"",0,"",0]
[70,"Great Shearwater","",0,"",0,"",0]
[71,"Sooty Shearwater","",0,"",0,"",0]
[72,"Manx Shearwater","",0,"",0,"",0]
[73,"Audubon's Shearwater","",0,"",0,"",0]
[74,"Wilson's Storm-Petrel","",0,"",0,"",0]
[75,"White-faced Storm-Petrel","",0,"",0,"",0]
[76,"Leach's Storm-Petrel","",0,"",0,"",0]
[77,"Band-rumped Storm-Petrel","",0,"",0,"",0]
[78,"White-tailed Tropicbird","",0,"",0,"",0]
[79,"Red-billed Tropicbird","",0,"",0,"",0]
[80,"Wood Stork","",0,"",0,"",0]
[81,"Magnificent Frigatebird","",0,"",0,"",0]
[82,"Brown Booby","",0,"",0,"",0]
[83,"Northern Gannet","",0,"",0,"",0]
[84,"Great Cormorant","",0,"",0,"",0]
[85,"Neotropic Cormorant","",0,"",0,"",0]
[86,"Double-crested Cormorant","",0,"",0,"",0]
[87,"Anhinga","",0,"",0,"",0]
[88,"American White Pelican","",0,"",0,"",0]
[89,"Brown Pelican","",0,"",0,"",0]
[90,"American Bittern","",0,"",0,"",0]
[91,"Least Bittern","",0,"",0,"",0]
[92,"Great Blue Heron","",0,"",0,"",0]
[93,"Great Egret","",0,"",0,"",0]
[94,"Little Egret","",0,"",0,"",0]
[95,"Snowy Egret","",0,"",0,"",0]
[96,"Little Blue Heron","",0,"",0,"",0]
[97,"Tricolored Heron","",0,"",0,"",0]
[98,"Reddish Egret","",0,"",0,"",0]
[99,"Cattle Egret","",0,"",0,"",0]
[100,"Green Heron","",0,"",0,"",0]
[101,"Black-crowned Night-Heron","",0,"",0,"",0]
[102,"Yellow-crowned Night-Heron","",0,"",0,"",0]
[103,"White Ibis","",0,"",0,"",0]
[104,"Glossy Ibis","",0,"",0,"",0]
[105,"White-faced Ibis","",0,"",0,"",0]
[106,"Roseate Spoonbill","",0,"",0,"",0]
[107,"Black Vulture","",0,"",0,"",0]
[108,"Turkey Vulture","",0,"",0,"",0]
[109,"Osprey","",0,"",0,"",0]
[110,"White-tailed Kite","",0,"",0,"",0]
[111,"Swallow-tailed Kite","",0,"",0,"",0]
[112,"Golden Eagle","",0,"",0,"",0]
[113,"Mississippi Kite","",0,"",0,"",0]
[114,"Eurasian Marsh-Harrier","",0,"",0,"",0]
[115,"Northern Harrier","",0,"",0,"",0]
[116,"Sharp-shinned Hawk","",0,"",0,"",0]
[117,"Cooper's Hawk","",0,"",0,"",0]
[118,"Northern Goshawk","",0,"",0,"",0]
[119,"Bald Eagle","",0,"",0,"",0]
[120,"Red-shouldered Hawk","",0,"",0,"",0]
[121,"Broad-winged Hawk","",0,"",0,"",0]
[122,"Swainson's Hawk","",0,"",0,"",0]
[123,"Zone-tailed Hawk","",0,"",0,"",0]
[124,"Red-tailed Hawk","",0,"",0,"",0]
[125,"Rough-legged Hawk","",0,"",0,"",0]
[126,"Ferruginous Hawk","",0,"",0,"",0]
[127,"Yellow Rail","",0,"",0,"",0]
[128,"Black Rail","",0,"",0,"",0]
[129,"King Rail","",0,"",0,"",0]
[130,"Clapper Rail","",0,"",0,"",0]
[131,"Virginia Rail","",0,"",0,"",0]
[132,"Sora","",0,"",0,"",0]
[133,"Paint-billed Crake","",0,"",0,"",0]
[134,"Purple Gallinule","",0,"",0,"",0]
[135,"Common Gallinule","",0,"",0,"",0]
[136,"American Coot","",0,"",0,"",0]
[137,"Limpkin","",0,"",0,"",0]
[138,"Sandhill Crane","",0,"",0,"",0]
[139,"Black-necked Stilt","",0,"",0,"",0]
[140,"American Avocet","",0,"",0,"",0]
[141,"American Oystercatcher","",0,"",0,"",0]
[142,"Black-bellied Plover","",0,"",0,"",0]
[143,"American Golden-Plover","",0,"",0,"",0]
[144,"Northern Lapwing","",0,"",0,"",0]
[145,"Lesser Sand-Plover","",0,"",0,"",0]
[146,"Snowy Plover","",0,"",0,"",0]
[147,"Wilson's Plover","",0,"",0,"",0]
[148,"Semipalmated Plover","",0,"",0,"",0]
[149,"Piping Plover","",0,"",0,"",0]
[150,"Killdeer","",0,"",0,"",0]
[151,"Mountain Plover","",0,"",0,"",0]
[152,"Upland Sandpiper","",0,"",0,"",0]
[153,"Whimbrel","",0,"",0,"",0]
[154,"Long-billed Curlew","",0,"",0,"",0]
[155,"Black-tailed Godwit","",0,"",0,"",0]
[156,"Hudsonian Godwit","",0,"",0,"",0]
[157,"Bar-tailed Godwit","",0,"",0,"",0]
[158,"Marbled Godwit","",0,"",0,"",0]
[159,"Ruddy Turnstone","",0,"",0,"",0]
[160,"Red Knot","",0,"",0,"",0]
[161,"Ruff","",0,"",0,"",0]
[162,"Sharp-tailed Sandpiper","",0,"",0,"",0]
[163,"Stilt Sandpiper","",0,"",0,"",0]
[164,"Curlew Sandpiper","",0,"",0,"",0]
[165,"Red-necked Stint","",0,"",0,"",0]
[166,"Sanderling","",0,"",0,"",0]
[167,"Dunlin","",0,"",0,"",0]
[168,"Purple Sandpiper","",0,"",0,"",0]
[169,"Baird's Sandpiper","",0,"",0,"",0]
[170,"Least Sandpiper","",0,"",0,"",0]
[171,"White-rumped Sandpiper","",0,"",0,"",0]
[172,"Buff-breasted Sandpiper","",0,"",0,"",0]
[173,"Pectoral Sandpiper","",0,"",0,"",0]
[174,"Semipalmated Sandpiper","",0,"",0,"",0]
[175,"Western Sandpiper","",0,"",0,"",0]
[176,"Short-billed Dowitcher","",0,"",0,"",0]
[177,"Long-billed Dowitcher","",0,"",0,"",0]
[178,"Wilson's Snipe","",0,"",0,"",0]
[179,"Eurasian Woodcock","",0,"",0,"",0]
[180,"American Woodcock","",0,"",0,"",0]
[181,"Terek Sandpiper","",0,"",0,"",0]
[182,"Wilson's Phalarope","",0,"",0,"",0]
[183,"Red-necked Phalarope","",0,"",0,"",0]
[184,"Red Phalarope","",0,"",0,"",0]
[185,"Spotted Sandpiper","",0,"",0,"",0]
[186,"Solitary Sandpiper","",0,"",0,"",0]
[187,"Greater Yellowlegs","",0,"",0,"",0]
[188,"Willet","",0,"",0,"",0]
[189,"Lesser Yellowlegs","",0,"",0,"",0]
[190,"Great Skua","",0,"",0,"",0]
[191,"South Polar Skua","",0,"",0,"",0]
[192,"Pomarine Jaeger","",0,"",0,"",0]
[193,"Parasitic Jaeger","",0,"",0,"",0]
[194,"Long-tailed Jaeger","",0,"",0,"",0]
[195,"Dovekie","",0,"",0,"",0]
[196,"Common Murre","",0,"",0,"",0]
[197,"Thick-billed Murre","",0,"",0,"",0]
[198,"Razorbill","",0,"",0,"",0]
[199,"Black Guillemot","",0,"",0,"",0]
[200,"Ancient Murrelet","",0,"",0,"",0]
[201,"Atlantic Puffin","",0,"",0,"",0]
[202,"Black-legged Kittiwake","",0,"",0,"",0]
[203,"Sabine's Gull","",0,"",0,"",0]
[204,"Bonaparte's Gull","",0,"",0,"",0]
[205,"Black-headed Gull","",0,"",0,"",0]
[206,"Little Gull","",0,"",0,"",0]
[207,"Laughing Gull","",0,"",0,"",0]
[208,"Franklin's Gull","",0,"",0,"",0]
[209,"Black-tailed Gull","",0,"",0,"",0]
[210,"Heermann's Gull","",0,"",0,"",0]
[211,"Mew Gull","",0,"",0,"",0]
[212,"Ring-billed Gull","",0,"",0,"",0]
[213,"California Gull","",0,"",0,"",0]
[214,"Herring Gull","",0,"",0,"",0]
[215,"Yellow-legged Gull","",0,"",0,"",0]
[216,"Thayer's Gull","",0,"",0,"",0]
[217,"Iceland Gull","",0,"",0,"",0]
[218,"Lesser Black-backed Gull","",0,"",0,"",0]
[219,"Glaucous Gull","",0,"",0,"",0]
[220,"Great Black-backed Gull","",0,"",0,"",0]
[221,"Brown Noddy","",0,"",0,"",0]
[222,"Sooty Tern","",0,"",0,"",0]
[223,"Bridled Tern","",0,"",0,"",0]
[224,"Least Tern","",0,"",0,"",0]
[225,"Gull-billed Tern","",0,"",0,"",0]
[226,"Caspian Tern","",0,"",0,"",0]
[227,"Black Tern","",0,"",0,"",0]
[228,"White-winged Tern","",0,"",0,"",0]
[229,"Roseate Tern","",0,"",0,"",0]
[230,"Common Tern","",0,"",0,"",0]
[231,"Arctic Tern","",0,"",0,"",0]
[232,"Forster's Tern","",0,"",0,"",0]
[233,"Royal Tern","",0,"",0,"",0]
[234,"Sandwich Tern","",0,"",0,"",0]
[235,"Elegant Tern","",0,"",0,"",0]
[236,"Black Skimmer","",0,"",0,"",0]
[237,"Rock Pigeon (Feral Pigeon)","",0,"",0,"",0]
[238,"White-crowned Pigeon","",0,"",0,"",0]
[239,"Eurasian Collared-Dove","",0,"",0,"",0]
[240,"Common Ground-Dove","",0,"",0,"",0]
[241,"White-winged Dove","",0,"",0,"",0]
[242,"Mourning Dove","",0,"",0,"",0]
[243,"Groove-billed Ani","",0,"",0,"",0]
[244,"Yellow-billed Cuckoo","",0,"",0,"",0]
[245,"Black-billed Cuckoo","",0,"",0,"",0]
[246,"Barn Owl","",0,"",0,"",0]
[247,"Eastern Screech-Owl","",0,"",0,"",0]
[248,"Great Horned Owl","",0,"",0,"",0]
[249,"Snowy Owl","",0,"",0,"",0]
[250,"Burrowing Owl","",0,"",0,"",0]
[251,"Barred Owl","",0,"",0,"",0]
[252,"Long-eared Owl","",0,"",0,"",0]
[253,"Short-eared Owl","",0,"",0,"",0]
[254,"Northern Saw-whet Owl","",0,"",0,"",0]
[255,"Common Nighthawk","",0,"",0,"",0]
[256,"Chuck-will's-widow","",0,"",0,"",0]
[257,"Eastern Whip-poor-will","",0,"",0,"",0]
[258,"Chimney Swift","",0,"",0,"",0]
[259,"Magnificent Hummingbird","",0,"",0,"",0]
[260,"Ruby-throated Hummingbird","",0,"",0,"",0]
[261,"Black-chinned Hummingbird","",0,"",0,"",0]
[262,"Rufous Hummingbird","",0,"",0,"",0]
[263,"Allen's Hummingbird","",0,"",0,"",0]
[264,"Calliope Hummingbird","",0,"",0,"",0]
[265,"Violet-crowned Hummingbird","",0,"",0,"",0]
[266,"Belted Kingfisher","",0,"",0,"",0]
[267,"Lewis's Woodpecker","",0,"",0,"",0]
[268,"Red-headed Woodpecker","",0,"",0,"",0]
[269,"Red-bellied Woodpecker","",0,"",0,"",0]
[270,"Yellow-bellied Sapsucker","",0,"",0,"",0]
[271,"Downy Woodpecker","",0,"",0,"",0]
[272,"Hairy Woodpecker","",0,"",0,"",0]
[273,"Red-cockaded Woodpecker","",0,"",0,"",0]
[274,"Northern Flicker","",0,"",0,"",0]
[275,"Pileated Woodpecker","",0,"",0,"",0]
[276,"Crested Caracara","",0,"",0,"",0]
[277,"American Kestrel","",0,"",0,"",0]
[278,"Merlin","",0,"",0,"",0]
[279,"Gyrfalcon","",0,"",0,"",0]
[280,"Peregrine Falcon","",0,"",0,"",0]
[281,"Monk Parakeet","",0,"",0,"",0]
[282,"Olive-sided Flycatcher","",0,"",0,"",0]
[283,"Western Wood-Pewee","",0,"",0,"",0]
[284,"Eastern Wood-Pewee","",0,"",0,"",0]
[285,"Yellow-bellied Flycatcher","",0,"",0,"",0]
[286,"Acadian Flycatcher","",0,"",0,"",0]
[287,"Alder Flycatcher","",0,"",0,"",0]
[288,"Willow Flycatcher","",0,"",0,"",0]
[289,"Least Flycatcher","",0,"",0,"",0]
[290,"Dusky Flycatcher","",0,"",0,"",0]
[291,"Pacific-slope Flycatcher","",0,"",0,"",0]
[292,"Eastern Phoebe","",0,"",0,"",0]
[293,"Say's Phoebe","",0,"",0,"",0]
[294,"Vermilion Flycatcher","",0,"",0,"",0]
[295,"Ash-throated Flycatcher","",0,"",0,"",0]
[296,"Great Crested Flycatcher","",0,"",0,"",0]
[297,"Western Kingbird","",0,"",0,"",0]
[298,"Eastern Kingbird","",0,"",0,"",0]
[299,"Gray Kingbird","",0,"",0,"",0]
[300,"Scissor-tailed Flycatcher","",0,"",0,"",0]
[301,"Fork-tailed Flycatcher","",0,"",0,"",0]
[302,"Loggerhead Shrike","",0,"",0,"",0]
[303,"Northern Shrike","",0,"",0,"",0]
[304,"White-eyed Vireo","",0,"",0,"",0]
[305,"Bell's Vireo","",0,"",0,"",0]
[306,"Yellow-throated Vireo","",0,"",0,"",0]
[307,"Blue-headed Vireo","",0,"",0,"",0]
[308,"Philadelphia Vireo","",0,"",0,"",0]
[309,"Warbling Vireo","",0,"",0,"",0]
[310,"Red-eyed Vireo","",0,"",0,"",0]
[311,"Black-whiskered Vireo","",0,"",0,"",0]
[312,"Blue Jay","",0,"",0,"",0]
[313,"Black-billed Magpie","",0,"",0,"",0]
[314,"American Crow","",0,"",0,"",0]
[315,"Fish Crow","",0,"",0,"",0]
[316,"Common Raven","",0,"",0,"",0]
[317,"Horned Lark","",0,"",0,"",0]
[318,"Northern Rough-winged Swallow","",0,"",0,"",0]
[319,"Purple Martin","",0,"",0,"",0]
[320,"Brown-chested Martin","",0,"",0,"",0]
[321,"Tree Swallow","",0,"",0,"",0]
[322,"Violet-green Swallow","",0,"",0,"",0]
[323,"Bank Swallow","",0,"",0,"",0]
[324,"Barn Swallow","",0,"",0,"",0]
[325,"Cliff Swallow","",0,"",0,"",0]
[326,"Cave Swallow","",0,"",0,"",0]
[327,"Carolina Chickadee","",0,"",0,"",0]
[328,"Black-capped Chickadee","",0,"",0,"",0]
[329,"Boreal Chickadee","",0,"",0,"",0]
[330,"Tufted Titmouse","",0,"",0,"",0]
[331,"Red-breasted Nuthatch","",0,"",0,"",0]
[332,"White-breasted Nuthatch","",0,"",0,"",0]
[333,"Brown-headed Nuthatch","",0,"",0,"",0]
[334,"Brown Creeper","",0,"",0,"",0]
[335,"Rock Wren","",0,"",0,"",0]
[336,"House Wren","",0,"",0,"",0]
[337,"Winter Wren","",0,"",0,"",0]
[338,"Sedge Wren","",0,"",0,"",0]
[339,"Marsh Wren","",0,"",0,"",0]
[340,"Carolina Wren","",0,"",0,"",0]
[341,"Bewick's Wren","",0,"",0,"",0]
[342,"Blue-gray Gnatcatcher","",0,"",0,"",0]
[343,"Golden-crowned Kinglet","",0,"",0,"",0]
[344,"Ruby-crowned Kinglet","",0,"",0,"",0]
[345,"Northern Wheatear","",0,"",0,"",0]
[346,"Eastern Bluebird","",0,"",0,"",0]
[347,"Mountain Bluebird","",0,"",0,"",0]
[348,"Townsend's Solitaire","",0,"",0,"",0]
[349,"Veery","",0,"",0,"",0]
[350,"Gray-cheeked Thrush","",0,"",0,"",0]
[351,"Bicknell's Thrush","",0,"",0,"",0]
[352,"Swainson's Thrush","",0,"",0,"",0]
[353,"Hermit Thrush","",0,"",0,"",0]
[354,"Wood Thrush","",0,"",0,"",0]
[355,"American Robin","",0,"",0,"",0]
[356,"Varied Thrush","",0,"",0,"",0]
[357,"Gray Catbird","",0,"",0,"",0]
[358,"Brown Thrasher","",0,"",0,"",0]
[359,"Sage Thrasher","",0,"",0,"",0]
[360,"Northern Mockingbird","",0,"",0,"",0]
[361,"European Starling","",0,"",0,"",0]
[362,"American Pipit","",0,"",0,"",0]
[363,"Sprague's Pipit","",0,"",0,"",0]
[364,"Bohemian Waxwing","",0,"",0,"",0]
[365,"Cedar Waxwing","",0,"",0,"",0]
[366,"Lapland Longspur","",0,"",0,"",0]
[367,"Chestnut-collared Longspur","",0,"",0,"",0]
[368,"Smith's Longspur","",0,"",0,"",0]
[369,"Snow Bunting","",0,"",0,"",0]
[370,"Ovenbird","",0,"",0,"",0]
[371,"Worm-eating Warbler","",0,"",0,"",0]
[372,"Louisiana Waterthrush","",0,"",0,"",0]
[373,"Northern Waterthrush","",0,"",0,"",0]
[374,"Bachman's Warbler","",0,"",0,"",0]
[375,"Golden-winged Warbler","",0,"",0,"",0]
[376,"Blue-winged Warbler","",0,"",0,"",0]
[377,"Black-and-white Warbler","",0,"",0,"",0]
[378,"Prothonotary Warbler","",0,"",0,"",0]
[379,"Swainson's Warbler","",0,"",0,"",0]
[380,"Tennessee Warbler","",0,"",0,"",0]
[381,"Orange-crowned Warbler","",0,"",0,"",0]
[382,"Lucy's Warbler","",0,"",0,"",0]
[383,"Nashville Warbler","",0,"",0,"",0]
[384,"Connecticut Warbler","",0,"",0,"",0]
[385,"MacGillivray's Warbler","",0,"",0,"",0]
[386,"Mourning Warbler","",0,"",0,"",0]
[387,"Kentucky Warbler","",0,"",0,"",0]
[388,"Common Yellowthroat","",0,"",0,"",0]
[389,"Hooded Warbler","",0,"",0,"",0]
[390,"American Redstart","",0,"",0,"",0]
[391,"Kirtland's Warbler","",0,"",0,"",0]
[392,"Cape May Warbler","",0,"",0,"",0]
[393,"Cerulean Warbler","",0,"",0,"",0]
[394,"Northern Parula","",0,"",0,"",0]
[395,"Magnolia Warbler","",0,"",0,"",0]
[396,"Bay-breasted Warbler","",0,"",0,"",0]
[397,"Blackburnian Warbler","",0,"",0,"",0]
[398,"Yellow Warbler","",0,"",0,"",0]
[399,"Chestnut-sided Warbler","",0,"",0,"",0]
[400,"Blackpoll Warbler","",0,"",0,"",0]
[401,"Black-throated Blue Warbler","",0,"",0,"",0]
[402,"Palm Warbler","",0,"",0,"",0]
[403,"Pine Warbler","",0,"",0,"",0]
[404,"Yellow-rumped Warbler","",0,"",0,"",0]
[405,"Yellow-throated Warbler","",0,"",0,"",0]
[406,"Prairie Warbler","",0,"",0,"",0]
[407,"Black-throated Gray Warbler","",0,"",0,"",0]
[408,"Townsend's Warbler","",0,"",0,"",0]
[409,"Black-throated Green Warbler","",0,"",0,"",0]
[410,"Canada Warbler","",0,"",0,"",0]
[411,"Wilson's Warbler","",0,"",0,"",0]
[412,"Yellow-breasted Chat","",0,"",0,"",0]
[413,"Bachman's Sparrow","",0,"",0,"",0]
[414,"Grasshopper Sparrow","",0,"",0,"",0]
[415,"Henslow's Sparrow","",0,"",0,"",0]
[416,"Le Conte's Sparrow","",0,"",0,"",0]
[417,"Nelson's Sparrow","",0,"",0,"",0]
[418,"Saltmarsh Sparrow","",0,"",0,"",0]
[419,"Seaside Sparrow","",0,"",0,"",0]
[420,"American Tree Sparrow","",0,"",0,"",0]
[421,"Chipping Sparrow","",0,"",0,"",0]
[422,"Clay-colored Sparrow","",0,"",0,"",0]
[423,"Field Sparrow","",0,"",0,"",0]
[424,"Brewer's Sparrow","",0,"",0,"",0]
[425,"Black-throated Sparrow","",0,"",0,"",0]
[426,"Lark Sparrow","",0,"",0,"",0]
[427,"Lark Bunting","",0,"",0,"",0]
[428,"Fox Sparrow","",0,"",0,"",0]
[429,"Dark-eyed Junco","",0,"",0,"",0]
[430,"White-crowned Sparrow","",0,"",0,"",0]
[431,"Harris's Sparrow","",0,"",0,"",0]
[432,"White-throated Sparrow","",0,"",0,"",0]
[433,"Vesper Sparrow","",0,"",0,"",0]
[434,"Savannah Sparrow","",0,"",0,"",0]
[435,"Song Sparrow","",0,"",0,"",0]
[436,"Lincoln's Sparrow","",0,"",0,"",0]
[437,"Swamp Sparrow","",0,"",0,"",0]
[438,"Green-tailed Towhee","",0,"",0,"",0]
[439,"Spotted Towhee","",0,"",0,"",0]
[440,"Eastern Towhee","",0,"",0,"",0]
[441,"Summer Tanager","",0,"",0,"",0]
[442,"Scarlet Tanager","",0,"",0,"",0]
[443,"Western Tanager","",0,"",0,"",0]
[444,"Northern Cardinal","",0,"",0,"",0]
[445,"Rose-breasted Grosbeak","",0,"",0,"",0]
[446,"Black-headed Grosbeak","",0,"",0,"",0]
[447,"Blue Grosbeak","",0,"",0,"",0]
[448,"Lazuli Bunting","",0,"",0,"",0]
[449,"Indigo Bunting","",0,"",0,"",0]
[450,"Painted Bunting","",0,"",0,"",0]
[451,"Dickcissel","",0,"",0,"",0]
[452,"Bobolink","",0,"",0,"",0]
[453,"Red-winged Blackbird","",0,"",0,"",0]
[454,"Eastern Meadowlark","",0,"",0,"",0]
[455,"Yellow-headed Blackbird","",0,"",0,"",0]
[456,"Rusty Blackbird","",0,"",0,"",0]
[457,"Brewer's Blackbird","",0,"",0,"",0]
[458,"Common Grackle","",0,"",0,"",0]
[459,"Boat-tailed Grackle","",0,"",0,"",0]
[460,"Shiny Cowbird","",0,"",0,"",0]
[461,"Brown-headed Cowbird","",0,"",0,"",0]
[462,"Orchard Oriole","",0,"",0,"",0]
[463,"Bullock's Oriole","",0,"",0,"",0]
[464,"Baltimore Oriole","",0,"",0,"",0]
[465,"Pine Grosbeak","",0,"",0,"",0]
[466,"House Finch","",0,"",0,"",0]
[467,"Purple Finch","",0,"",0,"",0]
[468,"Red Crossbill","",0,"",0,"",0]
[469,"White-winged Crossbill","",0,"",0,"",0]
[470,"Common Redpoll","",0,"",0,"",0]
[471,"Hoary Redpoll","",0,"",0,"",0]
[472,"Pine Siskin","",0,"",0,"",0]
[473,"Lesser Goldfinch","",0,"",0,"",0]
[474,"American Goldfinch","",0,"",0,"",0]
[475,"European Goldfinch","",0,"",0,"",0]
[476,"Evening Grosbeak","",0,"",0,"",0]
[477,"House Sparrow","",0,"",0,"",0]
[]
[null,"Totals",0,null,0,null,0]